Workbook

Sheet 1
G2: Հավելված N 1
G3: ՀՀ կառավարության 2026 թվականի
G4: ___________ ___-ի N _______ որոշման
A5: «ՀԱՅԱՍՏԱՆԻ ՀԱՆՐԱՊԵՏՈՒԹՅԱՆ 2026 ԹՎԱԿԱՆԻ ՊԵՏԱԿԱՆ ԲՅՈՒՋԵԻ ՄԱՍԻՆ» ՕՐԵՆՔԻ N 1 ՀԱՎԵԼՎԱԾԻ N 2 ԱՂՅՈՒՍԱԿՈՒՄ ԿԱՏԱՐՎՈՂ ՎԵՐԱԲԱՇԽՈՒՄՆԵՐԸ, ԼՐԱՑՈՒՄԸ ԵՎ ՀԱՅԱՍՏԱՆԻ ՀԱՆՐԱՊԵՏՈՒԹՅԱՆ ԿԱՌԱՎԱՐՈՒԹՅԱՆ 2025 ԹՎԱԿԱՆԻ ԴԵԿՏԵՄԲԵՐԻ 25-Ի N 1910-Ն ՈՐՈՇՄԱՆ N 5 ՀԱՎԵԼՎԱԾԻ N1 ԱՂՅՈՒՍԱԿՈՒՄ ԿԱՏԱՐՎՈՂ ՓՈՓՈԽՈՒԹՅՈՒՆՆԵՐԸ ԵՎ ԼՐԱՑՈՒՄԸ
A8: ԲԳԿ | B8: Ծրագրային դասիչը | D8: ԲԳԿ/Ծրագրի /միջոցառման անվանումը | E8: Ծրագրի նպատակը/Միջոցառման նկարագրությունը | F8: Վերջնական արդյունքի նկարագրությունը/Միջոցառման տեսակը | G8: Ցուցանիշների փոփոխությունը (ավելացումները նշված են դրական նշանով, իսկ նվազեցումները՝ փակագծերում)
B9: Ծրագիր | C9: Միջոցառում | G9: Տարի
A10: ԸՆԴԱՄԵՆԸ | G10: =+G11 -> 0
A11: ՀՀ քաղաքաշինության կոմիտե | G11: =+G12 -> 0
B12: 1103 | D12: Քաղաքաշինության և ճարտարապետության բնագավառում պետական քաղաքականության իրականացում և կանոնակարգում | E12: Քաղաքաշինության և ճարտարապետության բնագավառում պետական քաղաքականության մշակմանն աջակցություն և իրականացման ապահովում | F12: Քաղաքաշինության գործունեության կանոնակարգում, քաղաքաշինական տեղեկատվական համակարգի ձևավորում և քաղաքաշինության բնագավառում պետական ծրագրերի իրականացման ապահովում | G12: =G13+G14 -> 0
C13: 1103 - 11002 | D13: Նորմատիվատեխնիկական փաստաթղթերի մշակում և տեղայնացում | E13: Միջպետական (տարածաշրջանային), միջազգային և եվրոպական նորմերին ու ստանդարտներին համահունչ ազգային քաղաքաշինական նորմատիվ փաստաթղթերի մշակում, տեղայնացում, արդիականացում և բազայի համալրում | F13: Ծառայությունների մատուցում | G13: -25860
C14: 1103 - 21001 | D14: Քաղաքաշինության բնագավառում պետական ծրագրերի իրականացման ապահովում | E14: Նախագծանախահաշվային փաստաթղթերի, ինչպես նաեւ հիմնանորոգման, վերակառուցման, կառուցման աշխատանքների ձեռքբերում | F14: Հանրության կողմից անմիջականորեն օգտագործվող ակտիվների հետ կապված միջոցառումներ | G14: 25860
A15: ՀՀ կառավարություն | G15: =+G16 -> 0
B16: 1139 | D16: ՀՀ կառավարության պահուստային ֆոնդ | E16: Պետական բյուջեում չկանխատեսված, ինչպես նաեւ բյուջետային երաշխիքների ապահովման ծախսերի ֆինանսավորման ապահովում | F16: Պահուստային ֆոնդի կառավարման արդյունավետության և թափանցիկության ապահովում | G16: =+G17+G18+G19 -> 0
C17: 1139 - 11001 | D17: ՀՀ կառավարության պահուստային ֆոնդ | E17: ՀՀ պետական բյուջեում նախատեսված ելքերի լրացուցիչ ֆինանսավորման, պետական բյուջեում չկանխատեսված ելքերի, ինչպես նաև բյուջետային երաշխիքների ապահովման ելքերի ֆինանսավորման ապահովում | F17: Ծառայությունների մատուցում | G17: -25860
C18: 1139 - 11001 | D18: ՀՀ կառավարության պահուստային ֆոնդ | E18: ՀՀ պետական բյուջեում նախատեսված ելքերի լրացուցիչ ֆինանսավորման, պետական բյուջեում չկանխատեսված ելքերի, ինչպես նաև բյուջետային երաշխիքների ապահովման ելքերի ֆինանսավորման ապահովում | F18: Ծառայությունների մատուցում | G18: 25860

Sheet 2.
H1: Հավելված № 2
H2: ՀՀ կառավարության 2026 թվականի ----------
H3: № ---------- որոշման
A6: «ՀԱՅԱՍՏԱՆԻ ՀԱՆՐԱՊԵՏՈՒԹՅԱՆ 2026 ԹՎԱԿԱՆԻ ՊԵՏԱԿԱՆ ԲՅՈՒՋԵԻ ՄԱՍԻՆ» ՕՐԵՆՔԻ N 1 ՀԱՎԵԼՎԱԾԻ N 3 ԱՂՅՈՒՍԱԿՈՒՄ ԿԱՏԱՐՎՈՂ ՓՈՓՈԽՈՒԹՅՈՒՆՆԵՐԸ
G7: հազար դրամ
A8: Ծրագրային դասիչը | C8: Բյուջետային գլխավոր կարգադրիչների, ծրագրերի և միջոցառումների և ուղղությունների անվանումները | D8: Ընդամենը | E8: Ցուցանիշների փոփոխությունը ( նվազեցումները նշված են փակագծերում)
E9: այդ թվում
A10: Ծրագիր | B10: Միջոցառում | E10: Կառուցման աշխատանքներ | F10: Վերակառուցման, վերանորոգման և վերականգնման աշխատանքներ | G10: Նախագծահե- տազոտական, գեոդեզիա- քարտեզագրա- կան աշխա- տանքներ | H10: Ոչ ֆինանսական այլ ակտիվների ձեռքբերում
C11: Ընդամենը | D11: =D13 -> 0 | E11: =E13 -> 0 | F11: =F13 -> 0 | G11: =G13 -> 0 | H11: =H13 -> 0
C12: այդ թվում`
C13: ՀՀ քաղաքաշինության կոմիտե | D13: =SUM(E13:H13) -> 0 | E13: =+E15 -> 0 | F13: =+F15 -> 0 | G13: =+G15+G20 -> 0 | H13: =H15 -> 0
C14: այդ թվում`
A15: 1103 | B15: 11002 | C15: Նորմատիվատեխնիկական փաստաթղթերի մշակում և տեղայնացում | D15: =SUM(E15:H15) -> -25860 | E15: =+E19 -> 0 | F15: =+F19 -> 0 | G15: =+G19+G18+G17 -> -25860 | H15: =+H19 -> 0
C16: այդ թվում՝
C17: Օդափոխության, ջեռուցման, օդի լավորակման համակարգեր (ԵՄ նորմերի թարգմանություն և տեղայնացում) | D17: =SUM(E17:H17) -> -5500 | G17: -5500
C18: Ավտոլիցքավորման կայանների կազմակերպում, հրդեհաշիջում (ԵՄ նորմերի թարգմանություն և տեղայնացում) | D18: =SUM(E18:H18) -> -5500 | G18: -5500
C19: ԵՄ այլ նորմերի թարգմանություն և տեղայնացում (մեկնարկ/չբաշխված) | D19: =SUM(E19:H19) -> -14860 | E19: 0 | G19: -14860
A20: 1103 | B20: 21001 | C20: Քաղաքաշինության բնագավառում պետական ծրագրերի իրականացման ապահովում | D20: =+E20+F20+G20+H20 -> 25860 | E20: =+E22 -> 0 | F20: =+F22 -> 0 | G20: =+G22 -> 25860 | H20: =+H22 -> 0
C21: այդ թվում՝
C22: ՀՀ Կոտայքի մարզի Ծաղկաձոր համայնքի Պահլավունյաց և Մհեր Մկրտչյան փողոցներին հարող տարածքում սողանքային մարմնի հետազոտության, լանջի կայունության և ինժեներաերկրաբանական հետազոտական աշխատանքներ | D22: =+E22+F22+G22+H22 -> 25860 | G22: 25860

Sheet 3.
G1: Հավելված N3
G2: ՀՀ կառավարության 2026 թվականի
G3: ___________ ___-ի N _______ որոշման
A6: ՀԱՅԱՍՏԱՆԻ ՀԱՆՐԱՊԵՏՈՒԹՅԱՆ ԿԱՌԱՎԱՐՈՒԹՅԱՆ 2025 ԹՎԱԿԱՆԻ ԴԵԿՏԵՄԲԵՐԻ 25-Ի N 1910-Ն ՈՐՈՇՄԱՆ N 3 և N 4 ՀԱՎԵԼՎԱԾՆԵՐՈՒՄ ԿԱՏԱՐՎՈՂ ՓՈՓՈԽՈՒԹՅՈՒՆՆԵՐԸ ԵՎ ԼՐԱՑՈՒՄԸ
G8: հազ․ դրամ
A9: Գործառական դասիչը | D9: Ծրագրային դասիչը | F9: Բյուջետային ծախսերի գործառական դասակարգման բաժինների, խմբերի և դասերի, բյուջետային ծրագրերի, միջոցառումների բյուջետային հատկացումների գլխավոր կարգադրիչների անվանումները | G9: Ցուցանիշների փոփոխությունը (ավելացումները նշված են դրական նշանով, իսկ նվազեցումները՝ փակագծերում)
A10: Բաժին | B10: Խումբ | C10: Դաս | D10: Ծրագիր | E10: Միջոցառում | G10: Տարի
F11: ԸՆԴԱՄԵՆԸ | G11: =+G13+G32 -> 0
F12: այդ թվում`
A13: 06 | F13: ԲՆԱԿԱՐԱՆԱՅԻՆ ՇԻՆԱՐԱՐՈՒԹՅՈՒՆ ԵՎ ԿՈՄՈՒՆԱԼ ԾԱՌԱՅՈՒԹՅՈՒՆՆԵՐ | G13: =G15 -> 25860
F14: այդ թվում`
B15: 01 | F15: Բնակարանային շինարարություն | G15: =G17 -> 25860
F16: այդ թվում՝
C17: 01 | F17: Բնակարանային շինարարություն | G17: =G21 -> 25860
F18: այդ թվում՝
F19: ՀՀ քաղաքաշինության կոմիտե | G19: =G21 -> 25860
F20: այդ թվում՝
D21: 1103 | F21: Քաղաքաշինության և ճարտարապետության բնագավառում պետական քաղաքականության իրականացում և կանոնակարգում | G21: =+G23 -> 25860
F22: այդ թվում`
E23: 21001 | F23: Քաղաքաշինության բնագավառում պետական ծրագրերի իրականացման ապահովում | G23: =G25 -> 25860
F24: այդ թվում ըստ կատարողների
F25: ՀՀ քաղաքաշինության կոմիտե | G25: =G27 -> 25860
F26: այդ թվում` բյուջետային ծախսերի տնտեսագիտական դասակարգման հոդվածներ
F27: ԸՆԴԱՄԵՆԸ ԾԱԽՍԵՐ | G27: =+G30 -> 25860
F28: ՈՉ ՖԻՆԱՆՍԱԿԱՆ ԱԿՏԻՎՆԵՐԻ ԳԾՈՎ ԾԱԽՍԵՐ | G28: =+G29 -> 25860
F29: ՀԻՄՆԱԿԱՆ ՄԻՋՈՑՆԵՐ | G29: =+G31 -> 25860
F30: ԱՅԼ ՀԻՄՆԱԿԱՆ ՄԻՋՈՑՆԵՐ | G30: =+G31 -> 25860
F31: - Նախագծահետազոտական ծախսեր | G31: 25860
A32: 04 | F32: ՏՆՏԵՍԱԿԱՆ ՀԱՐԱԲԵՐՈՒԹՅՈՒՆՆԵՐ | G32: =G34 -> -25860
F33: այդ թվում`
B34: 04 | F34: Լեռնաարդյունահանում, արդյունաբերություն և շինարարություն | G34: =G36 -> -25860
F35: այդ թվում`
C36: 03 | F36: Շինարարություն | G36: =G40 -> -25860
F37: այդ թվում`
F38: ՀՀ քաղաքաշինության կոմիտե | G38: =G40 -> -25860
F39: այդ թվում՝
D40: 1103 | F40: Քաղաքաշինության և ճարտարապետության բնագավառում պետական քաղաքականության իրականացում և կանոնակարգում | G40: =+G42 -> -25860
F41: այդ թվում`
E42: 11002 | F42: Նորմատիվատեխնիկական փաստաթղթերի մշակում և տեղայնացում | G42: =G44 -> -25860
F43: այդ թվում` ըստ կատարողների
F44: ՀՀ քաղաքաշինության կոմիտե | G44: =G46 -> -25860
F45: այդ թվում` բյուջետային ծախսերի տնտեսագիտական դասակարգման հոդվածներ
F46: ԸՆԴԱՄԵՆԸ ԾԱԽՍԵՐ | G46: =G47 -> -25860
F47: ՈՉ ՖԻՆԱՆՍԱԿԱՆ ԱԿՏԻՎՆԵՐԻ ԳԾՈՎ ԾԱԽՍԵՐ | G47: =G48 -> -25860
F48: ՀԻՄՆԱԿԱՆ ՄԻՋՈՑՆԵՐ | G48: =G49 -> -25860
F49: ԱՅԼ ՀԻՄՆԱԿԱՆ ՄԻՋՈՑՆԵՐ | G49: =+G50 -> -25860
F50: - Նախագծահետազոտական ծախսեր | G50: =+'1'!G13 -> -25860
A51: 11 | F51: ՀԻՄՆԱԿԱՆ ԲԱԺԻՆՆԵՐԻՆ ՉԴԱՍՎՈՂ ՊԱՀՈՒՍՏԱՅԻՆ ՖՈՆԴԵՐ
F52: այդ թվում`
B53: 01 | F53: ՀՀ կառավարության և համայնքների պահուստային ֆոնդ
F54: այդ թվում`
C55: 01 | F55: ՀՀ կառավարության պահուստային ֆոնդ
F56: այդ թվում`
D57: 1139 | F57: ՀՀ կառավարության պահուստային ֆոնդ | G57: =+G59 -> -25860
F58: այդ թվում`
E59: 11001 | F59: ՀՀ կառավարության պահուստային ֆոնդ | G59: =+G60 -> -25860
F60: ՀՀ կառավարություն | G60: =+G62 -> -25860
F61: այդ թվում` բյուջետային ծախսերի տնտեսագիտական դասակարգման հոդվածներ
F62: ԸՆԴԱՄԵՆԸ ԾԱԽՍԵՐ | G62: =+G63 -> -25860
F63: ԸՆԹԱՑԻԿ ԾԱԽՍԵՐ | G63: =+G64 -> -25860
F64: ԱՅԼ ԾԱԽՍԵՐ | G64: =+G65 -> -25860
F65: Պահուստային միջոցներ | G65: =+'1'!G17 -> -25860
E66: 11001 | F66: ՀՀ կառավարության պահուստային ֆոնդ | G66: =+G67 -> 25860
F67: ՀՀ կառավարություն | G67: =+G69 -> 25860
F68: այդ թվում` բյուջետային ծախսերի տնտեսագիտական դասակարգման հոդվածներ
F69: ԸՆԴԱՄԵՆԸ ԾԱԽՍԵՐ | G69: =+G70 -> 25860
F70: ԸՆԹԱՑԻԿ ԾԱԽՍԵՐ | G70: =+G71 -> 25860
F71: ԱՅԼ ԾԱԽՍԵՐ | G71: =+G72 -> 25860
F72: Պահուստային միջոցներ | G72: =+'1'!G18 -> 25860

Sheet 4.
D1: Հավելված N3
D2: ՀՀ կառավարության 2026 թվականի
D3: ___________ ___-ի N _______ որոշման
A5: ՀԱՅԱՍՏԱՆԻ ՀԱՆՐԱՊԵՏՈՒԹՅԱՆ ԿԱՌԱՎԱՐՈՒԹՅԱՆ 2025 ԹՎԱԿԱՆԻ ԴԵԿՏԵՄԲԵՐԻ 25-Ի N 1910-Ն ՈՐՈՇՄԱՆ N5 ՀԱՎԵԼՎԱԾԻ N2 ԱՂՅՈՒՍԱԿՈՒՄ ԿԱՏԱՐՎՈՂ ՓՈՓՈԽՈՒԹՅՈՒՆՆԵՐԸ
A8: Ծրագրային դասիչ | C8: Բյուջետային գլխավոր կարգադրիչների, ծրագրերի, միջոցառումների, միջոցառումները կատարող պետական մարմինների և ուղղությունների անվանումները | D8: Ցուցանիշների փոփոխությունը (նվազեցումները նշված են փակագծերում)
A9: Ծրագիր | B9: Միջոցառում | D9: Տարի
C10: ԸՆԴԱՄԵՆԸ | D10: =+D11 -> 0
C11: ՀՀ ՔԱՂԱՔԱՇԻՆՈՒԹՅԱՆ ԿՈՄԻՏԵ | D11: =+D13+D20 -> 0
C12: այդ թվում`
A13: 1103 | B13: 11002 | C13: Նորմատիվատեխնիկական փաստաթղթերի մշակում և տեղայնացում | D13: =+D15 -> -25860
C14: այդ թվում` ըստ կատարողների
C15: ՀՀ քաղաքաշինության կոմիտե | D15: =SUM(D17:D19) -> -25860
C16: այդ թվում` ըստ ուղղությունների
C17: =+'2.'!C17 -> Օդափոխության, ջեռուցման, օդի լավորակման համակարգեր (ԵՄ նորմերի թարգմանություն և տեղայնացում) | D17: =+'2.'!G17 -> -5500
C18: =+'2.'!C18 -> Ավտոլիցքավորման կայանների կազմակերպում, հրդեհաշիջում (ԵՄ նորմերի թարգմանություն և տեղայնացում) | D18: =+'2.'!G18 -> -5500
C19: =+'2.'!C19 -> ԵՄ այլ նորմերի թարգմանություն և տեղայնացում (մեկնարկ/չբաշխված) | D19: =+'2.'!G19 -> -14860
A20: 1103 | B20: 21001 | C20: Քաղաքաշինության բնագավառում պետական ծրագրերի իրականացման ապահովում | D20: =+D22 -> 25860
C21: այդ թվում` ըստ կատարողների
C22: ՀՀ քաղաքաշինության կոմիտե | D22: =+D24 -> 25860
C23: այդ թվում` ըստ ուղղությունների
C24: ՀՀ Կոտայքի մարզի Ծաղկաձոր համայնքի Պահլավունյաց և Մհեր Մկրտչյան փողոցներին հարող տարածքում սողանքային մարմնի հետազոտության, լանջի կայունության և ինժեներաերկրաբանական հետազոտական աշխատանքներ | D24: =+'1'!G14 -> 25860

Sheet 5.
J1: Հավելված N 5
J2: ՀՀ կառավարության 2026թվականի
J3: ___________ ___-ի N _______ որոշման
A8: ՀԱՅԱՍՏԱՆԻ ՀԱՆՐԱՊԵՏՈՒԹՅԱՆ ԿԱՌԱՎԱՐՈՒԹՅԱՆ 2025 ԹՎԱԿԱՆԻ ԴԵԿՏԵՄԲԵՐԻ 25-Ի ԹԻՎ 1910-Ն ՈՐՈՇՄԱՆ N 9 ՀԱՎԵԼՎԱԾՈՒՄ ԿԱՏԱՐՎՈՂ ՓՈՓՈԽՈՒԹՅՈՒՆՆԵՐԸ ԵՎ ԼՐԱՑՈՒՄՆԵՐԸ
J11: հազար դրամներով
A12: ԲԳԿ | B12: Ծրագիր | D12: Միջոցառում | H12: Իրականացնողը/ ակտիվն օգտագործողը/ շահառուի ընտրության չափորոշիչը | I12: Արդյունքային չափորոշիչը | J12: Ցուցանիշների փոփոխությունը (ավելացումները նշված են դրական նշանով, իսկ նվազեցումները՝ փակագծերում)
B13: Դասիչը | C13: Անվա-նումը | D13: Դասիչը | E13: Անվա-նումը | F13: Նկարագրու-թյունը | G13: Տեսակը | J13: Տարի
A14: ԸՆԴԱՄԵՆԸ | J14: =+J15 -> 0
A15: ՀՀ քաղաքաշինության կոմիտե | J15: =J16 -> 0
B16: 1103 | C16: Քաղաքաշինության և ճարտարապետության բնագավառում պետական քաղաքականության իրականացում և կանոնակարգում | J16: =+J17+J21 -> 0
D17: 1103 - 11002 | E17: Նորմատիվատեխնիկական փաստաթղթերի մշակում և տեղայնացում | J17: =+'3.'!G50 -> -25860
F18: Միջպետական (տարածաշրջանային), միջազգային և եվրոպական նորմերին ու ստանդարտներին համահունչ ազգային քաղաքաշինական նորմատիվ փաստաթղթերի մշակում, տեղայնացում, արդիականացում և բազայի համալրում
G19: Ծառայությունների մատուցում
H20: Ծառայությունը մատուցողի անվանումը` Մասնագիտացված կազմակերպություն
D21: 1103 - 21001 | E21: Քաղաքաշինության բնագավառում պետական ծրագրերի իրականացման ապահովում | J21: =+'1'!G14 -> 25860
F22: Նախագծանախահաշվային փաստաթղթերի, ինչպես նաեւ հիմնանորոգման, վերակառուցման, կառուցման աշխատանքների ձեռքբերում
G23: Հանրության կողմից անմիջականորեն օգտագործվող ակտիվների հետ կապված միջոցառումներ
H24: ՀՀ քաղաքաշինության կոմիտե
H25: երկրաբանական հետազոտական ծառայություններ | J25: 1
A26: ՀՀ կառավարություն | J26: =+J27 -> 0
B27: 1139 | C27: ՀՀ կառավարության պահուստային ֆոնդ | J27: =+J28+J32 -> 0
D28: 1139 - 11001 | E28: ՀՀ կառավարության պահուստային ֆոնդ | J28: =+'1'!G17 -> -25860
F29: ՀՀ պետական բյուջեում նախատեսված ելքերի լրացուցիչ ֆինանսավորման, պետական բյուջեում չկանխատեսված ելքերի, ինչպես նաև բյուջետային երաշխիքների ապահովման ելքերի ֆինանսավորման ապահովում
G30: Ծառայությունների մատուցում
H31: Ծառայությունը մատուցողի անվանումը` ՀՀ կառավարություն
D32: 1139 - 11001 | E32: ՀՀ կառավարության պահուստային ֆոնդ | J32: =+'1'!G18 -> 25860
F33: ՀՀ պետական բյուջեում նախատեսված ելքերի լրացուցիչ ֆինանսավորման, պետական բյուջեում չկանխատեսված ելքերի, ինչպես նաև բյուջետային երաշխիքների ապահովման ելքերի ֆինանսավորման ապահովում
G34: Ծառայությունների մատուցում
H35: Ծառայությունը մատուցողի անվանումը` ՀՀ կառավարություն

Sheet 6
J1: Հավելված N 6
J2: ՀՀ կառավարության 2026թվականի
J3: ___________ ___-ի N _______ որոշման
A8: ՀԱՅԱՍՏԱՆԻ ՀԱՆՐԱՊԵՏՈՒԹՅԱՆ ԿԱՌԱՎԱՐՈՒԹՅԱՆ 2025 ԹՎԱԿԱՆԻ ԴԵԿՏԵՄԲԵՐԻ 25-Ի ԹԻՎ 1910-Ն ՈՐՈՇՄԱՆ N 9.1 ՀԱՎԵԼՎԱԾՈՒՄ ԿԱՏԱՐՎՈՂ ՓՈՓՈԽՈՒԹՅՈՒՆՆԵՐԸ ԵՎ ԼՐԱՑՈՒՄՆԵՐԸ
J11: հազար դրամներով
A12: ԲԳԿ | B12: Ծրագիր | D12: Միջոցառում | H12: Իրականացնողը/ ակտիվն օգտագործողը/ շահառուի ընտրության չափորոշիչը | I12: Արդյունքային չափորոշիչը | J12: Ցուցանիշների փոփոխությունը (ավելացումները նշված են դրական նշանով, իսկ նվազեցումները՝ փակագծերում)
B13: Դասիչը | C13: Անվա-նումը | D13: Դասիչը | E13: Անվա-նումը | F13: Նկարագրու-թյունը | G13: Տեսակը | J13: Տարի
A14: ԸՆԴԱՄԵՆԸ | J14: =+J15 -> 0
A15: ՀՀ քաղաքաշինության կոմիտե | J15: =J16 -> 0
B16: 1103 | C16: Քաղաքաշինության և ճարտարապետության բնագավառում պետական քաղաքականության իրականացում և կանոնակարգում | J16: =+J17+J21 -> 0
D17: 1103 - 11002 | E17: Նորմատիվատեխնիկական փաստաթղթերի մշակում և տեղայնացում | J17: =+'3.'!G50 -> -25860
F18: Միջպետական (տարածաշրջանային), միջազգային և եվրոպական նորմերին ու ստանդարտներին համահունչ ազգային քաղաքաշինական նորմատիվ փաստաթղթերի մշակում, տեղայնացում, արդիականացում և բազայի համալրում
G19: Ծառայությունների մատուցում
H20: Ծառայությունը մատուցողի անվանումը` Մասնագիտացված կազմակերպություն
D21: 1103 - 21001 | E21: Քաղաքաշինության բնագավառում պետական ծրագրերի իրականացման ապահովում | J21: =+'1'!G14 -> 25860
F22: Նախագծանախահաշվային փաստաթղթերի, ինչպես նաեւ հիմնանորոգման, վերակառուցման, կառուցման աշխատանքների ձեռքբերում
G23: Հանրության կողմից անմիջականորեն օգտագործվող ակտիվների հետ կապված միջոցառումներ
H24: ՀՀ քաղաքաշինության կոմիտե
H25: ='5.'!H25:I25 -> երկրաբանական հետազոտական ծառայություններ | J25: 1
A26: ՀՀ կառավարություն | J26: =+J27 -> 0
B27: 1139 | C27: ՀՀ կառավարության պահուստային ֆոնդ | J27: =+J28+J32 -> 0
D28: 1139 - 11001 | E28: ՀՀ կառավարության պահուստային ֆոնդ | J28: =+'1'!G17 -> -25860
F29: ՀՀ պետական բյուջեում նախատեսված ելքերի լրացուցիչ ֆինանսավորման, պետական բյուջեում չկանխատեսված ելքերի, ինչպես նաև բյուջետային երաշխիքների ապահովման ելքերի ֆինանսավորման ապահովում
G30: Ծառայությունների մատուցում
H31: Ծառայությունը մատուցողի անվանումը` ՀՀ կառավարություն
D32: 1139 - 11001 | E32: ՀՀ կառավարության պահուստային ֆոնդ | J32: =+'1'!G18 -> 25860
F33: ՀՀ պետական բյուջեում նախատեսված ելքերի լրացուցիչ ֆինանսավորման, պետական բյուջեում չկանխատեսված ելքերի, ինչպես նաև բյուջետային երաշխիքների ապահովման ելքերի ֆինանսավորման ապահովում
G34: Ծառայությունների մատուցում
H35: Ծառայությունը մատուցողի անվանումը` ՀՀ կառավարություն

Sheet 7
G1: Հավելված № 7
G2: ՀՀ կառավարության
G3: 2026 թվականի __________ N -Ն որոշման
A6: ՀԱՅԱՍՏԱՆԻ ՀԱՆՐԱՊԵՏՈՒԹՅԱՆ ԿԱՌԱՎԱՐՈՒԹՅԱՆ 2025 ԹՎԱԿԱՆԻ ԴԵԿՏԵՄԲԵՐԻ 25-Ի N 1910-Ն ՈՐՈՇՄԱՆ N 10 ՀԱՎԵԼՎԱԾՈՒՄ ԿԱՏԱՐՎՈՂ ՓՈՓՈԽՈՒԹՅՈՒՆՆԵՐԸ ԵՎ ԼՐԱՑՈՒՄԸ
I7: (հազ. դրամ)
A8: կոդը | B8: անվանումը | E8: Գնման ձևը | F8: Չափի միավորը | G8: Միավորի գինը | H8: Ցուցանիշների փոփոխությունը (ավելացումները նշված են դրական նշանով, իսկ նվազեցումները՝ փակագծում)
H9: Քանակը | I9: Գումարը (հազար դրամ)
A10: 1 | B10: 2 | E10: 3 | F10: 4 | G10: 5 | H10: 6 | I10: 7
A11: ՀՀ Քաղաքաշինության կոմիտե | I11: =+I12+I16 -> 0
A12: Բաժին N 06 | B12: Խումբ N 01 | C12: Դաս N 01 | D12: Բնակարանային շինարարություն | I12: =+I13 -> 25860
A13: 1103 21001 | B13: Քաղաքաշինության բնագավառում պետական ծրագրերի իրականացման ապահովում | I13: =+I14 -> 25860
B14: ՄԱՍ III. ԾԱՌԱՅՈՒԹՅՈՒՆՆԵՐ | I14: =SUM(I15:I15) -> 25860
A15: 71351230 | B15: երկրաբանական հետազոտական ծառայություններ | E15: ՀՄԱ | F15: դրամ | G15: 25860000 | H15: 1 | I15: =+G15*H15/1000 -> 25860
A16: Բաժին N 04 | B16: Խումբ N 04 | C16: Դաս N 03 | D16: Շինարարություն | I16: =+I17 -> -25860
A17: 1103 11002 | B17: Նորմատիվատեխնիկական փաստաթղթերի մշակում և տեղայնացում | G17: =+G18 -> 0 | I17: =+I21+I19+I20 -> -25860
B18: ՄԱՍ III. ԾԱՌԱՅՈՒԹՅՈՒՆՆԵՐ | I18: =+I19+I20+I21 -> -25860
A19: 71241200-9 | B19: նախագծերի պատրաստում, ծախսերի գնահատում | E19: ԳՀ | F19: դրամ | I19: -5500
A20: 71241200-11 | B20: նախագծերի պատրաստում, ծախսերի գնահատում | E20: ԳՀ | F20: դրամ | I20: -5500
A21: 71241200-14 | B21: նախագծերի պատրաստում, ծախսերի գնահատում | E21: ԳՀ | F21: դրամ | I21: -14860
