Workbook
Name _Hlk18427898: Emp!#REF!
Name eur: 'Rates and GI'!$D$7
Name index: 'Rates and GI'!$E$8
Name start: 'Rates and GI'!$B$2
Name usd: 'Rates and GI'!$D$6

Sheet Summary
A1: Միջոցառումների ֆինանսավորման կարիքների ամփոփաթերթ
G2: Հազար ՀՀ դրամ
A4: Գործողության համար | B4: Գործողության անվանում | C4: Ընդամենը գործողության ֆինանսավորման կարիք | D4: Գործողության ֆինանսավորման կարիք ըստ տարիների
D5: =start -> 43831 | E5: =EOMONTH(D5,11)+1 -> 44197 | F5: =EOMONTH(E5,11)+1 -> 44562 | G5: =EOMONTH(F5,11)+1 -> 44927
B6: ՔՐԵԱԿԱՏԱՐՈՂԱԿԱՆ ՈԼՈՐՏ
A7: ='a1'!A1 -> 1 | B7: ='a1'!B1 -> Միջազգային պարտավորությունների, Մարդու իրավունքների եվրոպական դատարանի վճիռների, Խոշտանգումների և անմարդկային կամ նվաստացնող վերաբերմունքի կամ պատժի կանխարգելման եվրոպական կոմիտեի (ԽԿԿ), ՀՀ Մարդու իրավունքների պաշտպանի զեկույցների, ՀՀ արդարադատության նախարարության քրեակատարողական հիմնարկներում և մարմիններում հասարակական վերահսկողություն իրականացնող հասարակական դիտորդների խմբի հաշվետվությունների, հաշվառմամբ Քրեակատարողական նոր օրենսգրքի նախագծի մշակում | C7: =SUM(D7:G7) -> 3600 | D7: ='a1'!E50 -> 3600 | E7: ='a1'!F50 -> 0 | F7: ='a1'!G50 -> 0 | G7: ='a1'!H50 -> 0
A8: ='a2'!A1 -> 2 | B8: ='a2'!B1 -> «Հայաստանի Հանրապետության կառավարության 2006 թվականի օգոստոսի 3-ի թիվ 1543-Ն որոշման մեջ փոփոխություններ և լրացումներ կատարելու մասին» ՀՀ կառավարության որոշման նախագծի մշակում և ներկայացնում ՀՀ վարչապետի աշխատակազմ | C8: =SUM(D8:G8) -> 7600 | D8: ='a2'!E50 -> 7600 | E8: ='a2'!F50 -> 0 | F8: ='a2'!G50 -> 0 | G8: ='a2'!H50 -> 0
A9: ='a3'!A1 -> 3 | B9: ='a3'!B1 -> Կալանավորված անձանց և դատապարտյալների հետ սոցիալական, հոգեբանական և իրավական աշխատանքներ իրականացնող կառուցվածքային ստորաբաժանումների գործունեության կարգի արդյունավետության բարձրացում | C9: =SUM(D9:G9) -> 1400 | D9: ='a3'!E50 -> 1400 | E9: ='a3'!F50 -> 0 | F9: ='a3'!G50 -> 0 | G9: ='a3'!H50 -> 0
A10: ='a7'!A1 -> 7 | B10: ='a7'!B1 -> Քրեակատարողական համակարգում կոռուպցիայի դեմ պայքար | C10: =SUM(D10:G10) -> 111098.88 | D10: ='a7'!E55 -> 111098.88 | E10: ='a7'!F55 -> 0 | F10: ='a7'!G55 -> 0 | G10: ='a7'!H55 -> 0
A11: ='a8'!A1 -> 8 | B11: ='a8'!B1 -> Պատիժը կրելուց պայմանական վաղաժամկետ ազատման ինստիտուտի արդյունավետության ապահովում | C11: =SUM(D11:G11) -> 6820.061 | D11: ='a8'!E50 -> 6820.061 | E11: ='a8'!F50 -> 0 | F11: ='a8'!G50 -> 0 | G11: ='a8'!H50 -> 0
A12: ='a9'!A1 -> 9 | B12: ='a9'!B1 -> Քրեակատարողական ծառայության և քրեակատարողական հիմնարկների կառավարման և գնահատման մոդելի արդիականացում | C12: =SUM(D12:G12) -> 18057.629 | D12: ='a9'!E50 -> 18057.629 | E12: ='a9'!F50 -> 0 | F12: ='a9'!G50 -> 0 | G12: ='a9'!H50 -> 0
A13: ='a10'!A1 -> 10 | B13: ='a10'!B1 -> Քրեակատարողական հիմնարկներում տնտեսվարման արդյունավետ մեխանիզմների ապահովում | C13: =SUM(D13:G13) -> 2327.05 | D13: ='a10'!E50 -> 2327.05 | E13: ='a10'!F50 -> 0 | F13: ='a10'!G50 -> 0 | G13: ='a10'!H50 -> 0
A14: ='a11'!A1 -> 11 | B14: ='a11'!B1 -> Քրեակատարողական հիմնարկների օպտիմալացում, շենքային պայմանների բարելավում | C14: =SUM(D14:G14) -> 35233334 | D14: ='a11'!E54 -> 10142648 | E14: ='a11'!F54 -> 12461972 | F14: ='a11'!G54 -> 10000872 | G14: ='a11'!H54 -> 2627842
A15: ='a12'!A1 -> 12 | B15: ='a12'!B1 -> Անչափահաս դատապարտյալների պահման պայմանների բարելավում | C15: =SUM(D15:G15) -> 972727.14 | D15: ='a12'!E54 -> 46029.436 | E15: ='a12'!F54 -> 370059 | F15: ='a12'!G54 -> 369648.12 | G15: ='a12'!H54 -> 186990.59
A16: ='a14'!A1 -> 14 | B16: ='a14'!B1 -> ՀՀ քրեակատարողական հիմնարկներում արդի ինժեներատեխնիկական և անվտանգության ապահովման միջոցներով վերազինում | C16: =SUM(D16:G16) -> 1188000 | D16: ='a14'!E55 -> 36000 | E16: ='a14'!F55 -> 1152000 | F16: ='a14'!G55 -> 0 | G16: ='a14'!H55 -> 0
A17: ='a15'!A1 -> 15 | B17: ='a15'!B1 -> Քրեակատարողական ծառայողների սոցիալական պայմանների բարելավում | C17: =SUM(D17:G17) -> 7325579.5 | D17: ='a15'!E57 -> 1746275.4 | E17: ='a15'!F57 -> 1805192.2 | F17: ='a15'!G57 -> 1859682.4 | G17: ='a15'!H57 -> 1914429.4
A18: ='a17'!A1 -> 17 | B18: ='a17'!B1 -> «Քրեակատարողական գործ» նախնական մասնագիտական (արհեստագործական) կրթության կազմակերպում | C18: =SUM(D18:G18) -> 202620 | D18: ='a17'!E50 -> 81030 | E18: ='a17'!F50 -> 40530 | F18: ='a17'!G50 -> 40530 | G18: ='a17'!H50 -> 40530
A19: ='a18'!A1 -> 18 | B19: ='a18'!B1 -> Քրեակատարողական համակարգում էլեկտրոնային կառավարման գործիքների կիրառման խթանում | C19: =SUM(D19:G19) -> 173856.5 | D19: ='a18'!E60 -> 137856.5 | E19: ='a18'!F60 -> 12000 | F19: ='a18'!G60 -> 12000 | G19: ='a18'!H60 -> 12000
A20: ='a19'!A1 -> 19 | B20: ='a19'!B1 -> Ազատությունից զրկված անձանց ռիսկերի և կարիքների գնահատման գործիքի ներդնում | C20: =SUM(D20:G20) -> 42371.826 | D20: ='a19'!E54 -> 42371.826 | E20: ='a19'!F54 -> 0 | F20: ='a19'!G54 -> 0 | G20: ='a19'!H54 -> 0
A21: ='a20'!A1 -> 20 | B21: ='a20'!B1 -> Ազատությունից զրկված անչափահաս անձանց ռիսկերի և կարիքների գնահատման գործիքի ներդնում | C21: =SUM(D21:G21) -> 8311.1 | D21: ='a20'!E54 -> 8311.1 | E21: ='a20'!F54 -> 0 | F21: ='a20'!G54 -> 0 | G21: ='a20'!H54 -> 0
A22: ='a21'!A1 -> 21 | B22: ='a21'!B1 -> Ազատությունից զրկված անչափահասների կրթություն ստանալու իրավունքի շարունակականության ապահովում | C22: =SUM(D22:G22) -> 63641.748 | D22: ='a21'!E54 -> 14920.2 | E22: ='a21'!F54 -> 15561.769 | F22: ='a21'!G54 -> 16230.925 | G22: ='a21'!H54 -> 16928.854
A23: ='a22'!A1 -> 22 | B23: ='a22'!B1 -> Ազատությունից զրկված անձանց մասնագիտական կրթության նոր ծրագրերի ներդնում | C23: =SUM(D23:G23) -> 954396.2 | D23: ='a22'!E50 -> 138343.83 | E23: ='a22'!F50 -> 194457.1 | F23: ='a22'!G50 -> 269971.84 | G23: ='a22'!H50 -> 351623.44
A24: ='a23'!A1 -> 23 | B24: ='a23'!B1 -> Ազատությունից զրկված անձանց զբաղվածության ապահովում | C24: =SUM(D24:G24) -> 3711.75 | D24: ='a23'!E50 -> 3711.75 | E24: ='a23'!F50 -> 0 | F24: ='a23'!G50 -> 0 | G24: ='a23'!H50 -> 0
A25: ='a24'!A1 -> 24 | B25: ='a24'!B1 -> «Իրավախախտում կատարած անձանց գեղագիտական դաստիարակություն և կրթություն» ծրագրի շրջանակների ընդլայնում | C25: =SUM(D25:G25) -> 742.35 | D25: ='a24'!E50 -> 742.35 | E25: ='a24'!F50 -> 0 | F25: ='a24'!G50 -> 0 | G25: ='a24'!H50 -> 0
A26: ='a25'!A1 -> 25 | B26: ='a25'!B1 -> Դատապարտյալների, այդ թվում՝ պատժի կրումից պայմանական վաղաժամկետ ազատման համար դիմած դատապարտյալների համար ազատազրկման ժամկետը (կամ պատժի կրումից պայմանական վաղաժամկետ ազատման համար նախատեսված ժամկետը) լրանալուց առնվազն վեց ամիս առաջ մասնագիտական ուսուցման դասընթացների անցկացում | C26: =SUM(D26:G26) -> 77725.18 | D26: ='a25'!E50 -> 20749.164 | E26: ='a25'!F50 -> 18198.264 | F26: ='a25'!G50 -> 18980.789 | G26: ='a25'!H50 -> 19796.963
A27: ='a26'!A1 -> 26 | B27: ='a26'!B1 -> Ազատությունից զրկված անձանց (դատապարտյալների և /կամ կալանավորված անձանց) համար առցանց-հեռավար կրթական հարթակի պատրաստում, որի միջոցով հնարավոր կլինի այդ անձանց համար իրականացնել ֆորմալ և ոչ ֆորմալ կրթություն | C27: =SUM(D27:G27) -> 97942.35 | D27: ='a26'!E46 -> 86199.493 | E27: ='a26'!F46 -> 5271.4286 | F27: ='a26'!G46 -> 5271.4286 | G27: ='a26'!H46 -> 1200
A28: ='a27'!A1 -> 27 | B28: ='a27'!B1 -> Ազատությունից զրկված անձանց (դատապարտյալների և /կամ կալանավորված անձանց) համար հանրակրթության իրականացում՝ անկախ տարիքից | C28: =SUM(D28:G28) -> 127180.1 | D28: ='a27'!E50 -> 0 | E28: ='a27'!F50 -> 40621.6 | F28: ='a27'!G50 -> 42368.329 | G28: ='a27'!H50 -> 44190.167
A29: ='a28'!A1 -> 28 | B29: ='a28'!B1 -> Ազատությունից զրկված անձանց (դատապարտյալների և /կամ կալանավորված անձանց) ազատազրկման ժամկետը լրանալուց հետո սոցիալական-իրավական հարցերով աջակցության տրամադրում (Երևանում և այլ համայնքներում վերականգնողական կենտրոնների գործունեության մոդելով) | C29: =SUM(D29:G29) -> 129780.73 | D29: ='a28'!E51 -> 31816.464 | E29: ='a28'!F51 -> 31290 | F29: ='a28'!G51 -> 32635.47 | G29: ='a28'!H51 -> 34038.795
A30: ='a29'!A1 -> 29 | B30: ='a29'!B1 -> Ընտանիքում բռնության գործադրման համար դատապարտված անձանց հետ վերականգնողական աշխատանքների իրականացում | C30: =SUM(D30:G30) -> 28491.964 | D30: ='a29'!E50 -> 16744.73 | E30: ='a29'!F50 -> 3754.3906 | F30: ='a29'!G50 -> 3913.4644 | G30: ='a29'!H50 -> 4079.3784
A31: ='a31'!A1 -> 31 | B31: ='a31'!B1 -> Քրեակատարողական հիմնարկներում ազատությունից զրկված հաշմանդամություն ունեցող անձանց պահման մատչելի պայմանների ապահովմանն ուղղված միջոցառումների իրականացում | C31: =SUM(D31:G31) -> 61413.613 | D31: ='a31'!E54 -> 52907.832 | E31: ='a31'!F54 -> 2716.765 | F31: ='a31'!G54 -> 2833.5859 | G31: ='a31'!H54 -> 2955.4301
A32: ='a32'!A1 -> 32 | B32: ='a32'!B1 -> Ազատությունից զրկված և հատուկ պաշտպանության կարիք ունեցող անձանց իրավունքների երաշխավորում | C32: =SUM(D32:G32) -> 41795.387 | D32: ='a32'!E54 -> 8556.1156 | E32: ='a32'!F54 -> 11143.663 | F32: ='a32'!G54 -> 10815.276 | G32: ='a32'!H54 -> 11280.333
A33: ='a33'!A1 -> 33 | B33: ='a33'!B1 -> Ազատությունից զրկված անձանց արտաքին աշխարհի հետ կապի իրավունքի պատշաճ իրացման ապահովում | C33: =SUM(D33:G33) -> 27629.47 | D33: ='a33'!E58 -> 17022.219 | E33: ='a33'!F58 -> 3257.7844 | F33: ='a33'!G58 -> 3531.8224 | G33: ='a33'!H58 -> 3817.644
A34: ='a34'!A1 -> 34 | B34: ='a34'!B1 -> Քրեակատարողական հիմնարկներում բժշկական ծառայության արդիականացում | C34: =SUM(D34:G34) -> 736427.27 | D34: ='a34'!E55 -> 256174.01 | E34: ='a34'!F55 -> 159936.12 | F34: ='a34'!G55 -> 160082.32 | G34: ='a34'!H55 -> 160234.81
A35: ='a38'!A1 -> 38 | B35: ='a38'!B1 -> Առանց ժամանակի կորստի ազատությունից զրկված անձանց ըստ անհրաժեշտության դեղերի տրամադրման գործընթացի արդյունավետության բարձրացում | C35: =SUM(D35:G35) -> 3506.7 | D35: ='a38'!E54 -> 3506.7 | E35: ='a38'!F54 -> 0 | F35: ='a38'!G54 -> 0 | G35: ='a38'!H54 -> 0
A36: ='a39'!A1 -> 39 | B36: ='a39'!B1 -> Ազատությունից զրկված անձանց դիետիկ սննդով ապահովում | C36: =SUM(D36:G36) -> 35131.971 | D36: ='a39'!E54 -> 11284.525 | E36: ='a39'!F54 -> 11452.318 | F36: ='a39'!G54 -> 6093.3882 | G36: ='a39'!H54 -> 6301.7399
A37: ='a40'!A1 -> 40 | B37: ='a40'!B1 -> Քրեակատարողական հիմնարկներում մահվան, ինքնավնասման և ինքնասպանության դեպքերի կանխարգելում | C37: =SUM(D37:G37) -> 55439.411 | D37: ='a40'!E54 -> 17037.065 | E37: ='a40'!F54 -> 12284.514 | F37: ='a40'!G54 -> 12793.487 | G37: ='a40'!H54 -> 13324.345
A38: ='a41'!A1 -> 41 | B38: ='a41'!B1 -> Քրեակատարողական հիմնարկներում մահվան, ինքնավնասման և ինքնասպանության դեպքերի կանխարգելում | C38: =SUM(D38:G38) -> 10261.044 | D38: ='a41'!E54 -> 10261.044 | E38: ='a41'!F54 -> 0 | F38: ='a41'!G54 -> 0 | G38: ='a41'!H54 -> 0
A39: ='a42'!A1 -> 42 | B39: ='a42'!B1 -> Ազատությունից զրկված անձանց տրամադրվող հոգեբանական ծառայության որակի բարձրացում | C39: =SUM(D39:G39) -> 18042.25 | D39: ='a42'!E55 -> 9168.0665 | E39: ='a42'!F55 -> 3161.2489 | F39: ='a42'!G55 -> 2806.6932 | G39: ='a42'!H55 -> 2906.2415
A40: ='a43'!A1 -> 43 | B40: ='a43'!B1 -> Քրեակատարողական հիմնարկներում երկրորդային (հիվանդանոցային) բժշկական օգնության և սպասարկման տրամադրման պայմանների բարելավում | C40: =SUM(D40:G40) -> 17010.919 | D40: ='a43'!E54 -> 3625.05 | E40: ='a43'!F54 -> 5387.2767 | F40: ='a43'!G54 -> 5487.1576 | G40: ='a43'!H54 -> 2511.435
A41: ='a44'!A1 -> 44 | B41: ='a44'!B1 -> Քրեակատարողական և Պրոբացիայի ծառայությունների արդյունավետ համագործակցության մեխանիզմների ներդնում | C41: =SUM(D41:G41) -> 9777.6604 | D41: ='a44'!E54 -> 4193.5135 | E41: ='a44'!F54 -> 5584.1469 | F41: ='a44'!G54 -> 0 | G41: ='a44'!H54 -> 0
B42: ԸՆԴԱՄԵՆԸ ՔՐԵԱԿԱՏԱՐՈՂԱԿԱՆ ՈԼՈՐՏ | C42: =SUBTOTAL(9,C7:C41) -> 47797752 | D42: =SUBTOTAL(9,D7:D41) -> 13098390 | E42: =SUBTOTAL(9,E7:E41) -> 16365832 | F42: =SUBTOTAL(9,F7:F41) -> 12876548 | G42: =SUBTOTAL(9,G7:G41) -> 5456981.6
B44: ՊՐՈԲԱՑԻԱՅԻ ՈԼՈՐՏ
A45: ='a45'!A1 -> 45 | B45: ='a45'!B1 -> Պրոբացիայի ծառայության գործունեության արդյունավետության բարձրացման համար օրենսդրական հիմքերի ամրագրում | C45: =SUM(D45:G45) -> 12582.472 | D45: ='a45'!E54 -> 12582.472 | E45: ='a45'!F54 -> 0 | F45: ='a45'!G54 -> 0 | G45: ='a45'!H54 -> 0
A46: ='a47'!A1 -> 47 | B46: ='a47'!B1 -> Պրոբացիայի ծառայության կարգավիճակի վերանայում, սոցիալական երաշխիքների նախատեսում | C46: =SUM(D46:G46) -> 324337.21 | D46: ='a47'!E55 -> 79938.35 | E46: ='a47'!F55 -> 79196 | F46: ='a47'!G55 -> 82601.428 | G46: ='a47'!H55 -> 82601.428
A47: ='a48'!A1 -> 48 | B47: ='a48'!B1 -> Պրոբացիայի ծառայության գործունեության արդյունավետության բարձրացման համար տեխնիկական միջոցներով վերազինում | C47: =SUM(D47:G47) -> 557951.51 | D47: ='a48'!E56 -> 224878.49 | E47: ='a48'!F56 -> 107245.49 | F47: ='a48'!G56 -> 110963.41 | G47: ='a48'!H56 -> 114864.11
A48: ='a49'!A1 -> 49 | B48: ='a49'!B1 -> Պրոբացիայի ծառայողների համար գործնական ուղեցույցների, ինչպես նաև Պրոբացիայի ծառայության անձնակազմի վերապատրաստման դասընթացների անցկացման մեթոդաբանության փոփոխություն և մեթոդական ձեռնարկի կիրառում | C48: =SUM(D48:G48) -> 3026.225 | D48: ='a49'!E54 -> 3026.225 | E48: ='a49'!F54 -> 0 | F48: ='a49'!G54 -> 0 | G48: ='a49'!H54 -> 0
A49: ='a50'!A1 -> 50 | B49: ='a50'!B1 -> Պրոբացիայի համակարգում էլեկտրոնային կառավարման գործիքների կիրառման խթանում | C49: =SUM(D49:G49) -> 146372.9 | D49: ='a50'!E59 -> 112397.66 | E49: ='a50'!F59 -> 33975.24 | F49: ='a50'!G59 -> 0 | G49: ='a50'!H59 -> 0
A50: ='a51'!A1 -> 51 | B50: ='a51'!B1 -> Պրոբացիայի ծառայության կողմից էլեկտրոնային հսկողության համակարգի գործարկումմեթոդաբանության փոփոխություն և մեթոդական ձեռնարկի կիրառում | C50: =SUM(D50:G50) -> 478779.96 | D50: ='a51'!E59 -> 339855.97 | E50: ='a51'!F59 -> 51157.59 | F50: ='a51'!G59 -> 43333.372 | G50: ='a51'!H59 -> 44433.027
A51: ='a52'!A1 -> 52 | B51: ='a52'!B1 -> Պրոբացիայի շահառուի ռիսկի նախնական գնահատման գործիքի (proxy tool) ներդնում | C51: =SUM(D51:G51) -> 1418.75 | D51: ='a52'!E54 -> 1418.75 | E51: ='a52'!F54 -> 0 | F51: ='a52'!G54 -> 0 | G51: ='a52'!H54 -> 0
A52: ='a53'!A1 -> 53 | B52: ='a53'!B1 -> Պրոբացիայի շահառուների ռիսկերի և կարիքների գնահատման գործիքի ներդնում | C52: =SUM(D52:G52) -> 2837.5 | D52: ='a53'!E54 -> 2837.5 | E52: ='a53'!F54 -> 0 | F52: ='a53'!G54 -> 0 | G52: ='a53'!H54 -> 0
A53: ='a54'!A1 -> 54 | B53: ='a54'!B1 -> Պրոբացիայի անչափահաս շահառուների ռիսկերի և կարիքների գնահատման գործիքի ներդնում | C53: =SUM(D53:G53) -> 4322.2 | D53: ='a54'!E54 -> 4322.2 | E53: ='a54'!F54 -> 0 | F53: ='a54'!G54 -> 0 | G53: ='a54'!H54 -> 0
A54: ='a55'!A1 -> 55 | B54: ='a55'!B1 -> Պատիժը կրելուց պայմանական վաղաժամկետ ազատման վերաբերյալ զեկույցի տրամադրման համար գնահատման գործիքի ներդնում | C54: =SUM(D54:G54) -> 9490.122 | D54: ='a55'!E54 -> 9490.122 | E54: ='a55'!F54 -> 0 | F54: ='a55'!G54 -> 0 | G54: ='a55'!H54 -> 0
A55: ='a56'!A1 -> 56 | B55: ='a56'!B1 -> Պրոբացիայի ծառայողներին պատիժը կրելուց պայմանական վաղաժամկետ ազատման վերաբերյալ զեկույցների կազմման համար (պրոբացիայի շահառուների բնակության վայր այցելություն, տուժողի հետ հանդիպում, այլ հաստատություններ այցելություններ և այլն) փոխհատուցման տրամադրման նախատեսում | C55: =SUM(D55:G55) -> 8203.3687 | D55: ='a56'!E54 -> 1825.528 | E55: ='a56'!F54 -> 2016.9221 | F55: ='a56'!G54 -> 2126.919 | G55: ='a56'!H54 -> 2233.9996
A56: ='a57'!A1 -> 57 | B56: ='a57'!B1 -> Պրոբացիայի շահառուների վերասոցիալականացմանն ուղղված թիրախավորված միջոցառումների և ծրագրերի իրականացում և մեթոդաբանության փոփոխություն | C56: =SUM(D56:G56) -> 12746.658 | D56: ='a57'!E54 -> 12746.658 | E56: ='a57'!F54 -> 0 | F56: ='a57'!G54 -> 0 | G56: ='a57'!H54 -> 0
B57: ԸՆԴԱՄԵՆԸ ՊՐՈԲԱՑԻԱՅԻ ՈԼՈՐՏ | C57: =SUBTOTAL(9,C45:C56) -> 1562068.9 | D57: =SUBTOTAL(9,D45:D56) -> 805319.94 | E57: =SUBTOTAL(9,E45:E56) -> 273591.24 | F57: =SUBTOTAL(9,F45:F56) -> 239025.13 | G57: =SUBTOTAL(9,G45:G56) -> 244132.57
B59: ՀԱՆՐԱՅԻՆ ԻՐԱԶԵԿՈՒՄ
A60: ='a58'!A1 -> 58 | B60: ='a58'!B1 -> Հանրային իրազեկման բարձրացում, արդարադատության շղթայում ընդգրկված մարմինների միջև արդյունավետ համագործակցության ապահովում | C60: =SUM(D60:G60) -> 189392.5 | D60: ='a58'!E54 -> 44226.05 | E60: ='a58'!F54 -> 57203.734 | F60: ='a58'!G54 -> 44486.909 | G60: ='a58'!H54 -> 43475.81
B61: ԸՆԴԱՄԵՆԸ ՀԱՆՐԱՅԻՆ ԻՐԱԶԵԿՈՒՄ | C61: =SUBTOTAL(9,C60) -> 189392.5 | D61: =SUBTOTAL(9,D60) -> 44226.05 | E61: =SUBTOTAL(9,E60) -> 57203.734 | F61: =SUBTOTAL(9,F60) -> 44486.909 | G61: =SUBTOTAL(9,G60) -> 43475.81
B63: ԸՆԴԱՄԵՆԸ ՖԻՆԱՆՍԱՎՈՐՄԱՆ ԿԱՐԻՔՆԵՐԻ ԳՆԱՀԱՏՈՒՄ | C63: =SUBTOTAL(9,C7:C62) -> 49549213 | D63: =SUBTOTAL(9,D7:D62) -> 13947936 | E63: =SUBTOTAL(9,E7:E62) -> 16696627 | F63: =SUBTOTAL(9,F7:F62) -> 13160061 | G63: =SUBTOTAL(9,G7:G62) -> 5744589.9

Sheet a1
A1: 1 | B1: Միջազգային պարտավորությունների, Մարդու իրավունքների եվրոպական դատարանի վճիռների, Խոշտանգումների և անմարդկային կամ նվաստացնող վերաբերմունքի կամ պատժի կանխարգելման եվրոպական կոմիտեի (ԽԿԿ), ՀՀ Մարդու իրավունքների պաշտպանի զեկույցների, ՀՀ արդարադատության նախարարության քրեակատարողական հիմնարկներում և մարմիններում հասարակական վերահսկողություն իրականացնող հասարակական դիտորդների խմբի հաշվետվությունների, հաշվառմամբ Քրեակատարողական նոր օրենսգրքի նախագծի մշակում
B3: Հոդված | C3: Նշումներ | D3: Ընդամենը | E3: =start -> 43831 | F3: =EOMONTH(E3,11)+1 -> 44197 | G3: =EOMONTH(F3,11)+1 -> 44562 | H3: =EOMONTH(G3,11)+1 -> 44927
B4: Համախառն աշխատավարձ
B5: Ներգրավված տեղական փորձագետների վարձատրություն | D5: =SUM(E5:H5) -> 0 | E5: =E63 -> 0 | F5: =F63 -> 0 | G5: =G63 -> 0 | H5: =H63 -> 0
B6: Ներգրավված միջազգային փորձագետների վարձատրություն | D6: =SUM(E6:H6) -> 0 | E6: =E67 -> 0 | F6: =F67 -> 0 | G6: =G67 -> 0 | H6: =H67 -> 0
B7: Ընդամենը աշխատավարձ | D7: =SUBTOTAL(9,D5:D6) -> 0 | E7: =SUBTOTAL(9,E5:E6) -> 0 | F7: =SUBTOTAL(9,F5:F6) -> 0 | G7: =SUBTOTAL(9,G5:G6) -> 0 | H7: =SUBTOTAL(9,H5:H6) -> 0
B9: Անձնակազմի ծախսեր
B10: Գործուղումներ | D10: =SUM(E10:H10) -> 0 | E10: =E87 -> 0 | F10: =F87 -> 0 | G10: =G87 -> 0 | H10: =H87 -> 0
B11: Անձնակազմի մոտիվացիոն ֆոնդ | D11: =SUM(E11:H11) -> 0 | E11: 0 | F11: 0 | G11: 0 | H11: 0
B12: Ընդամենը անձնակազմի ծախսեր | D12: =SUBTOTAL(9,D10:D11) -> 0 | E12: =SUBTOTAL(9,E10:E11) -> 0 | F12: =SUBTOTAL(9,F10:F11) -> 0 | G12: =SUBTOTAL(9,G10:G11) -> 0 | H12: =SUBTOTAL(9,H10:H11) -> 0
B14: Ներկայացուցչական ծախսեր
B15: Միջազգային փորձագետների ընդունում | D15: =SUM(E15:H15) -> 0 | E15: =E95 -> 0 | F15: =F95 -> 0 | G15: =G95 -> 0 | H15: =H95 -> 0
B16: Այլ ներկայացուցչական ծախսեր
B17: Ընդամենը ներկայացուցչական ծախսեր | D17: =SUBTOTAL(9,D15:D16) -> 0 | E17: =SUBTOTAL(9,E15:E16) -> 0 | F17: =SUBTOTAL(9,F15:F16) -> 0 | G17: =SUBTOTAL(9,G15:G16) -> 0 | H17: =SUBTOTAL(9,H15:H16) -> 0
B19: Դասընթացներ և միջոցառումներ
B20: Դասընթացներ | D20: =SUM(E20:H20) -> 0 | E20: =E99 -> 0 | F20: =F99 -> 0 | G20: =G99 -> 0 | H20: =H99 -> 0
B21: Միջոցառումներ | D21: =SUM(E21:H21) -> 0
B22: Ընդամենը դասընթացներ և միջոցառումներ | D22: =SUBTOTAL(9,D20:D21) -> 0 | E22: =SUBTOTAL(9,E20:E21) -> 0 | F22: =SUBTOTAL(9,F20:F21) -> 0 | G22: =SUBTOTAL(9,G20:G21) -> 0 | H22: =SUBTOTAL(9,H20:H21) -> 0
B24: Նյութեր
B25: Նյութերի թարգմանություն | D25: =SUM(E25:H25) -> 0 | E25: =E107 -> 0 | F25: =F107 -> 0 | G25: =G107 -> 0 | H25: =H107 -> 0
B26: Ուսումնական և մեթոդական նյութեր, տեխնոլոգիաներ | D26: =SUM(E26:H26) -> 0 | E26: =E128 -> 0 | F26: =F128 -> 0 | G26: =G128 -> 0 | H26: =H128 -> 0
B27: էլեկտրոնային ռեսուրսների ստեղծում կամ արդիականացում
B28: Ընդամենը նյութեր | D28: =SUBTOTAL(9,D25:D27) -> 0 | E28: =SUBTOTAL(9,E25:E27) -> 0 | F28: =SUBTOTAL(9,F25:F27) -> 0 | G28: =SUBTOTAL(9,G25:G27) -> 0 | H28: =SUBTOTAL(9,H25:H27) -> 0
B30: Կապիտալ ծախսեր
B31: Շենքեր, շինություններ | D31: =SUM(E31:H31) -> 0
B32: Սարքավորումներ և տեխնոլոգիաներ | D32: =SUM(E32:H32) -> 0 | E32: =E117 -> 0
B33: Կահույք | D33: =SUM(E33:H33) -> 0
B34: Այլ | D34: =SUM(E34:H34) -> 0
B35: Ընդամենը կապիտալ ծախսեր | D35: =SUBTOTAL(9,D31:D34) -> 0 | E35: =SUBTOTAL(9,E31:E34) -> 0 | F35: =SUBTOTAL(9,F31:F34) -> 0 | G35: =SUBTOTAL(9,G31:G34) -> 0 | H35: =SUBTOTAL(9,H31:H34) -> 0
B37: Գրասենյակային և վարչական ծախսեր
B38: Կոմունալ վճարներ, կապ, վարձակալություն և տարածքի պահպանման ծախսեր | D38: =SUM(E38:H38) -> 0
B39: Գրենական պիտույքներ, տնտեսական ապրանքներ | D39: =SUM(E39:H39) -> 0
B40: Համակարգչային պարագաներ, սարքավորումների սպասարկում և ծրագրային ապահովում | D40: =SUM(E40:H40) -> 0 | E40: =E174 -> 0 | F40: =F174 -> 0 | G40: =G174 -> 0 | H40: =H174 -> 0
B41: Տրանսպորտային ծախսեր | D41: =SUM(E41:H41) -> 0
B42: Այլ գրասենյակային ծախսեր | D42: =SUM(E42:H42) -> 0
B43: Ընդամենը գրասենյակային և վարչական ծախսեր | D43: =SUBTOTAL(9,D38:D42) -> 0 | E43: =SUBTOTAL(9,E38:E42) -> 0 | F43: =SUBTOTAL(9,F38:F42) -> 0 | G43: =SUBTOTAL(9,G38:G42) -> 0 | H43: =SUBTOTAL(9,H38:H42) -> 0
B45: Հանրային իրազեկում, հասարակայնության հետ կապեր
B46: Իրազեկման արշավ | D46: =SUM(E46:H46) -> 0 | E46: =E147 -> 0 | F46: =F147 -> 0 | G46: =G147 -> 0 | H46: =H147 -> 0
B47: Հանրային միջոցառումներ | D47: =SUM(E47:H47) -> 3600 | E47: =E137 -> 3600 | F47: =F137 -> 0 | G47: =G137 -> 0 | H47: =H137 -> 0
B48: Ընդամենը հանրային իրազեկում և հասարակայնության հետ կապեր | D48: =SUBTOTAL(9,D46:D47) -> 3600 | E48: =SUBTOTAL(9,E46:E47) -> 3600 | F48: =SUBTOTAL(9,F46:F47) -> 0 | G48: =SUBTOTAL(9,G46:G47) -> 0 | H48: =SUBTOTAL(9,H46:H47) -> 0
B50: Ընդամենը գործողության ֆինանսավորման կարիք | D50: =SUBTOTAL(9,D5:D48) -> 3600 | E50: =SUBTOTAL(9,E5:E48) -> 3600 | F50: =SUBTOTAL(9,F5:F48) -> 0 | G50: =SUBTOTAL(9,G5:G48) -> 0 | H50: =SUBTOTAL(9,H5:H48) -> 0
B52: Հաշվարկներ
B54: Հոդված | C54: Նշումներ | E54: =start -> 43831 | F54: =EOMONTH(E54,11)+1 -> 44197 | G54: =EOMONTH(F54,11)+1 -> 44562 | H54: =EOMONTH(G54,11)+1 -> 44927
B56: Աշխատավարձ
B57: Հիմնական փորձագետների աշխատավարձ | E57: =E58*E59*E60*E61 -> 0
B58: Հիմնական փորձագետների ընդհանուր քանակ | E58: 0
B59: Ներգրավվածության տոկոս | E59: 0
B60: Միջին ամսական համախառն աշխատավարձ | E60: 0
B61: Ամիսների քանակ | E61: 0
B63: Ներգրավված տեղական փորձագետների վարձատրություն | E63: =E64*E65 -> 0 | F63: =F64*F65 -> 0 | G63: =G64*G65 -> 0 | H63: =H64*H65 -> 0
B64: Տեղական փորձագետների միջին ներգրավման ծավալ | C64: մարդ-օր | E64: 0 | F64: 0 | G64: 0 | H64: 0
B65: Միջին օրական համախառն աշխատավարձ | E65: ='Rates and GI'!D12 -> 17.675 | F65: =E65*(1+index) -> 18.435025 | G65: =F65*(1+index) -> 19.227731 | H65: =G65*(1+index) -> 20.054524
B67: Ներգրավված միջազգային փորձագետների վարձատրություն | E67: =E68*E69 -> 0 | F67: =F68*F69 -> 0 | G67: =G68*G69 -> 0 | H67: =H68*H69 -> 0
B68: Միջազգային փորձագետների միջին ներգրավման ծավալ | C68: մարդ-օր | E68: 0 | F68: 0 | G68: 0 | H68: 0
B69: Միջին օրական համախառն աշխատավարձ | E69: ='Rates and GI'!D13 -> 162.216 | F69: =E69*(1+index) -> 169.19129 | G69: =F69*(1+index) -> 176.46651 | H69: =G69*(1+index) -> 184.05457
B71: Մասնագետների աշխատավարձ
B72: Ավագ մասնագետների ընդհանուր քանակ | E72: 0
B73: Ավագ մասնագետների միջին ամսական համախառն աշխատավարձ | E73: 0
B74: Կրտսեր մասնագետների ընդհանուր քանակ | E74: 0
B75: Կրտսեր մասնագետների միջին ամսական համախառն աշխատավարձ | E75: 0
B77: Վարչական անձնակազմի աշխատավարձ
B78: Վարչական աշխատողների ընդհանուր քանակ | E78: 0
B79: Վարչական աշխատողների միջին ամսական համախառն աշխատավարձ | E79: 0
B81: Օժանդակ անձնակազմի աշխատավարձ
B82: Օժանդակ աշխատողների ընդհանուր քանակ | E82: 0
B83: Օժանդակ անձնակազմի միջին ամսական համախառն աշխատավարձ | E83: 0
B85: Ամիսների քանակ
B87: Գործուղումներ | E87: =E88*E89+E91*E92 -> 0 | F87: =F88*F89+F91*F92 -> 0 | G87: =G88*G89+G91*G92 -> 0 | H87: =H88*H89+H91*H92 -> 0
B88: Արտասահմանյան գործուղումների միջին կանխատեսվող տարեկան քանակ | E88: 0 | F88: 0 | G88: 0 | H88: 0
B89: Արտասահմանյան մեկ գործուղման միջին գնահատվող ծախս մեկ անձի համար | E89: =Trips!$B$10 -> 908.23176 | F89: =Trips!$B$10 -> 908.23176 | G89: =Trips!$B$10 -> 908.23176 | H89: =Trips!$B$10 -> 908.23176
B91: Տեղական գործուղումների միջին կանխատեսվող տարեկան քանակ | E91: 0 | F91: 0 | G91: 0 | H91: 0
B92: Տեղական մեկ գործուղման միջին գնահատվող ծախս մեկ անձի համար | E92: =Trips!$B$5 -> 52 | F92: =Trips!$B$5 -> 52 | G92: =Trips!$B$5 -> 52 | H92: =Trips!$B$5 -> 52
B95: Միջազգային փորձագետների ընդունում և այլ ներկայացուցչական ծախսեր | E95: =E96*E97 -> 0 | F95: =F96*F97 -> 0 | G95: =G96*G97 -> 0 | H95: =H96*H97 -> 0
B96: Միջազգային փորձագետների միջին այցերի կանխատեսվող քանակ | C96: այց | E96: 0 | F96: 0 | G96: 0 | H96: 0
B97: Մեկ օրվա կանխատեսվող միջին ծախս | E97: =Trips!B41 -> 631.70366 | F97: =E97*(1+index) -> 658.86692 | G97: =F97*(1+index) -> 687.19819 | H97: =G97*(1+index) -> 716.74772
B99: Դասընթացներ | E99: =E100*E101+E102*E103+E104*E105 -> 0 | F99: =F100*F101+F102*F103+F104*F105 -> 0 | G99: =G100*G101+G102*G103+G104*G105 -> 0 | H99: =H100*H101+H102*H103+H104*H105 -> 0
B100: Արտասահմանում դասընթացին մասնակցելու վճար | C100: 1 անձի համար | F100: =Training!$C$33 -> 81.108 | G100: =Training!$C$33 -> 81.108 | H100: =Training!$C$33 -> 81.108
B101: Մասնակիցնրի քանակ | F101: =F88 -> 0 | G101: =G88 -> 0 | H101: =H88 -> 0
B102: Տեղական դասընացի արժեք | F102: =Training!C$23 -> 709.375 | G102: =F102*(1+index) -> 739.87812 | H102: =G102*(1+index) -> 771.69288
B103: Դասընթացների քանակ | E103: =E104*E105 -> 0 | F103: 0 | G103: 0 | H103: 0
B104: Արտապատվիրակված դասընթացի արժեք | C104: 1 անձ
B105: Մասնակիցնրի քանակ | E105: 0 | F105: 0 | G105: 0 | H105: 0
B107: Նյութերի թարգմանություն | E107: =E108*E109 -> 0 | F107: =F108*F109 -> 0 | G107: =G108*G109 -> 0 | H107: =H108*H109 -> 0
B108: Թարգմանվող նյութի կանխատեսվող էջեր | E108: 0 | F108: 0
B109: Մեկ էջի թարգմանության կանխատեսվող արժեք | E109: ='Rates and GI'!D25 -> 6 | F109: =E109*(1+index) -> 6.258 | G109: =F109*(1+index) -> 6.527094 | H109: =G109*(1+index) -> 6.807759
B111: Կապիտալ ծախսեր
B112: Շենքեր, շինություններ
B113: Մեկ աշխատողի հաշվարկային տարածք | C113: ք.մ.
B114: Աշխատողների ընդհանուր քանակ
B115: 1 ք.մ. շինության արժեք
B117: Սարքավորումներ և տեխնոլոգիաներ | E117: =E122*E123 -> 0 | F117: =F122*F123 -> 0
B118: Համակարգիչներ
B119: Միավորի միջին կանխատեսվող գին
B120: Միջին կանխատեսվող քանակ
B121: Սարքավորումներ
B122: Միավորի միջին կանխատեսվող գին | E122: ='Rates and GI'!$D$31 -> 350 | F122: ='Rates and GI'!$D$31 -> 350 | G122: ='Rates and GI'!$D$31 -> 350 | H122: ='Rates and GI'!$D$31 -> 350
B123: Միջին կանխատեսվող քանակ | E123: 0 | F123: 0
B124: Կահույք
B125: Միավորի միջին կանխատեսվող գին
B126: Միջին կանխատեսվող քանակ
...

Sheet a2
A1: 2 | B1: «Հայաստանի Հանրապետության կառավարության 2006 թվականի օգոստոսի 3-ի թիվ 1543-Ն որոշման մեջ փոփոխություններ և լրացումներ կատարելու մասին» ՀՀ կառավարության որոշման նախագծի մշակում և ներկայացնում ՀՀ վարչապետի աշխատակազմ
B3: Հոդված | C3: Նշումներ | D3: Ընդամենը | E3: =start -> 43831 | F3: =EOMONTH(E3,11)+1 -> 44197 | G3: =EOMONTH(F3,11)+1 -> 44562 | H3: =EOMONTH(G3,11)+1 -> 44927
B4: Համախառն աշխատավարձ
B5: Ներգրավված տեղական փորձագետների վարձատրություն | D5: =SUM(E5:H5) -> 0 | E5: =E63 -> 0 | F5: =F63 -> 0 | G5: =G63 -> 0 | H5: =H63 -> 0
B6: Ներգրավված միջազգային փորձագետների վարձատրություն | D6: =SUM(E6:H6) -> 0 | E6: =E67 -> 0 | F6: =F67 -> 0 | G6: =G67 -> 0 | H6: =H67 -> 0
B7: Ընդամենը աշխատավարձ | D7: =SUBTOTAL(9,D5:D6) -> 0 | E7: =SUBTOTAL(9,E5:E6) -> 0 | F7: =SUBTOTAL(9,F5:F6) -> 0 | G7: =SUBTOTAL(9,G5:G6) -> 0 | H7: =SUBTOTAL(9,H5:H6) -> 0
B9: Անձնակազմի ծախսեր
B10: Գործուղումներ | D10: =SUM(E10:H10) -> 0 | E10: =E87 -> 0 | F10: =F87 -> 0 | G10: =G87 -> 0 | H10: =H87 -> 0
B11: Անձնակազմի մոտիվացիոն ֆոնդ | D11: =SUM(E11:H11) -> 0 | E11: 0 | F11: 0 | G11: 0 | H11: 0
B12: Ընդամենը անձնակազմի ծախսեր | D12: =SUBTOTAL(9,D10:D11) -> 0 | E12: =SUBTOTAL(9,E10:E11) -> 0 | F12: =SUBTOTAL(9,F10:F11) -> 0 | G12: =SUBTOTAL(9,G10:G11) -> 0 | H12: =SUBTOTAL(9,H10:H11) -> 0
B14: Ներկայացուցչական ծախսեր
B15: Միջազգային փորձագետների ընդունում | D15: =SUM(E15:H15) -> 0 | E15: =E95 -> 0 | F15: =F95 -> 0 | G15: =G95 -> 0 | H15: =H95 -> 0
B16: Այլ ներկայացուցչական ծախսեր
B17: Ընդամենը ներկայացուցչական ծախսեր | D17: =SUBTOTAL(9,D15:D16) -> 0 | E17: =SUBTOTAL(9,E15:E16) -> 0 | F17: =SUBTOTAL(9,F15:F16) -> 0 | G17: =SUBTOTAL(9,G15:G16) -> 0 | H17: =SUBTOTAL(9,H15:H16) -> 0
B19: Դասընթացներ և միջոցառումներ
B20: Դասընթացներ | D20: =SUM(E20:H20) -> 0 | E20: =E99 -> 0 | F20: =F99 -> 0 | G20: =G99 -> 0 | H20: =H99 -> 0
B21: Միջոցառումներ | D21: =SUM(E21:H21) -> 0
B22: Ընդամենը դասընթացներ և միջոցառումներ | D22: =SUBTOTAL(9,D20:D21) -> 0 | E22: =SUBTOTAL(9,E20:E21) -> 0 | F22: =SUBTOTAL(9,F20:F21) -> 0 | G22: =SUBTOTAL(9,G20:G21) -> 0 | H22: =SUBTOTAL(9,H20:H21) -> 0
B24: Նյութեր
B25: Նյութերի թարգմանություն | D25: =SUM(E25:H25) -> 0 | E25: =E107 -> 0 | F25: =F107 -> 0 | G25: =G107 -> 0 | H25: =H107 -> 0
B26: Ուսումնական և մեթոդական նյութեր, տեխնոլոգիաներ | D26: =SUM(E26:H26) -> 0 | E26: =E128 -> 0 | F26: =F128 -> 0 | G26: =G128 -> 0 | H26: =H128 -> 0
B27: էլեկտրոնային ռեսուրսների ստեղծում կամ արդիականացում
B28: Ընդամենը նյութեր | D28: =SUBTOTAL(9,D25:D27) -> 0 | E28: =SUBTOTAL(9,E25:E27) -> 0 | F28: =SUBTOTAL(9,F25:F27) -> 0 | G28: =SUBTOTAL(9,G25:G27) -> 0 | H28: =SUBTOTAL(9,H25:H27) -> 0
B30: Կապիտալ ծախսեր
B31: Շենքեր, շինություններ | D31: =SUM(E31:H31) -> 0
B32: Սարքավորումներ և տեխնոլոգիաներ | D32: =SUM(E32:H32) -> 0 | E32: =E117 -> 0
B33: Կահույք | D33: =SUM(E33:H33) -> 0
B34: Այլ | D34: =SUM(E34:H34) -> 0
B35: Ընդամենը կապիտալ ծախսեր | D35: =SUBTOTAL(9,D31:D34) -> 0 | E35: =SUBTOTAL(9,E31:E34) -> 0 | F35: =SUBTOTAL(9,F31:F34) -> 0 | G35: =SUBTOTAL(9,G31:G34) -> 0 | H35: =SUBTOTAL(9,H31:H34) -> 0
B37: Գրասենյակային և վարչական ծախսեր
B38: Կոմունալ վճարներ, կապ, վարձակալություն և տարածքի պահպանման ծախսեր | D38: =SUM(E38:H38) -> 0
B39: Գրենական պիտույքներ, տնտեսական ապրանքներ | D39: =SUM(E39:H39) -> 0
B40: Համակարգչային պարագաներ, սարքավորումների սպասարկում և ծրագրային ապահովում | D40: =SUM(E40:H40) -> 0 | E40: =E174 -> 0 | F40: =F174 -> 0 | G40: =G174 -> 0 | H40: =H174 -> 0
B41: Տրանսպորտային ծախսեր | D41: =SUM(E41:H41) -> 0
B42: Այլ գրասենյակային ծախսեր | D42: =SUM(E42:H42) -> 0
B43: Ընդամենը գրասենյակային և վարչական ծախսեր | D43: =SUBTOTAL(9,D38:D42) -> 0 | E43: =SUBTOTAL(9,E38:E42) -> 0 | F43: =SUBTOTAL(9,F38:F42) -> 0 | G43: =SUBTOTAL(9,G38:G42) -> 0 | H43: =SUBTOTAL(9,H38:H42) -> 0
B45: Հանրային իրազեկում, հասարակայնության հետ կապեր
B46: Իրազեկման արշավ | D46: =SUM(E46:H46) -> 0 | E46: =E147 -> 0 | F46: =F147 -> 0 | G46: =G147 -> 0 | H46: =H147 -> 0
B47: Հանրային միջոցառումներ | D47: =SUM(E47:H47) -> 7600 | E47: =E137 -> 7600 | F47: =F137 -> 0 | G47: =G137 -> 0 | H47: =H137 -> 0
B48: Ընդամենը հանրային իրազեկում և հասարակայնության հետ կապեր | D48: =SUBTOTAL(9,D46:D47) -> 7600 | E48: =SUBTOTAL(9,E46:E47) -> 7600 | F48: =SUBTOTAL(9,F46:F47) -> 0 | G48: =SUBTOTAL(9,G46:G47) -> 0 | H48: =SUBTOTAL(9,H46:H47) -> 0
B50: Ընդամենը գործողության ֆինանսավորման կարիք | D50: =SUBTOTAL(9,D5:D48) -> 7600 | E50: =SUBTOTAL(9,E5:E48) -> 7600 | F50: =SUBTOTAL(9,F5:F48) -> 0 | G50: =SUBTOTAL(9,G5:G48) -> 0 | H50: =SUBTOTAL(9,H5:H48) -> 0
B52: Հաշվարկներ
B54: Հոդված | C54: Նշումներ | E54: =start -> 43831 | F54: =EOMONTH(E54,11)+1 -> 44197 | G54: =EOMONTH(F54,11)+1 -> 44562 | H54: =EOMONTH(G54,11)+1 -> 44927
B56: Աշխատավարձ
B57: Հիմնական փորձագետների աշխատավարձ | E57: =E58*E59*E60*E61 -> 0
B58: Հիմնական փորձագետների ընդհանուր քանակ | E58: 0
B59: Ներգրավվածության տոկոս | E59: 0
B60: Միջին ամսական համախառն աշխատավարձ | E60: 0
B61: Ամիսների քանակ | E61: 0
B63: Ներգրավված տեղական փորձագետների վարձատրություն | E63: =E64*E65 -> 0 | F63: =F64*F65 -> 0 | G63: =G64*G65 -> 0 | H63: =H64*H65 -> 0
B64: Տեղական փորձագետների միջին ներգրավման ծավալ | C64: մարդ-օր | E64: 0 | F64: 0 | G64: 0 | H64: 0
B65: Միջին օրական համախառն աշխատավարձ | E65: ='Rates and GI'!D12 -> 17.675 | F65: =E65*(1+index) -> 18.435025 | G65: =F65*(1+index) -> 19.227731 | H65: =G65*(1+index) -> 20.054524
B67: Ներգրավված միջազգային փորձագետների վարձատրություն | E67: =E68*E69 -> 0 | F67: =F68*F69 -> 0 | G67: =G68*G69 -> 0 | H67: =H68*H69 -> 0
B68: Միջազգային փորձագետների միջին ներգրավման ծավալ | C68: մարդ-օր | E68: 0 | F68: 0 | G68: 0 | H68: 0
B69: Միջին օրական համախառն աշխատավարձ | E69: ='Rates and GI'!D13 -> 162.216 | F69: =E69*(1+index) -> 169.19129 | G69: =F69*(1+index) -> 176.46651 | H69: =G69*(1+index) -> 184.05457
B71: Մասնագետների աշխատավարձ
B72: Ավագ մասնագետների ընդհանուր քանակ | E72: 0
B73: Ավագ մասնագետների միջին ամսական համախառն աշխատավարձ | E73: 0
B74: Կրտսեր մասնագետների ընդհանուր քանակ | E74: 0
B75: Կրտսեր մասնագետների միջին ամսական համախառն աշխատավարձ | E75: 0
B77: Վարչական անձնակազմի աշխատավարձ
B78: Վարչական աշխատողների ընդհանուր քանակ | E78: 0
B79: Վարչական աշխատողների միջին ամսական համախառն աշխատավարձ | E79: 0
B81: Օժանդակ անձնակազմի աշխատավարձ
B82: Օժանդակ աշխատողների ընդհանուր քանակ | E82: 0
B83: Օժանդակ անձնակազմի միջին ամսական համախառն աշխատավարձ | E83: 0
B85: Ամիսների քանակ
B87: Գործուղումներ | E87: =E88*E89+E91*E92 -> 0 | F87: =F88*F89+F91*F92 -> 0 | G87: =G88*G89+G91*G92 -> 0 | H87: =H88*H89+H91*H92 -> 0
B88: Արտասահմանյան գործուղումների միջին կանխատեսվող տարեկան քանակ | E88: 0 | F88: 0 | G88: 0 | H88: 0
B89: Արտասահմանյան մեկ գործուղման միջին գնահատվող ծախս մեկ անձի համար | E89: =Trips!$B$10 -> 908.23176 | F89: =Trips!$B$10 -> 908.23176 | G89: =Trips!$B$10 -> 908.23176 | H89: =Trips!$B$10 -> 908.23176
B91: Տեղական գործուղումների միջին կանխատեսվող տարեկան քանակ | E91: 0 | F91: 0 | G91: 0 | H91: 0
B92: Տեղական մեկ գործուղման միջին գնահատվող ծախս մեկ անձի համար | E92: =Trips!$B$5 -> 52 | F92: =Trips!$B$5 -> 52 | G92: =Trips!$B$5 -> 52 | H92: =Trips!$B$5 -> 52
B95: Միջազգային փորձագետների ընդունում և այլ ներկայացուցչական ծախսեր | E95: =E96*E97 -> 0 | F95: =F96*F97 -> 0 | G95: =G96*G97 -> 0 | H95: =H96*H97 -> 0
B96: Միջազգային փորձագետների միջին այցերի կանխատեսվող քանակ | C96: այց | E96: 0 | F96: 0 | G96: 0 | H96: 0
B97: Մեկ օրվա կանխատեսվող միջին ծախս | E97: =Trips!B41 -> 631.70366 | F97: =E97*(1+index) -> 658.86692 | G97: =F97*(1+index) -> 687.19819 | H97: =G97*(1+index) -> 716.74772
B99: Դասընթացներ | E99: =E100*E101+E102*E103+E104*E105 -> 0 | F99: =F100*F101+F102*F103+F104*F105 -> 0 | G99: =G100*G101+G102*G103+G104*G105 -> 0 | H99: =H100*H101+H102*H103+H104*H105 -> 0
B100: Արտասահմանում դասընթացին մասնակցելու վճար | C100: 1 անձի համար | F100: =Training!$C$33 -> 81.108 | G100: =Training!$C$33 -> 81.108 | H100: =Training!$C$33 -> 81.108
B101: Մասնակիցնրի քանակ | F101: =F88 -> 0 | G101: =G88 -> 0 | H101: =H88 -> 0
B102: Տեղական դասընացի արժեք | F102: =Training!C$23 -> 709.375 | G102: =F102*(1+index) -> 739.87812 | H102: =G102*(1+index) -> 771.69288
B103: Դասընթացների քանակ | E103: =E104*E105 -> 0 | F103: 0 | G103: 0 | H103: 0
B104: Արտապատվիրակված դասընթացի արժեք | C104: 1 անձ
B105: Մասնակիցնրի քանակ | E105: 0 | F105: 0 | G105: 0 | H105: 0
B107: Նյութերի թարգմանություն | E107: =E108*E109 -> 0 | F107: =F108*F109 -> 0 | G107: =G108*G109 -> 0 | H107: =H108*H109 -> 0
B108: Թարգմանվող նյութի կանխատեսվող էջեր | E108: 0 | F108: 0
B109: Մեկ էջի թարգմանության կանխատեսվող արժեք | E109: ='Rates and GI'!D25 -> 6 | F109: =E109*(1+index) -> 6.258 | G109: =F109*(1+index) -> 6.527094 | H109: =G109*(1+index) -> 6.807759
B111: Կապիտալ ծախսեր
B112: Շենքեր, շինություններ
B113: Մեկ աշխատողի հաշվարկային տարածք | C113: ք.մ.
B114: Աշխատողների ընդհանուր քանակ
B115: 1 ք.մ. շինության արժեք
B117: Սարքավորումներ և տեխնոլոգիաներ | E117: =E122*E123 -> 0 | F117: =F122*F123 -> 0
B118: Համակարգիչներ
B119: Միավորի միջին կանխատեսվող գին
B120: Միջին կանխատեսվող քանակ
B121: Սարքավորումներ
B122: Միավորի միջին կանխատեսվող գին | E122: ='Rates and GI'!$D$31 -> 350 | F122: ='Rates and GI'!$D$31 -> 350 | G122: ='Rates and GI'!$D$31 -> 350 | H122: ='Rates and GI'!$D$31 -> 350
B123: Միջին կանխատեսվող քանակ | E123: 0 | F123: 0
B124: Կահույք
B125: Միավորի միջին կանխատեսվող գին
B126: Միջին կանխատեսվող քանակ
...

Sheet a3
A1: 3 | B1: Կալանավորված անձանց և դատապարտյալների հետ սոցիալական, հոգեբանական և իրավական աշխատանքներ իրականացնող կառուցվածքային ստորաբաժանումների գործունեության կարգի արդյունավետության բարձրացում
B3: Հոդված | C3: Նշումներ | D3: Ընդամենը | E3: =start -> 43831 | F3: =EOMONTH(E3,11)+1 -> 44197 | G3: =EOMONTH(F3,11)+1 -> 44562 | H3: =EOMONTH(G3,11)+1 -> 44927
B4: Համախառն աշխատավարձ
B5: Ներգրավված տեղական փորձագետների վարձատրություն | D5: =SUM(E5:H5) -> 0 | E5: =E63 -> 0 | F5: =F63 -> 0 | G5: =G63 -> 0 | H5: =H63 -> 0
B6: Ներգրավված միջազգային փորձագետների վարձատրություն | D6: =SUM(E6:H6) -> 0 | E6: =E67 -> 0 | F6: =F67 -> 0 | G6: =G67 -> 0 | H6: =H67 -> 0
B7: Ընդամենը աշխատավարձ | D7: =SUBTOTAL(9,D5:D6) -> 0 | E7: =SUBTOTAL(9,E5:E6) -> 0 | F7: =SUBTOTAL(9,F5:F6) -> 0 | G7: =SUBTOTAL(9,G5:G6) -> 0 | H7: =SUBTOTAL(9,H5:H6) -> 0
B9: Անձնակազմի ծախսեր
B10: Գործուղումներ | D10: =SUM(E10:H10) -> 0 | E10: =E87 -> 0 | F10: =F87 -> 0 | G10: =G87 -> 0 | H10: =H87 -> 0
B11: Անձնակազմի մոտիվացիոն ֆոնդ | D11: =SUM(E11:H11) -> 0 | E11: 0 | F11: 0 | G11: 0 | H11: 0
B12: Ընդամենը անձնակազմի ծախսեր | D12: =SUBTOTAL(9,D10:D11) -> 0 | E12: =SUBTOTAL(9,E10:E11) -> 0 | F12: =SUBTOTAL(9,F10:F11) -> 0 | G12: =SUBTOTAL(9,G10:G11) -> 0 | H12: =SUBTOTAL(9,H10:H11) -> 0
B14: Ներկայացուցչական ծախսեր
B15: Միջազգային փորձագետների ընդունում | D15: =SUM(E15:H15) -> 0 | E15: =E95 -> 0 | F15: =F95 -> 0 | G15: =G95 -> 0 | H15: =H95 -> 0
B16: Այլ ներկայացուցչական ծախսեր
B17: Ընդամենը ներկայացուցչական ծախսեր | D17: =SUBTOTAL(9,D15:D16) -> 0 | E17: =SUBTOTAL(9,E15:E16) -> 0 | F17: =SUBTOTAL(9,F15:F16) -> 0 | G17: =SUBTOTAL(9,G15:G16) -> 0 | H17: =SUBTOTAL(9,H15:H16) -> 0
B19: Դասընթացներ և միջոցառումներ
B20: Դասընթացներ | D20: =SUM(E20:H20) -> 0 | E20: =E99 -> 0 | F20: =F99 -> 0 | G20: =G99 -> 0 | H20: =H99 -> 0
B21: Միջոցառումներ | D21: =SUM(E21:H21) -> 0
B22: Ընդամենը դասընթացներ և միջոցառումներ | D22: =SUBTOTAL(9,D20:D21) -> 0 | E22: =SUBTOTAL(9,E20:E21) -> 0 | F22: =SUBTOTAL(9,F20:F21) -> 0 | G22: =SUBTOTAL(9,G20:G21) -> 0 | H22: =SUBTOTAL(9,H20:H21) -> 0
B24: Նյութեր
B25: Նյութերի թարգմանություն | D25: =SUM(E25:H25) -> 0 | E25: =E107 -> 0 | F25: =F107 -> 0 | G25: =G107 -> 0 | H25: =H107 -> 0
B26: Ուսումնական և մեթոդական նյութեր, տեխնոլոգիաներ | D26: =SUM(E26:H26) -> 0 | E26: =E128 -> 0 | F26: =F128 -> 0 | G26: =G128 -> 0 | H26: =H128 -> 0
B27: էլեկտրոնային ռեսուրսների ստեղծում կամ արդիականացում
B28: Ընդամենը նյութեր | D28: =SUBTOTAL(9,D25:D27) -> 0 | E28: =SUBTOTAL(9,E25:E27) -> 0 | F28: =SUBTOTAL(9,F25:F27) -> 0 | G28: =SUBTOTAL(9,G25:G27) -> 0 | H28: =SUBTOTAL(9,H25:H27) -> 0
B30: Կապիտալ ծախսեր
B31: Շենքեր, շինություններ | D31: =SUM(E31:H31) -> 0
B32: Սարքավորումներ և տեխնոլոգիաներ | D32: =SUM(E32:H32) -> 0 | E32: =E117 -> 0
B33: Կահույք | D33: =SUM(E33:H33) -> 0
B34: Այլ | D34: =SUM(E34:H34) -> 0
B35: Ընդամենը կապիտալ ծախսեր | D35: =SUBTOTAL(9,D31:D34) -> 0 | E35: =SUBTOTAL(9,E31:E34) -> 0 | F35: =SUBTOTAL(9,F31:F34) -> 0 | G35: =SUBTOTAL(9,G31:G34) -> 0 | H35: =SUBTOTAL(9,H31:H34) -> 0
B37: Գրասենյակային և վարչական ծախսեր
B38: Կոմունալ վճարներ, կապ, վարձակալություն և տարածքի պահպանման ծախսեր | D38: =SUM(E38:H38) -> 0
B39: Գրենական պիտույքներ, տնտեսական ապրանքներ | D39: =SUM(E39:H39) -> 0
B40: Համակարգչային պարագաներ, սարքավորումների սպասարկում և ծրագրային ապահովում | D40: =SUM(E40:H40) -> 0 | E40: =E174 -> 0 | F40: =F174 -> 0 | G40: =G174 -> 0 | H40: =H174 -> 0
B41: Տրանսպորտային ծախսեր | D41: =SUM(E41:H41) -> 0
B42: Այլ գրասենյակային ծախսեր | D42: =SUM(E42:H42) -> 0
B43: Ընդամենը գրասենյակային և վարչական ծախսեր | D43: =SUBTOTAL(9,D38:D42) -> 0 | E43: =SUBTOTAL(9,E38:E42) -> 0 | F43: =SUBTOTAL(9,F38:F42) -> 0 | G43: =SUBTOTAL(9,G38:G42) -> 0 | H43: =SUBTOTAL(9,H38:H42) -> 0
B45: Հանրային իրազեկում, հասարակայնության հետ կապեր
B46: Իրազեկման արշավ | D46: =SUM(E46:H46) -> 0 | E46: =E147 -> 0 | F46: =F147 -> 0 | G46: =G147 -> 0 | H46: =H147 -> 0
B47: Հանրային միջոցառումներ | D47: =SUM(E47:H47) -> 1400 | E47: =E137 -> 1400 | F47: =F137 -> 0 | G47: =G137 -> 0 | H47: =H137 -> 0
B48: Ընդամենը հանրային իրազեկում և հասարակայնության հետ կապեր | D48: =SUBTOTAL(9,D46:D47) -> 1400 | E48: =SUBTOTAL(9,E46:E47) -> 1400 | F48: =SUBTOTAL(9,F46:F47) -> 0 | G48: =SUBTOTAL(9,G46:G47) -> 0 | H48: =SUBTOTAL(9,H46:H47) -> 0
B50: Ընդամենը գործողության ֆինանսավորման կարիք | D50: =SUBTOTAL(9,D5:D48) -> 1400 | E50: =SUBTOTAL(9,E5:E48) -> 1400 | F50: =SUBTOTAL(9,F5:F48) -> 0 | G50: =SUBTOTAL(9,G5:G48) -> 0 | H50: =SUBTOTAL(9,H5:H48) -> 0
B52: Հաշվարկներ
B54: Հոդված | C54: Նշումներ | E54: =start -> 43831 | F54: =EOMONTH(E54,11)+1 -> 44197 | G54: =EOMONTH(F54,11)+1 -> 44562 | H54: =EOMONTH(G54,11)+1 -> 44927
B56: Աշխատավարձ
B57: Հիմնական փորձագետների աշխատավարձ | E57: =E58*E59*E60*E61 -> 0
B58: Հիմնական փորձագետների ընդհանուր քանակ | E58: 0
B59: Ներգրավվածության տոկոս | E59: 0
B60: Միջին ամսական համախառն աշխատավարձ | E60: 0
B61: Ամիսների քանակ | E61: 0
B63: Ներգրավված տեղական փորձագետների վարձատրություն | E63: =E64*E65 -> 0 | F63: =F64*F65 -> 0 | G63: =G64*G65 -> 0 | H63: =H64*H65 -> 0
B64: Տեղական փորձագետների միջին ներգրավման ծավալ | C64: մարդ-օր | E64: 0 | F64: 0 | G64: 0 | H64: 0
B65: Միջին օրական համախառն աշխատավարձ | E65: ='Rates and GI'!D12 -> 17.675 | F65: =E65*(1+index) -> 18.435025 | G65: =F65*(1+index) -> 19.227731 | H65: =G65*(1+index) -> 20.054524
B67: Ներգրավված միջազգային փորձագետների վարձատրություն | E67: =E68*E69 -> 0 | F67: =F68*F69 -> 0 | G67: =G68*G69 -> 0 | H67: =H68*H69 -> 0
B68: Միջազգային փորձագետների միջին ներգրավման ծավալ | C68: մարդ-օր | E68: 0 | F68: 0 | G68: 0 | H68: 0
B69: Միջին օրական համախառն աշխատավարձ | E69: ='Rates and GI'!D13 -> 162.216 | F69: =E69*(1+index) -> 169.19129 | G69: =F69*(1+index) -> 176.46651 | H69: =G69*(1+index) -> 184.05457
B71: Մասնագետների աշխատավարձ
B72: Ավագ մասնագետների ընդհանուր քանակ | E72: 0
B73: Ավագ մասնագետների միջին ամսական համախառն աշխատավարձ | E73: 0
B74: Կրտսեր մասնագետների ընդհանուր քանակ | E74: 0
B75: Կրտսեր մասնագետների միջին ամսական համախառն աշխատավարձ | E75: 0
B77: Վարչական անձնակազմի աշխատավարձ
B78: Վարչական աշխատողների ընդհանուր քանակ | E78: 0
B79: Վարչական աշխատողների միջին ամսական համախառն աշխատավարձ | E79: 0
B81: Օժանդակ անձնակազմի աշխատավարձ
B82: Օժանդակ աշխատողների ընդհանուր քանակ | E82: 0
B83: Օժանդակ անձնակազմի միջին ամսական համախառն աշխատավարձ | E83: 0
B85: Ամիսների քանակ
B87: Գործուղումներ | E87: =E88*E89+E91*E92 -> 0 | F87: =F88*F89+F91*F92 -> 0 | G87: =G88*G89+G91*G92 -> 0 | H87: =H88*H89+H91*H92 -> 0
B88: Արտասահմանյան գործուղումների միջին կանխատեսվող տարեկան քանակ | E88: 0 | F88: 0 | G88: 0 | H88: 0
B89: Արտասահմանյան մեկ գործուղման միջին գնահատվող ծախս մեկ անձի համար | E89: =Trips!$B$10 -> 908.23176 | F89: =Trips!$B$10 -> 908.23176 | G89: =Trips!$B$10 -> 908.23176 | H89: =Trips!$B$10 -> 908.23176
B91: Տեղական գործուղումների միջին կանխատեսվող տարեկան քանակ | E91: 0 | F91: 0 | G91: 0 | H91: 0
B92: Տեղական մեկ գործուղման միջին գնահատվող ծախս մեկ անձի համար | E92: =Trips!$B$5 -> 52 | F92: =Trips!$B$5 -> 52 | G92: =Trips!$B$5 -> 52 | H92: =Trips!$B$5 -> 52
B95: Միջազգային փորձագետների ընդունում և այլ ներկայացուցչական ծախսեր | E95: =E96*E97 -> 0 | F95: =F96*F97 -> 0 | G95: =G96*G97 -> 0 | H95: =H96*H97 -> 0
B96: Միջազգային փորձագետների միջին այցերի կանխատեսվող քանակ | C96: այց | E96: 0 | F96: 0 | G96: 0 | H96: 0
B97: Մեկ օրվա կանխատեսվող միջին ծախս | E97: =Trips!B41 -> 631.70366 | F97: =E97*(1+index) -> 658.86692 | G97: =F97*(1+index) -> 687.19819 | H97: =G97*(1+index) -> 716.74772
B99: Դասընթացներ | E99: =E100*E101+E102*E103+E104*E105 -> 0 | F99: =F100*F101+F102*F103+F104*F105 -> 0 | G99: =G100*G101+G102*G103+G104*G105 -> 0 | H99: =H100*H101+H102*H103+H104*H105 -> 0
B100: Արտասահմանում դասընթացին մասնակցելու վճար | C100: 1 անձի համար | F100: =Training!$C$33 -> 81.108 | G100: =Training!$C$33 -> 81.108 | H100: =Training!$C$33 -> 81.108
B101: Մասնակիցնրի քանակ | F101: =F88 -> 0 | G101: =G88 -> 0 | H101: =H88 -> 0
B102: Տեղական դասընացի արժեք | F102: =Training!C$23 -> 709.375 | G102: =F102*(1+index) -> 739.87812 | H102: =G102*(1+index) -> 771.69288
B103: Դասընթացների քանակ | E103: =E104*E105 -> 0 | F103: 0 | G103: 0 | H103: 0
B104: Արտապատվիրակված դասընթացի արժեք | C104: 1 անձ
B105: Մասնակիցնրի քանակ | E105: 0 | F105: 0 | G105: 0 | H105: 0
B107: Նյութերի թարգմանություն | E107: =E108*E109 -> 0 | F107: =F108*F109 -> 0 | G107: =G108*G109 -> 0 | H107: =H108*H109 -> 0
B108: Թարգմանվող նյութի կանխատեսվող էջեր | E108: 0 | F108: 0
B109: Մեկ էջի թարգմանության կանխատեսվող արժեք | E109: ='Rates and GI'!D25 -> 6 | F109: =E109*(1+index) -> 6.258 | G109: =F109*(1+index) -> 6.527094 | H109: =G109*(1+index) -> 6.807759
B111: Կապիտալ ծախսեր
B112: Շենքեր, շինություններ
B113: Մեկ աշխատողի հաշվարկային տարածք | C113: ք.մ.
B114: Աշխատողների ընդհանուր քանակ
B115: 1 ք.մ. շինության արժեք
B117: Սարքավորումներ և տեխնոլոգիաներ | E117: =E122*E123 -> 0 | F117: =F122*F123 -> 0
B118: Համակարգիչներ
B119: Միավորի միջին կանխատեսվող գին
B120: Միջին կանխատեսվող քանակ
B121: Սարքավորումներ
B122: Միավորի միջին կանխատեսվող գին | E122: ='Rates and GI'!$D$31 -> 350 | F122: ='Rates and GI'!$D$31 -> 350 | G122: ='Rates and GI'!$D$31 -> 350 | H122: ='Rates and GI'!$D$31 -> 350
B123: Միջին կանխատեսվող քանակ | E123: 0 | F123: 0
B124: Կահույք
B125: Միավորի միջին կանխատեսվող գին
B126: Միջին կանխատեսվող քանակ
...

Sheet a7
A1: 7 | B1: Քրեակատարողական համակարգում կոռուպցիայի դեմ պայքար
B3: Հոդված | C3: Նշումներ | D3: Ընդամենը | E3: =start -> 43831 | F3: =EOMONTH(E3,11)+1 -> 44197 | G3: =EOMONTH(F3,11)+1 -> 44562 | H3: =EOMONTH(G3,11)+1 -> 44927
B4: Համախառն աշխատավարձ
B5: Ներգրավված տեղական փորձագետների վարձատրություն | D5: =SUM(E5:H5) -> 4454.1 | E5: =E68 -> 4454.1 | F5: =F68 -> 0 | G5: =G68 -> 0 | H5: =H68 -> 0
B6: Ներգրավված միջազգային փորձագետների վարձատրություն | D6: =SUM(E6:H6) -> 6813.072 | E6: =E72 -> 6813.072 | F6: =F72 -> 0 | G6: =G72 -> 0 | H6: =H72 -> 0
B7: Ընդամենը աշխատավարձ | D7: =SUBTOTAL(9,D5:D6) -> 11267.172 | E7: =SUBTOTAL(9,E5:E6) -> 11267.172 | F7: =SUBTOTAL(9,F5:F6) -> 0 | G7: =SUBTOTAL(9,G5:G6) -> 0 | H7: =SUBTOTAL(9,H5:H6) -> 0
B9: Անձնակազմի ծախսեր
B10: Գործուղումներ | D10: =SUM(E10:H10) -> 0 | E10: =E92 -> 0 | F10: =F92 -> 0 | G10: =G92 -> 0 | H10: =H92 -> 0
B11: Անձնակազմի մոտիվացիոն ֆոնդ | D11: =SUM(E11:H11) -> 0 | E11: 0 | F11: 0 | G11: 0 | H11: 0
B12: Ընդամենը անձնակազմի ծախսեր | D12: =SUBTOTAL(9,D10:D11) -> 0 | E12: =SUBTOTAL(9,E10:E11) -> 0 | F12: =SUBTOTAL(9,F10:F11) -> 0 | G12: =SUBTOTAL(9,G10:G11) -> 0 | H12: =SUBTOTAL(9,H10:H11) -> 0
B14: Ներկայացուցչական ծախսեր
B15: Միջազգային փորձագետների ընդունում | D15: =SUM(E15:H15) -> 631.70366 | E15: =E100 -> 631.70366 | F15: =F100 -> 0 | G15: =G100 -> 0 | H15: =H100 -> 0
B16: Այլ ներկայացուցչական ծախսեր
B17: Ընդամենը ներկայացուցչական ծախսեր | D17: =SUBTOTAL(9,D15:D16) -> 631.70366 | E17: =SUBTOTAL(9,E15:E16) -> 631.70366 | F17: =SUBTOTAL(9,F15:F16) -> 0 | G17: =SUBTOTAL(9,G15:G16) -> 0 | H17: =SUBTOTAL(9,H15:H16) -> 0
B19: Դասընթացներ և միջոցառումներ
B20: Դասընթացներ | D20: =SUM(E20:H20) -> 0 | E20: =E104 -> 0 | F20: =F104 -> 0 | G20: =G104 -> 0 | H20: =H104 -> 0
B21: Միջոցառումներ | D21: =SUM(E21:H21) -> 0
B22: Ընդամենը դասընթացներ և միջոցառումներ | D22: =SUBTOTAL(9,D20:D21) -> 0 | E22: =SUBTOTAL(9,E20:E21) -> 0 | F22: =SUBTOTAL(9,F20:F21) -> 0 | G22: =SUBTOTAL(9,G20:G21) -> 0 | H22: =SUBTOTAL(9,H20:H21) -> 0
B24: Նյութեր
B25: Նյութերի թարգմանություն | D25: =SUM(E25:H25) -> 600 | E25: =E112 -> 600 | F25: =F112 -> 0 | G25: =G112 -> 0 | H25: =H112 -> 0
B26: Ուսումնական և մեթոդական նյութեր, տեխնոլոգիաներ | D26: =SUM(E26:H26) -> 0 | E26: =E133 -> 0 | F26: =F133 -> 0 | G26: =G133 -> 0 | H26: =H133 -> 0
B27: էլեկտրոնային ռեսուրսների ստեղծում կամ արդիականացում
B28: Ընդամենը նյութեր | D28: =SUBTOTAL(9,D25:D27) -> 600 | E28: =SUBTOTAL(9,E25:E27) -> 600 | F28: =SUBTOTAL(9,F25:F27) -> 0 | G28: =SUBTOTAL(9,G25:G27) -> 0 | H28: =SUBTOTAL(9,H25:H27) -> 0
B30: Կապիտալ ծախսեր
B31: Շենքեր, շինություններ | D31: =SUM(E31:H31) -> 0
B32: Սարքավորումներ և տեխնոլոգիաներ | D32: =SUM(E32:H32) -> 0 | E32: =E122 -> 0
B33: Կահույք | D33: =SUM(E33:H33) -> 0
B34: Այլ | D34: =SUM(E34:H34) -> 0
B35: Ընդամենը կապիտալ ծախսեր | D35: =SUBTOTAL(9,D31:D34) -> 0 | E35: =SUBTOTAL(9,E31:E34) -> 0 | F35: =SUBTOTAL(9,F31:F34) -> 0 | G35: =SUBTOTAL(9,G31:G34) -> 0 | H35: =SUBTOTAL(9,H31:H34) -> 0
B37: Գրասենյակային և վարչական ծախսեր
B38: Կոմունալ վճարներ, կապ, վարձակալություն և տարածքի պահպանման ծախսեր | D38: =SUM(E38:H38) -> 0
B39: Գրենական պիտույքներ, տնտեսական ապրանքներ | D39: =SUM(E39:H39) -> 0
B40: Համակարգչային պարագաներ, սարքավորումների սպասարկում և ծրագրային ապահովում | D40: =SUM(E40:H40) -> 0 | E40: =E179 -> 0 | F40: =F179 -> 0 | G40: =G179 -> 0 | H40: =H179 -> 0
B41: Տրանսպորտային ծախսեր | D41: =SUM(E41:H41) -> 0
B42: Այլ գրասենյակային ծախսեր | D42: =SUM(E42:H42) -> 0
B43: Ընդամենը գրասենյակային և վարչական ծախսեր | D43: =SUBTOTAL(9,D38:D42) -> 0 | E43: =SUBTOTAL(9,E38:E42) -> 0 | F43: =SUBTOTAL(9,F38:F42) -> 0 | G43: =SUBTOTAL(9,G38:G42) -> 0 | H43: =SUBTOTAL(9,H38:H42) -> 0
B45: Արտապատվիրակված ծառայություններ
B46: Քրեակատարողական համակարգի նախորդ 3 տարվա գործունեության ֆինանսական հաշվետովությունների արտաքին անկախ աուդիտ | D46: =SUM(E46:H46) -> 91000 | E46: =E181 -> 91000 | F46: =F181 -> 0 | G46: =G181 -> 0 | H46: =H181 -> 0
B47: Քրեակատարողական համակարգի նախորդ 3 տարվա գնումների գործընթացների արտաքին անկախ աուդիտ | D47: =SUM(E47:H47) -> 7000 | E47: =E187 -> 7000 | F47: =F183 -> 0 | G47: =G183 -> 0 | H47: =H183 -> 0
B48: Ընդամենը արտապատվիրակված էլեկտրոնային ռեսուրսների ստեղծման կամ արդիականացման նախագծեր | D48: =SUBTOTAL(9,D46:D47) -> 98000 | E48: =SUBTOTAL(9,E46:E47) -> 98000 | F48: =SUBTOTAL(9,F46:F47) -> 0 | G48: =SUBTOTAL(9,G46:G47) -> 0 | H48: =SUBTOTAL(9,H46:H47) -> 0
B50: Հանրային իրազեկում, հասարակայնության հետ կապեր
B51: Իրազեկման արշավ | D51: =SUM(E51:H51) -> 0 | E51: =E152 -> 0 | F51: =F152 -> 0 | G51: =G152 -> 0 | H51: =H152 -> 0
B52: Հանրային միջոցառումներ | D52: =SUM(E52:H52) -> 600 | E52: =E142 -> 600 | F52: =F142 -> 0 | G52: =G142 -> 0 | H52: =H142 -> 0
B53: Ընդամենը հանրային իրազեկում և հասարակայնության հետ կապեր | D53: =SUBTOTAL(9,D51:D52) -> 600 | E53: =SUBTOTAL(9,E51:E52) -> 600 | F53: =SUBTOTAL(9,F51:F52) -> 0 | G53: =SUBTOTAL(9,G51:G52) -> 0 | H53: =SUBTOTAL(9,H51:H52) -> 0
B55: Ընդամենը գործողության ֆինանսավորման կարիք | D55: =SUBTOTAL(9,D5:D53) -> 111098.88 | E55: =SUBTOTAL(9,E5:E53) -> 111098.88 | F55: =SUBTOTAL(9,F5:F53) -> 0 | G55: =SUBTOTAL(9,G5:G53) -> 0 | H55: =SUBTOTAL(9,H5:H53) -> 0
B57: Հաշվարկներ
B59: Հոդված | C59: Նշումներ | E59: =start -> 43831 | F59: =EOMONTH(E59,11)+1 -> 44197 | G59: =EOMONTH(F59,11)+1 -> 44562 | H59: =EOMONTH(G59,11)+1 -> 44927
B61: Աշխատավարձ
B62: Հիմնական փորձագետների աշխատավարձ | E62: =E63*E64*E65*E66 -> 0
B63: Հիմնական փորձագետների ընդհանուր քանակ | E63: 0
B64: Ներգրավվածության տոկոս | E64: 0
B65: Միջին ամսական համախառն աշխատավարձ | E65: 0
B66: Ամիսների քանակ | E66: 0
B68: Ներգրավված տեղական փորձագետների վարձատրություն | E68: =E69*E70 -> 4454.1 | F68: =F69*F70 -> 0 | G68: =G69*G70 -> 0 | H68: =H69*H70 -> 0
B69: Տեղական փորձագետների միջին ներգրավման ծավալ | C69: մարդ-օր | E69: =(6+6)*21 -> 252 | F69: 0 | G69: 0 | H69: 0
B70: Միջին օրական համախառն աշխատավարձ | E70: ='Rates and GI'!D12 -> 17.675 | F70: =E70*(1+index) -> 18.435025 | G70: =F70*(1+index) -> 19.227731 | H70: =G70*(1+index) -> 20.054524
B72: Ներգրավված միջազգային փորձագետների վարձատրություն | E72: =E73*E74 -> 6813.072 | F72: =F73*F74 -> 0 | G72: =G73*G74 -> 0 | H72: =H73*H74 -> 0
B73: Միջազգային փորձագետների միջին ներգրավման ծավալ | C73: մարդ-օր | E73: =(1+1)*21 -> 42 | F73: 0 | G73: 0 | H73: 0
B74: Միջին օրական համախառն աշխատավարձ | E74: ='Rates and GI'!D13 -> 162.216 | F74: =E74*(1+index) -> 169.19129 | G74: =F74*(1+index) -> 176.46651 | H74: =G74*(1+index) -> 184.05457
B76: Մասնագետների աշխատավարձ
B77: Ավագ մասնագետների ընդհանուր քանակ | E77: 0
B78: Ավագ մասնագետների միջին ամսական համախառն աշխատավարձ | E78: 0
B79: Կրտսեր մասնագետների ընդհանուր քանակ | E79: 0
B80: Կրտսեր մասնագետների միջին ամսական համախառն աշխատավարձ | E80: 0
B82: Վարչական անձնակազմի աշխատավարձ
B83: Վարչական աշխատողների ընդհանուր քանակ | E83: 0
B84: Վարչական աշխատողների միջին ամսական համախառն աշխատավարձ | E84: 0
B86: Օժանդակ անձնակազմի աշխատավարձ
B87: Օժանդակ աշխատողների ընդհանուր քանակ | E87: 0
B88: Օժանդակ անձնակազմի միջին ամսական համախառն աշխատավարձ | E88: 0
B90: Ամիսների քանակ
B92: Գործուղումներ | E92: =E93*E94+E96*E97 -> 0 | F92: =F93*F94+F96*F97 -> 0 | G92: =G93*G94+G96*G97 -> 0 | H92: =H93*H94+H96*H97 -> 0
B93: Արտասահմանյան գործուղումների միջին կանխատեսվող տարեկան քանակ | E93: 0 | F93: 0 | G93: 0 | H93: 0
B94: Արտասահմանյան մեկ գործուղման միջին գնահատվող ծախս մեկ անձի համար | E94: =Trips!$B$10 -> 908.23176 | F94: =Trips!$B$10 -> 908.23176 | G94: =Trips!$B$10 -> 908.23176 | H94: =Trips!$B$10 -> 908.23176
B96: Տեղական գործուղումների միջին կանխատեսվող տարեկան քանակ | E96: 0 | F96: 0 | G96: 0 | H96: 0
B97: Տեղական մեկ գործուղման միջին գնահատվող ծախս մեկ անձի համար | E97: =Trips!$B$5 -> 52 | F97: =Trips!$B$5 -> 52 | G97: =Trips!$B$5 -> 52 | H97: =Trips!$B$5 -> 52
B100: Միջազգային փորձագետների ընդունում և այլ ներկայացուցչական ծախսեր | E100: =E101*E102 -> 631.70366 | F100: =F101*F102 -> 0 | G100: =G101*G102 -> 0 | H100: =H101*H102 -> 0
B101: Միջազգային փորձագետների միջին այցերի կանխատեսվող քանակ | C101: այց | E101: 1 | F101: 0 | G101: 0 | H101: 0
B102: Մեկ օրվա կանխատեսվող միջին ծախս | E102: =Trips!B41 -> 631.70366 | F102: =E102*(1+index) -> 658.86692 | G102: =F102*(1+index) -> 687.19819 | H102: =G102*(1+index) -> 716.74772
B104: Դասընթացներ | E104: =E105*E106+E107*E108+E109*E110 -> 0 | F104: =F105*F106+F107*F108+F109*F110 -> 0 | G104: =G105*G106+G107*G108+G109*G110 -> 0 | H104: =H105*H106+H107*H108+H109*H110 -> 0
B105: Արտասահմանում դասընթացին մասնակցելու վճար | C105: 1 անձի համար | F105: =Training!$C$33 -> 81.108 | G105: =Training!$C$33 -> 81.108 | H105: =Training!$C$33 -> 81.108
B106: Մասնակիցնրի քանակ | F106: =F93 -> 0 | G106: =G93 -> 0 | H106: =H93 -> 0
B107: Տեղական դասընացի արժեք | F107: =Training!C$23 -> 709.375 | G107: =F107*(1+index) -> 739.87812 | H107: =G107*(1+index) -> 771.69288
B108: Դասընթացների քանակ | E108: =E109*E110 -> 0 | F108: 0 | G108: 0 | H108: 0
B109: Արտապատվիրակված դասընթացի արժեք | C109: 1 անձ
B110: Մասնակիցնրի քանակ | E110: 0 | F110: 0 | G110: 0 | H110: 0
B112: Նյութերի թարգմանություն | E112: =E113*E114 -> 600 | F112: =F113*F114 -> 0 | G112: =G113*G114 -> 0 | H112: =H113*H114 -> 0
B113: Թարգմանվող նյութի կանխատեսվող էջեր | E113: 100 | F113: 0
B114: Մեկ էջի թարգմանության կանխատեսվող արժեք | E114: ='Rates and GI'!D25 -> 6 | F114: =E114*(1+index) -> 6.258 | G114: =F114*(1+index) -> 6.527094 | H114: =G114*(1+index) -> 6.807759
B116: Կապիտալ ծախսեր
B117: Շենքեր, շինություններ
B118: Մեկ աշխատողի հաշվարկային տարածք | C118: ք.մ.
B119: Աշխատողների ընդհանուր քանակ
B120: 1 ք.մ. շինության արժեք
B122: Սարքավորումներ և տեխնոլոգիաներ | E122: =E127*E128 -> 0 | F122: =F127*F128 -> 0
B123: Համակարգիչներ
B124: Միավորի միջին կանխատեսվող գին
B125: Միջին կանխատեսվող քանակ
B126: Սարքավորումներ
B127: Միավորի միջին կանխատեսվող գին | E127: ='Rates and GI'!$D$31 -> 350 | F127: ='Rates and GI'!$D$31 -> 350 | G127: ='Rates and GI'!$D$31 -> 350 | H127: ='Rates and GI'!$D$31 -> 350
...

Sheet a8
A1: 8 | B1: Պատիժը կրելուց պայմանական վաղաժամկետ ազատման ինստիտուտի արդյունավետության ապահովում
B3: Հոդված | C3: Նշումներ | D3: Ընդամենը | E3: =start -> 43831 | F3: =EOMONTH(E3,11)+1 -> 44197 | G3: =EOMONTH(F3,11)+1 -> 44562 | H3: =EOMONTH(G3,11)+1 -> 44927
B4: Համախառն աշխատավարձ
B5: Ներգրավված տեղական փորձագետների վարձատրություն | D5: =SUM(E5:H5) -> 1113.525 | E5: =E63 -> 1113.525 | F5: =F63 -> 0 | G5: =G63 -> 0 | H5: =H63 -> 0
B6: Ներգրավված միջազգային փորձագետների վարձատրություն | D6: =SUM(E6:H6) -> 3406.536 | E6: =E67 -> 3406.536 | F6: =F67 -> 0 | G6: =G67 -> 0 | H6: =H67 -> 0
B7: Ընդամենը աշխատավարձ | D7: =SUBTOTAL(9,D5:D6) -> 4520.061 | E7: =SUBTOTAL(9,E5:E6) -> 4520.061 | F7: =SUBTOTAL(9,F5:F6) -> 0 | G7: =SUBTOTAL(9,G5:G6) -> 0 | H7: =SUBTOTAL(9,H5:H6) -> 0
B9: Անձնակազմի ծախսեր
B10: Գործուղումներ | D10: =SUM(E10:H10) -> 0 | E10: =E87 -> 0 | F10: =F87 -> 0 | G10: =G87 -> 0 | H10: =H87 -> 0
B11: Անձնակազմի մոտիվացիոն ֆոնդ | D11: =SUM(E11:H11) -> 0 | E11: 0 | F11: 0 | G11: 0 | H11: 0
B12: Ընդամենը անձնակազմի ծախսեր | D12: =SUBTOTAL(9,D10:D11) -> 0 | E12: =SUBTOTAL(9,E10:E11) -> 0 | F12: =SUBTOTAL(9,F10:F11) -> 0 | G12: =SUBTOTAL(9,G10:G11) -> 0 | H12: =SUBTOTAL(9,H10:H11) -> 0
B14: Ներկայացուցչական ծախսեր
B15: Միջազգային փորձագետների ընդունում | D15: =SUM(E15:H15) -> 0 | E15: =E95 -> 0 | F15: =F95 -> 0 | G15: =G95 -> 0 | H15: =H95 -> 0
B16: Այլ ներկայացուցչական ծախսեր
B17: Ընդամենը ներկայացուցչական ծախսեր | D17: =SUBTOTAL(9,D15:D16) -> 0 | E17: =SUBTOTAL(9,E15:E16) -> 0 | F17: =SUBTOTAL(9,F15:F16) -> 0 | G17: =SUBTOTAL(9,G15:G16) -> 0 | H17: =SUBTOTAL(9,H15:H16) -> 0
B19: Դասընթացներ և միջոցառումներ
B20: Դասընթացներ | D20: =SUM(E20:H20) -> 0 | E20: =E99 -> 0 | F20: =F99 -> 0 | G20: =G99 -> 0 | H20: =H99 -> 0
B21: Միջոցառումներ | D21: =SUM(E21:H21) -> 0
B22: Ընդամենը դասընթացներ և միջոցառումներ | D22: =SUBTOTAL(9,D20:D21) -> 0 | E22: =SUBTOTAL(9,E20:E21) -> 0 | F22: =SUBTOTAL(9,F20:F21) -> 0 | G22: =SUBTOTAL(9,G20:G21) -> 0 | H22: =SUBTOTAL(9,H20:H21) -> 0
B24: Նյութեր
B25: Նյութերի թարգմանություն | D25: =SUM(E25:H25) -> 0 | E25: =E107 -> 0 | F25: =F107 -> 0 | G25: =G107 -> 0 | H25: =H107 -> 0
B26: Ուսումնական և մեթոդական նյութեր, տեխնոլոգիաներ | D26: =SUM(E26:H26) -> 0 | E26: =E128 -> 0 | F26: =F128 -> 0 | G26: =G128 -> 0 | H26: =H128 -> 0
B27: էլեկտրոնային ռեսուրսների ստեղծում կամ արդիականացում
B28: Ընդամենը նյութեր | D28: =SUBTOTAL(9,D25:D27) -> 0 | E28: =SUBTOTAL(9,E25:E27) -> 0 | F28: =SUBTOTAL(9,F25:F27) -> 0 | G28: =SUBTOTAL(9,G25:G27) -> 0 | H28: =SUBTOTAL(9,H25:H27) -> 0
B30: Կապիտալ ծախսեր
B31: Շենքեր, շինություններ | D31: =SUM(E31:H31) -> 0
B32: Սարքավորումներ և տեխնոլոգիաներ | D32: =SUM(E32:H32) -> 0 | E32: =E117 -> 0
B33: Կահույք | D33: =SUM(E33:H33) -> 0
B34: Այլ | D34: =SUM(E34:H34) -> 0
B35: Ընդամենը կապիտալ ծախսեր | D35: =SUBTOTAL(9,D31:D34) -> 0 | E35: =SUBTOTAL(9,E31:E34) -> 0 | F35: =SUBTOTAL(9,F31:F34) -> 0 | G35: =SUBTOTAL(9,G31:G34) -> 0 | H35: =SUBTOTAL(9,H31:H34) -> 0
B37: Գրասենյակային և վարչական ծախսեր
B38: Կոմունալ վճարներ, կապ, վարձակալություն և տարածքի պահպանման ծախսեր | D38: =SUM(E38:H38) -> 0
B39: Գրենական պիտույքներ, տնտեսական ապրանքներ | D39: =SUM(E39:H39) -> 0
B40: Համակարգչային պարագաներ, սարքավորումների սպասարկում և ծրագրային ապահովում | D40: =SUM(E40:H40) -> 0 | E40: =E174 -> 0 | F40: =F174 -> 0 | G40: =G174 -> 0 | H40: =H174 -> 0
B41: Տրանսպորտային ծախսեր | D41: =SUM(E41:H41) -> 0
B42: Այլ գրասենյակային ծախսեր | D42: =SUM(E42:H42) -> 0
B43: Ընդամենը գրասենյակային և վարչական ծախսեր | D43: =SUBTOTAL(9,D38:D42) -> 0 | E43: =SUBTOTAL(9,E38:E42) -> 0 | F43: =SUBTOTAL(9,F38:F42) -> 0 | G43: =SUBTOTAL(9,G38:G42) -> 0 | H43: =SUBTOTAL(9,H38:H42) -> 0
B45: Հանրային իրազեկում, հասարակայնության հետ կապեր
B46: Իրազեկման արշավ | D46: =SUM(E46:H46) -> 0 | E46: =E147 -> 0 | F46: =F147 -> 0 | G46: =G147 -> 0 | H46: =H147 -> 0
B47: Հանրային միջոցառումներ | D47: =SUM(E47:H47) -> 2300 | E47: =E137 -> 2300 | F47: =F137 -> 0 | G47: =G137 -> 0 | H47: =H137 -> 0
B48: Ընդամենը հանրային իրազեկում և հասարակայնության հետ կապեր | D48: =SUBTOTAL(9,D46:D47) -> 2300 | E48: =SUBTOTAL(9,E46:E47) -> 2300 | F48: =SUBTOTAL(9,F46:F47) -> 0 | G48: =SUBTOTAL(9,G46:G47) -> 0 | H48: =SUBTOTAL(9,H46:H47) -> 0
B50: Ընդամենը գործողության ֆինանսավորման կարիք | D50: =SUBTOTAL(9,D5:D48) -> 6820.061 | E50: =SUBTOTAL(9,E5:E48) -> 6820.061 | F50: =SUBTOTAL(9,F5:F48) -> 0 | G50: =SUBTOTAL(9,G5:G48) -> 0 | H50: =SUBTOTAL(9,H5:H48) -> 0
B52: Հաշվարկներ
B54: Հոդված | C54: Նշումներ | E54: =start -> 43831 | F54: =EOMONTH(E54,11)+1 -> 44197 | G54: =EOMONTH(F54,11)+1 -> 44562 | H54: =EOMONTH(G54,11)+1 -> 44927
B56: Աշխատավարձ
B57: Հիմնական փորձագետների աշխատավարձ | E57: =E58*E59*E60*E61 -> 0
B58: Հիմնական փորձագետների ընդհանուր քանակ | E58: 0
B59: Ներգրավվածության տոկոս | E59: 0
B60: Միջին ամսական համախառն աշխատավարձ | E60: 0
B61: Ամիսների քանակ | E61: 0
B63: Ներգրավված տեղական փորձագետների վարձատրություն | E63: =E64*E65 -> 1113.525 | F63: =F64*F65 -> 0 | G63: =G64*G65 -> 0 | H63: =H64*H65 -> 0
B64: Տեղական փորձագետների միջին ներգրավման ծավալ | C64: մարդ-օր | E64: =3*21 -> 63 | F64: 0 | G64: 0 | H64: 0
B65: Միջին օրական համախառն աշխատավարձ | E65: ='Rates and GI'!D12 -> 17.675 | F65: =E65*(1+index) -> 18.435025 | G65: =F65*(1+index) -> 19.227731 | H65: =G65*(1+index) -> 20.054524
B67: Ներգրավված միջազգային փորձագետների վարձատրություն | E67: =E68*E69 -> 3406.536 | F67: =F68*F69 -> 0 | G67: =G68*G69 -> 0 | H67: =H68*H69 -> 0
B68: Միջազգային փորձագետների միջին ներգրավման ծավալ | C68: մարդ-օր | E68: =1*21 -> 21 | F68: 0 | G68: 0 | H68: 0
B69: Միջին օրական համախառն աշխատավարձ | E69: ='Rates and GI'!D13 -> 162.216 | F69: =E69*(1+index) -> 169.19129 | G69: =F69*(1+index) -> 176.46651 | H69: =G69*(1+index) -> 184.05457
B71: Մասնագետների աշխատավարձ
B72: Ավագ մասնագետների ընդհանուր քանակ | E72: 0
B73: Ավագ մասնագետների միջին ամսական համախառն աշխատավարձ | E73: 0
B74: Կրտսեր մասնագետների ընդհանուր քանակ | E74: 0
B75: Կրտսեր մասնագետների միջին ամսական համախառն աշխատավարձ | E75: 0
B77: Վարչական անձնակազմի աշխատավարձ
B78: Վարչական աշխատողների ընդհանուր քանակ | E78: 0
B79: Վարչական աշխատողների միջին ամսական համախառն աշխատավարձ | E79: 0
B81: Օժանդակ անձնակազմի աշխատավարձ
B82: Օժանդակ աշխատողների ընդհանուր քանակ | E82: 0
B83: Օժանդակ անձնակազմի միջին ամսական համախառն աշխատավարձ | E83: 0
B85: Ամիսների քանակ
B87: Գործուղումներ | E87: =E88*E89+E91*E92 -> 0 | F87: =F88*F89+F91*F92 -> 0 | G87: =G88*G89+G91*G92 -> 0 | H87: =H88*H89+H91*H92 -> 0
B88: Արտասահմանյան գործուղումների միջին կանխատեսվող տարեկան քանակ | E88: 0 | F88: 0 | G88: 0 | H88: 0
B89: Արտասահմանյան մեկ գործուղման միջին գնահատվող ծախս մեկ անձի համար | E89: =Trips!$B$10 -> 908.23176 | F89: =Trips!$B$10 -> 908.23176 | G89: =Trips!$B$10 -> 908.23176 | H89: =Trips!$B$10 -> 908.23176
B91: Տեղական գործուղումների միջին կանխատեսվող տարեկան քանակ | E91: 0 | F91: 0 | G91: 0 | H91: 0
B92: Տեղական մեկ գործուղման միջին գնահատվող ծախս մեկ անձի համար | E92: =Trips!$B$5 -> 52 | F92: =Trips!$B$5 -> 52 | G92: =Trips!$B$5 -> 52 | H92: =Trips!$B$5 -> 52
B95: Միջազգային փորձագետների ընդունում և այլ ներկայացուցչական ծախսեր | E95: =E96*E97 -> 0 | F95: =F96*F97 -> 0 | G95: =G96*G97 -> 0 | H95: =H96*H97 -> 0
B96: Միջազգային փորձագետների միջին այցերի կանխատեսվող քանակ | C96: այց | E96: 0 | F96: 0 | G96: 0 | H96: 0
B97: Մեկ օրվա կանխատեսվող միջին ծախս | E97: =Trips!B41 -> 631.70366 | F97: =E97*(1+index) -> 658.86692 | G97: =F97*(1+index) -> 687.19819 | H97: =G97*(1+index) -> 716.74772
B99: Դասընթացներ | E99: =E100*E101+E102*E103+E104*E105 -> 0 | F99: =F100*F101+F102*F103+F104*F105 -> 0 | G99: =G100*G101+G102*G103+G104*G105 -> 0 | H99: =H100*H101+H102*H103+H104*H105 -> 0
B100: Արտասահմանում դասընթացին մասնակցելու վճար | C100: 1 անձի համար | F100: =Training!$C$33 -> 81.108 | G100: =Training!$C$33 -> 81.108 | H100: =Training!$C$33 -> 81.108
B101: Մասնակիցնրի քանակ | F101: =F88 -> 0 | G101: =G88 -> 0 | H101: =H88 -> 0
B102: Տեղական դասընացի արժեք | F102: =Training!C$23 -> 709.375 | G102: =F102*(1+index) -> 739.87812 | H102: =G102*(1+index) -> 771.69288
B103: Դասընթացների քանակ | E103: =E104*E105 -> 0 | F103: 0 | G103: 0 | H103: 0
B104: Արտապատվիրակված դասընթացի արժեք | C104: 1 անձ
B105: Մասնակիցնրի քանակ | E105: 0 | F105: 0 | G105: 0 | H105: 0
B107: Նյութերի թարգմանություն | E107: =E108*E109 -> 0 | F107: =F108*F109 -> 0 | G107: =G108*G109 -> 0 | H107: =H108*H109 -> 0
B108: Թարգմանվող նյութի կանխատեսվող էջեր | E108: 0 | F108: 0
B109: Մեկ էջի թարգմանության կանխատեսվող արժեք | E109: ='Rates and GI'!D25 -> 6 | F109: =E109*(1+index) -> 6.258 | G109: =F109*(1+index) -> 6.527094 | H109: =G109*(1+index) -> 6.807759
B111: Կապիտալ ծախսեր
B112: Շենքեր, շինություններ
B113: Մեկ աշխատողի հաշվարկային տարածք | C113: ք.մ.
B114: Աշխատողների ընդհանուր քանակ
B115: 1 ք.մ. շինության արժեք
B117: Սարքավորումներ և տեխնոլոգիաներ | E117: =E122*E123 -> 0 | F117: =F122*F123 -> 0
B118: Համակարգիչներ
B119: Միավորի միջին կանխատեսվող գին
B120: Միջին կանխատեսվող քանակ
B121: Սարքավորումներ
B122: Միավորի միջին կանխատեսվող գին | E122: ='Rates and GI'!$D$31 -> 350 | F122: ='Rates and GI'!$D$31 -> 350 | G122: ='Rates and GI'!$D$31 -> 350 | H122: ='Rates and GI'!$D$31 -> 350
B123: Միջին կանխատեսվող քանակ | E123: 0 | F123: 0
B124: Կահույք
B125: Միավորի միջին կանխատեսվող գին
B126: Միջին կանխատեսվող քանակ
...

Sheet a9
A1: 9 | B1: Քրեակատարողական ծառայության և քրեակատարողական հիմնարկների կառավարման և գնահատման մոդելի արդիականացում
B3: Հոդված | C3: Նշումներ | D3: Ընդամենը | E3: =start -> 43831 | F3: =EOMONTH(E3,11)+1 -> 44197 | G3: =EOMONTH(F3,11)+1 -> 44562 | H3: =EOMONTH(G3,11)+1 -> 44927
B4: Համախառն աշխատավարձ
B5: Ներգրավված տեղական փորձագետների վարձատրություն | D5: =SUM(E5:H5) -> 6681.15 | E5: =E63 -> 6681.15 | F5: =F63 -> 0 | G5: =G63 -> 0 | H5: =H63 -> 0
B6: Ներգրավված միջազգային փորձագետների վարձատրություն | D6: =SUM(E6:H6) -> 6813.072 | E6: =E67 -> 6813.072 | F6: =F67 -> 0 | G6: =G67 -> 0 | H6: =H67 -> 0
B7: Ընդամենը աշխատավարձ | D7: =SUBTOTAL(9,D5:D6) -> 13494.222 | E7: =SUBTOTAL(9,E5:E6) -> 13494.222 | F7: =SUBTOTAL(9,F5:F6) -> 0 | G7: =SUBTOTAL(9,G5:G6) -> 0 | H7: =SUBTOTAL(9,H5:H6) -> 0
B9: Անձնակազմի ծախսեր
B10: Գործուղումներ | D10: =SUM(E10:H10) -> 0 | E10: =E87 -> 0 | F10: =F87 -> 0 | G10: =G87 -> 0 | H10: =H87 -> 0
B11: Անձնակազմի մոտիվացիոն ֆոնդ | D11: =SUM(E11:H11) -> 0 | E11: 0 | F11: 0 | G11: 0 | H11: 0
B12: Ընդամենը անձնակազմի ծախսեր | D12: =SUBTOTAL(9,D10:D11) -> 0 | E12: =SUBTOTAL(9,E10:E11) -> 0 | F12: =SUBTOTAL(9,F10:F11) -> 0 | G12: =SUBTOTAL(9,G10:G11) -> 0 | H12: =SUBTOTAL(9,H10:H11) -> 0
B14: Ներկայացուցչական ծախսեր
B15: Միջազգային փորձագետների ընդունում | D15: =SUM(E15:H15) -> 1263.4073 | E15: =E95 -> 1263.4073 | F15: =F95 -> 0 | G15: =G95 -> 0 | H15: =H95 -> 0
B16: Այլ ներկայացուցչական ծախսեր
B17: Ընդամենը ներկայացուցչական ծախսեր | D17: =SUBTOTAL(9,D15:D16) -> 1263.4073 | E17: =SUBTOTAL(9,E15:E16) -> 1263.4073 | F17: =SUBTOTAL(9,F15:F16) -> 0 | G17: =SUBTOTAL(9,G15:G16) -> 0 | H17: =SUBTOTAL(9,H15:H16) -> 0
B19: Դասընթացներ և միջոցառումներ
B20: Դասընթացներ | D20: =SUM(E20:H20) -> 0 | E20: =E99 -> 0 | F20: =F99 -> 0 | G20: =G99 -> 0 | H20: =H99 -> 0
B21: Միջոցառումներ | D21: =SUM(E21:H21) -> 0
B22: Ընդամենը դասընթացներ և միջոցառումներ | D22: =SUBTOTAL(9,D20:D21) -> 0 | E22: =SUBTOTAL(9,E20:E21) -> 0 | F22: =SUBTOTAL(9,F20:F21) -> 0 | G22: =SUBTOTAL(9,G20:G21) -> 0 | H22: =SUBTOTAL(9,H20:H21) -> 0
B24: Նյութեր
B25: Նյութերի թարգմանություն | D25: =SUM(E25:H25) -> 300 | E25: =E107 -> 300 | F25: =F107 -> 0 | G25: =G107 -> 0 | H25: =H107 -> 0
B26: Ուսումնական և մեթոդական նյութեր, տեխնոլոգիաներ | D26: =SUM(E26:H26) -> 0 | E26: =E128 -> 0 | F26: =F128 -> 0 | G26: =G128 -> 0 | H26: =H128 -> 0
B27: էլեկտրոնային ռեսուրսների ստեղծում կամ արդիականացում
B28: Ընդամենը նյութեր | D28: =SUBTOTAL(9,D25:D27) -> 300 | E28: =SUBTOTAL(9,E25:E27) -> 300 | F28: =SUBTOTAL(9,F25:F27) -> 0 | G28: =SUBTOTAL(9,G25:G27) -> 0 | H28: =SUBTOTAL(9,H25:H27) -> 0
B30: Կապիտալ ծախսեր
B31: Շենքեր, շինություններ | D31: =SUM(E31:H31) -> 0
B32: Սարքավորումներ և տեխնոլոգիաներ | D32: =SUM(E32:H32) -> 0 | E32: =E117 -> 0
B33: Կահույք | D33: =SUM(E33:H33) -> 0
B34: Այլ | D34: =SUM(E34:H34) -> 0
B35: Ընդամենը կապիտալ ծախսեր | D35: =SUBTOTAL(9,D31:D34) -> 0 | E35: =SUBTOTAL(9,E31:E34) -> 0 | F35: =SUBTOTAL(9,F31:F34) -> 0 | G35: =SUBTOTAL(9,G31:G34) -> 0 | H35: =SUBTOTAL(9,H31:H34) -> 0
B37: Գրասենյակային և վարչական ծախսեր
B38: Կոմունալ վճարներ, կապ, վարձակալություն և տարածքի պահպանման ծախսեր | D38: =SUM(E38:H38) -> 0
B39: Գրենական պիտույքներ, տնտեսական ապրանքներ | D39: =SUM(E39:H39) -> 0
B40: Համակարգչային պարագաներ, սարքավորումների սպասարկում և ծրագրային ապահովում | D40: =SUM(E40:H40) -> 0 | E40: =E174 -> 0 | F40: =F174 -> 0 | G40: =G174 -> 0 | H40: =H174 -> 0
B41: Տրանսպորտային ծախսեր | D41: =SUM(E41:H41) -> 0
B42: Այլ գրասենյակային ծախսեր | D42: =SUM(E42:H42) -> 0
B43: Ընդամենը գրասենյակային և վարչական ծախսեր | D43: =SUBTOTAL(9,D38:D42) -> 0 | E43: =SUBTOTAL(9,E38:E42) -> 0 | F43: =SUBTOTAL(9,F38:F42) -> 0 | G43: =SUBTOTAL(9,G38:G42) -> 0 | H43: =SUBTOTAL(9,H38:H42) -> 0
B45: Հանրային իրազեկում, հասարակայնության հետ կապեր
B46: Իրազեկման արշավ | D46: =SUM(E46:H46) -> 0 | E46: =E147 -> 0 | F46: =F147 -> 0 | G46: =G147 -> 0 | H46: =H147 -> 0
B47: Հանրային միջոցառումներ | D47: =SUM(E47:H47) -> 3000 | E47: =E137 -> 3000 | F47: =F137 -> 0 | G47: =G137 -> 0 | H47: =H137 -> 0
B48: Ընդամենը հանրային իրազեկում և հասարակայնության հետ կապեր | D48: =SUBTOTAL(9,D46:D47) -> 3000 | E48: =SUBTOTAL(9,E46:E47) -> 3000 | F48: =SUBTOTAL(9,F46:F47) -> 0 | G48: =SUBTOTAL(9,G46:G47) -> 0 | H48: =SUBTOTAL(9,H46:H47) -> 0
B50: Ընդամենը գործողության ֆինանսավորման կարիք | D50: =SUBTOTAL(9,D5:D48) -> 18057.629 | E50: =SUBTOTAL(9,E5:E48) -> 18057.629 | F50: =SUBTOTAL(9,F5:F48) -> 0 | G50: =SUBTOTAL(9,G5:G48) -> 0 | H50: =SUBTOTAL(9,H5:H48) -> 0
B52: Հաշվարկներ
B54: Հոդված | C54: Նշումներ | E54: =start -> 43831 | F54: =EOMONTH(E54,11)+1 -> 44197 | G54: =EOMONTH(F54,11)+1 -> 44562 | H54: =EOMONTH(G54,11)+1 -> 44927
B56: Աշխատավարձ
B57: Հիմնական փորձագետների աշխատավարձ | E57: =E58*E59*E60*E61 -> 0
B58: Հիմնական փորձագետների ընդհանուր քանակ | E58: 0
B59: Ներգրավվածության տոկոս | E59: 0
B60: Միջին ամսական համախառն աշխատավարձ | E60: 0
B61: Ամիսների քանակ | E61: 0
B63: Ներգրավված տեղական փորձագետների վարձատրություն | E63: =E64*E65 -> 6681.15 | F63: =F64*F65 -> 0 | G63: =G64*G65 -> 0 | H63: =H64*H65 -> 0
B64: Տեղական փորձագետների միջին ներգրավման ծավալ | C64: մարդ-օր | E64: =6*3*21 -> 378 | F64: 0 | G64: 0 | H64: 0
B65: Միջին օրական համախառն աշխատավարձ | E65: ='Rates and GI'!D12 -> 17.675 | F65: =E65*(1+index) -> 18.435025 | G65: =F65*(1+index) -> 19.227731 | H65: =G65*(1+index) -> 20.054524
B67: Ներգրավված միջազգային փորձագետների վարձատրություն | E67: =E68*E69 -> 6813.072 | F67: =F68*F69 -> 0 | G67: =G68*G69 -> 0 | H67: =H68*H69 -> 0
B68: Միջազգային փորձագետների միջին ներգրավման ծավալ | C68: մարդ-օր | E68: =2*21 -> 42 | F68: 0 | G68: 0 | H68: 0
B69: Միջին օրական համախառն աշխատավարձ | E69: ='Rates and GI'!D13 -> 162.216 | F69: =E69*(1+index) -> 169.19129 | G69: =F69*(1+index) -> 176.46651 | H69: =G69*(1+index) -> 184.05457
B71: Մասնագետների աշխատավարձ
B72: Ավագ մասնագետների ընդհանուր քանակ | E72: 0
B73: Ավագ մասնագետների միջին ամսական համախառն աշխատավարձ | E73: 0
B74: Կրտսեր մասնագետների ընդհանուր քանակ | E74: 0
B75: Կրտսեր մասնագետների միջին ամսական համախառն աշխատավարձ | E75: 0
B77: Վարչական անձնակազմի աշխատավարձ
B78: Վարչական աշխատողների ընդհանուր քանակ | E78: 0
B79: Վարչական աշխատողների միջին ամսական համախառն աշխատավարձ | E79: 0
B81: Օժանդակ անձնակազմի աշխատավարձ
B82: Օժանդակ աշխատողների ընդհանուր քանակ | E82: 0
B83: Օժանդակ անձնակազմի միջին ամսական համախառն աշխատավարձ | E83: 0
B85: Ամիսների քանակ
B87: Գործուղումներ | E87: =E88*E89+E91*E92 -> 0 | F87: =F88*F89+F91*F92 -> 0 | G87: =G88*G89+G91*G92 -> 0 | H87: =H88*H89+H91*H92 -> 0
B88: Արտասահմանյան գործուղումների միջին կանխատեսվող տարեկան քանակ | E88: 0 | F88: 0 | G88: 0 | H88: 0
B89: Արտասահմանյան մեկ գործուղման միջին գնահատվող ծախս մեկ անձի համար | E89: =Trips!$B$10 -> 908.23176 | F89: =Trips!$B$10 -> 908.23176 | G89: =Trips!$B$10 -> 908.23176 | H89: =Trips!$B$10 -> 908.23176
B91: Տեղական գործուղումների միջին կանխատեսվող տարեկան քանակ | E91: 0 | F91: 0 | G91: 0 | H91: 0
B92: Տեղական մեկ գործուղման միջին գնահատվող ծախս մեկ անձի համար | E92: =Trips!$B$5 -> 52 | F92: =Trips!$B$5 -> 52 | G92: =Trips!$B$5 -> 52 | H92: =Trips!$B$5 -> 52
B95: Միջազգային փորձագետների ընդունում և այլ ներկայացուցչական ծախսեր | E95: =E96*E97 -> 1263.4073 | F95: =F96*F97 -> 0 | G95: =G96*G97 -> 0 | H95: =H96*H97 -> 0
B96: Միջազգային փորձագետների միջին այցերի կանխատեսվող քանակ | C96: այց | E96: 2 | F96: 0 | G96: 0 | H96: 0
B97: Մեկ օրվա կանխատեսվող միջին ծախս | E97: =Trips!B41 -> 631.70366 | F97: =E97*(1+index) -> 658.86692 | G97: =F97*(1+index) -> 687.19819 | H97: =G97*(1+index) -> 716.74772
B99: Դասընթացներ | E99: =E100*E101+E102*E103+E104*E105 -> 0 | F99: =F100*F101+F102*F103+F104*F105 -> 0 | G99: =G100*G101+G102*G103+G104*G105 -> 0 | H99: =H100*H101+H102*H103+H104*H105 -> 0
B100: Արտասահմանում դասընթացին մասնակցելու վճար | C100: 1 անձի համար | F100: =Training!$C$33 -> 81.108 | G100: =Training!$C$33 -> 81.108 | H100: =Training!$C$33 -> 81.108
B101: Մասնակիցնրի քանակ | F101: =F88 -> 0 | G101: =G88 -> 0 | H101: =H88 -> 0
B102: Տեղական դասընացի արժեք | F102: =Training!C$23 -> 709.375 | G102: =F102*(1+index) -> 739.87812 | H102: =G102*(1+index) -> 771.69288
B103: Դասընթացների քանակ | E103: =E104*E105 -> 0 | F103: 0 | G103: 0 | H103: 0
B104: Արտապատվիրակված դասընթացի արժեք | C104: 1 անձ
B105: Մասնակիցնրի քանակ | E105: 0 | F105: 0 | G105: 0 | H105: 0
B107: Նյութերի թարգմանություն | E107: =E108*E109 -> 300 | F107: =F108*F109 -> 0 | G107: =G108*G109 -> 0 | H107: =H108*H109 -> 0
B108: Թարգմանվող նյութի կանխատեսվող էջեր | E108: 50 | F108: 0
B109: Մեկ էջի թարգմանության կանխատեսվող արժեք | E109: ='Rates and GI'!D25 -> 6 | F109: =E109*(1+index) -> 6.258 | G109: =F109*(1+index) -> 6.527094 | H109: =G109*(1+index) -> 6.807759
B111: Կապիտալ ծախսեր
B112: Շենքեր, շինություններ
B113: Մեկ աշխատողի հաշվարկային տարածք | C113: ք.մ.
B114: Աշխատողների ընդհանուր քանակ
B115: 1 ք.մ. շինության արժեք
B117: Սարքավորումներ և տեխնոլոգիաներ | E117: =E122*E123 -> 0 | F117: =F122*F123 -> 0
B118: Համակարգիչներ
B119: Միավորի միջին կանխատեսվող գին
B120: Միջին կանխատեսվող քանակ
B121: Սարքավորումներ
B122: Միավորի միջին կանխատեսվող գին | E122: ='Rates and GI'!$D$31 -> 350 | F122: ='Rates and GI'!$D$31 -> 350 | G122: ='Rates and GI'!$D$31 -> 350 | H122: ='Rates and GI'!$D$31 -> 350
B123: Միջին կանխատեսվող քանակ | E123: 0 | F123: 0
B124: Կահույք
B125: Միավորի միջին կանխատեսվող գին
B126: Միջին կանխատեսվող քանակ
...

Sheet a10
A1: 10 | B1: Քրեակատարողական հիմնարկներում տնտեսվարման արդյունավետ մեխանիզմների ապահովում
B3: Հոդված | C3: Նշումներ | D3: Ընդամենը | E3: =start -> 43831 | F3: =EOMONTH(E3,11)+1 -> 44197 | G3: =EOMONTH(F3,11)+1 -> 44562 | H3: =EOMONTH(G3,11)+1 -> 44927
B4: Համախառն աշխատավարձ
B5: Ներգրավված տեղական փորձագետների վարձատրություն | D5: =SUM(E5:H5) -> 2227.05 | E5: =E63 -> 2227.05 | F5: =F63 -> 0 | G5: =G63 -> 0 | H5: =H63 -> 0
B6: Ներգրավված միջազգային փորձագետների վարձատրություն | D6: =SUM(E6:H6) -> 0 | E6: =E67 -> 0 | F6: =F67 -> 0 | G6: =G67 -> 0 | H6: =H67 -> 0
B7: Ընդամենը աշխատավարձ | D7: =SUBTOTAL(9,D5:D6) -> 2227.05 | E7: =SUBTOTAL(9,E5:E6) -> 2227.05 | F7: =SUBTOTAL(9,F5:F6) -> 0 | G7: =SUBTOTAL(9,G5:G6) -> 0 | H7: =SUBTOTAL(9,H5:H6) -> 0
B9: Անձնակազմի ծախսեր
B10: Գործուղումներ | D10: =SUM(E10:H10) -> 0 | E10: =E87 -> 0 | F10: =F87 -> 0 | G10: =G87 -> 0 | H10: =H87 -> 0
B11: Անձնակազմի մոտիվացիոն ֆոնդ | D11: =SUM(E11:H11) -> 0 | E11: 0 | F11: 0 | G11: 0 | H11: 0
B12: Ընդամենը անձնակազմի ծախսեր | D12: =SUBTOTAL(9,D10:D11) -> 0 | E12: =SUBTOTAL(9,E10:E11) -> 0 | F12: =SUBTOTAL(9,F10:F11) -> 0 | G12: =SUBTOTAL(9,G10:G11) -> 0 | H12: =SUBTOTAL(9,H10:H11) -> 0
B14: Ներկայացուցչական ծախսեր
B15: Միջազգային փորձագետների ընդունում | D15: =SUM(E15:H15) -> 0 | E15: =E95 -> 0 | F15: =F95 -> 0 | G15: =G95 -> 0 | H15: =H95 -> 0
B16: Այլ ներկայացուցչական ծախսեր
B17: Ընդամենը ներկայացուցչական ծախսեր | D17: =SUBTOTAL(9,D15:D16) -> 0 | E17: =SUBTOTAL(9,E15:E16) -> 0 | F17: =SUBTOTAL(9,F15:F16) -> 0 | G17: =SUBTOTAL(9,G15:G16) -> 0 | H17: =SUBTOTAL(9,H15:H16) -> 0
B19: Դասընթացներ և միջոցառումներ
B20: Դասընթացներ | D20: =SUM(E20:H20) -> 0 | E20: =E99 -> 0 | F20: =F99 -> 0 | G20: =G99 -> 0 | H20: =H99 -> 0
B21: Միջոցառումներ | D21: =SUM(E21:H21) -> 0
B22: Ընդամենը դասընթացներ և միջոցառումներ | D22: =SUBTOTAL(9,D20:D21) -> 0 | E22: =SUBTOTAL(9,E20:E21) -> 0 | F22: =SUBTOTAL(9,F20:F21) -> 0 | G22: =SUBTOTAL(9,G20:G21) -> 0 | H22: =SUBTOTAL(9,H20:H21) -> 0
B24: Նյութեր
B25: Նյութերի թարգմանություն | D25: =SUM(E25:H25) -> 0 | E25: =E107 -> 0 | F25: =F107 -> 0 | G25: =G107 -> 0 | H25: =H107 -> 0
B26: Ուսումնական և մեթոդական նյութեր, տեխնոլոգիաներ | D26: =SUM(E26:H26) -> 0 | E26: =E128 -> 0 | F26: =F128 -> 0 | G26: =G128 -> 0 | H26: =H128 -> 0
B27: էլեկտրոնային ռեսուրսների ստեղծում կամ արդիականացում
B28: Ընդամենը նյութեր | D28: =SUBTOTAL(9,D25:D27) -> 0 | E28: =SUBTOTAL(9,E25:E27) -> 0 | F28: =SUBTOTAL(9,F25:F27) -> 0 | G28: =SUBTOTAL(9,G25:G27) -> 0 | H28: =SUBTOTAL(9,H25:H27) -> 0
B30: Կապիտալ ծախսեր
B31: Շենքեր, շինություններ | D31: =SUM(E31:H31) -> 0
B32: Սարքավորումներ և տեխնոլոգիաներ | D32: =SUM(E32:H32) -> 0 | E32: =E117 -> 0
B33: Կահույք | D33: =SUM(E33:H33) -> 0
B34: Այլ | D34: =SUM(E34:H34) -> 0
B35: Ընդամենը կապիտալ ծախսեր | D35: =SUBTOTAL(9,D31:D34) -> 0 | E35: =SUBTOTAL(9,E31:E34) -> 0 | F35: =SUBTOTAL(9,F31:F34) -> 0 | G35: =SUBTOTAL(9,G31:G34) -> 0 | H35: =SUBTOTAL(9,H31:H34) -> 0
B37: Գրասենյակային և վարչական ծախսեր
B38: Կոմունալ վճարներ, կապ, վարձակալություն և տարածքի պահպանման ծախսեր | D38: =SUM(E38:H38) -> 0
B39: Գրենական պիտույքներ, տնտեսական ապրանքներ | D39: =SUM(E39:H39) -> 0
B40: Համակարգչային պարագաներ, սարքավորումների սպասարկում և ծրագրային ապահովում | D40: =SUM(E40:H40) -> 0 | E40: =E174 -> 0 | F40: =F174 -> 0 | G40: =G174 -> 0 | H40: =H174 -> 0
B41: Տրանսպորտային ծախսեր | D41: =SUM(E41:H41) -> 0
B42: Այլ գրասենյակային ծախսեր | D42: =SUM(E42:H42) -> 0
B43: Ընդամենը գրասենյակային և վարչական ծախսեր | D43: =SUBTOTAL(9,D38:D42) -> 0 | E43: =SUBTOTAL(9,E38:E42) -> 0 | F43: =SUBTOTAL(9,F38:F42) -> 0 | G43: =SUBTOTAL(9,G38:G42) -> 0 | H43: =SUBTOTAL(9,H38:H42) -> 0
B45: Հանրային իրազեկում, հասարակայնության հետ կապեր
B46: Իրազեկման արշավ | D46: =SUM(E46:H46) -> 0 | E46: =E147 -> 0 | F46: =F147 -> 0 | G46: =G147 -> 0 | H46: =H147 -> 0
B47: Հանրային միջոցառումներ | D47: =SUM(E47:H47) -> 100 | E47: =E137 -> 100 | F47: =F137 -> 0 | G47: =G137 -> 0 | H47: =H137 -> 0
B48: Ընդամենը հանրային իրազեկում և հասարակայնության հետ կապեր | D48: =SUBTOTAL(9,D46:D47) -> 100 | E48: =SUBTOTAL(9,E46:E47) -> 100 | F48: =SUBTOTAL(9,F46:F47) -> 0 | G48: =SUBTOTAL(9,G46:G47) -> 0 | H48: =SUBTOTAL(9,H46:H47) -> 0
B50: Ընդամենը գործողության ֆինանսավորման կարիք | D50: =SUBTOTAL(9,D5:D48) -> 2327.05 | E50: =SUBTOTAL(9,E5:E48) -> 2327.05 | F50: =SUBTOTAL(9,F5:F48) -> 0 | G50: =SUBTOTAL(9,G5:G48) -> 0 | H50: =SUBTOTAL(9,H5:H48) -> 0
B52: Հաշվարկներ
B54: Հոդված | C54: Նշումներ | E54: =start -> 43831 | F54: =EOMONTH(E54,11)+1 -> 44197 | G54: =EOMONTH(F54,11)+1 -> 44562 | H54: =EOMONTH(G54,11)+1 -> 44927
B56: Աշխատավարձ
B57: Հիմնական փորձագետների աշխատավարձ | E57: =E58*E59*E60*E61 -> 0
B58: Հիմնական փորձագետների ընդհանուր քանակ | E58: 0
B59: Ներգրավվածության տոկոս | E59: 0
B60: Միջին ամսական համախառն աշխատավարձ | E60: 0
B61: Ամիսների քանակ | E61: 0
B63: Ներգրավված տեղական փորձագետների վարձատրություն | E63: =E64*E65 -> 2227.05 | F63: =F64*F65 -> 0 | G63: =G64*G65 -> 0 | H63: =H64*H65 -> 0
B64: Տեղական փորձագետների միջին ներգրավման ծավալ | C64: մարդ-օր | E64: =3*2*21 -> 126 | F64: 0 | G64: 0 | H64: 0
B65: Միջին օրական համախառն աշխատավարձ | E65: ='Rates and GI'!D12 -> 17.675 | F65: =E65*(1+index) -> 18.435025 | G65: =F65*(1+index) -> 19.227731 | H65: =G65*(1+index) -> 20.054524
B67: Ներգրավված միջազգային փորձագետների վարձատրություն | E67: =E68*E69 -> 0 | F67: =F68*F69 -> 0 | G67: =G68*G69 -> 0 | H67: =H68*H69 -> 0
B68: Միջազգային փորձագետների միջին ներգրավման ծավալ | C68: մարդ-օր | E68: 0 | F68: 0 | G68: 0 | H68: 0
B69: Միջին օրական համախառն աշխատավարձ | E69: ='Rates and GI'!D13 -> 162.216 | F69: =E69*(1+index) -> 169.19129 | G69: =F69*(1+index) -> 176.46651 | H69: =G69*(1+index) -> 184.05457
B71: Մասնագետների աշխատավարձ
B72: Ավագ մասնագետների ընդհանուր քանակ | E72: 0
B73: Ավագ մասնագետների միջին ամսական համախառն աշխատավարձ | E73: 0
B74: Կրտսեր մասնագետների ընդհանուր քանակ | E74: 0
B75: Կրտսեր մասնագետների միջին ամսական համախառն աշխատավարձ | E75: 0
B77: Վարչական անձնակազմի աշխատավարձ
B78: Վարչական աշխատողների ընդհանուր քանակ | E78: 0
B79: Վարչական աշխատողների միջին ամսական համախառն աշխատավարձ | E79: 0
B81: Օժանդակ անձնակազմի աշխատավարձ
B82: Օժանդակ աշխատողների ընդհանուր քանակ | E82: 0
B83: Օժանդակ անձնակազմի միջին ամսական համախառն աշխատավարձ | E83: 0
B85: Ամիսների քանակ
B87: Գործուղումներ | E87: =E88*E89+E91*E92 -> 0 | F87: =F88*F89+F91*F92 -> 0 | G87: =G88*G89+G91*G92 -> 0 | H87: =H88*H89+H91*H92 -> 0
B88: Արտասահմանյան գործուղումների միջին կանխատեսվող տարեկան քանակ | E88: 0 | F88: 0 | G88: 0 | H88: 0
B89: Արտասահմանյան մեկ գործուղման միջին գնահատվող ծախս մեկ անձի համար | E89: =Trips!$B$10 -> 908.23176 | F89: =Trips!$B$10 -> 908.23176 | G89: =Trips!$B$10 -> 908.23176 | H89: =Trips!$B$10 -> 908.23176
B91: Տեղական գործուղումների միջին կանխատեսվող տարեկան քանակ | E91: 0 | F91: 0 | G91: 0 | H91: 0
B92: Տեղական մեկ գործուղման միջին գնահատվող ծախս մեկ անձի համար | E92: =Trips!$B$5 -> 52 | F92: =Trips!$B$5 -> 52 | G92: =Trips!$B$5 -> 52 | H92: =Trips!$B$5 -> 52
B95: Միջազգային փորձագետների ընդունում և այլ ներկայացուցչական ծախսեր | E95: =E96*E97 -> 0 | F95: =F96*F97 -> 0 | G95: =G96*G97 -> 0 | H95: =H96*H97 -> 0
B96: Միջազգային փորձագետների միջին այցերի կանխատեսվող քանակ | C96: այց | E96: 0 | F96: 0 | G96: 0 | H96: 0
B97: Մեկ օրվա կանխատեսվող միջին ծախս | E97: =Trips!B41 -> 631.70366 | F97: =E97*(1+index) -> 658.86692 | G97: =F97*(1+index) -> 687.19819 | H97: =G97*(1+index) -> 716.74772
B99: Դասընթացներ | E99: =E100*E101+E102*E103+E104*E105 -> 0 | F99: =F100*F101+F102*F103+F104*F105 -> 0 | G99: =G100*G101+G102*G103+G104*G105 -> 0 | H99: =H100*H101+H102*H103+H104*H105 -> 0
B100: Արտասահմանում դասընթացին մասնակցելու վճար | C100: 1 անձի համար | F100: =Training!$C$33 -> 81.108 | G100: =Training!$C$33 -> 81.108 | H100: =Training!$C$33 -> 81.108
B101: Մասնակիցնրի քանակ | F101: =F88 -> 0 | G101: =G88 -> 0 | H101: =H88 -> 0
B102: Տեղական դասընացի արժեք | F102: =Training!C$23 -> 709.375 | G102: =F102*(1+index) -> 739.87812 | H102: =G102*(1+index) -> 771.69288
B103: Դասընթացների քանակ | E103: =E104*E105 -> 0 | F103: 0 | G103: 0 | H103: 0
B104: Արտապատվիրակված դասընթացի արժեք | C104: 1 անձ
B105: Մասնակիցնրի քանակ | E105: 0 | F105: 0 | G105: 0 | H105: 0
B107: Նյութերի թարգմանություն | E107: =E108*E109 -> 0 | F107: =F108*F109 -> 0 | G107: =G108*G109 -> 0 | H107: =H108*H109 -> 0
B108: Թարգմանվող նյութի կանխատեսվող էջեր | E108: 0 | F108: 0
B109: Մեկ էջի թարգմանության կանխատեսվող արժեք | E109: ='Rates and GI'!D25 -> 6 | F109: =E109*(1+index) -> 6.258 | G109: =F109*(1+index) -> 6.527094 | H109: =G109*(1+index) -> 6.807759
B111: Կապիտալ ծախսեր
B112: Շենքեր, շինություններ
B113: Մեկ աշխատողի հաշվարկային տարածք | C113: ք.մ.
B114: Աշխատողների ընդհանուր քանակ
B115: 1 ք.մ. շինության արժեք
B117: Սարքավորումներ և տեխնոլոգիաներ | E117: =E122*E123 -> 0 | F117: =F122*F123 -> 0
B118: Համակարգիչներ
B119: Միավորի միջին կանխատեսվող գին
B120: Միջին կանխատեսվող քանակ
B121: Սարքավորումներ
B122: Միավորի միջին կանխատեսվող գին | E122: ='Rates and GI'!$D$31 -> 350 | F122: ='Rates and GI'!$D$31 -> 350 | G122: ='Rates and GI'!$D$31 -> 350 | H122: ='Rates and GI'!$D$31 -> 350
B123: Միջին կանխատեսվող քանակ | E123: 0 | F123: 0
B124: Կահույք
B125: Միավորի միջին կանխատեսվող գին
B126: Միջին կանխատեսվող քանակ
...

Sheet a11
A1: 11 | B1: Քրեակատարողական հիմնարկների օպտիմալացում, շենքային պայմանների բարելավում
B3: Հոդված | C3: Նշումներ | D3: Ընդամենը | E3: =start -> 43831 | F3: =EOMONTH(E3,11)+1 -> 44197 | G3: =EOMONTH(F3,11)+1 -> 44562 | H3: =EOMONTH(G3,11)+1 -> 44927
B4: Համախառն աշխատավարձ
B5: Ներգրավված տեղական փորձագետների վարձատրություն | D5: =SUM(E5:H5) -> 0 | E5: =E67 -> 0 | F5: =F67 -> 0 | G5: =G67 -> 0 | H5: =H67 -> 0
B6: Ներգրավված միջազգային փորձագետների վարձատրություն | D6: =SUM(E6:H6) -> 0 | E6: =E71 -> 0 | F6: =F71 -> 0 | G6: =G71 -> 0 | H6: =H71 -> 0
B7: Ընդամենը աշխատավարձ | D7: =SUBTOTAL(9,D5:D6) -> 0 | E7: =SUBTOTAL(9,E5:E6) -> 0 | F7: =SUBTOTAL(9,F5:F6) -> 0 | G7: =SUBTOTAL(9,G5:G6) -> 0 | H7: =SUBTOTAL(9,H5:H6) -> 0
B9: Անձնակազմի ծախսեր
B10: Գործուղումներ | D10: =SUM(E10:H10) -> 0 | E10: =E91 -> 0 | F10: =F91 -> 0 | G10: =G91 -> 0 | H10: =H91 -> 0
B11: Անձնակազմի մոտիվացիոն ֆոնդ | D11: =SUM(E11:H11) -> 0 | E11: 0 | F11: 0 | G11: 0 | H11: 0
B12: Ընդամենը անձնակազմի ծախսեր | D12: =SUBTOTAL(9,D10:D11) -> 0 | E12: =SUBTOTAL(9,E10:E11) -> 0 | F12: =SUBTOTAL(9,F10:F11) -> 0 | G12: =SUBTOTAL(9,G10:G11) -> 0 | H12: =SUBTOTAL(9,H10:H11) -> 0
B14: Ներկայացուցչական ծախսեր
B15: Միջազգային փորձագետների ընդունում | D15: =SUM(E15:H15) -> 0 | E15: =E99 -> 0 | F15: =F99 -> 0 | G15: =G99 -> 0 | H15: =H99 -> 0
B16: Այլ ներկայացուցչական ծախսեր
B17: Ընդամենը ներկայացուցչական ծախսեր | D17: =SUBTOTAL(9,D15:D16) -> 0 | E17: =SUBTOTAL(9,E15:E16) -> 0 | F17: =SUBTOTAL(9,F15:F16) -> 0 | G17: =SUBTOTAL(9,G15:G16) -> 0 | H17: =SUBTOTAL(9,H15:H16) -> 0
B19: Դասընթացներ և միջոցառումներ
B20: Դասընթացներ | D20: =SUM(E20:H20) -> 0 | E20: =E103 -> 0 | F20: =F103 -> 0 | G20: =G103 -> 0 | H20: =H103 -> 0
B21: Միջոցառումներ | D21: =SUM(E21:H21) -> 0
B22: Ընդամենը դասընթացներ և միջոցառումներ | D22: =SUBTOTAL(9,D20:D21) -> 0 | E22: =SUBTOTAL(9,E20:E21) -> 0 | F22: =SUBTOTAL(9,F20:F21) -> 0 | G22: =SUBTOTAL(9,G20:G21) -> 0 | H22: =SUBTOTAL(9,H20:H21) -> 0
B24: Նյութեր
B25: Նյութերի թարգմանություն | D25: =SUM(E25:H25) -> 0 | E25: =E111 -> 0 | F25: =F111 -> 0 | G25: =G111 -> 0 | H25: =H111 -> 0
B26: Ուսումնական և մեթոդական նյութեր, տեխնոլոգիաներ | D26: =SUM(E26:H26) -> 0 | E26: =E170 -> 0 | F26: =F170 -> 0 | G26: =G170 -> 0 | H26: =H170 -> 0
B27: էլեկտրոնային ռեսուրսների ստեղծում կամ արդիականացում
B28: Ընդամենը նյութեր | D28: =SUBTOTAL(9,D25:D27) -> 0 | E28: =SUBTOTAL(9,E25:E27) -> 0 | F28: =SUBTOTAL(9,F25:F27) -> 0 | G28: =SUBTOTAL(9,G25:G27) -> 0 | H28: =SUBTOTAL(9,H25:H27) -> 0
B30: Կապիտալ ծախսեր
B31: Շենքեր, շինություններ | D31: =SUM(E31:H31) -> 35233334 | E31: =E116 -> 10142648 | F31: =F116 -> 12461972 | G31: =G116 -> 10000872 | H31: =H116 -> 2627842
B32: Սարքավորումներ և տեխնոլոգիաներ | D32: =SUM(E32:H32) -> 0 | E32: =E159 -> 0
B33: Կահույք | D33: =SUM(E33:H33) -> 0
B34: Այլ | D34: =SUM(E34:H34) -> 0
B35: Ընդամենը կապիտալ ծախսեր | D35: =SUBTOTAL(9,D31:D34) -> 35233334 | E35: =SUBTOTAL(9,E31:E34) -> 10142648 | F35: =SUBTOTAL(9,F31:F34) -> 12461972 | G35: =SUBTOTAL(9,G31:G34) -> 10000872 | H35: =SUBTOTAL(9,H31:H34) -> 2627842
B37: Գրասենյակային և վարչական ծախսեր
B38: Կոմունալ վճարներ, կապ, վարձակալություն և տարածքի պահպանման ծախսեր | D38: =SUM(E38:H38) -> 0
B39: Գրենական պիտույքներ, տնտեսական ապրանքներ | D39: =SUM(E39:H39) -> 0
B40: Համակարգչային պարագաներ, սարքավորումների սպասարկում և ծրագրային ապահովում | D40: =SUM(E40:H40) -> 0 | E40: =E215 -> 0 | F40: =F215 -> 0 | G40: =G215 -> 0 | H40: =H215 -> 0
B41: Տրանսպորտային ծախսեր | D41: =SUM(E41:H41) -> 0
B42: Այլ գրասենյակային ծախսեր | D42: =SUM(E42:H42) -> 0
B43: Ընդամենը գրասենյակային և վարչական ծախսեր | D43: =SUBTOTAL(9,D38:D42) -> 0 | E43: =SUBTOTAL(9,E38:E42) -> 0 | F43: =SUBTOTAL(9,F38:F42) -> 0 | G43: =SUBTOTAL(9,G38:G42) -> 0 | H43: =SUBTOTAL(9,H38:H42) -> 0
B45: Արտապատվիրակված էլեկտրոնային ռեսուրսների ստեղծման կամ արդիականացման նախագծեր
B46: Արտապատվիրակված էլեկտրոնային ռեսուրսների ստեղծման կամ արդիականացման նախագծեր | D46: =SUM(E46:H46) -> 0 | E46: =E220 -> 0 | F46: =F220 -> 0 | G46: =G220 -> 0 | H46: =H220 -> 0
B47: Ընդամենը արտապատվիրակված էլեկտրոնային ռեսուրսների ստեղծման կամ արդիականացման նախագծեր | D47: =SUBTOTAL(9,D46) -> 0 | E47: =SUBTOTAL(9,E46) -> 0 | F47: =SUBTOTAL(9,F46) -> 0 | G47: =SUBTOTAL(9,G46) -> 0 | H47: =SUBTOTAL(9,H46) -> 0
B49: Հանրային իրազեկում, հասարակայնության հետ կապեր
B50: Իրազեկման արշավ | D50: =SUM(E50:H50) -> 0 | E50: =E189 -> 0 | F50: =F189 -> 0 | G50: =G189 -> 0 | H50: =H189 -> 0
B51: Հանրային միջոցառումներ | D51: =SUM(E51:H51) -> 0 | E51: =E179 -> 0 | F51: =F179 -> 0 | G51: =G179 -> 0 | H51: =H179 -> 0
B52: Ընդամենը հանրային իրազեկում և հասարակայնության հետ կապեր | D52: =SUBTOTAL(9,D50:D51) -> 0 | E52: =SUBTOTAL(9,E50:E51) -> 0 | F52: =SUBTOTAL(9,F50:F51) -> 0 | G52: =SUBTOTAL(9,G50:G51) -> 0 | H52: =SUBTOTAL(9,H50:H51) -> 0
B54: Ընդամենը գործողության ֆինանսավորման կարիք | D54: =SUBTOTAL(9,D5:D52) -> 35233334 | E54: =SUBTOTAL(9,E5:E52) -> 10142648 | F54: =SUBTOTAL(9,F5:F52) -> 12461972 | G54: =SUBTOTAL(9,G5:G52) -> 10000872 | H54: =SUBTOTAL(9,H5:H52) -> 2627842
B56: Հաշվարկներ
B58: Հոդված | C58: Նշումներ | E58: =start -> 43831 | F58: =EOMONTH(E58,11)+1 -> 44197 | G58: =EOMONTH(F58,11)+1 -> 44562 | H58: =EOMONTH(G58,11)+1 -> 44927
B60: Աշխատավարձ
B61: Հիմնական փորձագետների աշխատավարձ | E61: =E62*E63*E64*E65 -> 0
B62: Հիմնական փորձագետների ընդհանուր քանակ | E62: 0
B63: Ներգրավվածության տոկոս | E63: 0
B64: Միջին ամսական համախառն աշխատավարձ | E64: 0
B65: Ամիսների քանակ | E65: 0
B67: Ներգրավված տեղական փորձագետների վարձատրություն | E67: =E68*E69 -> 0 | F67: =F68*F69 -> 0 | G67: =G68*G69 -> 0 | H67: =H68*H69 -> 0
B68: Տեղական փորձագետների միջին ներգրավման ծավալ | C68: մարդ-օր | E68: 0 | F68: 0 | G68: 0 | H68: 0
B69: Միջին օրական համախառն աշխատավարձ | E69: ='Rates and GI'!D12 -> 17.675 | F69: =E69*(1+index) -> 18.435025 | G69: =F69*(1+index) -> 19.227731 | H69: =G69*(1+index) -> 20.054524
B71: Ներգրավված միջազգային փորձագետների վարձատրություն | E71: =E72*E73 -> 0 | F71: =F72*F73 -> 0 | G71: =G72*G73 -> 0 | H71: =H72*H73 -> 0
B72: Միջազգային փորձագետների միջին ներգրավման ծավալ | C72: մարդ-օր | E72: 0 | F72: 0 | G72: 0 | H72: 0
B73: Միջին օրական համախառն աշխատավարձ | E73: ='Rates and GI'!D13 -> 162.216 | F73: =E73*(1+index) -> 169.19129 | G73: =F73*(1+index) -> 176.46651 | H73: =G73*(1+index) -> 184.05457
B75: Մասնագետների աշխատավարձ
B76: Ավագ մասնագետների ընդհանուր քանակ | E76: 0
B77: Ավագ մասնագետների միջին ամսական համախառն աշխատավարձ | E77: 0
B78: Կրտսեր մասնագետների ընդհանուր քանակ | E78: 0
B79: Կրտսեր մասնագետների միջին ամսական համախառն աշխատավարձ | E79: 0
B81: Վարչական անձնակազմի աշխատավարձ
B82: Վարչական աշխատողների ընդհանուր քանակ | E82: 0
B83: Վարչական աշխատողների միջին ամսական համախառն աշխատավարձ | E83: 0
B85: Օժանդակ անձնակազմի աշխատավարձ
B86: Օժանդակ աշխատողների ընդհանուր քանակ | E86: 0
B87: Օժանդակ անձնակազմի միջին ամսական համախառն աշխատավարձ | E87: 0
B89: Ամիսների քանակ
B91: Գործուղումներ | E91: =E92*E93+E95*E96 -> 0 | F91: =F92*F93+F95*F96 -> 0 | G91: =G92*G93+G95*G96 -> 0 | H91: =H92*H93+H95*H96 -> 0
B92: Արտասահմանյան գործուղումների միջին կանխատեսվող տարեկան քանակ | E92: 0 | F92: 0 | G92: 0 | H92: 0
B93: Արտասահմանյան մեկ գործուղման միջին գնահատվող ծախս մեկ անձի համար | E93: =Trips!$B$10 -> 908.23176 | F93: =Trips!$B$10 -> 908.23176 | G93: =Trips!$B$10 -> 908.23176 | H93: =Trips!$B$10 -> 908.23176
B95: Տեղական գործուղումների միջին կանխատեսվող տարեկան քանակ | E95: 0 | F95: 0 | G95: 0 | H95: =G95 -> 0
B96: Տեղական մեկ գործուղման միջին գնահատվող ծախս մեկ անձի համար | E96: =Trips!$B$5 -> 52 | F96: =Trips!$B$5 -> 52 | G96: =Trips!$B$5 -> 52 | H96: =Trips!$B$5 -> 52
B99: Միջազգային փորձագետների ընդունում և այլ ներկայացուցչական ծախսեր | E99: =E100*E101 -> 0 | F99: =F100*F101 -> 0 | G99: =G100*G101 -> 0 | H99: =H100*H101 -> 0
B100: Միջազգային փորձագետների միջին այցերի կանխատեսվող քանակ | C100: այց | E100: 0 | F100: 0 | G100: 0 | H100: 0
B101: Մեկ օրվա կանխատեսվող միջին ծախս | E101: =Trips!B41 -> 631.70366 | F101: =E101*(1+index) -> 658.86692 | G101: =F101*(1+index) -> 687.19819 | H101: =G101*(1+index) -> 716.74772
B103: Դասընթացներ | E103: =E104*E105+E106*E107+E108*E109 -> 0 | F103: =F104*F105+F106*F107+F108*F109 -> 0 | G103: =G104*G105+G106*G107+G108*G109 -> 0 | H103: =H104*H105+H106*H107+H108*H109 -> 0
B104: Արտասահմանում դասընթացին մասնակցելու վճար | C104: 1 անձի համար | E104: =Training!$C$33 -> 81.108 | F104: =E104*(1+index) -> 84.595644 | G104: =F104*(1+index) -> 88.233257 | H104: =G104*(1+index) -> 92.027287
B105: Մասնակիցնրի քանակ | F105: 0 | G105: 0 | H105: =H92 -> 0
B106: Տեղական դասընացի արժեք | E106: =Training!C23 -> 709.375 | F106: =E106*(1+index) -> 739.87812 | G106: =F106*(1+index) -> 771.69288 | H106: =G106*(1+index) -> 804.87568
B107: Դասընթացների քանակ | E107: 0 | F107: 0 | G107: 0 | H107: 0
B108: Արտապատվիրակված դասընթացի արժեք | C108: 1 անձ
B109: Մասնակիցնրի քանակ | E109: 0 | F109: 0 | G109: 0 | H109: 0
B111: Նյութերի թարգմանություն | E111: =E112*E113 -> 0 | F111: =F112*F113 -> 0 | G111: =G112*G113 -> 0 | H111: =H112*H113 -> 0
B112: Թարգմանվող նյութի կանխատեսվող էջեր | E112: 0 | F112: 0
B113: Մեկ էջի թարգմանության կանխատեսվող արժեք | E113: ='Rates and GI'!D25 -> 6 | F113: =E113*(1+index) -> 6.258 | G113: =F113*(1+index) -> 6.527094 | H113: =G113*(1+index) -> 6.807759
B115: Կապիտալ ծախսեր
B116: Շենքեր, շինություններ | E116: =E117+E124+E127+E130+E138 -> 10142648 | F116: =F117+F124+F127+F130+F138 -> 12461972 | G116: =G117+G124+G127+G130+G138 -> 10000872 | H116: =H117+H124+H127+H130+H138 -> 2627842
B117: Երևան քաղաքի տարածքում, Սիլիկյան թաղամասում շուրջ 1200 լրակազմ ունեցող քրեակատարողական նոր հիմնարկի կառուցում | E117: =E118+E121 -> 4675104 | F117: =F118+F121 -> 7450947 | G117: =G118+G121 -> 7450947 | H117: =H118+H121 -> 2128842
B118: շինարարության համար | C118: 21288420 | E118: =$C118*E119 -> 4257684 | F118: =$C118*F119 -> 7450947 | G118: =$C118*G119 -> 7450947 | H118: =$C118*H119 -> 2128842
B119: ծախսերի բաշխում ըստ տարիների | E119: 0.2 | F119: 0.35 | G119: 0.35 | H119: 0.1
B121: նախագծանախահաշվային աշխատանքների համար | C121: 417420 | E121: =$C121*E122 -> 417420 | F121: =$C121*F122 -> 0 | G121: =$C121*G122 -> 0 | H121: =$C121*H122 -> 0
B122: ծախսերի բաշխում ըստ տարիների | E122: 1
B124: «Երևան-Կենտրոն» քրեակատարողական հիմնարկի նոր համալիր հիմնարկի կառուցում | C124: 3108000 | E124: =$C124*E125 -> 1554000 | F124: =$C124*F125 -> 1243200 | G124: =$C124*G125 -> 310800 | H124: =$C124*H125 -> 0
B125: ծախսերի բաշխում ըստ տարիների | E125: 0.5 | F125: 0.4 | G125: 0.1 | H125: 0
B127: «Հրազդան» քրեակատարողական հիմնարկի նոր համալիր հիմնարկի կառուցում «Սևան» քրեակատարողական հիմնարկի տարածքում | C127: 4845000 | E127: =$C127*E128 -> 2422500 | F127: =$C127*F128 -> 1938000 | G127: =$C127*G128 -> 484500 | H127: =$C127*H128 -> 0
B128: ծախսերի բաշխում ըստ տարիների | E128: 0.5 | F128: 0.4 | G128: 0.1 | H128: 0
B130: «Գորիս» քրեակատարողական հիմնարկի նոր համալիրի կառուցում | E130: =E131+E134 -> 1007994 | F130: =F131+F134 -> 1746500 | G130: =G131+G134 -> 1746500 | H130: =H131+H134 -> 499000
...

Sheet a12
A1: 12 | B1: Անչափահաս դատապարտյալների պահման պայմանների բարելավում
B3: Հոդված | C3: Նշումներ | D3: Ընդամենը | E3: =start -> 43831 | F3: =EOMONTH(E3,11)+1 -> 44197 | G3: =EOMONTH(F3,11)+1 -> 44562 | H3: =EOMONTH(G3,11)+1 -> 44927
B4: Համախառն աշխատավարձ
B5: Ներգրավված տեղական փորձագետների վարձատրություն | D5: =SUM(E5:H5) -> 4749.7136 | E5: =E67 -> 1113.525 | F5: =F67 -> 1161.4066 | G5: =G67 -> 1211.3471 | H5: =H67 -> 1263.435
B6: Ներգրավված միջազգային փորձագետների վարձատրություն | D6: =SUM(E6:H6) -> 14530.496 | E6: =E71 -> 3406.536 | F6: =F71 -> 3553.017 | G6: =G71 -> 3705.7968 | H6: =H71 -> 3865.146
B7: Ընդամենը աշխատավարձ | D7: =SUBTOTAL(9,D5:D6) -> 19280.209 | E7: =SUBTOTAL(9,E5:E6) -> 4520.061 | F7: =SUBTOTAL(9,F5:F6) -> 4714.4236 | G7: =SUBTOTAL(9,G5:G6) -> 4917.1438 | H7: =SUBTOTAL(9,H5:H6) -> 5128.581
B9: Անձնակազմի ծախսեր
B10: Գործուղումներ | D10: =SUM(E10:H10) -> 7265.8541 | E10: =E91 -> 0 | F10: =F91 -> 3632.927 | G10: =G91 -> 3632.927 | H10: =H91 -> 0
B11: Անձնակազմի մոտիվացիոն ֆոնդ | D11: =SUM(E11:H11) -> 0 | E11: 0 | F11: 0 | G11: 0 | H11: 0
B12: Ընդամենը անձնակազմի ծախսեր | D12: =SUBTOTAL(9,D10:D11) -> 7265.8541 | E12: =SUBTOTAL(9,E10:E11) -> 0 | F12: =SUBTOTAL(9,F10:F11) -> 3632.927 | G12: =SUBTOTAL(9,G10:G11) -> 3632.927 | H12: =SUBTOTAL(9,H10:H11) -> 0
B14: Ներկայացուցչական ծախսեր
B15: Միջազգային փորձագետների ընդունում | D15: =SUM(E15:H15) -> 1375.6146 | E15: =E99 -> 0 | F15: =F99 -> 658.86692 | G15: =G99 -> 0 | H15: =H99 -> 716.74772
B16: Այլ ներկայացուցչական ծախսեր
B17: Ընդամենը ներկայացուցչական ծախսեր | D17: =SUBTOTAL(9,D15:D16) -> 1375.6146 | E17: =SUBTOTAL(9,E15:E16) -> 0 | F17: =SUBTOTAL(9,F15:F16) -> 658.86692 | G17: =SUBTOTAL(9,G15:G16) -> 0 | H17: =SUBTOTAL(9,H15:H16) -> 716.74772
B19: Դասընթացներ և միջոցառումներ
B20: Դասընթացներ | D20: =SUM(E20:H20) -> 3025.8217 | E20: =E103 -> 709.375 | F20: =F103 -> 739.87812 | G20: =G103 -> 771.69288 | H20: =H103 -> 804.87568
B21: Միջոցառումներ | D21: =SUM(E21:H21) -> 0
B22: Ընդամենը դասընթացներ և միջոցառումներ | D22: =SUBTOTAL(9,D20:D21) -> 3025.8217 | E22: =SUBTOTAL(9,E20:E21) -> 709.375 | F22: =SUBTOTAL(9,F20:F21) -> 739.87812 | G22: =SUBTOTAL(9,G20:G21) -> 771.69288 | H22: =SUBTOTAL(9,H20:H21) -> 804.87568
B24: Նյութեր
B25: Նյութերի թարգմանություն | D25: =SUM(E25:H25) -> 1279.6427 | E25: =E111 -> 300 | F25: =F111 -> 312.9 | G25: =G111 -> 326.3547 | H25: =H111 -> 340.38795
B26: Ուսումնական և մեթոդական նյութեր, տեխնոլոգիաներ | D26: =SUM(E26:H26) -> 0 | E26: =E135 -> 0 | F26: =F135 -> 0 | G26: =G135 -> 0 | H26: =H135 -> 0
B27: էլեկտրոնային ռեսուրսների ստեղծում կամ արդիականացում
B28: Ընդամենը նյութեր | D28: =SUBTOTAL(9,D25:D27) -> 1279.6427 | E28: =SUBTOTAL(9,E25:E27) -> 300 | F28: =SUBTOTAL(9,F25:F27) -> 312.9 | G28: =SUBTOTAL(9,G25:G27) -> 326.3547 | H28: =SUBTOTAL(9,H25:H27) -> 340.38795
B30: Կապիտալ ծախսեր
B31: Շենքեր, շինություններ | D31: =SUM(E31:H31) -> 940500 | E31: =E116 -> 40500 | F31: =F116 -> 360000 | G31: =G116 -> 360000 | H31: =H116 -> 180000
B32: Սարքավորումներ և տեխնոլոգիաներ | D32: =SUM(E32:H32) -> 0 | E32: =E124 -> 0
B33: Կահույք | D33: =SUM(E33:H33) -> 0
B34: Այլ | D34: =SUM(E34:H34) -> 0
B35: Ընդամենը կապիտալ ծախսեր | D35: =SUBTOTAL(9,D31:D34) -> 940500 | E35: =SUBTOTAL(9,E31:E34) -> 40500 | F35: =SUBTOTAL(9,F31:F34) -> 360000 | G35: =SUBTOTAL(9,G31:G34) -> 360000 | H35: =SUBTOTAL(9,H31:H34) -> 180000
B37: Գրասենյակային և վարչական ծախսեր
B38: Կոմունալ վճարներ, կապ, վարձակալություն և տարածքի պահպանման ծախսեր | D38: =SUM(E38:H38) -> 0
B39: Գրենական պիտույքներ, տնտեսական ապրանքներ | D39: =SUM(E39:H39) -> 0
B40: Համակարգչային պարագաներ, սարքավորումների սպասարկում և ծրագրային ապահովում | D40: =SUM(E40:H40) -> 0 | E40: =E180 -> 0 | F40: =F180 -> 0 | G40: =G180 -> 0 | H40: =H180 -> 0
B41: Տրանսպորտային ծախսեր | D41: =SUM(E41:H41) -> 0
B42: Այլ գրասենյակային ծախսեր | D42: =SUM(E42:H42) -> 0
B43: Ընդամենը գրասենյակային և վարչական ծախսեր | D43: =SUBTOTAL(9,D38:D42) -> 0 | E43: =SUBTOTAL(9,E38:E42) -> 0 | F43: =SUBTOTAL(9,F38:F42) -> 0 | G43: =SUBTOTAL(9,G38:G42) -> 0 | H43: =SUBTOTAL(9,H38:H42) -> 0
B45: Արտապատվիրակված էլեկտրոնային ռեսուրսների ստեղծման կամ արդիականացման նախագծեր
B46: Արտապատվիրակված էլեկտրոնային ռեսուրսների ստեղծման կամ արդիականացման նախագծեր | D46: =SUM(E46:H46) -> 0 | E46: =E185 -> 0 | F46: =F185 -> 0 | G46: =G185 -> 0 | H46: =H185 -> 0
B47: Ընդամենը արտապատվիրակված էլեկտրոնային ռեսուրսների ստեղծման կամ արդիականացման նախագծեր | D47: =SUBTOTAL(9,D46) -> 0 | E47: =SUBTOTAL(9,E46) -> 0 | F47: =SUBTOTAL(9,F46) -> 0 | G47: =SUBTOTAL(9,G46) -> 0 | H47: =SUBTOTAL(9,H46) -> 0
B49: Հանրային իրազեկում, հասարակայնության հետ կապեր
B50: Իրազեկման արշավ | D50: =SUM(E50:H50) -> 0 | E50: =E154 -> 0 | F50: =F154 -> 0 | G50: =G154 -> 0 | H50: =H154 -> 0
B51: Հանրային միջոցառումներ | D51: =SUM(E51:H51) -> 0 | E51: =E144 -> 0 | F51: =F144 -> 0 | G51: =G144 -> 0 | H51: =H144 -> 0
B52: Ընդամենը հանրային իրազեկում և հասարակայնության հետ կապեր | D52: =SUBTOTAL(9,D50:D51) -> 0 | E52: =SUBTOTAL(9,E50:E51) -> 0 | F52: =SUBTOTAL(9,F50:F51) -> 0 | G52: =SUBTOTAL(9,G50:G51) -> 0 | H52: =SUBTOTAL(9,H50:H51) -> 0
B54: Ընդամենը գործողության ֆինանսավորման կարիք | D54: =SUBTOTAL(9,D5:D52) -> 972727.14 | E54: =SUBTOTAL(9,E5:E52) -> 46029.436 | F54: =SUBTOTAL(9,F5:F52) -> 370059 | G54: =SUBTOTAL(9,G5:G52) -> 369648.12 | H54: =SUBTOTAL(9,H5:H52) -> 186990.59
B56: Հաշվարկներ
B58: Հոդված | C58: Նշումներ | E58: =start -> 43831 | F58: =EOMONTH(E58,11)+1 -> 44197 | G58: =EOMONTH(F58,11)+1 -> 44562 | H58: =EOMONTH(G58,11)+1 -> 44927
B60: Աշխատավարձ
B61: Հիմնական փորձագետների աշխատավարձ | E61: =E62*E63*E64*E65 -> 0
B62: Հիմնական փորձագետների ընդհանուր քանակ | E62: 0
B63: Ներգրավվածության տոկոս | E63: 0
B64: Միջին ամսական համախառն աշխատավարձ | E64: 0
B65: Ամիսների քանակ | E65: 0
B67: Ներգրավված տեղական փորձագետների վարձատրություն | E67: =E68*E69 -> 1113.525 | F67: =F68*F69 -> 1161.4066 | G67: =G68*G69 -> 1211.3471 | H67: =H68*H69 -> 1263.435
B68: Տեղական փորձագետների միջին ներգրավման ծավալ | C68: մարդ-օր | E68: =3*21 -> 63 | F68: =3*21 -> 63 | G68: =3*21 -> 63 | H68: =3*21 -> 63
B69: Միջին օրական համախառն աշխատավարձ | E69: ='Rates and GI'!D12 -> 17.675 | F69: =E69*(1+index) -> 18.435025 | G69: =F69*(1+index) -> 19.227731 | H69: =G69*(1+index) -> 20.054524
B71: Ներգրավված միջազգային փորձագետների վարձատրություն | E71: =E72*E73 -> 3406.536 | F71: =F72*F73 -> 3553.017 | G71: =G72*G73 -> 3705.7968 | H71: =H72*H73 -> 3865.146
B72: Միջազգային փորձագետների միջին ներգրավման ծավալ | C72: մարդ-օր | E72: 21 | F72: 21 | G72: 21 | H72: 21
B73: Միջին օրական համախառն աշխատավարձ | E73: ='Rates and GI'!D13 -> 162.216 | F73: =E73*(1+index) -> 169.19129 | G73: =F73*(1+index) -> 176.46651 | H73: =G73*(1+index) -> 184.05457
B75: Մասնագետների աշխատավարձ
B76: Ավագ մասնագետների ընդհանուր քանակ | E76: 0
B77: Ավագ մասնագետների միջին ամսական համախառն աշխատավարձ | E77: 0
B78: Կրտսեր մասնագետների ընդհանուր քանակ | E78: 0
B79: Կրտսեր մասնագետների միջին ամսական համախառն աշխատավարձ | E79: 0
B81: Վարչական անձնակազմի աշխատավարձ
B82: Վարչական աշխատողների ընդհանուր քանակ | E82: 0
B83: Վարչական աշխատողների միջին ամսական համախառն աշխատավարձ | E83: 0
B85: Օժանդակ անձնակազմի աշխատավարձ
B86: Օժանդակ աշխատողների ընդհանուր քանակ | E86: 0
B87: Օժանդակ անձնակազմի միջին ամսական համախառն աշխատավարձ | E87: 0
B89: Ամիսների քանակ
B91: Գործուղումներ | E91: =E92*E93+E95*E96 -> 0 | F91: =F92*F93+F95*F96 -> 3632.927 | G91: =G92*G93+G95*G96 -> 3632.927 | H91: =H92*H93+H95*H96 -> 0
B92: Արտասահմանյան գործուղումների միջին կանխատեսվող տարեկան քանակ | E92: 0 | F92: 4 | G92: 4 | H92: 0
B93: Արտասահմանյան մեկ գործուղման միջին գնահատվող ծախս մեկ անձի համար | E93: =Trips!$B$10 -> 908.23176 | F93: =Trips!$B$10 -> 908.23176 | G93: =Trips!$B$10 -> 908.23176 | H93: =Trips!$B$10 -> 908.23176
B95: Տեղական գործուղումների միջին կանխատեսվող տարեկան քանակ | E95: 0 | F95: 0 | G95: 0 | H95: =G95 -> 0
B96: Տեղական մեկ գործուղման միջին գնահատվող ծախս մեկ անձի համար | E96: =Trips!$B$5 -> 52 | F96: =Trips!$B$5 -> 52 | G96: =Trips!$B$5 -> 52 | H96: =Trips!$B$5 -> 52
B99: Միջազգային փորձագետների ընդունում և այլ ներկայացուցչական ծախսեր | E99: =E100*E101 -> 0 | F99: =F100*F101 -> 658.86692 | G99: =G100*G101 -> 0 | H99: =H100*H101 -> 716.74772
B100: Միջազգային փորձագետների միջին այցերի կանխատեսվող քանակ | C100: այց | E100: 0 | F100: 1 | H100: 1
B101: Մեկ օրվա կանխատեսվող միջին ծախս | E101: =Trips!B41 -> 631.70366 | F101: =E101*(1+index) -> 658.86692 | G101: =F101*(1+index) -> 687.19819 | H101: =G101*(1+index) -> 716.74772
B103: Դասընթացներ | E103: =E104*E105+E106*E107+E108*E109 -> 709.375 | F103: =F104*F105+F106*F107+F108*F109 -> 739.87812 | G103: =G104*G105+G106*G107+G108*G109 -> 771.69288 | H103: =H104*H105+H106*H107+H108*H109 -> 804.87568
B104: Արտասահմանում դասընթացին մասնակցելու վճար | C104: 1 անձի համար | E104: =Training!$C$33 -> 81.108 | F104: =E104*(1+index) -> 84.595644 | G104: =F104*(1+index) -> 88.233257 | H104: =G104*(1+index) -> 92.027287
B105: Մասնակիցնրի քանակ | F105: 0 | G105: 0 | H105: =H92 -> 0
B106: Տեղական դասընացի արժեք | E106: =Training!C23 -> 709.375 | F106: =E106*(1+index) -> 739.87812 | G106: =F106*(1+index) -> 771.69288 | H106: =G106*(1+index) -> 804.87568
B107: Դասընթացների քանակ | C107: խումբ | E107: 1 | F107: =E107 -> 1 | G107: =F107 -> 1 | H107: =G107 -> 1
B108: Արտապատվիրակված դասընթացի արժեք | C108: 1 անձ
B109: Մասնակիցնրի քանակ | E109: 0 | F109: 0 | G109: 0 | H109: 0
B111: Նյութերի թարգմանություն | E111: =E112*E113 -> 300 | F111: =F112*F113 -> 312.9 | G111: =G112*G113 -> 326.3547 | H111: =H112*H113 -> 340.38795
B112: Թարգմանվող նյութի կանխատեսվող էջեր | E112: 50 | F112: 50 | G112: 50 | H112: 50
B113: Մեկ էջի թարգմանության կանխատեսվող արժեք | E113: ='Rates and GI'!D25 -> 6 | F113: =E113*(1+index) -> 6.258 | G113: =F113*(1+index) -> 6.527094 | H113: =G113*(1+index) -> 6.807759
B115: Կապիտալ ծախսեր
B116: Շենքեր, շինություններ | E116: =E117 -> 40500 | F116: =F117 -> 360000 | G116: =G117 -> 360000 | H116: =H117 -> 180000
B117: «Աբովյան» ՔԿՀ-ում անչափահաս դատապարտյալների կարիքներին համապատասխանեցված ոչ բանտանման միջավայր ստեղծելու նպատակով անչափահասների մասնաշենքի վերանորոգման, վերազինման և արդիականացման գնահատված խոշորացված արժեք | E117: =E118+E121 -> 40500 | F117: =F118+F121 -> 360000 | G117: =G118+G121 -> 360000 | H117: =H118+H121 -> 180000
B118: շինարարության համար | C118: 900000 | E118: =$C118*E119 -> 0 | F118: =$C118*F119 -> 360000 | G118: =$C118*G119 -> 360000 | H118: =$C118*H119 -> 180000
B119: ծախսերի բաշխում ըստ տարիների | E119: 0 | F119: 0.4 | G119: 0.4 | H119: 0.2
B121: նախագծանախահաշվային աշխատանքների համար | C121: 40500 | E121: =$C121*E122 -> 40500 | F121: =$C121*F122 -> 0 | G121: =$C121*G122 -> 0 | H121: =$C121*H122 -> 0
B122: ծախսերի բաշխում ըստ տարիների | E122: 1
B124: Սարքավորումներ և տեխնոլոգիաներ | E124: =E129*E130 -> 0 | F124: =F129*F130 -> 0
B125: Համակարգիչներ
B126: Միավորի միջին կանխատեսվող գին
B127: Միջին կանխատեսվող քանակ
B128: Սարքավորումներ
...

Sheet a14
A1: 14 | B1: ՀՀ քրեակատարողական հիմնարկներում արդի ինժեներատեխնիկական և անվտանգության ապահովման միջոցներով վերազինում
B3: Հոդված | C3: Նշումներ | D3: Ընդամենը | E3: =start -> 43831 | F3: =EOMONTH(E3,11)+1 -> 44197 | G3: =EOMONTH(F3,11)+1 -> 44562 | H3: =EOMONTH(G3,11)+1 -> 44927
B4: Համախառն աշխատավարձ
B5: Ներգրավված տեղական փորձագետների վարձատրություն | D5: =SUM(E5:H5) -> 0 | E5: =E68 -> 0 | F5: =F68 -> 0 | G5: =G68 -> 0 | H5: =H68 -> 0
B6: Ներգրավված միջազգային փորձագետների վարձատրություն | D6: =SUM(E6:H6) -> 0 | E6: =E72 -> 0 | F6: =F72 -> 0 | G6: =G72 -> 0 | H6: =H72 -> 0
B7: Ընդամենը աշխատավարձ | D7: =SUBTOTAL(9,D5:D6) -> 0 | E7: =SUBTOTAL(9,E5:E6) -> 0 | F7: =SUBTOTAL(9,F5:F6) -> 0 | G7: =SUBTOTAL(9,G5:G6) -> 0 | H7: =SUBTOTAL(9,H5:H6) -> 0
B9: Անձնակազմի ծախսեր
B10: Գործուղումներ | D10: =SUM(E10:H10) -> 0 | E10: =E92 -> 0 | F10: =F92 -> 0 | G10: =G92 -> 0 | H10: =H92 -> 0
B11: Անձնակազմի մոտիվացիոն ֆոնդ | D11: =SUM(E11:H11) -> 0 | E11: 0 | F11: 0 | G11: 0 | H11: 0
B12: Ընդամենը անձնակազմի ծախսեր | D12: =SUBTOTAL(9,D10:D11) -> 0 | E12: =SUBTOTAL(9,E10:E11) -> 0 | F12: =SUBTOTAL(9,F10:F11) -> 0 | G12: =SUBTOTAL(9,G10:G11) -> 0 | H12: =SUBTOTAL(9,H10:H11) -> 0
B14: Ներկայացուցչական ծախսեր
B15: Միջազգային փորձագետների ընդունում | D15: =SUM(E15:H15) -> 0 | E15: =E100 -> 0 | F15: =F100 -> 0 | G15: =G100 -> 0 | H15: =H100 -> 0
B16: Այլ ներկայացուցչական ծախսեր
B17: Ընդամենը ներկայացուցչական ծախսեր | D17: =SUBTOTAL(9,D15:D16) -> 0 | E17: =SUBTOTAL(9,E15:E16) -> 0 | F17: =SUBTOTAL(9,F15:F16) -> 0 | G17: =SUBTOTAL(9,G15:G16) -> 0 | H17: =SUBTOTAL(9,H15:H16) -> 0
B19: Դասընթացներ և միջոցառումներ
B20: Դասընթացներ | D20: =SUM(E20:H20) -> 0 | E20: =E104 -> 0 | F20: =F104 -> 0 | G20: =G104 -> 0 | H20: =H104 -> 0
B21: Միջոցառումներ | D21: =SUM(E21:H21) -> 0
B22: Ընդամենը դասընթացներ և միջոցառումներ | D22: =SUBTOTAL(9,D20:D21) -> 0 | E22: =SUBTOTAL(9,E20:E21) -> 0 | F22: =SUBTOTAL(9,F20:F21) -> 0 | G22: =SUBTOTAL(9,G20:G21) -> 0 | H22: =SUBTOTAL(9,H20:H21) -> 0
B24: Նյութեր
B25: Նյութերի թարգմանություն | D25: =SUM(E25:H25) -> 0 | E25: =E112 -> 0 | F25: =F112 -> 0 | G25: =G112 -> 0 | H25: =H112 -> 0
B26: Ուսումնական և մեթոդական նյութեր, տեխնոլոգիաներ | D26: =SUM(E26:H26) -> 0 | E26: =E141 -> 0 | F26: =F141 -> 0 | G26: =G141 -> 0 | H26: =H141 -> 0
B27: էլեկտրոնային ռեսուրսների ստեղծում կամ արդիականացում
B28: Ընդամենը նյութեր | D28: =SUBTOTAL(9,D25:D27) -> 0 | E28: =SUBTOTAL(9,E25:E27) -> 0 | F28: =SUBTOTAL(9,F25:F27) -> 0 | G28: =SUBTOTAL(9,G25:G27) -> 0 | H28: =SUBTOTAL(9,H25:H27) -> 0
B30: Կապիտալ ծախսեր
B31: Շենքեր, շինություններ | D31: =SUM(E31:H31) -> 0
B32: Սարքավորումներ և տեխնոլոգիաներ | D32: =SUM(E32:H32) -> 252000 | E32: =E122 -> 0 | F32: =F122 -> 252000 | G32: =G122 -> 0 | H32: =H122 -> 0
B33: Կահույք | D33: =SUM(E33:H33) -> 0
B34: Այլ | D34: =SUM(E34:H34) -> 0
B35: Ընդամենը կապիտալ ծախսեր | D35: =SUBTOTAL(9,D31:D34) -> 252000 | E35: =SUBTOTAL(9,E31:E34) -> 0 | F35: =SUBTOTAL(9,F31:F34) -> 252000 | G35: =SUBTOTAL(9,G31:G34) -> 0 | H35: =SUBTOTAL(9,H31:H34) -> 0
B37: Գրասենյակային և վարչական ծախսեր
B38: Կոմունալ վճարներ, կապ, վարձակալություն և տարածքի պահպանման ծախսեր | D38: =SUM(E38:H38) -> 0
B39: Գրենական պիտույքներ, տնտեսական ապրանքներ | D39: =SUM(E39:H39) -> 0
B40: Համակարգչային պարագաներ, սարքավորումների սպասարկում և ծրագրային ապահովում | D40: =SUM(E40:H40) -> 0 | E40: =E186 -> 0 | F40: =F186 -> 0 | G40: =G186 -> 0 | H40: =H186 -> 0
B41: Տրանսպորտային ծախսեր | D41: =SUM(E41:H41) -> 0
B42: Այլ գրասենյակային ծախսեր | D42: =SUM(E42:H42) -> 0
B43: Ընդամենը գրասենյակային և վարչական ծախսեր | D43: =SUBTOTAL(9,D38:D42) -> 0 | E43: =SUBTOTAL(9,E38:E42) -> 0 | F43: =SUBTOTAL(9,F38:F42) -> 0 | G43: =SUBTOTAL(9,G38:G42) -> 0 | H43: =SUBTOTAL(9,H38:H42) -> 0
B45: Արտապատվիրակված էլեկտրոնային ռեսուրսների ստեղծման կամ արդիականացման նախագծեր
B46: Արտապատվիրակված էլեկտրոնային ռեսուրսների ստեղծման կամ արդիականացման նախագծեր | D46: =SUM(E46:H46) -> 0 | E46: =E188 -> 0 | F46: =F188 -> 0 | G46: =G188 -> 0 | H46: =H188 -> 0
B47: Արտապատվիրակված անվտանգության և տեսահսկման համակարգերի ստեղծման կամ արդիականացման նախագծեր | D47: =SUM(E47:H47) -> 936000 | E47: =E190 -> 36000 | F47: =F190 -> 900000 | G47: =G190 -> 0 | H47: =H190 -> 0
B48: Ընդամենը արտապատվիրակված էլեկտրոնային ռեսուրսների ստեղծման կամ արդիականացման նախագծեր | D48: =SUBTOTAL(9,D46:D47) -> 936000 | E48: =SUBTOTAL(9,E46:E47) -> 36000 | F48: =SUBTOTAL(9,F46:F47) -> 900000 | G48: =SUBTOTAL(9,G46:G47) -> 0 | H48: =SUBTOTAL(9,H46:H47) -> 0
B50: Հանրային իրազեկում, հասարակայնության հետ կապեր
B51: Իրազեկման արշավ | D51: =SUM(E51:H51) -> 0 | E51: =E160 -> 0 | F51: =F160 -> 0 | G51: =G160 -> 0 | H51: =H160 -> 0
B52: Հանրային միջոցառումներ | D52: =SUM(E52:H52) -> 0 | E52: =E150 -> 0 | F52: =F150 -> 0 | G52: =G150 -> 0 | H52: =H150 -> 0
B53: Ընդամենը հանրային իրազեկում և հասարակայնության հետ կապեր | D53: =SUBTOTAL(9,D51:D52) -> 0 | E53: =SUBTOTAL(9,E51:E52) -> 0 | F53: =SUBTOTAL(9,F51:F52) -> 0 | G53: =SUBTOTAL(9,G51:G52) -> 0 | H53: =SUBTOTAL(9,H51:H52) -> 0
B55: Ընդամենը գործողության ֆինանսավորման կարիք | D55: =SUBTOTAL(9,D5:D53) -> 1188000 | E55: =SUBTOTAL(9,E5:E53) -> 36000 | F55: =SUBTOTAL(9,F5:F53) -> 1152000 | G55: =SUBTOTAL(9,G5:G53) -> 0 | H55: =SUBTOTAL(9,H5:H53) -> 0
B57: Հաշվարկներ
B59: Հոդված | C59: Նշումներ | E59: =start -> 43831 | F59: =EOMONTH(E59,11)+1 -> 44197 | G59: =EOMONTH(F59,11)+1 -> 44562 | H59: =EOMONTH(G59,11)+1 -> 44927
B61: Աշխատավարձ
B62: Հիմնական փորձագետների աշխատավարձ | E62: =E63*E64*E65*E66 -> 0
B63: Հիմնական փորձագետների ընդհանուր քանակ | E63: 0
B64: Ներգրավվածության տոկոս | E64: 0
B65: Միջին ամսական համախառն աշխատավարձ | E65: 0
B66: Ամիսների քանակ | E66: 0
B68: Ներգրավված տեղական փորձագետների վարձատրություն | E68: =E69*E70 -> 0 | F68: =F69*F70 -> 0 | G68: =G69*G70 -> 0 | H68: =H69*H70 -> 0
B69: Տեղական փորձագետների միջին ներգրավման ծավալ | C69: մարդ-օր | E69: 0 | F69: 0 | G69: 0 | H69: 0
B70: Միջին օրական համախառն աշխատավարձ | E70: ='Rates and GI'!D12 -> 17.675 | F70: =E70*(1+index) -> 18.435025 | G70: =F70*(1+index) -> 19.227731 | H70: =G70*(1+index) -> 20.054524
B72: Ներգրավված միջազգային փորձագետների վարձատրություն | E72: =E73*E74 -> 0 | F72: =F73*F74 -> 0 | G72: =G73*G74 -> 0 | H72: =H73*H74 -> 0
B73: Միջազգային փորձագետների միջին ներգրավման ծավալ | C73: մարդ-օր | E73: 0 | F73: 0 | G73: 0 | H73: 0
B74: Միջին օրական համախառն աշխատավարձ | E74: ='Rates and GI'!D13 -> 162.216 | F74: =E74*(1+index) -> 169.19129 | G74: =F74*(1+index) -> 176.46651 | H74: =G74*(1+index) -> 184.05457
B76: Մասնագետների աշխատավարձ
B77: Ավագ մասնագետների ընդհանուր քանակ | E77: 0
B78: Ավագ մասնագետների միջին ամսական համախառն աշխատավարձ | E78: 0
B79: Կրտսեր մասնագետների ընդհանուր քանակ | E79: 0
B80: Կրտսեր մասնագետների միջին ամսական համախառն աշխատավարձ | E80: 0
B82: Վարչական անձնակազմի աշխատավարձ
B83: Վարչական աշխատողների ընդհանուր քանակ | E83: 0
B84: Վարչական աշխատողների միջին ամսական համախառն աշխատավարձ | E84: 0
B86: Օժանդակ անձնակազմի աշխատավարձ
B87: Օժանդակ աշխատողների ընդհանուր քանակ | E87: 0
B88: Օժանդակ անձնակազմի միջին ամսական համախառն աշխատավարձ | E88: 0
B90: Ամիսների քանակ
B92: Գործուղումներ | E92: =E93*E94+E96*E97 -> 0 | F92: =F93*F94+F96*F97 -> 0 | G92: =G93*G94+G96*G97 -> 0 | H92: =H93*H94+H96*H97 -> 0
B93: Արտասահմանյան գործուղումների միջին կանխատեսվող տարեկան քանակ | E93: 0 | F93: 0 | G93: 0 | H93: 0
B94: Արտասահմանյան մեկ գործուղման միջին գնահատվող ծախս մեկ անձի համար | E94: =Trips!$B$10 -> 908.23176 | F94: =Trips!$B$10 -> 908.23176 | G94: =Trips!$B$10 -> 908.23176 | H94: =Trips!$B$10 -> 908.23176
B96: Տեղական գործուղումների միջին կանխատեսվող տարեկան քանակ | E96: 0 | F96: 0 | G96: 0 | H96: =G96 -> 0
B97: Տեղական մեկ գործուղման միջին գնահատվող ծախս մեկ անձի համար | E97: =Trips!$B$5 -> 52 | F97: =Trips!$B$5 -> 52 | G97: =Trips!$B$5 -> 52 | H97: =Trips!$B$5 -> 52
B100: Միջազգային փորձագետների ընդունում և այլ ներկայացուցչական ծախսեր | E100: =E101*E102 -> 0 | F100: =F101*F102 -> 0 | G100: =G101*G102 -> 0 | H100: =H101*H102 -> 0
B101: Միջազգային փորձագետների միջին այցերի կանխատեսվող քանակ | C101: այց | E101: 0 | F101: 0 | G101: 0 | H101: 0
B102: Մեկ օրվա կանխատեսվող միջին ծախս | E102: =Trips!B41 -> 631.70366 | F102: =E102*(1+index) -> 658.86692 | G102: =F102*(1+index) -> 687.19819 | H102: =G102*(1+index) -> 716.74772
B104: Դասընթացներ | E104: =E105*E106+E107*E108+E109*E110 -> 0 | F104: =F105*F106+F107*F108+F109*F110 -> 0 | G104: =G105*G106+G107*G108+G109*G110 -> 0 | H104: =H105*H106+H107*H108+H109*H110 -> 0
B105: Արտասահմանում դասընթացին մասնակցելու վճար | C105: 1 անձի համար | E105: =Training!$C$33 -> 81.108 | F105: =E105*(1+index) -> 84.595644 | G105: =F105*(1+index) -> 88.233257 | H105: =G105*(1+index) -> 92.027287
B106: Մասնակիցնրի քանակ | F106: 0 | G106: 0 | H106: =H93 -> 0
B107: Տեղական դասընացի արժեք | E107: =Training!C23 -> 709.375 | F107: =E107*(1+index) -> 739.87812 | G107: =F107*(1+index) -> 771.69288 | H107: =G107*(1+index) -> 804.87568
B108: Դասընթացների քանակ | E108: 0 | F108: 0 | G108: 0 | H108: 0
B109: Արտապատվիրակված դասընթացի արժեք | C109: 1 անձ
B110: Մասնակիցնրի քանակ | E110: 0 | F110: 0 | G110: 0 | H110: 0
B112: Նյութերի թարգմանություն | E112: =E113*E114 -> 0 | F112: =F113*F114 -> 0 | G112: =G113*G114 -> 0 | H112: =H113*H114 -> 0
B113: Թարգմանվող նյութի կանխատեսվող էջեր | E113: 0 | F113: 0
B114: Մեկ էջի թարգմանության կանխատեսվող արժեք | E114: ='Rates and GI'!D25 -> 6 | F114: =E114*(1+index) -> 6.258 | G114: =F114*(1+index) -> 6.527094 | H114: =G114*(1+index) -> 6.807759
B116: Կապիտալ ծախսեր
B117: Շենքեր, շինություններ
B118: Մեկ աշխատողի հաշվարկային տարածք | C118: ք.մ.
B119: Աշխատողների ընդհանուր քանակ
B120: 1 ք.մ. շինության արժեք
B122: Սարքավորումներ և տեխնոլոգիաներ | E122: =E123+E126 -> 0 | F122: =F123+F126 -> 252000 | G122: =G123+G126 -> 0 | H122: =H123+H126 -> 0
B123: Համակարգիչներ
B124: Միավորի միջին կանխատեսվող գին
B125: Միջին կանխատեսվող քանակ
B126: Սարքավորումներ | E126: =E127 -> 0 | F126: =F127 -> 252000 | G126: =G127 -> 0 | H126: =H127 -> 0
B127: Բոլոր քրեակատարողական հիմնարկների համար արդի ինժեներա-տեխնիկական միջոցների ձեռքբերում | E127: =E128+E132 -> 0 | F127: =F128+F132 -> 252000 | G127: =G128+G132 -> 0 | H127: =H128+H132 -> 0
...

Sheet a15
A1: 15 | B1: Քրեակատարողական ծառայողների սոցիալական պայմանների բարելավում
B3: Հոդված | C3: Նշումներ | D3: Ընդամենը | E3: =start -> 43831 | F3: =EOMONTH(E3,11)+1 -> 44197 | G3: =EOMONTH(F3,11)+1 -> 44562 | H3: =EOMONTH(G3,11)+1 -> 44927
B4: Համախառն աշխատավարձ
B5: Ներգրավված տեղական փորձագետների վարձատրություն | D5: =SUM(E5:H5) -> 4549.8632 | E5: =E70 -> 2227.05 | F5: =F70 -> 2322.8131 | G5: =G70 -> 0 | H5: =H70 -> 0
B6: Ներգրավված միջազգային փորձագետների վարձատրություն | D6: =SUM(E6:H6) -> 0 | E6: =E74 -> 0 | F6: =F74 -> 0 | G6: =G74 -> 0 | H6: =H74 -> 0
B7: Ընդամենը աշխատավարձ | D7: =SUBTOTAL(9,D5:D6) -> 4549.8632 | E7: =SUBTOTAL(9,E5:E6) -> 2227.05 | F7: =SUBTOTAL(9,F5:F6) -> 2322.8131 | G7: =SUBTOTAL(9,G5:G6) -> 0 | H7: =SUBTOTAL(9,H5:H6) -> 0
B9: Անձնակազմի ծախսեր
B10: Գործուղումներ | D10: =SUM(E10:H10) -> 0 | E10: =E108 -> 0 | F10: =F108 -> 0 | G10: =G108 -> 0 | H10: =H108 -> 0
B11: Աշխատավարձային ֆոնդի աճ | D11: =SUM(E11:H11) -> 6277093.6 | E11: =E95 -> 1569273.4 | F11: =F95 -> 1569273.4 | G11: =G95 -> 1569273.4 | H11: =H95 -> 1569273.4
B12: Անձնակազմի մոտիվացիոն ֆոնդ | D12: =SUM(E12:H12) -> 0 | E12: 0 | F12: 0 | G12: 0 | H12: 0
B13: «Մատչելի բնակարան» ծրագիր | D13: =SUM(E13:H13) -> 1043936 | E13: =E101 -> 174775 | F13: =F101 -> 233596 | G13: =G101 -> 290409 | H13: =H101 -> 345156
B14: Ընդամենը անձնակազմի ծախսեր | D14: =SUBTOTAL(9,D10:D13) -> 7321029.6 | E14: =SUBTOTAL(9,E10:E13) -> 1744048.4 | F14: =SUBTOTAL(9,F10:F13) -> 1802869.4 | G14: =SUBTOTAL(9,G10:G13) -> 1859682.4 | H14: =SUBTOTAL(9,H10:H13) -> 1914429.4
B16: Ներկայացուցչական ծախսեր
B17: Միջազգային փորձագետների ընդունում | D17: =SUM(E17:H17) -> 0 | E17: =E116 -> 0 | F17: =F116 -> 0 | G17: =G116 -> 0 | H17: =H116 -> 0
B18: Այլ ներկայացուցչական ծախսեր
B19: Ընդամենը ներկայացուցչական ծախսեր | D19: =SUBTOTAL(9,D17:D18) -> 0 | E19: =SUBTOTAL(9,E17:E18) -> 0 | F19: =SUBTOTAL(9,F17:F18) -> 0 | G19: =SUBTOTAL(9,G17:G18) -> 0 | H19: =SUBTOTAL(9,H17:H18) -> 0
B21: Դասընթացներ և միջոցառումներ
B22: Դասընթացներ | D22: =SUM(E22:H22) -> 0 | E22: =E120 -> 0 | F22: =F120 -> 0 | G22: =G120 -> 0 | H22: =H120 -> 0
B23: Միջոցառումներ | D23: =SUM(E23:H23) -> 0
B24: Ընդամենը դասընթացներ և միջոցառումներ | D24: =SUBTOTAL(9,D22:D23) -> 0 | E24: =SUBTOTAL(9,E22:E23) -> 0 | F24: =SUBTOTAL(9,F22:F23) -> 0 | G24: =SUBTOTAL(9,G22:G23) -> 0 | H24: =SUBTOTAL(9,H22:H23) -> 0
B26: Նյութեր
B27: Նյութերի թարգմանություն | D27: =SUM(E27:H27) -> 0 | E27: =E128 -> 0 | F27: =F128 -> 0 | G27: =G128 -> 0 | H27: =H128 -> 0
B28: Ուսումնական և մեթոդական նյութեր, տեխնոլոգիաներ | D28: =SUM(E28:H28) -> 0 | E28: =E157 -> 0 | F28: =F157 -> 0 | G28: =G157 -> 0 | H28: =H157 -> 0
B29: էլեկտրոնային ռեսուրսների ստեղծում կամ արդիականացում
B30: Ընդամենը նյութեր | D30: =SUBTOTAL(9,D27:D29) -> 0 | E30: =SUBTOTAL(9,E27:E29) -> 0 | F30: =SUBTOTAL(9,F27:F29) -> 0 | G30: =SUBTOTAL(9,G27:G29) -> 0 | H30: =SUBTOTAL(9,H27:H29) -> 0
B32: Կապիտալ ծախսեր
B33: Շենքեր, շինություններ | D33: =SUM(E33:H33) -> 0
B34: Սարքավորումներ և տեխնոլոգիաներ | D34: =SUM(E34:H34) -> 0 | E34: =E138 -> 0 | F34: =F138 -> 0 | G34: =G138 -> 0 | H34: =H138 -> 0
B35: Կահույք | D35: =SUM(E35:H35) -> 0
B36: Այլ | D36: =SUM(E36:H36) -> 0
B37: Ընդամենը կապիտալ ծախսեր | D37: =SUBTOTAL(9,D33:D36) -> 0 | E37: =SUBTOTAL(9,E33:E36) -> 0 | F37: =SUBTOTAL(9,F33:F36) -> 0 | G37: =SUBTOTAL(9,G33:G36) -> 0 | H37: =SUBTOTAL(9,H33:H36) -> 0
B39: Գրասենյակային և վարչական ծախսեր
B40: Կոմունալ վճարներ, կապ, վարձակալություն և տարածքի պահպանման ծախսեր | D40: =SUM(E40:H40) -> 0
B41: Գրենական պիտույքներ, տնտեսական ապրանքներ | D41: =SUM(E41:H41) -> 0
B42: Համակարգչային պարագաներ, սարքավորումների սպասարկում և ծրագրային ապահովում | D42: =SUM(E42:H42) -> 0 | E42: =E202 -> 0 | F42: =F202 -> 0 | G42: =G202 -> 0 | H42: =H202 -> 0
B43: Տրանսպորտային ծախսեր | D43: =SUM(E43:H43) -> 0
B44: Այլ գրասենյակային ծախսեր | D44: =SUM(E44:H44) -> 0
B45: Ընդամենը գրասենյակային և վարչական ծախսեր | D45: =SUBTOTAL(9,D40:D44) -> 0 | E45: =SUBTOTAL(9,E40:E44) -> 0 | F45: =SUBTOTAL(9,F40:F44) -> 0 | G45: =SUBTOTAL(9,G40:G44) -> 0 | H45: =SUBTOTAL(9,H40:H44) -> 0
B47: Արտապատվիրակված էլեկտրոնային ռեսուրսների ստեղծման կամ արդիականացման նախագծեր
B48: Արտապատվիրակված էլեկտրոնային ռեսուրսների ստեղծման կամ արդիականացման նախագծեր | D48: =SUM(E48:H48) -> 0 | E48: =E204 -> 0 | F48: =F204 -> 0 | G48: =G204 -> 0 | H48: =H204 -> 0
B49: Արտապատվիրակված անվտանգության և տեսահսկման համակարգերի ստեղծման կամ արդիականացման նախագծեր | D49: =SUM(E49:H49) -> 0 | E49: =E206 -> 0 | F49: =F206 -> 0 | G49: =G206 -> 0 | H49: =H206 -> 0
B50: Ընդամենը արտապատվիրակված էլեկտրոնային ռեսուրսների ստեղծման կամ արդիականացման նախագծեր | D50: =SUBTOTAL(9,D48:D49) -> 0 | E50: =SUBTOTAL(9,E48:E49) -> 0 | F50: =SUBTOTAL(9,F48:F49) -> 0 | G50: =SUBTOTAL(9,G48:G49) -> 0 | H50: =SUBTOTAL(9,H48:H49) -> 0
B52: Հանրային իրազեկում, հասարակայնության հետ կապեր
B53: Իրազեկման արշավ | D53: =SUM(E53:H53) -> 0 | E53: =E176 -> 0 | F53: =F176 -> 0 | G53: =G176 -> 0 | H53: =H176 -> 0
B54: Հանրային միջոցառումներ | D54: =SUM(E54:H54) -> 0 | E54: =E166 -> 0 | F54: =F166 -> 0 | G54: =G166 -> 0 | H54: =H166 -> 0
B55: Ընդամենը հանրային իրազեկում և հասարակայնության հետ կապեր | D55: =SUBTOTAL(9,D53:D54) -> 0 | E55: =SUBTOTAL(9,E53:E54) -> 0 | F55: =SUBTOTAL(9,F53:F54) -> 0 | G55: =SUBTOTAL(9,G53:G54) -> 0 | H55: =SUBTOTAL(9,H53:H54) -> 0
B57: Ընդամենը գործողության ֆինանսավորման կարիք | D57: =SUBTOTAL(9,D5:D55) -> 7325579.5 | E57: =SUBTOTAL(9,E5:E55) -> 1746275.4 | F57: =SUBTOTAL(9,F5:F55) -> 1805192.2 | G57: =SUBTOTAL(9,G5:G55) -> 1859682.4 | H57: =SUBTOTAL(9,H5:H55) -> 1914429.4
B59: Հաշվարկներ
B61: Հոդված | C61: Նշումներ | E61: =start -> 43831 | F61: =EOMONTH(E61,11)+1 -> 44197 | G61: =EOMONTH(F61,11)+1 -> 44562 | H61: =EOMONTH(G61,11)+1 -> 44927
B63: Աշխատավարձ
B64: Հիմնական փորձագետների աշխատավարձ | E64: =E65*E66*E67*E68 -> 0
B65: Հիմնական փորձագետների ընդհանուր քանակ | E65: 0
B66: Ներգրավվածության տոկոս | E66: 0
B67: Միջին ամսական համախառն աշխատավարձ | E67: 0
B68: Ամիսների քանակ | E68: 0
B70: Ներգրավված տեղական փորձագետների վարձատրություն | E70: =E71*E72 -> 2227.05 | F70: =F71*F72 -> 2322.8131 | G70: =G71*G72 -> 0 | H70: =H71*H72 -> 0
B71: Տեղական փորձագետների միջին ներգրավման ծավալ | C71: մարդ-օր | E71: =21*6 -> 126 | F71: =21*6 -> 126 | G71: 0 | H71: 0
B72: Միջին օրական համախառն աշխատավարձ | E72: ='Rates and GI'!D12 -> 17.675 | F72: =E72*(1+index) -> 18.435025 | G72: =F72*(1+index) -> 19.227731 | H72: =G72*(1+index) -> 20.054524
B74: Ներգրավված միջազգային փորձագետների վարձատրություն | E74: =E75*E76 -> 0 | F74: =F75*F76 -> 0 | G74: =G75*G76 -> 0 | H74: =H75*H76 -> 0
B75: Միջազգային փորձագետների միջին ներգրավման ծավալ | C75: մարդ-օր | E75: 0 | F75: 0 | G75: 0 | H75: 0
B76: Միջին օրական համախառն աշխատավարձ | E76: ='Rates and GI'!D13 -> 162.216 | F76: =E76*(1+index) -> 169.19129 | G76: =F76*(1+index) -> 176.46651 | H76: =G76*(1+index) -> 184.05457
B78: Մասնագետների աշխատավարձ
B79: Ավագ մասնագետների ընդհանուր քանակ | E79: 0
B80: Ավագ մասնագետների միջին ամսական համախառն աշխատավարձ | E80: 0
B81: Կրտսեր մասնագետների ընդհանուր քանակ | E81: 0
B82: Կրտսեր մասնագետների միջին ամսական համախառն աշխատավարձ | E82: 0
B84: Վարչական անձնակազմի աշխատավարձ
B85: Վարչական աշխատողների ընդհանուր քանակ | E85: 0
B86: Վարչական աշխատողների միջին ամսական համախառն աշխատավարձ | E86: 0
B88: Օժանդակ անձնակազմի աշխատավարձ
B89: Օժանդակ աշխատողների ընդհանուր քանակ | E89: 0
B90: Օժանդակ անձնակազմի միջին ամսական համախառն աշխատավարձ | E90: 0
B92: Ամիսների քանակ
B95: Աշխատավարձային ֆոնդի աճ | E95: =E97 -> 1569273.4 | F95: =F97 -> 1569273.4 | G95: =G97 -> 1569273.4 | H95: =H97 -> 1569273.4
B96: ՀՀ ԱՆ ՔԿԾ Զինվորական ծառայողներ
B97: Հիմնական աշխատավարձի և լրավճարների ֆոնդի ավելացում 30%-ով | E97: =1569273.4 -> 1569273.4 | F97: =E97 -> 1569273.4 | G97: =F97 -> 1569273.4 | H97: =G97 -> 1569273.4
B101: «Մատչելի բնակարան» ծրագիր | E101: =E104+E105+E106 -> 174775 | F101: =F104+F105+F106 -> 233596 | G101: =G104+G105+G106 -> 290409 | H101: =H104+H105+H106 -> 345156
B102: Պետության բեռը 28.5մլն դրամ արժեքով բնակարանների համար (յուրաքանչյուր տարում 40 բնակարանով ծրագրի կրկնման դեպքում)
B104: Սուբսիդիաներ՝ վարկի 3% չափով | E104: 30449 | F104: 60141 | G104: 89023 | H104: 117035
B105: Եկամտային հարկի վերադարձ | E105: 30326 | F105: 59455 | G105: 87386 | H105: 114121
B106: Կանխավճարի սուբսիդավորում | E106: =40*28500*10% -> 114000 | F106: =40*28500*10% -> 114000 | G106: =40*28500*10% -> 114000 | H106: =40*28500*10% -> 114000
B108: Գործուղումներ | E108: =E109*E110+E112*E113 -> 0 | F108: =F109*F110+F112*F113 -> 0 | G108: =G109*G110+G112*G113 -> 0 | H108: =H109*H110+H112*H113 -> 0
B109: Արտասահմանյան գործուղումների միջին կանխատեսվող տարեկան քանակ | E109: 0 | F109: 0 | G109: 0 | H109: 0
B110: Արտասահմանյան մեկ գործուղման միջին գնահատվող ծախս մեկ անձի համար | E110: =Trips!$B$10 -> 908.23176 | F110: =Trips!$B$10 -> 908.23176 | G110: =Trips!$B$10 -> 908.23176 | H110: =Trips!$B$10 -> 908.23176
B112: Տեղական գործուղումների միջին կանխատեսվող տարեկան քանակ | E112: 0 | F112: 0 | G112: 0 | H112: =G112 -> 0
B113: Տեղական մեկ գործուղման միջին գնահատվող ծախս մեկ անձի համար | E113: =Trips!$B$5 -> 52 | F113: =Trips!$B$5 -> 52 | G113: =Trips!$B$5 -> 52 | H113: =Trips!$B$5 -> 52
B116: Միջազգային փորձագետների ընդունում և այլ ներկայացուցչական ծախսեր | E116: =E117*E118 -> 0 | F116: =F117*F118 -> 0 | G116: =G117*G118 -> 0 | H116: =H117*H118 -> 0
B117: Միջազգային փորձագետների միջին այցերի կանխատեսվող քանակ | C117: այց | E117: 0 | F117: 0 | G117: 0 | H117: 0
B118: Մեկ օրվա կանխատեսվող միջին ծախս | E118: =Trips!B41 -> 631.70366 | F118: =E118*(1+index) -> 658.86692 | G118: =F118*(1+index) -> 687.19819 | H118: =G118*(1+index) -> 716.74772
B120: Դասընթացներ | E120: =E121*E122+E123*E124+E125*E126 -> 0 | F120: =F121*F122+F123*F124+F125*F126 -> 0 | G120: =G121*G122+G123*G124+G125*G126 -> 0 | H120: =H121*H122+H123*H124+H125*H126 -> 0
B121: Արտասահմանում դասընթացին մասնակցելու վճար | C121: 1 անձի համար | E121: =Training!$C$33 -> 81.108 | F121: =E121*(1+index) -> 84.595644 | G121: =F121*(1+index) -> 88.233257 | H121: =G121*(1+index) -> 92.027287
B122: Մասնակիցնրի քանակ | F122: 0 | G122: 0 | H122: =H109 -> 0
B123: Տեղական դասընացի արժեք | E123: =Training!C23 -> 709.375 | F123: =E123*(1+index) -> 739.87812 | G123: =F123*(1+index) -> 771.69288 | H123: =G123*(1+index) -> 804.87568
B124: Դասընթացների քանակ | E124: 0 | F124: 0 | G124: 0 | H124: 0
B125: Արտապատվիրակված դասընթացի արժեք | C125: 1 անձ
B126: Մասնակիցնրի քանակ | E126: 0 | F126: 0 | G126: 0 | H126: 0
B128: Նյութերի թարգմանություն | E128: =E129*E130 -> 0 | F128: =F129*F130 -> 0 | G128: =G129*G130 -> 0 | H128: =H129*H130 -> 0
B129: Թարգմանվող նյութի կանխատեսվող էջեր | E129: 0 | F129: 0
B130: Մեկ էջի թարգմանության կանխատեսվող արժեք | E130: ='Rates and GI'!D25 -> 6 | F130: =E130*(1+index) -> 6.258 | G130: =F130*(1+index) -> 6.527094 | H130: =G130*(1+index) -> 6.807759
B132: Կապիտալ ծախսեր
...

Sheet a17
A1: 17 | B1: «Քրեակատարողական գործ» նախնական մասնագիտական (արհեստագործական) կրթության կազմակերպում
B3: Հոդված | C3: Նշումներ | D3: Ընդամենը | E3: =start -> 43831 | F3: =EOMONTH(E3,11)+1 -> 44197 | G3: =EOMONTH(F3,11)+1 -> 44562 | H3: =EOMONTH(G3,11)+1 -> 44927
B4: Համախառն աշխատավարձ
B5: Ներգրավված տեղական փորձագետների վարձատրություն | D5: =SUM(E5:H5) -> 0 | E5: =E63 -> 0 | F5: =F63 -> 0 | G5: =G63 -> 0 | H5: =H63 -> 0
B6: Ներգրավված միջազգային փորձագետների վարձատրություն | D6: =SUM(E6:H6) -> 0 | E6: =E67 -> 0 | F6: =F67 -> 0 | G6: =G67 -> 0 | H6: =H67 -> 0
B7: Ընդամենը աշխատավարձ | D7: =SUBTOTAL(9,D5:D6) -> 0 | E7: =SUBTOTAL(9,E5:E6) -> 0 | F7: =SUBTOTAL(9,F5:F6) -> 0 | G7: =SUBTOTAL(9,G5:G6) -> 0 | H7: =SUBTOTAL(9,H5:H6) -> 0
B9: Անձնակազմի ծախսեր
B10: Գործուղումներ | D10: =SUM(E10:H10) -> 0 | E10: =E87 -> 0 | F10: =F87 -> 0 | G10: =G87 -> 0 | H10: =H87 -> 0
B11: Անձնակազմի մոտիվացիոն ֆոնդ | D11: =SUM(E11:H11) -> 0 | E11: 0 | F11: 0 | G11: 0 | H11: 0
B12: Ընդամենը անձնակազմի ծախսեր | D12: =SUBTOTAL(9,D10:D11) -> 0 | E12: =SUBTOTAL(9,E10:E11) -> 0 | F12: =SUBTOTAL(9,F10:F11) -> 0 | G12: =SUBTOTAL(9,G10:G11) -> 0 | H12: =SUBTOTAL(9,H10:H11) -> 0
B14: Ներկայացուցչական ծախսեր
B15: Միջազգային փորձագետների ընդունում | D15: =SUM(E15:H15) -> 0 | E15: =E95 -> 0 | F15: =F95 -> 0 | G15: =G95 -> 0 | H15: =H95 -> 0
B16: Այլ ներկայացուցչական ծախսեր
B17: Ընդամենը ներկայացուցչական ծախսեր | D17: =SUBTOTAL(9,D15:D16) -> 0 | E17: =SUBTOTAL(9,E15:E16) -> 0 | F17: =SUBTOTAL(9,F15:F16) -> 0 | G17: =SUBTOTAL(9,G15:G16) -> 0 | H17: =SUBTOTAL(9,H15:H16) -> 0
B19: Դասընթացներ և միջոցառումներ
B20: Դասընթացներ | D20: =SUM(E20:H20) -> 202620 | E20: =E99 -> 81030 | F20: =F99 -> 40530 | G20: =G99 -> 40530 | H20: =H99 -> 40530
B21: Միջոցառումներ | D21: =SUM(E21:H21) -> 0
B22: Ընդամենը դասընթացներ և միջոցառումներ | D22: =SUBTOTAL(9,D20:D21) -> 202620 | E22: =SUBTOTAL(9,E20:E21) -> 81030 | F22: =SUBTOTAL(9,F20:F21) -> 40530 | G22: =SUBTOTAL(9,G20:G21) -> 40530 | H22: =SUBTOTAL(9,H20:H21) -> 40530
B24: Նյութեր
B25: Նյութերի թարգմանություն | D25: =SUM(E25:H25) -> 0 | E25: =E111 -> 0 | F25: =F111 -> 0 | G25: =G111 -> 0 | H25: =H111 -> 0
B26: Ուսումնական և մեթոդական նյութեր, տեխնոլոգիաներ | D26: =SUM(E26:H26) -> 0 | E26: =E132 -> 0 | F26: =F132 -> 0 | G26: =G132 -> 0 | H26: =H132 -> 0
B27: էլեկտրոնային ռեսուրսների ստեղծում կամ արդիականացում
B28: Ընդամենը նյութեր | D28: =SUBTOTAL(9,D25:D27) -> 0 | E28: =SUBTOTAL(9,E25:E27) -> 0 | F28: =SUBTOTAL(9,F25:F27) -> 0 | G28: =SUBTOTAL(9,G25:G27) -> 0 | H28: =SUBTOTAL(9,H25:H27) -> 0
B30: Կապիտալ ծախսեր
B31: Շենքեր, շինություններ | D31: =SUM(E31:H31) -> 0
B32: Սարքավորումներ և տեխնոլոգիաներ | D32: =SUM(E32:H32) -> 0 | E32: =E121 -> 0
B33: Կահույք | D33: =SUM(E33:H33) -> 0
B34: Այլ | D34: =SUM(E34:H34) -> 0
B35: Ընդամենը կապիտալ ծախսեր | D35: =SUBTOTAL(9,D31:D34) -> 0 | E35: =SUBTOTAL(9,E31:E34) -> 0 | F35: =SUBTOTAL(9,F31:F34) -> 0 | G35: =SUBTOTAL(9,G31:G34) -> 0 | H35: =SUBTOTAL(9,H31:H34) -> 0
B37: Գրասենյակային և վարչական ծախսեր
B38: Կոմունալ վճարներ, կապ, վարձակալություն և տարածքի պահպանման ծախսեր | D38: =SUM(E38:H38) -> 0
B39: Գրենական պիտույքներ, տնտեսական ապրանքներ | D39: =SUM(E39:H39) -> 0
B40: Համակարգչային պարագաներ, սարքավորումների սպասարկում և ծրագրային ապահովում | D40: =SUM(E40:H40) -> 0 | E40: =E178 -> 0 | F40: =F178 -> 0 | G40: =G178 -> 0 | H40: =H178 -> 0
B41: Տրանսպորտային ծախսեր | D41: =SUM(E41:H41) -> 0
B42: Այլ գրասենյակային ծախսեր | D42: =SUM(E42:H42) -> 0
B43: Ընդամենը գրասենյակային և վարչական ծախսեր | D43: =SUBTOTAL(9,D38:D42) -> 0 | E43: =SUBTOTAL(9,E38:E42) -> 0 | F43: =SUBTOTAL(9,F38:F42) -> 0 | G43: =SUBTOTAL(9,G38:G42) -> 0 | H43: =SUBTOTAL(9,H38:H42) -> 0
B45: Հանրային իրազեկում, հասարակայնության հետ կապեր
B46: Իրազեկման արշավ | D46: =SUM(E46:H46) -> 0 | E46: =E151 -> 0 | F46: =F151 -> 0 | G46: =G151 -> 0 | H46: =H151 -> 0
B47: Հանրային միջոցառումներ | D47: =SUM(E47:H47) -> 0 | E47: =E141 -> 0 | F47: =F141 -> 0 | G47: =G141 -> 0 | H47: =H141 -> 0
B48: Ընդամենը հանրային իրազեկում և հասարակայնության հետ կապեր | D48: =SUBTOTAL(9,D46:D47) -> 0 | E48: =SUBTOTAL(9,E46:E47) -> 0 | F48: =SUBTOTAL(9,F46:F47) -> 0 | G48: =SUBTOTAL(9,G46:G47) -> 0 | H48: =SUBTOTAL(9,H46:H47) -> 0
B50: Ընդամենը գործողության ֆինանսավորման կարիք | D50: =SUBTOTAL(9,D5:D48) -> 202620 | E50: =SUBTOTAL(9,E5:E48) -> 81030 | F50: =SUBTOTAL(9,F5:F48) -> 40530 | G50: =SUBTOTAL(9,G5:G48) -> 40530 | H50: =SUBTOTAL(9,H5:H48) -> 40530
B52: Հաշվարկներ
B54: Հոդված | C54: Նշումներ | E54: =start -> 43831 | F54: =EOMONTH(E54,11)+1 -> 44197 | G54: =EOMONTH(F54,11)+1 -> 44562 | H54: =EOMONTH(G54,11)+1 -> 44927
B56: Աշխատավարձ
B57: Հիմնական փորձագետների աշխատավարձ | E57: =E58*E59*E60*E61 -> 0
B58: Հիմնական փորձագետների ընդհանուր քանակ | E58: 0
B59: Ներգրավվածության տոկոս | E59: 0
B60: Միջին ամսական համախառն աշխատավարձ | E60: 0
B61: Ամիսների քանակ | E61: 0
B63: Ներգրավված տեղական փորձագետների վարձատրություն | E63: =E64*E65 -> 0 | F63: =F64*F65 -> 0 | G63: =G64*G65 -> 0 | H63: =H64*H65 -> 0
B64: Տեղական փորձագետների միջին ներգրավման ծավալ | C64: մարդ-օր | E64: 0 | F64: 0 | G64: 0 | H64: 0
B65: Միջին օրական համախառն աշխատավարձ | E65: ='Rates and GI'!D12 -> 17.675 | F65: =E65*(1+index) -> 18.435025 | G65: =F65*(1+index) -> 19.227731 | H65: =G65*(1+index) -> 20.054524
B67: Ներգրավված միջազգային փորձագետների վարձատրություն | E67: =E68*E69 -> 0 | F67: =F68*F69 -> 0 | G67: =G68*G69 -> 0 | H67: =H68*H69 -> 0
B68: Միջազգային փորձագետների միջին ներգրավման ծավալ | C68: մարդ-օր | E68: 0 | F68: 0 | G68: 0 | H68: 0
B69: Միջին օրական համախառն աշխատավարձ | E69: ='Rates and GI'!D13 -> 162.216 | F69: =E69*(1+index) -> 169.19129 | G69: =F69*(1+index) -> 176.46651 | H69: =G69*(1+index) -> 184.05457
B71: Մասնագետների աշխատավարձ
B72: Ավագ մասնագետների ընդհանուր քանակ | E72: 0
B73: Ավագ մասնագետների միջին ամսական համախառն աշխատավարձ | E73: 0
B74: Կրտսեր մասնագետների ընդհանուր քանակ | E74: 0
B75: Կրտսեր մասնագետների միջին ամսական համախառն աշխատավարձ | E75: 0
B77: Վարչական անձնակազմի աշխատավարձ
B78: Վարչական աշխատողների ընդհանուր քանակ | E78: 0
B79: Վարչական աշխատողների միջին ամսական համախառն աշխատավարձ | E79: 0
B81: Օժանդակ անձնակազմի աշխատավարձ
B82: Օժանդակ աշխատողների ընդհանուր քանակ | E82: 0
B83: Օժանդակ անձնակազմի միջին ամսական համախառն աշխատավարձ | E83: 0
B85: Ամիսների քանակ
B87: Գործուղումներ | E87: =E88*E89+E91*E92 -> 0 | F87: =F88*F89+F91*F92 -> 0 | G87: =G88*G89+G91*G92 -> 0 | H87: =H88*H89+H91*H92 -> 0
B88: Արտասահմանյան գործուղումների միջին կանխատեսվող տարեկան քանակ | E88: 0 | F88: 0 | G88: 0 | H88: 0
B89: Արտասահմանյան մեկ գործուղման միջին գնահատվող ծախս մեկ անձի համար | E89: =Trips!$B$10 -> 908.23176 | F89: =Trips!$B$10 -> 908.23176 | G89: =Trips!$B$10 -> 908.23176 | H89: =Trips!$B$10 -> 908.23176
B91: Տեղական գործուղումների միջին կանխատեսվող տարեկան քանակ | E91: 0 | F91: 0 | G91: 0 | H91: 0
B92: Տեղական մեկ գործուղման միջին գնահատվող ծախս մեկ անձի համար | E92: =Trips!$B$5 -> 52 | F92: =Trips!$B$5 -> 52 | G92: =Trips!$B$5 -> 52 | H92: =Trips!$B$5 -> 52
B95: Միջազգային փորձագետների ընդունում և այլ ներկայացուցչական ծախսեր | E95: =E96*E97 -> 0 | F95: =F96*F97 -> 0 | G95: =G96*G97 -> 0 | H95: =H96*H97 -> 0
B96: Միջազգային փորձագետների միջին այցերի կանխատեսվող քանակ | C96: այց | E96: 0 | F96: 0 | G96: 0 | H96: 0
B97: Մեկ օրվա կանխատեսվող միջին ծախս | E97: =Trips!B41 -> 631.70366 | F97: =E97*(1+index) -> 658.86692 | G97: =F97*(1+index) -> 687.19819 | H97: =G97*(1+index) -> 716.74772
B99: Դասընթացներ | E99: =E100*E101+E102*E103+E104+E108 -> 81030 | F99: =F100*F101+F102*F103+F104 -> 40530 | G99: =G100*G101+G102*G103+G104 -> 40530 | H99: =H100*H101+H102*H103+H104 -> 40530
B100: Արտասահմանում դասընթացին մասնակցելու վճար | C100: 1 անձի համար | F100: =Training!$C$33 -> 81.108 | G100: =Training!$C$33 -> 81.108 | H100: =Training!$C$33 -> 81.108
B101: Մասնակիցնրի քանակ | F101: =F88 -> 0 | G101: =G88 -> 0 | H101: =H88 -> 0
B102: Տեղական դասընացի արժեք | F102: =Training!C$23 -> 709.375 | G102: =F102*(1+index) -> 739.87812 | H102: =G102*(1+index) -> 771.69288
B103: Դասընթացների քանակ | E103: 0 | F103: 0 | G103: 0 | H103: 0
B104: Արտապատվիրակված դասընթացներ | E104: =E108+E110 -> 40530 | F104: =F108+F110 -> 40530 | G104: =G108+G110 -> 40530 | H104: =H108+H110 -> 40530
B105: «Իրավագիտություն» միջին մասնագիտական կրթության կազմակերպում | E105: =E106*E107 -> 3600 | F105: =F106*F107 -> 7200 | G105: =G106*G107 -> 7200 | H105: =H106*H107 -> 7200
B106: Դասընթացի արժեք 1 տարվա համար | C106: 2 տարվա դաընթաց | E106: =Training!C43 -> 240 | F106: =E106 -> 240 | G106: =F106 -> 240 | H106: =G106 -> 240
B107: Մասնակիցնրի քանակ | E107: 15 | F107: 30 | G107: 30 | H107: 30
B108: Նախնական մասնագիտական (արհեստագործական) կրթության «քրեակատարողական գործ» մասնագիտության կազմակերպում | E108: =E109*E110 -> 40500 | F108: =F109*F110 -> 40500 | G108: =G109*G110 -> 40500 | H108: =H109*H110 -> 40500
B109: Դասընթացի արժեք 1 տարվա համար | C109: 6 ամիս, 900 ակ ժամ | E109: =Training!C44 -> 1350 | F109: =E109 -> 1350 | G109: =F109 -> 1350 | H109: =G109 -> 1350
B110: Մասնակիցնրի քանակ | E110: 30 | F110: 30 | G110: 30 | H110: 30
B111: Նյութերի թարգմանություն | E111: =E112*E113 -> 0 | F111: =F112*F113 -> 0 | G111: =G112*G113 -> 0 | H111: =H112*H113 -> 0
B112: Թարգմանվող նյութի կանխատեսվող էջեր | E112: 0 | F112: 0 | G112: 0 | H112: 0
B113: Մեկ էջի թարգմանության կանխատեսվող արժեք | E113: ='Rates and GI'!D25 -> 6 | F113: =E113*(1+index) -> 6.258 | G113: =F113*(1+index) -> 6.527094 | H113: =G113*(1+index) -> 6.807759
B115: Կապիտալ ծախսեր
B116: Շենքեր, շինություններ
B117: Մեկ աշխատողի հաշվարկային տարածք | C117: ք.մ.
B118: Աշխատողների ընդհանուր քանակ
B119: 1 ք.մ. շինության արժեք
B121: Սարքավորումներ և տեխնոլոգիաներ | E121: =E126*E127 -> 0 | F121: =F126*F127 -> 0
B122: Համակարգիչներ
B123: Միավորի միջին կանխատեսվող գին
B124: Միջին կանխատեսվող քանակ
B125: Սարքավորումներ
...

Sheet a18
A1: 18 | B1: Քրեակատարողական համակարգում էլեկտրոնային կառավարման գործիքների կիրառման խթանում
B3: Հոդված | C3: Նշումներ | D3: Ընդամենը | E3: =start -> 43831 | F3: =EOMONTH(E3,11)+1 -> 44197 | G3: =EOMONTH(F3,11)+1 -> 44562 | H3: =EOMONTH(G3,11)+1 -> 44927
B4: Համախառն աշխատավարձ
B5: Ներգրավված տեղական փորձագետների վարձատրություն | D5: =SUM(E5:H5) -> 0 | E5: =E73 -> 0 | F5: =F73 -> 0 | G5: =G73 -> 0 | H5: =H73 -> 0
B6: Ներգրավված միջազգային փորձագետների վարձատրություն | D6: =SUM(E6:H6) -> 0 | E6: =E77 -> 0 | F6: =F77 -> 0 | G6: =G77 -> 0 | H6: =H77 -> 0
B7: Ընդամենը աշխատավարձ | D7: =SUBTOTAL(9,D5:D6) -> 0 | E7: =SUBTOTAL(9,E5:E6) -> 0 | F7: =SUBTOTAL(9,F5:F6) -> 0 | G7: =SUBTOTAL(9,G5:G6) -> 0 | H7: =SUBTOTAL(9,H5:H6) -> 0
B9: Անձնակազմի ծախսեր
B10: Գործուղումներ | D10: =SUM(E10:H10) -> 0 | E10: =E97 -> 0 | F10: =F97 -> 0 | G10: =G97 -> 0 | H10: =H97 -> 0
B11: Անձնակազմի մոտիվացիոն ֆոնդ | D11: =SUM(E11:H11) -> 0 | E11: 0 | F11: 0 | G11: 0 | H11: 0
B12: Ընդամենը անձնակազմի ծախսեր | D12: =SUBTOTAL(9,D10:D11) -> 0 | E12: =SUBTOTAL(9,E10:E11) -> 0 | F12: =SUBTOTAL(9,F10:F11) -> 0 | G12: =SUBTOTAL(9,G10:G11) -> 0 | H12: =SUBTOTAL(9,H10:H11) -> 0
B14: Ներկայացուցչական ծախսեր
B15: Միջազգային փորձագետների ընդունում | D15: =SUM(E15:H15) -> 0 | E15: =E105 -> 0 | F15: =F105 -> 0 | G15: =G105 -> 0 | H15: =H105 -> 0
B16: Այլ ներկայացուցչական ծախսեր
B17: Ընդամենը ներկայացուցչական ծախսեր | D17: =SUBTOTAL(9,D15:D16) -> 0 | E17: =SUBTOTAL(9,E15:E16) -> 0 | F17: =SUBTOTAL(9,F15:F16) -> 0 | G17: =SUBTOTAL(9,G15:G16) -> 0 | H17: =SUBTOTAL(9,H15:H16) -> 0
B19: Դասընթացներ և միջոցառումներ
B20: Դասընթացներ | D20: =SUM(E20:H20) -> 14187.5 | E20: =E109 -> 14187.5 | F20: =F109 -> 0 | G20: =G109 -> 0 | H20: =H109 -> 0
B21: Միջոցառումներ | D21: =SUM(E21:H21) -> 0
B22: Ընդամենը դասընթացներ և միջոցառումներ | D22: =SUBTOTAL(9,D20:D21) -> 14187.5 | E22: =SUBTOTAL(9,E20:E21) -> 14187.5 | F22: =SUBTOTAL(9,F20:F21) -> 0 | G22: =SUBTOTAL(9,G20:G21) -> 0 | H22: =SUBTOTAL(9,H20:H21) -> 0
B24: Նյութեր
B25: Նյութերի թարգմանություն | D25: =SUM(E25:H25) -> 0 | E25: =E117 -> 0 | F25: =F117 -> 0 | G25: =G117 -> 0 | H25: =H117 -> 0
B26: Ուսումնական և մեթոդական նյութեր, տեխնոլոգիաներ | D26: =SUM(E26:H26) -> 0 | E26: =E173 -> 0 | F26: =F173 -> 0 | G26: =G173 -> 0 | H26: =H173 -> 0
B27: էլեկտրոնային ռեսուրսների ստեղծում կամ արդիականացում
B28: Ընդամենը նյութեր | D28: =SUBTOTAL(9,D25:D27) -> 0 | E28: =SUBTOTAL(9,E25:E27) -> 0 | F28: =SUBTOTAL(9,F25:F27) -> 0 | G28: =SUBTOTAL(9,G25:G27) -> 0 | H28: =SUBTOTAL(9,H25:H27) -> 0
B30: Կապիտալ ծախսեր
B31: Շենքեր, շինություններ | D31: =SUM(E31:H31) -> 0
B32: Կորպորատիվ ցանցի ստեղծում | D32: =SUM(E32:H32) -> 49000 | E32: =E123 -> 49000
B33: Սարքավորումներ և տեխնոլոգիաներ | D33: =SUM(E33:H33) -> 62769 | E33: =E130 -> 62769 | F33: =F130 -> 0 | G33: =G130 -> 0 | H33: =H130 -> 0
B34: Կահավորում, վերանորոգում | D34: =SUM(E34:H34) -> 4900 | E34: =E162 -> 4900 | F34: =F162 -> 0 | G34: =G162 -> 0 | H34: =H162 -> 0
B35: Այլ | D35: =SUM(E35:H35) -> 0
B36: Ընդամենը կապիտալ ծախսեր | D36: =SUBTOTAL(9,D31:D35) -> 116669 | E36: =SUBTOTAL(9,E31:E35) -> 116669 | F36: =SUBTOTAL(9,F31:F35) -> 0 | G36: =SUBTOTAL(9,G31:G35) -> 0 | H36: =SUBTOTAL(9,H31:H35) -> 0
B38: Գրասենյակային և վարչական ծախսեր
B39: Կոմունալ վճարներ, կապ, վարձակալություն և տարածքի պահպանման ծախսեր | D39: =SUM(E39:H39) -> 0
B40: Գրենական պիտույքներ, տնտեսական ապրանքներ | D40: =SUM(E40:H40) -> 0
B41: Համակարգչային պարագաներ, սարքավորումների սպասարկում և ծրագրային ապահովում | D41: =SUM(E41:H41) -> 0 | E41: =E218 -> 0 | F41: =F218 -> 0 | G41: =G218 -> 0 | H41: =H218 -> 0
B42: Տրանսպորտային ծախսեր | D42: =SUM(E42:H42) -> 0
B43: Այլ գրասենյակային ծախսեր | D43: =SUM(E43:H43) -> 0
B44: Ընդամենը գրասենյակային և վարչական ծախսեր | D44: =SUBTOTAL(9,D39:D43) -> 0 | E44: =SUBTOTAL(9,E39:E43) -> 0 | F44: =SUBTOTAL(9,F39:F43) -> 0 | G44: =SUBTOTAL(9,G39:G43) -> 0 | H44: =SUBTOTAL(9,H39:H43) -> 0
B46: Համակարգի սպասարկում և պահպանում
B47: Համակարգի սպասարկում և պահպանում | D47: =SUM(E47:H47) -> 43000 | E47: =E169 -> 7000 | F47: =F169 -> 12000 | G47: =G169 -> 12000 | H47: =H169 -> 12000
B48: Ընդամենը համակարգի սպասարկում և պահպանում | D48: =SUBTOTAL(9,D47:D47) -> 43000 | E48: =SUBTOTAL(9,E47:E47) -> 7000 | F48: =SUBTOTAL(9,F47:F47) -> 12000 | G48: =SUBTOTAL(9,G47:G47) -> 12000 | H48: =SUBTOTAL(9,H47:H47) -> 12000
B50: Արտապատվիրակված էլեկտրոնային ռեսուրսների ստեղծման կամ արդիականացման նախագծեր
B51: Արտապատվիրակված էլեկտրոնային ռեսուրսների ստեղծման կամ արդիականացման նախագծեր | D51: =SUM(E51:H51) -> 0 | E51: =E220 -> 0 | F51: =F220 -> 0 | G51: =G220 -> 0 | H51: =H220 -> 0
B52: Արտապատվիրակված անվտանգության և տեսահսկման համակարգերի ստեղծման կամ արդիականացման նախագծեր | D52: =SUM(E52:H52) -> 0 | E52: =E237 -> 0 | F52: =F237 -> 0 | G52: =G237 -> 0 | H52: =H237 -> 0
B53: Ընդամենը արտապատվիրակված էլեկտրոնային ռեսուրսների ստեղծման կամ արդիականացման նախագծեր | D53: =SUBTOTAL(9,D51:D52) -> 0 | E53: =SUBTOTAL(9,E51:E52) -> 0 | F53: =SUBTOTAL(9,F51:F52) -> 0 | G53: =SUBTOTAL(9,G51:G52) -> 0 | H53: =SUBTOTAL(9,H51:H52) -> 0
B55: Հանրային իրազեկում, հասարակայնության հետ կապեր
B56: Իրազեկման արշավ | D56: =SUM(E56:H56) -> 0 | E56: =E192 -> 0 | F56: =F192 -> 0 | G56: =G192 -> 0 | H56: =H192 -> 0
B57: Հանրային միջոցառումներ | D57: =SUM(E57:H57) -> 0 | E57: =E182 -> 0 | F57: =F182 -> 0 | G57: =G182 -> 0 | H57: =H182 -> 0
B58: Ընդամենը հանրային իրազեկում և հասարակայնության հետ կապեր | D58: =SUBTOTAL(9,D56:D57) -> 0 | E58: =SUBTOTAL(9,E56:E57) -> 0 | F58: =SUBTOTAL(9,F56:F57) -> 0 | G58: =SUBTOTAL(9,G56:G57) -> 0 | H58: =SUBTOTAL(9,H56:H57) -> 0
B60: Ընդամենը գործողության ֆինանսավորման կարիք | D60: =SUBTOTAL(9,D5:D58) -> 173856.5 | E60: =SUBTOTAL(9,E5:E58) -> 137856.5 | F60: =SUBTOTAL(9,F5:F58) -> 12000 | G60: =SUBTOTAL(9,G5:G58) -> 12000 | H60: =SUBTOTAL(9,H5:H58) -> 12000
B62: Հաշվարկներ
B64: Հոդված | C64: Նշումներ | E64: =start -> 43831 | F64: =EOMONTH(E64,11)+1 -> 44197 | G64: =EOMONTH(F64,11)+1 -> 44562 | H64: =EOMONTH(G64,11)+1 -> 44927
B66: Աշխատավարձ
B67: Հիմնական փորձագետների աշխատավարձ | E67: =E68*E69*E70*E71 -> 0
B68: Հիմնական փորձագետների ընդհանուր քանակ | E68: 0
B69: Ներգրավվածության տոկոս | E69: 0
B70: Միջին ամսական համախառն աշխատավարձ | E70: 0
B71: Ամիսների քանակ | E71: 0
B73: Ներգրավված տեղական փորձագետների վարձատրություն | E73: =E74*E75 -> 0 | F73: =F74*F75 -> 0 | G73: =G74*G75 -> 0 | H73: =H74*H75 -> 0
B74: Տեղական փորձագետների միջին ներգրավման ծավալ | C74: մարդ-օր | E74: 0 | F74: 0 | G74: 0 | H74: 0
B75: Միջին օրական համախառն աշխատավարձ | E75: ='Rates and GI'!D12 -> 17.675 | F75: =E75*(1+index) -> 18.435025 | G75: =F75*(1+index) -> 19.227731 | H75: =G75*(1+index) -> 20.054524
B77: Ներգրավված միջազգային փորձագետների վարձատրություն | E77: =E78*E79 -> 0 | F77: =F78*F79 -> 0 | G77: =G78*G79 -> 0 | H77: =H78*H79 -> 0
B78: Միջազգային փորձագետների միջին ներգրավման ծավալ | C78: մարդ-օր | E78: 0 | F78: 0 | G78: 0 | H78: 0
B79: Միջին օրական համախառն աշխատավարձ | E79: ='Rates and GI'!D13 -> 162.216 | F79: =E79*(1+index) -> 169.19129 | G79: =F79*(1+index) -> 176.46651 | H79: =G79*(1+index) -> 184.05457
B81: Մասնագետների աշխատավարձ
B82: Ավագ մասնագետների ընդհանուր քանակ | E82: 0
B83: Ավագ մասնագետների միջին ամսական համախառն աշխատավարձ | E83: 0
B84: Կրտսեր մասնագետների ընդհանուր քանակ | E84: 0
B85: Կրտսեր մասնագետների միջին ամսական համախառն աշխատավարձ | E85: 0
B87: Վարչական անձնակազմի աշխատավարձ
B88: Վարչական աշխատողների ընդհանուր քանակ | E88: 0
B89: Վարչական աշխատողների միջին ամսական համախառն աշխատավարձ | E89: 0
B91: Օժանդակ անձնակազմի աշխատավարձ
B92: Օժանդակ աշխատողների ընդհանուր քանակ | E92: 0
B93: Օժանդակ անձնակազմի միջին ամսական համախառն աշխատավարձ | E93: 0
B95: Ամիսների քանակ
B97: Գործուղումներ | E97: =E98*E99+E101*E102 -> 0 | F97: =F98*F99+F101*F102 -> 0 | G97: =G98*G99+G101*G102 -> 0 | H97: =H98*H99+H101*H102 -> 0
B98: Արտասահմանյան գործուղումների միջին կանխատեսվող տարեկան քանակ | E98: 0 | F98: 0 | G98: 0 | H98: 0
B99: Արտասահմանյան մեկ գործուղման միջին գնահատվող ծախս մեկ անձի համար | E99: =Trips!$B$10 -> 908.23176 | F99: =Trips!$B$10 -> 908.23176 | G99: =Trips!$B$10 -> 908.23176 | H99: =Trips!$B$10 -> 908.23176
B101: Տեղական գործուղումների միջին կանխատեսվող տարեկան քանակ | E101: 0 | F101: 0 | G101: 0 | H101: =G101 -> 0
B102: Տեղական մեկ գործուղման միջին գնահատվող ծախս մեկ անձի համար | E102: =Trips!$B$5 -> 52 | F102: =Trips!$B$5 -> 52 | G102: =Trips!$B$5 -> 52 | H102: =Trips!$B$5 -> 52
B105: Միջազգային փորձագետների ընդունում և այլ ներկայացուցչական ծախսեր | E105: =E106*E107 -> 0 | F105: =F106*F107 -> 0 | G105: =G106*G107 -> 0 | H105: =H106*H107 -> 0
B106: Միջազգային փորձագետների միջին այցերի կանխատեսվող քանակ | C106: այց | E106: 0 | F106: 0 | G106: 0 | H106: 0
B107: Մեկ օրվա կանխատեսվող միջին ծախս | E107: =Trips!B41 -> 631.70366 | F107: =E107*(1+index) -> 658.86692 | G107: =F107*(1+index) -> 687.19819 | H107: =G107*(1+index) -> 716.74772
B109: Դասընթացներ | E109: =E110*E111+E112*E113+E114*E115 -> 14187.5 | F109: =F110*F111+F112*F113+F114*F115 -> 0 | G109: =G110*G111+G112*G113+G114*G115 -> 0 | H109: =H110*H111+H112*H113+H114*H115 -> 0
B110: Արտասահմանում դասընթացին մասնակցելու վճար | C110: 1 անձի համար | E110: =Training!$C$33 -> 81.108 | F110: =E110*(1+index) -> 84.595644 | G110: =F110*(1+index) -> 88.233257 | H110: =G110*(1+index) -> 92.027287
B111: Մասնակիցնրի քանակ | F111: 0 | G111: 0 | H111: =H98 -> 0
B112: Տեղական դասընացի արժեք | E112: =Training!C23*2 -> 1418.75 | F112: =E112*(1+index) -> 1479.7562 | G112: =F112*(1+index) -> 1543.3858 | H112: =G112*(1+index) -> 1609.7514
B113: Դասընթացների քանակ | C113: խումբ | E113: =200/20 -> 10 | F113: 0 | G113: 0 | H113: 0
B114: Արտապատվիրակված դասընթացի արժեք | C114: 1 անձ
B115: Մասնակիցնրի քանակ | E115: 0 | F115: 0 | G115: 0 | H115: 0
B117: Նյութերի թարգմանություն | E117: =E118*E119 -> 0 | F117: =F118*F119 -> 0 | G117: =G118*G119 -> 0 | H117: =H118*H119 -> 0
B118: Թարգմանվող նյութի կանխատեսվող էջեր | E118: 0 | F118: 0
B119: Մեկ էջի թարգմանության կանխատեսվող արժեք | E119: ='Rates and GI'!D25 -> 6 | F119: =E119*(1+index) -> 6.258 | G119: =F119*(1+index) -> 6.527094 | H119: =G119*(1+index) -> 6.807759
B121: Կապիտալ ծախսեր
B122: Շենքեր, շինություններ
B123: Կորպորատիվ ցանցի ստեղծում | E123: 49000
B126: Մեկ աշխատողի հաշվարկային տարածք | C126: ք.մ.
B127: Աշխատողների ընդհանուր քանակ
B128: 1 ք.մ. շինության արժեք
B130: Սարքավորումներ և տեխնոլոգիաներ | E130: =E131 -> 62769 | F130: =F131 -> 0 | G130: =G131 -> 0 | H130: =H131 -> 0
...

Sheet a19
A1: 19 | B1: Ազատությունից զրկված անձանց ռիսկերի և կարիքների գնահատման գործիքի ներդնում
B3: Հոդված | C3: Նշումներ | D3: Ընդամենը | E3: =start -> 43831 | F3: =EOMONTH(E3,11)+1 -> 44197 | G3: =EOMONTH(F3,11)+1 -> 44562 | H3: =EOMONTH(G3,11)+1 -> 44927
B4: Համախառն աշխատավարձ
B5: Ներգրավված տեղական փորձագետների վարձատրություն | D5: =SUM(E5:H5) -> 4082.925 | E5: =E67 -> 4082.925 | F5: =F67 -> 0 | G5: =G67 -> 0 | H5: =H67 -> 0
B6: Ներգրավված միջազգային փորձագետների վարձատրություն | D6: =SUM(E6:H6) -> 6813.072 | E6: =E71 -> 6813.072 | F6: =F71 -> 0 | G6: =G71 -> 0 | H6: =H71 -> 0
B7: Ընդամենը աշխատավարձ | D7: =SUBTOTAL(9,D5:D6) -> 10895.997 | E7: =SUBTOTAL(9,E5:E6) -> 10895.997 | F7: =SUBTOTAL(9,F5:F6) -> 0 | G7: =SUBTOTAL(9,G5:G6) -> 0 | H7: =SUBTOTAL(9,H5:H6) -> 0
B9: Անձնակազմի ծախսեր
B10: Գործուղումներ | D10: =SUM(E10:H10) -> 1040 | E10: =E91 -> 1040 | F10: =F91 -> 0 | G10: =G91 -> 0 | H10: =H91 -> 0
B11: Անձնակազմի մոտիվացիոն ֆոնդ | D11: =SUM(E11:H11) -> 0 | E11: 0 | F11: 0 | G11: 0 | H11: 0
B12: Ընդամենը անձնակազմի ծախսեր | D12: =SUBTOTAL(9,D10:D11) -> 1040 | E12: =SUBTOTAL(9,E10:E11) -> 1040 | F12: =SUBTOTAL(9,F10:F11) -> 0 | G12: =SUBTOTAL(9,G10:G11) -> 0 | H12: =SUBTOTAL(9,H10:H11) -> 0
B14: Ներկայացուցչական ծախսեր
B15: Միջազգային փորձագետների ընդունում | D15: =SUM(E15:H15) -> 631.70366 | E15: =E99 -> 631.70366 | F15: =F99 -> 0 | G15: =G99 -> 0 | H15: =H99 -> 0
B16: Այլ ներկայացուցչական ծախսեր
B17: Ընդամենը ներկայացուցչական ծախսեր | D17: =SUBTOTAL(9,D15:D16) -> 631.70366 | E17: =SUBTOTAL(9,E15:E16) -> 631.70366 | F17: =SUBTOTAL(9,F15:F16) -> 0 | G17: =SUBTOTAL(9,G15:G16) -> 0 | H17: =SUBTOTAL(9,H15:H16) -> 0
B19: Դասընթացներ և միջոցառումներ
B20: Դասընթացներ | D20: =SUM(E20:H20) -> 2128.125 | E20: =E103 -> 2128.125 | F20: =F103 -> 0 | G20: =G103 -> 0 | H20: =H103 -> 0
B21: Միջոցառումներ | D21: =SUM(E21:H21) -> 0
B22: Ընդամենը դասընթացներ և միջոցառումներ | D22: =SUBTOTAL(9,D20:D21) -> 2128.125 | E22: =SUBTOTAL(9,E20:E21) -> 2128.125 | F22: =SUBTOTAL(9,F20:F21) -> 0 | G22: =SUBTOTAL(9,G20:G21) -> 0 | H22: =SUBTOTAL(9,H20:H21) -> 0
B24: Նյութեր
B25: Նյութերի թարգմանություն | D25: =SUM(E25:H25) -> 240 | E25: =E111 -> 240 | F25: =F111 -> 0 | G25: =G111 -> 0 | H25: =H111 -> 0
B26: Ուսումնական և մեթոդական նյութեր, տեխնոլոգիաներ | D26: =SUM(E26:H26) -> 0 | E26: =E132 -> 0 | F26: =F132 -> 0 | G26: =G132 -> 0 | H26: =H132 -> 0
B27: էլեկտրոնային ռեսուրսների ստեղծում կամ արդիականացում
B28: Ընդամենը նյութեր | D28: =SUBTOTAL(9,D25:D27) -> 240 | E28: =SUBTOTAL(9,E25:E27) -> 240 | F28: =SUBTOTAL(9,F25:F27) -> 0 | G28: =SUBTOTAL(9,G25:G27) -> 0 | H28: =SUBTOTAL(9,H25:H27) -> 0
B30: Կապիտալ ծախսեր
B31: Շենքեր, շինություններ | D31: =SUM(E31:H31) -> 0
B32: Սարքավորումներ և տեխնոլոգիաներ | D32: =SUM(E32:H32) -> 0 | E32: =E121 -> 0
B33: Կահույք | D33: =SUM(E33:H33) -> 0
B34: Այլ | D34: =SUM(E34:H34) -> 0
B35: Ընդամենը կապիտալ ծախսեր | D35: =SUBTOTAL(9,D31:D34) -> 0 | E35: =SUBTOTAL(9,E31:E34) -> 0 | F35: =SUBTOTAL(9,F31:F34) -> 0 | G35: =SUBTOTAL(9,G31:G34) -> 0 | H35: =SUBTOTAL(9,H31:H34) -> 0
B37: Գրասենյակային և վարչական ծախսեր
B38: Կոմունալ վճարներ, կապ, վարձակալություն և տարածքի պահպանման ծախսեր | D38: =SUM(E38:H38) -> 0
B39: Գրենական պիտույքներ, տնտեսական ապրանքներ | D39: =SUM(E39:H39) -> 0
B40: Համակարգչային պարագաներ, սարքավորումների սպասարկում և ծրագրային ապահովում | D40: =SUM(E40:H40) -> 0 | E40: =E177 -> 0 | F40: =F177 -> 0 | G40: =G177 -> 0 | H40: =H177 -> 0
B41: Տրանսպորտային ծախսեր | D41: =SUM(E41:H41) -> 0
B42: Այլ գրասենյակային ծախսեր | D42: =SUM(E42:H42) -> 0
B43: Ընդամենը գրասենյակային և վարչական ծախսեր | D43: =SUBTOTAL(9,D38:D42) -> 0 | E43: =SUBTOTAL(9,E38:E42) -> 0 | F43: =SUBTOTAL(9,F38:F42) -> 0 | G43: =SUBTOTAL(9,G38:G42) -> 0 | H43: =SUBTOTAL(9,H38:H42) -> 0
B45: Արտապատվիրակված էլեկտրոնային ռեսուրսների ստեղծման կամ արդիականացման նախագծեր
B46: Արտապատվիրակված էլեկտրոնային ռեսուրսների ստեղծման կամ արդիականացման նախագծեր | D46: =SUM(E46:H46) -> 27036 | E46: =E182 -> 27036 | F46: =F182 -> 0 | G46: =G182 -> 0 | H46: =H182 -> 0
B47: Ընդամենը արտապատվիրակված էլեկտրոնային ռեսուրսների ստեղծման կամ արդիականացման նախագծեր | D47: =SUBTOTAL(9,D46) -> 27036 | E47: =SUBTOTAL(9,E46) -> 27036 | F47: =SUBTOTAL(9,F46) -> 0 | G47: =SUBTOTAL(9,G46) -> 0 | H47: =SUBTOTAL(9,H46) -> 0
B49: Հանրային իրազեկում, հասարակայնության հետ կապեր
B50: Իրազեկման արշավ | D50: =SUM(E50:H50) -> 0 | E50: =E151 -> 0 | F50: =F151 -> 0 | G50: =G151 -> 0 | H50: =H151 -> 0
B51: Հանրային միջոցառումներ | D51: =SUM(E51:H51) -> 400 | E51: =E141 -> 400 | F51: =F141 -> 0 | G51: =G141 -> 0 | H51: =H141 -> 0
B52: Ընդամենը հանրային իրազեկում և հասարակայնության հետ կապեր | D52: =SUBTOTAL(9,D50:D51) -> 400 | E52: =SUBTOTAL(9,E50:E51) -> 400 | F52: =SUBTOTAL(9,F50:F51) -> 0 | G52: =SUBTOTAL(9,G50:G51) -> 0 | H52: =SUBTOTAL(9,H50:H51) -> 0
B54: Ընդամենը գործողության ֆինանսավորման կարիք | D54: =SUBTOTAL(9,D5:D52) -> 42371.826 | E54: =SUBTOTAL(9,E5:E52) -> 42371.826 | F54: =SUBTOTAL(9,F5:F52) -> 0 | G54: =SUBTOTAL(9,G5:G52) -> 0 | H54: =SUBTOTAL(9,H5:H52) -> 0
B56: Հաշվարկներ
B58: Հոդված | C58: Նշումներ | E58: =start -> 43831 | F58: =EOMONTH(E58,11)+1 -> 44197 | G58: =EOMONTH(F58,11)+1 -> 44562 | H58: =EOMONTH(G58,11)+1 -> 44927
B60: Աշխատավարձ
B61: Հիմնական փորձագետների աշխատավարձ | E61: =E62*E63*E64*E65 -> 0
B62: Հիմնական փորձագետների ընդհանուր քանակ | E62: 0
B63: Ներգրավվածության տոկոս | E63: 0
B64: Միջին ամսական համախառն աշխատավարձ | E64: 0
B65: Ամիսների քանակ | E65: 0
B67: Ներգրավված տեղական փորձագետների վարձատրություն | E67: =E68*E69 -> 4082.925 | F67: =F68*F69 -> 0 | G67: =G68*G69 -> 0 | H67: =H68*H69 -> 0
B68: Տեղական փորձագետների միջին ներգրավման ծավալ | C68: մարդ-օր | E68: =11*21 -> 231 | F68: 0 | G68: 0 | H68: 0
B69: Միջին օրական համախառն աշխատավարձ | E69: ='Rates and GI'!D12 -> 17.675 | F69: =E69*(1+index) -> 18.435025 | G69: =F69*(1+index) -> 19.227731 | H69: =G69*(1+index) -> 20.054524
B71: Ներգրավված միջազգային փորձագետների վարձատրություն | E71: =E72*E73 -> 6813.072 | F71: =F72*F73 -> 0 | G71: =G72*G73 -> 0 | H71: =H72*H73 -> 0
B72: Միջազգային փորձագետների միջին ներգրավման ծավալ | C72: մարդ-օր | E72: =2*21 -> 42 | F72: 0 | G72: 0 | H72: 0
B73: Միջին օրական համախառն աշխատավարձ | E73: ='Rates and GI'!D13 -> 162.216 | F73: =E73*(1+index) -> 169.19129 | G73: =F73*(1+index) -> 176.46651 | H73: =G73*(1+index) -> 184.05457
B75: Մասնագետների աշխատավարձ
B76: Ավագ մասնագետների ընդհանուր քանակ | E76: 0
B77: Ավագ մասնագետների միջին ամսական համախառն աշխատավարձ | E77: 0
B78: Կրտսեր մասնագետների ընդհանուր քանակ | E78: 0
B79: Կրտսեր մասնագետների միջին ամսական համախառն աշխատավարձ | E79: 0
B81: Վարչական անձնակազմի աշխատավարձ
B82: Վարչական աշխատողների ընդհանուր քանակ | E82: 0
B83: Վարչական աշխատողների միջին ամսական համախառն աշխատավարձ | E83: 0
B85: Օժանդակ անձնակազմի աշխատավարձ
B86: Օժանդակ աշխատողների ընդհանուր քանակ | E86: 0
B87: Օժանդակ անձնակազմի միջին ամսական համախառն աշխատավարձ | E87: 0
B89: Ամիսների քանակ
B91: Գործուղումներ | E91: =E92*E93+E95*E96 -> 1040 | F91: =F92*F93+F95*F96 -> 0 | G91: =G92*G93+G95*G96 -> 0 | H91: =H92*H93+H95*H96 -> 0
B92: Արտասահմանյան գործուղումների միջին կանխատեսվող տարեկան քանակ | E92: 0 | F92: 0 | G92: 0 | H92: 0
B93: Արտասահմանյան մեկ գործուղման միջին գնահատվող ծախս մեկ անձի համար | E93: =Trips!$B$10 -> 908.23176 | F93: =Trips!$B$10 -> 908.23176 | G93: =Trips!$B$10 -> 908.23176 | H93: =Trips!$B$10 -> 908.23176
B95: Տեղական գործուղումների միջին կանխատեսվող տարեկան քանակ | E95: 20 | F95: 0 | G95: 0 | H95: 0
B96: Տեղական մեկ գործուղման միջին գնահատվող ծախս մեկ անձի համար | E96: =Trips!$B$5 -> 52 | F96: =Trips!$B$5 -> 52 | G96: =Trips!$B$5 -> 52 | H96: =Trips!$B$5 -> 52
B99: Միջազգային փորձագետների ընդունում և այլ ներկայացուցչական ծախսեր | E99: =E100*E101 -> 631.70366 | F99: =F100*F101 -> 0 | G99: =G100*G101 -> 0 | H99: =H100*H101 -> 0
B100: Միջազգային փորձագետների միջին այցերի կանխատեսվող քանակ | C100: այց | E100: 1 | F100: 0 | G100: 0 | H100: 0
B101: Մեկ օրվա կանխատեսվող միջին ծախս | E101: =Trips!B41 -> 631.70366 | F101: =E101*(1+index) -> 658.86692 | G101: =F101*(1+index) -> 687.19819 | H101: =G101*(1+index) -> 716.74772
B103: Դասընթացներ | E103: =E104*E105+E106*E107+E108*E109 -> 2128.125 | F103: =F104*F105+F106*F107+F108*F109 -> 0 | G103: =G104*G105+G106*G107+G108*G109 -> 0 | H103: =H104*H105+H106*H107+H108*H109 -> 0
B104: Արտասահմանում դասընթացին մասնակցելու վճար | C104: 1 անձի համար | E104: =Training!$C$33 -> 81.108 | F104: =E104*(1+index) -> 84.595644 | G104: =F104*(1+index) -> 88.233257 | H104: =G104*(1+index) -> 92.027287
B105: Մասնակիցնրի քանակ | F105: =F92 -> 0 | G105: =G92 -> 0 | H105: =H92 -> 0
B106: Տեղական դասընացի արժեք | E106: =Training!C23 -> 709.375 | F106: =E106*(1+index) -> 739.87812 | G106: =F106*(1+index) -> 771.69288 | H106: =G106*(1+index) -> 804.87568
B107: Դասընթացների քանակ | E107: 3 | F107: 0 | G107: 0 | H107: 0
B108: Արտապատվիրակված դասընթացի արժեք | C108: 1 անձ
B109: Մասնակիցնրի քանակ | E109: 0 | F109: 0 | G109: 0 | H109: 0
B111: Նյութերի թարգմանություն | E111: =E112*E113 -> 240 | F111: =F112*F113 -> 0 | G111: =G112*G113 -> 0 | H111: =H112*H113 -> 0
B112: Թարգմանվող նյութի կանխատեսվող էջեր | E112: 40 | F112: 0
B113: Մեկ էջի թարգմանության կանխատեսվող արժեք | E113: ='Rates and GI'!D25 -> 6 | F113: =E113*(1+index) -> 6.258 | G113: =F113*(1+index) -> 6.527094 | H113: =G113*(1+index) -> 6.807759
B115: Կապիտալ ծախսեր
B116: Շենքեր, շինություններ
B117: Մեկ աշխատողի հաշվարկային տարածք | C117: ք.մ.
B118: Աշխատողների ընդհանուր քանակ
B119: 1 ք.մ. շինության արժեք
B121: Սարքավորումներ և տեխնոլոգիաներ | E121: =E126*E127 -> 0 | F121: =F126*F127 -> 0
B122: Համակարգիչներ
B123: Միավորի միջին կանխատեսվող գին
B124: Միջին կանխատեսվող քանակ
B125: Սարքավորումներ
B126: Միավորի միջին կանխատեսվող գին | E126: ='Rates and GI'!$D$31 -> 350 | F126: ='Rates and GI'!$D$31 -> 350 | G126: ='Rates and GI'!$D$31 -> 350 | H126: ='Rates and GI'!$D$31 -> 350
B127: Միջին կանխատեսվող քանակ | E127: 0 | F127: 0
...

Sheet a20
A1: 20 | B1: Ազատությունից զրկված անչափահաս անձանց ռիսկերի և կարիքների գնահատման գործիքի ներդնում
B3: Հոդված | C3: Նշումներ | D3: Ընդամենը | E3: =start -> 43831 | F3: =EOMONTH(E3,11)+1 -> 44197 | G3: =EOMONTH(F3,11)+1 -> 44562 | H3: =EOMONTH(G3,11)+1 -> 44927
B4: Համախառն աշխատավարձ
B5: Ներգրավված տեղական փորձագետների վարձատրություն | D5: =SUM(E5:H5) -> 1025.15 | E5: =E67 -> 1025.15 | F5: =F67 -> 0 | G5: =G67 -> 0 | H5: =H67 -> 0
B6: Ներգրավված միջազգային փորձագետների վարձատրություն | D6: =SUM(E6:H6) -> 0 | E6: =E71 -> 0 | F6: =F71 -> 0 | G6: =G71 -> 0 | H6: =H71 -> 0
B7: Ընդամենը աշխատավարձ | D7: =SUBTOTAL(9,D5:D6) -> 1025.15 | E7: =SUBTOTAL(9,E5:E6) -> 1025.15 | F7: =SUBTOTAL(9,F5:F6) -> 0 | G7: =SUBTOTAL(9,G5:G6) -> 0 | H7: =SUBTOTAL(9,H5:H6) -> 0
B9: Անձնակազմի ծախսեր
B10: Գործուղումներ | D10: =SUM(E10:H10) -> 150 | E10: =E91 -> 150 | F10: =F91 -> 0 | G10: =G91 -> 0 | H10: =H91 -> 0
B11: Անձնակազմի մոտիվացիոն ֆոնդ | D11: =SUM(E11:H11) -> 0 | E11: 0 | F11: 0 | G11: 0 | H11: 0
B12: Ընդամենը անձնակազմի ծախսեր | D12: =SUBTOTAL(9,D10:D11) -> 150 | E12: =SUBTOTAL(9,E10:E11) -> 150 | F12: =SUBTOTAL(9,F10:F11) -> 0 | G12: =SUBTOTAL(9,G10:G11) -> 0 | H12: =SUBTOTAL(9,H10:H11) -> 0
B14: Ներկայացուցչական ծախսեր
B15: Միջազգային փորձագետների ընդունում | D15: =SUM(E15:H15) -> 0 | E15: =E99 -> 0 | F15: =F99 -> 0 | G15: =G99 -> 0 | H15: =H99 -> 0
B16: Այլ ներկայացուցչական ծախսեր
B17: Ընդամենը ներկայացուցչական ծախսեր | D17: =SUBTOTAL(9,D15:D16) -> 0 | E17: =SUBTOTAL(9,E15:E16) -> 0 | F17: =SUBTOTAL(9,F15:F16) -> 0 | G17: =SUBTOTAL(9,G15:G16) -> 0 | H17: =SUBTOTAL(9,H15:H16) -> 0
B19: Դասընթացներ և միջոցառումներ
B20: Դասընթացներ | D20: =SUM(E20:H20) -> 1418.75 | E20: =E103 -> 1418.75 | F20: =F103 -> 0 | G20: =G103 -> 0 | H20: =H103 -> 0
B21: Միջոցառումներ | D21: =SUM(E21:H21) -> 0
B22: Ընդամենը դասընթացներ և միջոցառումներ | D22: =SUBTOTAL(9,D20:D21) -> 1418.75 | E22: =SUBTOTAL(9,E20:E21) -> 1418.75 | F22: =SUBTOTAL(9,F20:F21) -> 0 | G22: =SUBTOTAL(9,G20:G21) -> 0 | H22: =SUBTOTAL(9,H20:H21) -> 0
B24: Նյութեր
B25: Նյութերի թարգմանություն | D25: =SUM(E25:H25) -> 0 | E25: =E111 -> 0 | F25: =F111 -> 0 | G25: =G111 -> 0 | H25: =H111 -> 0
B26: Ուսումնական և մեթոդական նյութեր, տեխնոլոգիաներ | D26: =SUM(E26:H26) -> 310 | E26: =E132 -> 310 | F26: =F132 -> 0 | G26: =G132 -> 0 | H26: =H132 -> 0
B27: էլեկտրոնային ռեսուրսների ստեղծում կամ արդիականացում
B28: Ընդամենը նյութեր | D28: =SUBTOTAL(9,D25:D27) -> 310 | E28: =SUBTOTAL(9,E25:E27) -> 310 | F28: =SUBTOTAL(9,F25:F27) -> 0 | G28: =SUBTOTAL(9,G25:G27) -> 0 | H28: =SUBTOTAL(9,H25:H27) -> 0
B30: Կապիտալ ծախսեր
B31: Շենքեր, շինություններ | D31: =SUM(E31:H31) -> 0
B32: Սարքավորումներ և տեխնոլոգիաներ | D32: =SUM(E32:H32) -> 0 | E32: =E121 -> 0
B33: Կահույք | D33: =SUM(E33:H33) -> 0
B34: Այլ | D34: =SUM(E34:H34) -> 0
B35: Ընդամենը կապիտալ ծախսեր | D35: =SUBTOTAL(9,D31:D34) -> 0 | E35: =SUBTOTAL(9,E31:E34) -> 0 | F35: =SUBTOTAL(9,F31:F34) -> 0 | G35: =SUBTOTAL(9,G31:G34) -> 0 | H35: =SUBTOTAL(9,H31:H34) -> 0
B37: Գրասենյակային և վարչական ծախսեր
B38: Կոմունալ վճարներ, կապ, վարձակալություն և տարածքի պահպանման ծախսեր | D38: =SUM(E38:H38) -> 0
B39: Գրենական պիտույքներ, տնտեսական ապրանքներ | D39: =SUM(E39:H39) -> 0
B40: Համակարգչային պարագաներ, սարքավորումների սպասարկում և ծրագրային ապահովում | D40: =SUM(E40:H40) -> 0 | E40: =E177 -> 0 | F40: =F177 -> 0 | G40: =G177 -> 0 | H40: =H177 -> 0
B41: Տրանսպորտային ծախսեր | D41: =SUM(E41:H41) -> 0
B42: Այլ գրասենյակային ծախսեր | D42: =SUM(E42:H42) -> 0
B43: Ընդամենը գրասենյակային և վարչական ծախսեր | D43: =SUBTOTAL(9,D38:D42) -> 0 | E43: =SUBTOTAL(9,E38:E42) -> 0 | F43: =SUBTOTAL(9,F38:F42) -> 0 | G43: =SUBTOTAL(9,G38:G42) -> 0 | H43: =SUBTOTAL(9,H38:H42) -> 0
B45: Արտապատվիրակված էլեկտրոնային ռեսուրսների ստեղծման կամ արդիականացման նախագծեր
B46: Արտապատվիրակված էլեկտրոնային ռեսուրսների ստեղծման կամ արդիականացման նախագծեր | D46: =SUM(E46:H46) -> 5407.2 | E46: =E182 -> 5407.2 | F46: =F182 -> 0 | G46: =G182 -> 0 | H46: =H182 -> 0
B47: Ընդամենը արտապատվիրակված էլեկտրոնային ռեսուրսների ստեղծման կամ արդիականացման նախագծեր | D47: =SUBTOTAL(9,D46) -> 5407.2 | E47: =SUBTOTAL(9,E46) -> 5407.2 | F47: =SUBTOTAL(9,F46) -> 0 | G47: =SUBTOTAL(9,G46) -> 0 | H47: =SUBTOTAL(9,H46) -> 0
B49: Հանրային իրազեկում, հասարակայնության հետ կապեր
B50: Իրազեկման արշավ | D50: =SUM(E50:H50) -> 0 | E50: =E151 -> 0 | F50: =F151 -> 0 | G50: =G151 -> 0 | H50: =H151 -> 0
B51: Հանրային միջոցառումներ | D51: =SUM(E51:H51) -> 0 | E51: =E141 -> 0 | F51: =F141 -> 0 | G51: =G141 -> 0 | H51: =H141 -> 0
B52: Ընդամենը հանրային իրազեկում և հասարակայնության հետ կապեր | D52: =SUBTOTAL(9,D50:D51) -> 0 | E52: =SUBTOTAL(9,E50:E51) -> 0 | F52: =SUBTOTAL(9,F50:F51) -> 0 | G52: =SUBTOTAL(9,G50:G51) -> 0 | H52: =SUBTOTAL(9,H50:H51) -> 0
B54: Ընդամենը գործողության ֆինանսավորման կարիք | D54: =SUBTOTAL(9,D5:D52) -> 8311.1 | E54: =SUBTOTAL(9,E5:E52) -> 8311.1 | F54: =SUBTOTAL(9,F5:F52) -> 0 | G54: =SUBTOTAL(9,G5:G52) -> 0 | H54: =SUBTOTAL(9,H5:H52) -> 0
B56: Հաշվարկներ
B58: Հոդված | C58: Նշումներ | E58: =start -> 43831 | F58: =EOMONTH(E58,11)+1 -> 44197 | G58: =EOMONTH(F58,11)+1 -> 44562 | H58: =EOMONTH(G58,11)+1 -> 44927
B60: Աշխատավարձ
B61: Հիմնական փորձագետների աշխատավարձ | E61: =E62*E63*E64*E65 -> 0
B62: Հիմնական փորձագետների ընդհանուր քանակ | E62: 0
B63: Ներգրավվածության տոկոս | E63: 0
B64: Միջին ամսական համախառն աշխատավարձ | E64: 0
B65: Ամիսների քանակ | E65: 0
B67: Ներգրավված տեղական փորձագետների վարձատրություն | E67: =E68*E69 -> 1025.15 | F67: =F68*F69 -> 0 | G67: =G68*G69 -> 0 | H67: =H68*H69 -> 0
B68: Տեղական փորձագետների միջին ներգրավման ծավալ | C68: մարդ-օր | E68: 58 | F68: 0 | G68: 0 | H68: 0
B69: Միջին օրական համախառն աշխատավարձ | E69: ='Rates and GI'!D12 -> 17.675 | F69: =E69*(1+index) -> 18.435025 | G69: =F69*(1+index) -> 19.227731 | H69: =G69*(1+index) -> 20.054524
B71: Ներգրավված միջազգային փորձագետների վարձատրություն | E71: =E72*E73 -> 0 | F71: =F72*F73 -> 0 | G71: =G72*G73 -> 0 | H71: =H72*H73 -> 0
B72: Միջազգային փորձագետների միջին ներգրավման ծավալ | C72: մարդ-օր | E72: 0 | F72: 0 | G72: 0 | H72: 0
B73: Միջին օրական համախառն աշխատավարձ | E73: ='Rates and GI'!D13 -> 162.216 | F73: =E73*(1+index) -> 169.19129 | G73: =F73*(1+index) -> 176.46651 | H73: =G73*(1+index) -> 184.05457
B75: Մասնագետների աշխատավարձ
B76: Ավագ մասնագետների ընդհանուր քանակ | E76: 0
B77: Ավագ մասնագետների միջին ամսական համախառն աշխատավարձ | E77: 0
B78: Կրտսեր մասնագետների ընդհանուր քանակ | E78: 0
B79: Կրտսեր մասնագետների միջին ամսական համախառն աշխատավարձ | E79: 0
B81: Վարչական անձնակազմի աշխատավարձ
B82: Վարչական աշխատողների ընդհանուր քանակ | E82: 0
B83: Վարչական աշխատողների միջին ամսական համախառն աշխատավարձ | E83: 0
B85: Օժանդակ անձնակազմի աշխատավարձ
B86: Օժանդակ աշխատողների ընդհանուր քանակ | E86: 0
B87: Օժանդակ անձնակազմի միջին ամսական համախառն աշխատավարձ | E87: 0
B89: Ամիսների քանակ
B91: Գործուղումներ | E91: =E92*E93+E95*E96 -> 150 | F91: =F92*F93+F95*F96 -> 0 | G91: =G92*G93+G95*G96 -> 0 | H91: =H92*H93+H95*H96 -> 0
B92: Արտասահմանյան գործուղումների միջին կանխատեսվող տարեկան քանակ | E92: 0 | F92: 0 | G92: 0 | H92: 0
B93: Արտասահմանյան մեկ գործուղման միջին գնահատվող ծախս մեկ անձի համար | E93: =Trips!$B$10 -> 908.23176 | F93: =Trips!$B$10 -> 908.23176 | G93: =Trips!$B$10 -> 908.23176 | H93: =Trips!$B$10 -> 908.23176
B95: Տեղական գործուղումների միջին կանխատեսվող տարեկան քանակ | E95: 50 | F95: 0 | G95: 0 | H95: =G95 -> 0
B96: Տեղական մեկ գործուղման միջին գնահատվող ծախս մեկ անձի համար* | E96: 3 | F96: 3 | G96: 3 | H96: 3
B98: *Միայան տրանսպորտային ծախսեր, քանի որ գտնվում է ք. Աբովյանում
B99: Միջազգային փորձագետների ընդունում և այլ ներկայացուցչական ծախսեր | E99: =E100*E101 -> 0 | F99: =F100*F101 -> 0 | G99: =G100*G101 -> 0 | H99: =H100*H101 -> 0
B100: Միջազգային փորձագետների միջին այցերի կանխատեսվող քանակ | C100: այց | E100: 0 | F100: 0 | G100: 0 | H100: 0
B101: Մեկ օրվա կանխատեսվող միջին ծախս | E101: =Trips!B41 -> 631.70366 | F101: =E101*(1+index) -> 658.86692 | G101: =F101*(1+index) -> 687.19819 | H101: =G101*(1+index) -> 716.74772
B103: Դասընթացներ | E103: =E104*E105+E106*E107+E108*E109 -> 1418.75 | F103: =F104*F105+F106*F107+F108*F109 -> 0 | G103: =G104*G105+G106*G107+G108*G109 -> 0 | H103: =H104*H105+H106*H107+H108*H109 -> 0
B104: Արտասահմանում դասընթացին մասնակցելու վճար | C104: 1 անձի համար | E104: =Training!$C$33 -> 81.108 | F104: =E104*(1+index) -> 84.595644 | G104: =F104*(1+index) -> 88.233257 | H104: =G104*(1+index) -> 92.027287
B105: Մասնակիցնրի քանակ | F105: 0 | G105: 0 | H105: =H92 -> 0
B106: Տեղական դասընացի արժեք | E106: =Training!C23 -> 709.375 | F106: =E106*(1+index) -> 739.87812 | G106: =F106*(1+index) -> 771.69288 | H106: =G106*(1+index) -> 804.87568
B107: Դասընթացների քանակ | C107: խումբ | E107: 2 | F107: 0 | G107: 0 | H107: 0
B108: Արտապատվիրակված դասընթացի արժեք | C108: 1 անձ
B109: Մասնակիցնրի քանակ | E109: 0 | F109: 0 | G109: 0 | H109: 0
B111: Նյութերի թարգմանություն | E111: =E112*E113 -> 0 | F111: =F112*F113 -> 0 | G111: =G112*G113 -> 0 | H111: =H112*H113 -> 0
B112: Թարգմանվող նյութի կանխատեսվող էջեր | E112: 0 | F112: 0
B113: Մեկ էջի թարգմանության կանխատեսվող արժեք | E113: ='Rates and GI'!D25 -> 6 | F113: =E113*(1+index) -> 6.258 | G113: =F113*(1+index) -> 6.527094 | H113: =G113*(1+index) -> 6.807759
B115: Կապիտալ ծախսեր
B116: Շենքեր, շինություններ
B117: Մեկ աշխատողի հաշվարկային տարածք | C117: ք.մ.
B118: Աշխատողների ընդհանուր քանակ
B119: 1 ք.մ. շինության արժեք
B121: Սարքավորումներ և տեխնոլոգիաներ | E121: =E126*E127 -> 0 | F121: =F126*F127 -> 0
B122: Համակարգիչներ
B123: Միավորի միջին կանխատեսվող գին
B124: Միջին կանխատեսվող քանակ
B125: Սարքավորումներ
B126: Միավորի միջին կանխատեսվող գին | E126: ='Rates and GI'!$D$31 -> 350 | F126: ='Rates and GI'!$D$31 -> 350 | G126: ='Rates and GI'!$D$31 -> 350 | H126: ='Rates and GI'!$D$31 -> 350
...

Sheet a21
A1: 21 | B1: Ազատությունից զրկված անչափահասների կրթություն ստանալու իրավունքի շարունակականության ապահովում
B3: Հոդված | C3: Նշումներ | D3: Ընդամենը | E3: =start -> 43831 | F3: =EOMONTH(E3,11)+1 -> 44197 | G3: =EOMONTH(F3,11)+1 -> 44562 | H3: =EOMONTH(G3,11)+1 -> 44927
B4: Համախառն աշխատավարձ
B5: Ներգրավված տեղական փորձագետների վարձատրություն | D5: =SUM(E5:H5) -> 0 | E5: =E67 -> 0 | F5: =F67 -> 0 | G5: =G67 -> 0 | H5: =H67 -> 0
B6: Ներգրավված միջազգային փորձագետների վարձատրություն | D6: =SUM(E6:H6) -> 0 | E6: =E71 -> 0 | F6: =F71 -> 0 | G6: =G71 -> 0 | H6: =H71 -> 0
B7: Ընդամենը աշխատավարձ | D7: =SUBTOTAL(9,D5:D6) -> 0 | E7: =SUBTOTAL(9,E5:E6) -> 0 | F7: =SUBTOTAL(9,F5:F6) -> 0 | G7: =SUBTOTAL(9,G5:G6) -> 0 | H7: =SUBTOTAL(9,H5:H6) -> 0
B9: Անձնակազմի ծախսեր
B10: Գործուղումներ | D10: =SUM(E10:H10) -> 0 | E10: =E91 -> 0 | F10: =F91 -> 0 | G10: =G91 -> 0 | H10: =H91 -> 0
B11: Անձնակազմի մոտիվացիոն ֆոնդ | D11: =SUM(E11:H11) -> 0 | E11: 0 | F11: 0 | G11: 0 | H11: 0
B12: Ընդամենը անձնակազմի ծախսեր | D12: =SUBTOTAL(9,D10:D11) -> 0 | E12: =SUBTOTAL(9,E10:E11) -> 0 | F12: =SUBTOTAL(9,F10:F11) -> 0 | G12: =SUBTOTAL(9,G10:G11) -> 0 | H12: =SUBTOTAL(9,H10:H11) -> 0
B14: Ներկայացուցչական ծախսեր
B15: Միջազգային փորձագետների ընդունում | D15: =SUM(E15:H15) -> 0 | E15: =E99 -> 0 | F15: =F99 -> 0 | G15: =G99 -> 0 | H15: =H99 -> 0
B16: Այլ ներկայացուցչական ծախսեր
B17: Ընդամենը ներկայացուցչական ծախսեր | D17: =SUBTOTAL(9,D15:D16) -> 0 | E17: =SUBTOTAL(9,E15:E16) -> 0 | F17: =SUBTOTAL(9,F15:F16) -> 0 | G17: =SUBTOTAL(9,G15:G16) -> 0 | H17: =SUBTOTAL(9,H15:H16) -> 0
B19: Դասընթացներ և միջոցառումներ
B20: Դասընթացներ | D20: =SUM(E20:H20) -> 63641.748 | E20: =E103 -> 14920.2 | F20: =F103 -> 15561.769 | G20: =G103 -> 16230.925 | H20: =H103 -> 16928.854
B21: Միջոցառումներ | D21: =SUM(E21:H21) -> 0
B22: Ընդամենը դասընթացներ և միջոցառումներ | D22: =SUBTOTAL(9,D20:D21) -> 63641.748 | E22: =SUBTOTAL(9,E20:E21) -> 14920.2 | F22: =SUBTOTAL(9,F20:F21) -> 15561.769 | G22: =SUBTOTAL(9,G20:G21) -> 16230.925 | H22: =SUBTOTAL(9,H20:H21) -> 16928.854
B24: Նյութեր
B25: Նյութերի թարգմանություն | D25: =SUM(E25:H25) -> 0 | E25: =E111 -> 0 | F25: =F111 -> 0 | G25: =G111 -> 0 | H25: =H111 -> 0
B26: Ուսումնական և մեթոդական նյութեր, տեխնոլոգիաներ | D26: =SUM(E26:H26) -> 0 | E26: =E132 -> 0 | F26: =F132 -> 0 | G26: =G132 -> 0 | H26: =H132 -> 0
B27: էլեկտրոնային ռեսուրսների ստեղծում կամ արդիականացում
B28: Ընդամենը նյութեր | D28: =SUBTOTAL(9,D25:D27) -> 0 | E28: =SUBTOTAL(9,E25:E27) -> 0 | F28: =SUBTOTAL(9,F25:F27) -> 0 | G28: =SUBTOTAL(9,G25:G27) -> 0 | H28: =SUBTOTAL(9,H25:H27) -> 0
B30: Կապիտալ ծախսեր
B31: Շենքեր, շինություններ | D31: =SUM(E31:H31) -> 0
B32: Սարքավորումներ և տեխնոլոգիաներ | D32: =SUM(E32:H32) -> 0 | E32: =E121 -> 0
B33: Կահույք | D33: =SUM(E33:H33) -> 0
B34: Այլ | D34: =SUM(E34:H34) -> 0
B35: Ընդամենը կապիտալ ծախսեր | D35: =SUBTOTAL(9,D31:D34) -> 0 | E35: =SUBTOTAL(9,E31:E34) -> 0 | F35: =SUBTOTAL(9,F31:F34) -> 0 | G35: =SUBTOTAL(9,G31:G34) -> 0 | H35: =SUBTOTAL(9,H31:H34) -> 0
B37: Գրասենյակային և վարչական ծախսեր
B38: Կոմունալ վճարներ, կապ, վարձակալություն և տարածքի պահպանման ծախսեր | D38: =SUM(E38:H38) -> 0
B39: Գրենական պիտույքներ, տնտեսական ապրանքներ | D39: =SUM(E39:H39) -> 0
B40: Համակարգչային պարագաներ, սարքավորումների սպասարկում և ծրագրային ապահովում | D40: =SUM(E40:H40) -> 0 | E40: =E177 -> 0 | F40: =F177 -> 0 | G40: =G177 -> 0 | H40: =H177 -> 0
B41: Տրանսպորտային ծախսեր | D41: =SUM(E41:H41) -> 0
B42: Այլ գրասենյակային ծախսեր | D42: =SUM(E42:H42) -> 0
B43: Ընդամենը գրասենյակային և վարչական ծախսեր | D43: =SUBTOTAL(9,D38:D42) -> 0 | E43: =SUBTOTAL(9,E38:E42) -> 0 | F43: =SUBTOTAL(9,F38:F42) -> 0 | G43: =SUBTOTAL(9,G38:G42) -> 0 | H43: =SUBTOTAL(9,H38:H42) -> 0
B45: Արտապատվիրակված էլեկտրոնային ռեսուրսների ստեղծման կամ արդիականացման նախագծեր
B46: Արտապատվիրակված էլեկտրոնային ռեսուրսների ստեղծման կամ արդիականացման նախագծեր | D46: =SUM(E46:H46) -> 0 | E46: =E182 -> 0 | F46: =F182 -> 0 | G46: =G182 -> 0 | H46: =H182 -> 0
B47: Ընդամենը արտապատվիրակված էլեկտրոնային ռեսուրսների ստեղծման կամ արդիականացման նախագծեր | D47: =SUBTOTAL(9,D46) -> 0 | E47: =SUBTOTAL(9,E46) -> 0 | F47: =SUBTOTAL(9,F46) -> 0 | G47: =SUBTOTAL(9,G46) -> 0 | H47: =SUBTOTAL(9,H46) -> 0
B49: Հանրային իրազեկում, հասարակայնության հետ կապեր
B50: Իրազեկման արշավ | D50: =SUM(E50:H50) -> 0 | E50: =E151 -> 0 | F50: =F151 -> 0 | G50: =G151 -> 0 | H50: =H151 -> 0
B51: Հանրային միջոցառումներ | D51: =SUM(E51:H51) -> 0 | E51: =E141 -> 0 | F51: =F141 -> 0 | G51: =G141 -> 0 | H51: =H141 -> 0
B52: Ընդամենը հանրային իրազեկում և հասարակայնության հետ կապեր | D52: =SUBTOTAL(9,D50:D51) -> 0 | E52: =SUBTOTAL(9,E50:E51) -> 0 | F52: =SUBTOTAL(9,F50:F51) -> 0 | G52: =SUBTOTAL(9,G50:G51) -> 0 | H52: =SUBTOTAL(9,H50:H51) -> 0
B54: Ընդամենը գործողության ֆինանսավորման կարիք | D54: =SUBTOTAL(9,D5:D52) -> 63641.748 | E54: =SUBTOTAL(9,E5:E52) -> 14920.2 | F54: =SUBTOTAL(9,F5:F52) -> 15561.769 | G54: =SUBTOTAL(9,G5:G52) -> 16230.925 | H54: =SUBTOTAL(9,H5:H52) -> 16928.854
B56: Հաշվարկներ
B58: Հոդված | C58: Նշումներ | E58: =start -> 43831 | F58: =EOMONTH(E58,11)+1 -> 44197 | G58: =EOMONTH(F58,11)+1 -> 44562 | H58: =EOMONTH(G58,11)+1 -> 44927
B60: Աշխատավարձ
B61: Հիմնական փորձագետների աշխատավարձ | E61: =E62*E63*E64*E65 -> 0
B62: Հիմնական փորձագետների ընդհանուր քանակ | E62: 0
B63: Ներգրավվածության տոկոս | E63: 0
B64: Միջին ամսական համախառն աշխատավարձ | E64: 0
B65: Ամիսների քանակ | E65: 0
B67: Ներգրավված տեղական փորձագետների վարձատրություն | E67: =E68*E69 -> 0 | F67: =F68*F69 -> 0 | G67: =G68*G69 -> 0 | H67: =H68*H69 -> 0
B68: Տեղական փորձագետների միջին ներգրավման ծավալ | C68: մարդ-օր | E68: 0 | F68: 0 | G68: 0 | H68: 0
B69: Միջին օրական համախառն աշխատավարձ | E69: ='Rates and GI'!D12 -> 17.675 | F69: =E69*(1+index) -> 18.435025 | G69: =F69*(1+index) -> 19.227731 | H69: =G69*(1+index) -> 20.054524
B71: Ներգրավված միջազգային փորձագետների վարձատրություն | E71: =E72*E73 -> 0 | F71: =F72*F73 -> 0 | G71: =G72*G73 -> 0 | H71: =H72*H73 -> 0
B72: Միջազգային փորձագետների միջին ներգրավման ծավալ | C72: մարդ-օր | E72: 0 | F72: 0 | G72: 0 | H72: 0
B73: Միջին օրական համախառն աշխատավարձ | E73: ='Rates and GI'!D13 -> 162.216 | F73: =E73*(1+index) -> 169.19129 | G73: =F73*(1+index) -> 176.46651 | H73: =G73*(1+index) -> 184.05457
B75: Մասնագետների աշխատավարձ
B76: Ավագ մասնագետների ընդհանուր քանակ | E76: 0
B77: Ավագ մասնագետների միջին ամսական համախառն աշխատավարձ | E77: 0
B78: Կրտսեր մասնագետների ընդհանուր քանակ | E78: 0
B79: Կրտսեր մասնագետների միջին ամսական համախառն աշխատավարձ | E79: 0
B81: Վարչական անձնակազմի աշխատավարձ
B82: Վարչական աշխատողների ընդհանուր քանակ | E82: 0
B83: Վարչական աշխատողների միջին ամսական համախառն աշխատավարձ | E83: 0
B85: Օժանդակ անձնակազմի աշխատավարձ
B86: Օժանդակ աշխատողների ընդհանուր քանակ | E86: 0
B87: Օժանդակ անձնակազմի միջին ամսական համախառն աշխատավարձ | E87: 0
B89: Ամիսների քանակ
B91: Գործուղումներ | E91: =E92*E93+E95*E96 -> 0 | F91: =F92*F93+F95*F96 -> 0 | G91: =G92*G93+G95*G96 -> 0 | H91: =H92*H93+H95*H96 -> 0
B92: Արտասահմանյան գործուղումների միջին կանխատեսվող տարեկան քանակ | E92: 0 | F92: 0 | G92: 0 | H92: 0
B93: Արտասահմանյան մեկ գործուղման միջին գնահատվող ծախս մեկ անձի համար | E93: =Trips!$B$10 -> 908.23176 | F93: =Trips!$B$10 -> 908.23176 | G93: =Trips!$B$10 -> 908.23176 | H93: =Trips!$B$10 -> 908.23176
B95: Տեղական գործուղումների միջին կանխատեսվող տարեկան քանակ | E95: 0 | F95: 0 | G95: 0 | H95: 0
B96: Տեղական մեկ գործուղման միջին գնահատվող ծախս մեկ անձի համար | E96: =Trips!$B$5 -> 52 | F96: =Trips!$B$5 -> 52 | G96: =Trips!$B$5 -> 52 | H96: =Trips!$B$5 -> 52
B99: Միջազգային փորձագետների ընդունում և այլ ներկայացուցչական ծախսեր | E99: =E100*E101 -> 0 | F99: =F100*F101 -> 0 | G99: =G100*G101 -> 0 | H99: =H100*H101 -> 0
B100: Միջազգային փորձագետների միջին այցերի կանխատեսվող քանակ | C100: այց | E100: 0 | F100: 0 | G100: 0 | H100: 0
B101: Մեկ օրվա կանխատեսվող միջին ծախս | E101: =Trips!B41 -> 631.70366 | F101: =E101*(1+index) -> 658.86692 | G101: =F101*(1+index) -> 687.19819 | H101: =G101*(1+index) -> 716.74772
B103: Դասընթացներ | E103: =E104*E105+E106*E107+E108*E109 -> 14920.2 | F103: =F104*F105+F106*F107+F108*F109 -> 15561.769 | G103: =G104*G105+G106*G107+G108*G109 -> 16230.925 | H103: =H104*H105+H106*H107+H108*H109 -> 16928.854
B104: Արտասահմանում դասընթացին մասնակցելու վճար | C104: 1 անձի համար | E104: =Training!$C$33 -> 81.108 | F104: =E104*(1+index) -> 84.595644 | G104: =F104*(1+index) -> 88.233257 | H104: =G104*(1+index) -> 92.027287
B105: Մասնակիցնրի քանակ | F105: =F92 -> 0 | G105: =G92 -> 0 | H105: =H92 -> 0
B106: Տեղական դասընացի արժեք | E106: =Training!C23 -> 709.375 | F106: =E106*(1+index) -> 739.87812 | G106: =F106*(1+index) -> 771.69288 | H106: =G106*(1+index) -> 804.87568
B107: Դասընթացների քանակ | E107: 0 | F107: 0 | G107: 0 | H107: 0
B108: Արտապատվիրակված դասընթացի արժեք | C108: 1 անձ | E108: =Training!C41 -> 994.68 | F108: =E108*(1+index) -> 1037.4512 | G108: =F108*(1+index) -> 1082.0616 | H108: =G108*(1+index) -> 1128.5903
B109: Մասնակիցնրի քանակ | E109: 15 | F109: 15 | G109: 15 | H109: 15
B111: Նյութերի թարգմանություն | E111: =E112*E113 -> 0 | F111: =F112*F113 -> 0 | G111: =G112*G113 -> 0 | H111: =H112*H113 -> 0
B112: Թարգմանվող նյութի կանխատեսվող էջեր | E112: 0 | F112: 0
B113: Մեկ էջի թարգմանության կանխատեսվող արժեք | E113: ='Rates and GI'!D25 -> 6 | F113: =E113*(1+index) -> 6.258 | G113: =F113*(1+index) -> 6.527094 | H113: =G113*(1+index) -> 6.807759
B115: Կապիտալ ծախսեր
B116: Շենքեր, շինություններ
B117: Մեկ աշխատողի հաշվարկային տարածք | C117: ք.մ.
B118: Աշխատողների ընդհանուր քանակ
B119: 1 ք.մ. շինության արժեք
B121: Սարքավորումներ և տեխնոլոգիաներ | E121: =E126*E127 -> 0 | F121: =F126*F127 -> 0
B122: Համակարգիչներ
B123: Միավորի միջին կանխատեսվող գին
B124: Միջին կանխատեսվող քանակ
B125: Սարքավորումներ
B126: Միավորի միջին կանխատեսվող գին | E126: ='Rates and GI'!$D$31 -> 350 | F126: ='Rates and GI'!$D$31 -> 350 | G126: ='Rates and GI'!$D$31 -> 350 | H126: ='Rates and GI'!$D$31 -> 350
B127: Միջին կանխատեսվող քանակ | E127: 0 | F127: 0
...

Sheet a22
A1: 22 | B1: Ազատությունից զրկված անձանց մասնագիտական կրթության նոր ծրագրերի ներդնում
B3: Հոդված | C3: Նշումներ | D3: Ընդամենը | E3: =start -> 43831 | F3: =EOMONTH(E3,11)+1 -> 44197 | G3: =EOMONTH(F3,11)+1 -> 44562 | H3: =EOMONTH(G3,11)+1 -> 44927
B4: Համախառն աշխատավարձ
B5: Ներգրավված տեղական փորձագետների վարձատրություն | D5: =SUM(E5:H5) -> 2227.05 | E5: =E63 -> 2227.05 | F5: =F63 -> 0 | G5: =G63 -> 0 | H5: =H63 -> 0
B6: Ներգրավված միջազգային փորձագետների վարձատրություն | D6: =SUM(E6:H6) -> 6813.072 | E6: =E67 -> 6813.072 | F6: =F67 -> 0 | G6: =G67 -> 0 | H6: =H67 -> 0
B7: Ընդամենը աշխատավարձ | D7: =SUBTOTAL(9,D5:D6) -> 9040.122 | E7: =SUBTOTAL(9,E5:E6) -> 9040.122 | F7: =SUBTOTAL(9,F5:F6) -> 0 | G7: =SUBTOTAL(9,G5:G6) -> 0 | H7: =SUBTOTAL(9,H5:H6) -> 0
B9: Անձնակազմի ծախսեր
B10: Գործուղումներ | D10: =SUM(E10:H10) -> 0 | E10: =E87 -> 0 | F10: =F87 -> 0 | G10: =G87 -> 0 | H10: =H87 -> 0
B11: Անձնակազմի մոտիվացիոն ֆոնդ | D11: =SUM(E11:H11) -> 0 | E11: 0 | F11: 0 | G11: 0 | H11: 0
B12: Ընդամենը անձնակազմի ծախսեր | D12: =SUBTOTAL(9,D10:D11) -> 0 | E12: =SUBTOTAL(9,E10:E11) -> 0 | F12: =SUBTOTAL(9,F10:F11) -> 0 | G12: =SUBTOTAL(9,G10:G11) -> 0 | H12: =SUBTOTAL(9,H10:H11) -> 0
B14: Ներկայացուցչական ծախսեր
B15: Միջազգային փորձագետների ընդունում | D15: =SUM(E15:H15) -> 631.70366 | E15: =E95 -> 631.70366 | F15: =F95 -> 0 | G15: =G95 -> 0 | H15: =H95 -> 0
B16: Այլ ներկայացուցչական ծախսեր
B17: Ընդամենը ներկայացուցչական ծախսեր | D17: =SUBTOTAL(9,D15:D16) -> 631.70366 | E17: =SUBTOTAL(9,E15:E16) -> 631.70366 | F17: =SUBTOTAL(9,F15:F16) -> 0 | G17: =SUBTOTAL(9,G15:G16) -> 0 | H17: =SUBTOTAL(9,H15:H16) -> 0
B19: Դասընթացներ և միջոցառումներ
B20: Դասընթացներ | D20: =SUM(E20:H20) -> 937164.38 | E20: =E99 -> 124592 | F20: =F99 -> 193297.1 | G20: =G99 -> 268811.84 | H20: =H99 -> 350463.44
B21: Միջոցառումներ | D21: =SUM(E21:H21) -> 0
B22: Ընդամենը դասընթացներ և միջոցառումներ | D22: =SUBTOTAL(9,D20:D21) -> 937164.38 | E22: =SUBTOTAL(9,E20:E21) -> 124592 | F22: =SUBTOTAL(9,F20:F21) -> 193297.1 | G22: =SUBTOTAL(9,G20:G21) -> 268811.84 | H22: =SUBTOTAL(9,H20:H21) -> 350463.44
B24: Նյութեր
B25: Նյութերի թարգմանություն | D25: =SUM(E25:H25) -> 600 | E25: =E118 -> 600 | F25: =F118 -> 0 | G25: =G118 -> 0 | H25: =H118 -> 0
B26: Ուսումնական և մեթոդական նյութեր, տեխնոլոգիաներ | D26: =SUM(E26:H26) -> 0 | E26: =E146 -> 0 | F26: =F146 -> 0 | G26: =G146 -> 0 | H26: =H146 -> 0
B27: էլեկտրոնային ռեսուրսների ստեղծում կամ արդիականացում
B28: Ընդամենը նյութեր | D28: =SUBTOTAL(9,D25:D27) -> 600 | E28: =SUBTOTAL(9,E25:E27) -> 600 | F28: =SUBTOTAL(9,F25:F27) -> 0 | G28: =SUBTOTAL(9,G25:G27) -> 0 | H28: =SUBTOTAL(9,H25:H27) -> 0
B30: Կապիտալ ծախսեր
B31: Շենքեր, շինություններ | D31: =SUM(E31:H31) -> 0
B32: Սարքավորումներ և տեխնոլոգիաներ | D32: =SUM(E32:H32) -> 6960 | E32: =E128 -> 3480 | F32: =F128 -> 1160 | G32: =G128 -> 1160 | H32: =H128 -> 1160
B33: Կահույք | D33: =SUM(E33:H33) -> 0
B34: Այլ | D34: =SUM(E34:H34) -> 0
B35: Ընդամենը կապիտալ ծախսեր | D35: =SUBTOTAL(9,D31:D34) -> 6960 | E35: =SUBTOTAL(9,E31:E34) -> 3480 | F35: =SUBTOTAL(9,F31:F34) -> 1160 | G35: =SUBTOTAL(9,G31:G34) -> 1160 | H35: =SUBTOTAL(9,H31:H34) -> 1160
B37: Գրասենյակային և վարչական ծախսեր
B38: Կոմունալ վճարներ, կապ, վարձակալություն և տարածքի պահպանման ծախսեր | D38: =SUM(E38:H38) -> 0
B39: Գրենական պիտույքներ, տնտեսական ապրանքներ | D39: =SUM(E39:H39) -> 0
B40: Համակարգչային պարագաներ, սարքավորումների սպասարկում և ծրագրային ապահովում | D40: =SUM(E40:H40) -> 0 | E40: =E192 -> 0 | F40: =F192 -> 0 | G40: =G192 -> 0 | H40: =H192 -> 0
B41: Տրանսպորտային ծախսեր | D41: =SUM(E41:H41) -> 0
B42: Այլ գրասենյակային ծախսեր | D42: =SUM(E42:H42) -> 0
B43: Ընդամենը գրասենյակային և վարչական ծախսեր | D43: =SUBTOTAL(9,D38:D42) -> 0 | E43: =SUBTOTAL(9,E38:E42) -> 0 | F43: =SUBTOTAL(9,F38:F42) -> 0 | G43: =SUBTOTAL(9,G38:G42) -> 0 | H43: =SUBTOTAL(9,H38:H42) -> 0
B45: Հանրային իրազեկում, հասարակայնության հետ կապեր
B46: Իրազեկման արշավ | D46: =SUM(E46:H46) -> 0 | E46: =E165 -> 0 | F46: =F165 -> 0 | G46: =G165 -> 0 | H46: =H165 -> 0
B47: Հանրային միջոցառումներ | D47: =SUM(E47:H47) -> 0 | E47: =E155 -> 0 | F47: =F155 -> 0 | G47: =G155 -> 0 | H47: =H155 -> 0
B48: Ընդամենը հանրային իրազեկում և հասարակայնության հետ կապեր | D48: =SUBTOTAL(9,D46:D47) -> 0 | E48: =SUBTOTAL(9,E46:E47) -> 0 | F48: =SUBTOTAL(9,F46:F47) -> 0 | G48: =SUBTOTAL(9,G46:G47) -> 0 | H48: =SUBTOTAL(9,H46:H47) -> 0
B50: Ընդամենը գործողության ֆինանսավորման կարիք | D50: =SUBTOTAL(9,D5:D48) -> 954396.2 | E50: =SUBTOTAL(9,E5:E48) -> 138343.83 | F50: =SUBTOTAL(9,F5:F48) -> 194457.1 | G50: =SUBTOTAL(9,G5:G48) -> 269971.84 | H50: =SUBTOTAL(9,H5:H48) -> 351623.44
B52: Հաշվարկներ
B54: Հոդված | C54: Նշումներ | E54: =start -> 43831 | F54: =EOMONTH(E54,11)+1 -> 44197 | G54: =EOMONTH(F54,11)+1 -> 44562 | H54: =EOMONTH(G54,11)+1 -> 44927
B56: Աշխատավարձ
B57: Հիմնական փորձագետների աշխատավարձ | E57: =E58*E59*E60*E61 -> 0
B58: Հիմնական փորձագետների ընդհանուր քանակ | E58: 0
B59: Ներգրավվածության տոկոս | E59: 0
B60: Միջին ամսական համախառն աշխատավարձ | E60: 0
B61: Ամիսների քանակ | E61: 0
B63: Ներգրավված տեղական փորձագետների վարձատրություն | E63: =E64*E65 -> 2227.05 | F63: =F64*F65 -> 0 | G63: =G64*G65 -> 0 | H63: =H64*H65 -> 0
B64: Տեղական փորձագետների միջին ներգրավման ծավալ | C64: մարդ-օր | E64: =(3+3)*21 -> 126 | F64: 0 | G64: 0 | H64: 0
B65: Միջին օրական համախառն աշխատավարձ | E65: ='Rates and GI'!D12 -> 17.675 | F65: =E65*(1+index) -> 18.435025 | G65: =F65*(1+index) -> 19.227731 | H65: =G65*(1+index) -> 20.054524
B67: Ներգրավված միջազգային փորձագետների վարձատրություն | E67: =E68*E69 -> 6813.072 | F67: =F68*F69 -> 0 | G67: =G68*G69 -> 0 | H67: =H68*H69 -> 0
B68: Միջազգային փորձագետների միջին ներգրավման ծավալ | C68: մարդ-օր | E68: =2*21 -> 42 | F68: 0 | G68: 0 | H68: 0
B69: Միջին օրական համախառն աշխատավարձ | E69: ='Rates and GI'!D13 -> 162.216 | F69: =E69*(1+index) -> 169.19129 | G69: =F69*(1+index) -> 176.46651 | H69: =G69*(1+index) -> 184.05457
B71: Մասնագետների աշխատավարձ
B72: Ավագ մասնագետների ընդհանուր քանակ | E72: 0
B73: Ավագ մասնագետների միջին ամսական համախառն աշխատավարձ | E73: 0
B74: Կրտսեր մասնագետների ընդհանուր քանակ | E74: 0
B75: Կրտսեր մասնագետների միջին ամսական համախառն աշխատավարձ | E75: 0
B77: Վարչական անձնակազմի աշխատավարձ
B78: Վարչական աշխատողների ընդհանուր քանակ | E78: 0
B79: Վարչական աշխատողների միջին ամսական համախառն աշխատավարձ | E79: 0
B81: Օժանդակ անձնակազմի աշխատավարձ
B82: Օժանդակ աշխատողների ընդհանուր քանակ | E82: 0
B83: Օժանդակ անձնակազմի միջին ամսական համախառն աշխատավարձ | E83: 0
B85: Ամիսների քանակ
B87: Գործուղումներ | E87: =E88*E89+E91*E92 -> 0 | F87: =F88*F89+F91*F92 -> 0 | G87: =G88*G89+G91*G92 -> 0 | H87: =H88*H89+H91*H92 -> 0
B88: Արտասահմանյան գործուղումների միջին կանխատեսվող տարեկան քանակ | E88: 0 | F88: 0 | G88: 0 | H88: 0
B89: Արտասահմանյան մեկ գործուղման միջին գնահատվող ծախս մեկ անձի համար | E89: =Trips!$B$10 -> 908.23176 | F89: =Trips!$B$10 -> 908.23176 | G89: =Trips!$B$10 -> 908.23176 | H89: =Trips!$B$10 -> 908.23176
B91: Տեղական գործուղումների միջին կանխատեսվող տարեկան քանակ | E91: 0 | F91: 0 | G91: 0 | H91: 0
B92: Տեղական մեկ գործուղման միջին գնահատվող ծախս մեկ անձի համար | E92: =Trips!$B$5 -> 52 | F92: =Trips!$B$5 -> 52 | G92: =Trips!$B$5 -> 52 | H92: =Trips!$B$5 -> 52
B95: Միջազգային փորձագետների ընդունում և այլ ներկայացուցչական ծախսեր | E95: =E96*E97 -> 631.70366 | F95: =F96*F97 -> 0 | G95: =G96*G97 -> 0 | H95: =H96*H97 -> 0
B96: Միջազգային փորձագետների միջին այցերի կանխատեսվող քանակ | C96: այց | E96: 1 | F96: 0 | G96: 0 | H96: 0
B97: Մեկ օրվա կանխատեսվող միջին ծախս | E97: =Trips!B41 -> 631.70366 | F97: =E97*(1+index) -> 658.86692 | G97: =F97*(1+index) -> 687.19819 | H97: =G97*(1+index) -> 716.74772
B99: Դասընթացներ | E99: =E100*E101+E102*E103+E104+E109 -> 124592 | F99: =F100*F101+F102*F103+F104+F109 -> 193297.1 | G99: =G100*G101+G102*G103+G104+G109 -> 268811.84 | H99: =H100*H101+H102*H103+H104+H109 -> 350463.44
B100: Արտասահմանում դասընթացին մասնակցելու վճար | C100: 1 անձի համար | F100: =Training!$C$33 -> 81.108 | G100: =Training!$C$33 -> 81.108 | H100: =Training!$C$33 -> 81.108
B101: Մասնակիցնրի քանակ | F101: =F88 -> 0 | G101: =G88 -> 0 | H101: =H88 -> 0
B102: Տեղական դասընացի արժեք | F102: =Training!C$23 -> 709.375 | G102: =F102*(1+index) -> 739.87812 | H102: =G102*(1+index) -> 771.69288
B103: Դասընթացների քանակ | E103: 0 | F103: 0 | G103: 0 | H103: 0
B104: Արտապատվիրակված դասընթացներ | E104: =E105*E107 -> 123552 | F104: =F105*F107 -> 193297.1 | G104: =G105*G107 -> 268811.84 | H104: =H105*H107 -> 350463.44
B105: Արտապատվիրակված դասընթացի արժեք | C105: 1 անձ | E105: =Training!C39 -> 561.6 | F105: =E105*(1+index) -> 585.7488 | G105: =F105*(1+index) -> 610.936 | H105: =G105*(1+index) -> 637.20625
B106: Մասնակցության ցուցանիշ
B107: Մասնակիցնրի քանակ | E107: 220 | F107: 330 | G107: 440 | H107: 550
B109: Դասընթացավարների ուսուցում | E109: =E110+E114 -> 1040
B110: Դասավանդման ընդհանուր արժեք | E110: =Training!C48 -> 288
B111: Մասնակիցների քանակ | E111: 24
B112: Դասընթացի տևողություն | C112: օր | E112: 6
B113: Ակադեմիական ժամեր | E113: 48
B114: Ունկնդիրների վերապատրաստաման ժամանակ կատարված ընթացիկ ծախսեր | E114: =Training!C54 -> 752
B118: Նյութերի թարգմանություն | E118: =E119*E120 -> 600 | F118: =F119*F120 -> 0 | G118: =G119*G120 -> 0 | H118: =H119*H120 -> 0
B119: Թարգմանվող նյութի կանխատեսվող էջեր | E119: 100 | F119: 0 | G119: 0 | H119: 0
B120: Մեկ էջի թարգմանության կանխատեսվող արժեք | E120: ='Rates and GI'!D25 -> 6 | F120: =E120*(1+index) -> 6.258 | G120: =F120*(1+index) -> 6.527094 | H120: =G120*(1+index) -> 6.807759
B122: Կապիտալ ծախսեր
B123: Շենքեր, շինություններ
B124: Մեկ աշխատողի հաշվարկային տարածք | C124: ք.մ.
B125: Աշխատողների ընդհանուր քանակ
B126: 1 ք.մ. շինության արժեք
B128: Սարքավորումներ և տեխնոլոգիաներ | E128: =E133+E136 -> 3480 | F128: =F133+F136 -> 1160 | G128: =G133+G136 -> 1160 | H128: =H133+H136 -> 1160
B129: Համակարգիչներ
...

Sheet a23
A1: 23 | B1: Ազատությունից զրկված անձանց զբաղվածության ապահովում
B3: Հոդված | C3: Նշումներ | D3: Ընդամենը | E3: =start -> 43831 | F3: =EOMONTH(E3,11)+1 -> 44197 | G3: =EOMONTH(F3,11)+1 -> 44562 | H3: =EOMONTH(G3,11)+1 -> 44927
B4: Համախառն աշխատավարձ
B5: Ներգրավված տեղական փորձագետների վարձատրություն | D5: =SUM(E5:H5) -> 3711.75 | E5: =E63 -> 3711.75 | F5: =F63 -> 0 | G5: =G63 -> 0 | H5: =H63 -> 0
B6: Ներգրավված միջազգային փորձագետների վարձատրություն | D6: =SUM(E6:H6) -> 0 | E6: =E68 -> 0 | F6: =F68 -> 0 | G6: =G68 -> 0 | H6: =H68 -> 0
B7: Ընդամենը աշխատավարձ | D7: =SUBTOTAL(9,D5:D6) -> 3711.75 | E7: =SUBTOTAL(9,E5:E6) -> 3711.75 | F7: =SUBTOTAL(9,F5:F6) -> 0 | G7: =SUBTOTAL(9,G5:G6) -> 0 | H7: =SUBTOTAL(9,H5:H6) -> 0
B9: Անձնակազմի ծախսեր
B10: Գործուղումներ | D10: =SUM(E10:H10) -> 0 | E10: =E88 -> 0 | F10: =F88 -> 0 | G10: =G88 -> 0 | H10: =H88 -> 0
B11: Անձնակազմի մոտիվացիոն ֆոնդ | D11: =SUM(E11:H11) -> 0 | E11: 0 | F11: 0 | G11: 0 | H11: 0
B12: Ընդամենը անձնակազմի ծախսեր | D12: =SUBTOTAL(9,D10:D11) -> 0 | E12: =SUBTOTAL(9,E10:E11) -> 0 | F12: =SUBTOTAL(9,F10:F11) -> 0 | G12: =SUBTOTAL(9,G10:G11) -> 0 | H12: =SUBTOTAL(9,H10:H11) -> 0
B14: Ներկայացուցչական ծախսեր
B15: Միջազգային փորձագետների ընդունում | D15: =SUM(E15:H15) -> 0 | E15: =E96 -> 0 | F15: =F96 -> 0 | G15: =G96 -> 0 | H15: =H96 -> 0
B16: Այլ ներկայացուցչական ծախսեր
B17: Ընդամենը ներկայացուցչական ծախսեր | D17: =SUBTOTAL(9,D15:D16) -> 0 | E17: =SUBTOTAL(9,E15:E16) -> 0 | F17: =SUBTOTAL(9,F15:F16) -> 0 | G17: =SUBTOTAL(9,G15:G16) -> 0 | H17: =SUBTOTAL(9,H15:H16) -> 0
B19: Դասընթացներ և միջոցառումներ
B20: Դասընթացներ | D20: =SUM(E20:H20) -> 0 | E20: =E100 -> 0 | F20: =F100 -> 0 | G20: =G100 -> 0 | H20: =H100 -> 0
B21: Միջոցառումներ | D21: =SUM(E21:H21) -> 0
B22: Ընդամենը դասընթացներ և միջոցառումներ | D22: =SUBTOTAL(9,D20:D21) -> 0 | E22: =SUBTOTAL(9,E20:E21) -> 0 | F22: =SUBTOTAL(9,F20:F21) -> 0 | G22: =SUBTOTAL(9,G20:G21) -> 0 | H22: =SUBTOTAL(9,H20:H21) -> 0
B24: Նյութեր
B25: Նյութերի թարգմանություն | D25: =SUM(E25:H25) -> 0 | E25: =E110 -> 0 | F25: =F110 -> 0 | G25: =G110 -> 0 | H25: =H110 -> 0
B26: Ուսումնական և մեթոդական նյութեր, տեխնոլոգիաներ | D26: =SUM(E26:H26) -> 0 | E26: =E131 -> 0 | F26: =F131 -> 0 | G26: =G131 -> 0 | H26: =H131 -> 0
B27: էլեկտրոնային ռեսուրսների ստեղծում կամ արդիականացում
B28: Ընդամենը նյութեր | D28: =SUBTOTAL(9,D25:D27) -> 0 | E28: =SUBTOTAL(9,E25:E27) -> 0 | F28: =SUBTOTAL(9,F25:F27) -> 0 | G28: =SUBTOTAL(9,G25:G27) -> 0 | H28: =SUBTOTAL(9,H25:H27) -> 0
B30: Կապիտալ ծախսեր
B31: Շենքեր, շինություններ | D31: =SUM(E31:H31) -> 0
B32: Սարքավորումներ և տեխնոլոգիաներ | D32: =SUM(E32:H32) -> 0 | E32: =E120 -> 0
B33: Կահույք | D33: =SUM(E33:H33) -> 0
B34: Այլ | D34: =SUM(E34:H34) -> 0
B35: Ընդամենը կապիտալ ծախսեր | D35: =SUBTOTAL(9,D31:D34) -> 0 | E35: =SUBTOTAL(9,E31:E34) -> 0 | F35: =SUBTOTAL(9,F31:F34) -> 0 | G35: =SUBTOTAL(9,G31:G34) -> 0 | H35: =SUBTOTAL(9,H31:H34) -> 0
B37: Գրասենյակային և վարչական ծախսեր
B38: Կոմունալ վճարներ, կապ, վարձակալություն և տարածքի պահպանման ծախսեր | D38: =SUM(E38:H38) -> 0
B39: Գրենական պիտույքներ, տնտեսական ապրանքներ | D39: =SUM(E39:H39) -> 0
B40: Համակարգչային պարագաներ, սարքավորումների սպասարկում և ծրագրային ապահովում | D40: =SUM(E40:H40) -> 0 | E40: =E177 -> 0 | F40: =F177 -> 0 | G40: =G177 -> 0 | H40: =H177 -> 0
B41: Տրանսպորտային ծախսեր | D41: =SUM(E41:H41) -> 0
B42: Այլ գրասենյակային ծախսեր | D42: =SUM(E42:H42) -> 0
B43: Ընդամենը գրասենյակային և վարչական ծախսեր | D43: =SUBTOTAL(9,D38:D42) -> 0 | E43: =SUBTOTAL(9,E38:E42) -> 0 | F43: =SUBTOTAL(9,F38:F42) -> 0 | G43: =SUBTOTAL(9,G38:G42) -> 0 | H43: =SUBTOTAL(9,H38:H42) -> 0
B45: Հանրային իրազեկում, հասարակայնության հետ կապեր
B46: Իրազեկման արշավ | D46: =SUM(E46:H46) -> 0 | E46: =E150 -> 0 | F46: =F150 -> 0 | G46: =G150 -> 0 | H46: =H150 -> 0
B47: Հանրային միջոցառումներ | D47: =SUM(E47:H47) -> 0 | E47: =E140 -> 0 | F47: =F140 -> 0 | G47: =G140 -> 0 | H47: =H140 -> 0
B48: Ընդամենը հանրային իրազեկում և հասարակայնության հետ կապեր | D48: =SUBTOTAL(9,D46:D47) -> 0 | E48: =SUBTOTAL(9,E46:E47) -> 0 | F48: =SUBTOTAL(9,F46:F47) -> 0 | G48: =SUBTOTAL(9,G46:G47) -> 0 | H48: =SUBTOTAL(9,H46:H47) -> 0
B50: Ընդամենը գործողության ֆինանսավորման կարիք | D50: =SUBTOTAL(9,D5:D48) -> 3711.75 | E50: =SUBTOTAL(9,E5:E48) -> 3711.75 | F50: =SUBTOTAL(9,F5:F48) -> 0 | G50: =SUBTOTAL(9,G5:G48) -> 0 | H50: =SUBTOTAL(9,H5:H48) -> 0
B52: Հաշվարկներ
B54: Հոդված | C54: Նշումներ | E54: =start -> 43831 | F54: =EOMONTH(E54,11)+1 -> 44197 | G54: =EOMONTH(F54,11)+1 -> 44562 | H54: =EOMONTH(G54,11)+1 -> 44927
B56: Աշխատավարձ
B57: Հիմնական փորձագետների աշխատավարձ | E57: =E58*E59*E60*E61 -> 0
B58: Հիմնական փորձագետների ընդհանուր քանակ | E58: 0
B59: Ներգրավվածության տոկոս | E59: 0
B60: Միջին ամսական համախառն աշխատավարձ | E60: 0
B61: Ամիսների քանակ | E61: 0
B63: Ներգրավված տեղական փորձագետների վարձատրություն* | E63: =E64*E65 -> 3711.75 | F63: =F64*F65 -> 0 | G63: =G64*G65 -> 0 | H63: =H64*H65 -> 0
B64: Տեղական փորձագետների միջին ներգրավման ծավալ* | C64: մարդ-օր | E64: =10*21 -> 210 | F64: 0 | G64: 0 | H64: 0
B65: Միջին օրական համախառն աշխատավարձ | E65: ='Rates and GI'!D12 -> 17.675 | F65: =E65*(1+index) -> 18.435025 | G65: =F65*(1+index) -> 19.227731 | H65: =G65*(1+index) -> 20.054524
B66: *Ֆոնդահայթայթման և գործարար կապերի կառուցման մասնագետ
B68: Ներգրավված միջազգային փորձագետների վարձատրություն | E68: =E69*E70 -> 0 | F68: =F69*F70 -> 0 | G68: =G69*G70 -> 0 | H68: =H69*H70 -> 0
B69: Միջազգային փորձագետների միջին ներգրավման ծավալ | C69: մարդ-օր | E69: 0 | F69: 0 | G69: 0 | H69: 0
B70: Միջին օրական համախառն աշխատավարձ | E70: ='Rates and GI'!D13 -> 162.216 | F70: =E70*(1+index) -> 169.19129 | G70: =F70*(1+index) -> 176.46651 | H70: =G70*(1+index) -> 184.05457
B72: Մասնագետների աշխատավարձ
B73: Ավագ մասնագետների ընդհանուր քանակ | E73: 0
B74: Ավագ մասնագետների միջին ամսական համախառն աշխատավարձ | E74: 0
B75: Կրտսեր մասնագետների ընդհանուր քանակ | E75: 0
B76: Կրտսեր մասնագետների միջին ամսական համախառն աշխատավարձ | E76: 0
B78: Վարչական անձնակազմի աշխատավարձ
B79: Վարչական աշխատողների ընդհանուր քանակ | E79: 0
B80: Վարչական աշխատողների միջին ամսական համախառն աշխատավարձ | E80: 0
B82: Օժանդակ անձնակազմի աշխատավարձ
B83: Օժանդակ աշխատողների ընդհանուր քանակ | E83: 0
B84: Օժանդակ անձնակազմի միջին ամսական համախառն աշխատավարձ | E84: 0
B86: Ամիսների քանակ
B88: Գործուղումներ | E88: =E89*E90+E92*E93 -> 0 | F88: =F89*F90+F92*F93 -> 0 | G88: =G89*G90+G92*G93 -> 0 | H88: =H89*H90+H92*H93 -> 0
B89: Արտասահմանյան գործուղումների միջին կանխատեսվող տարեկան քանակ | E89: 0 | F89: 0 | G89: 0 | H89: 0
B90: Արտասահմանյան մեկ գործուղման միջին գնահատվող ծախս մեկ անձի համար | E90: =Trips!$B$10 -> 908.23176 | F90: =Trips!$B$10 -> 908.23176 | G90: =Trips!$B$10 -> 908.23176 | H90: =Trips!$B$10 -> 908.23176
B92: Տեղական գործուղումների միջին կանխատեսվող տարեկան քանակ | E92: 0 | F92: 0 | G92: 0 | H92: 0
B93: Տեղական մեկ գործուղման միջին գնահատվող ծախս մեկ անձի համար | E93: =Trips!$B$5 -> 52 | F93: =Trips!$B$5 -> 52 | G93: =Trips!$B$5 -> 52 | H93: =Trips!$B$5 -> 52
B96: Միջազգային փորձագետների ընդունում և այլ ներկայացուցչական ծախսեր | E96: =E97*E98 -> 0 | F96: =F97*F98 -> 0 | G96: =G97*G98 -> 0 | H96: =H97*H98 -> 0
B97: Միջազգային փորձագետների միջին այցերի կանխատեսվող քանակ | C97: այց | E97: 0 | F97: 0 | G97: 0 | H97: 0
B98: Մեկ օրվա կանխատեսվող միջին ծախս | E98: =Trips!B41 -> 631.70366 | F98: =E98*(1+index) -> 658.86692 | G98: =F98*(1+index) -> 687.19819 | H98: =G98*(1+index) -> 716.74772
B100: Դասընթացներ | E100: =E101*E102+E103*E104+E105 -> 0 | F100: =F101*F102+F103*F104+F105 -> 0 | G100: =G101*G102+G103*G104+G105 -> 0 | H100: =H101*H102+H103*H104+H105 -> 0
B101: Արտասահմանում դասընթացին մասնակցելու վճար | C101: 1 անձի համար | F101: =Training!$C$33 -> 81.108 | G101: =Training!$C$33 -> 81.108 | H101: =Training!$C$33 -> 81.108
B102: Մասնակիցնրի քանակ | F102: =F89 -> 0 | G102: =G89 -> 0 | H102: =H89 -> 0
B103: Տեղական դասընացի արժեք | F103: =Training!C$23 -> 709.375 | G103: =F103*(1+index) -> 739.87812 | H103: =G103*(1+index) -> 771.69288
B104: Դասընթացների քանակ | E104: 0 | F104: 0 | G104: 0 | H104: 0
B105: Արտապատվիրակված դասընթացներ | E105: =E106*E108 -> 0 | F105: =F106*F108 -> 0 | G105: =G106*G108 -> 0 | H105: =H106*H108 -> 0
B106: Արտապատվիրակված դասընթացի արժեք | C106: 1 անձ | E106: =Training!C39 -> 561.6 | F106: =E106*(1+index) -> 585.7488 | G106: =F106*(1+index) -> 610.936 | H106: =G106*(1+index) -> 637.20625
B107: Մասնակցության ցուցանիշ
B108: Մասնակիցնրի քանակ | E108: 0 | F108: 0 | G108: 0 | H108: 0
B110: Նյութերի թարգմանություն | E110: =E111*E112 -> 0 | F110: =F111*F112 -> 0 | G110: =G111*G112 -> 0 | H110: =H111*H112 -> 0
B111: Թարգմանվող նյութի կանխատեսվող էջեր | E111: 0 | F111: 0 | G111: 0 | H111: 0
B112: Մեկ էջի թարգմանության կանխատեսվող արժեք | E112: ='Rates and GI'!D25 -> 6 | F112: =E112*(1+index) -> 6.258 | G112: =F112*(1+index) -> 6.527094 | H112: =G112*(1+index) -> 6.807759
B114: Կապիտալ ծախսեր
B115: Շենքեր, շինություններ
B116: Մեկ աշխատողի հաշվարկային տարածք | C116: ք.մ.
B117: Աշխատողների ընդհանուր քանակ
B118: 1 ք.մ. շինության արժեք
B120: Սարքավորումներ և տեխնոլոգիաներ | E120: =E125*E126 -> 0 | F120: =F125*F126 -> 0
B121: Համակարգիչներ
B122: Միավորի միջին կանխատեսվող գին
B123: Միջին կանխատեսվող քանակ
B124: Սարքավորումներ
B125: Միավորի միջին կանխատեսվող գին | E125: ='Rates and GI'!$D$31 -> 350 | F125: ='Rates and GI'!$D$31 -> 350 | G125: ='Rates and GI'!$D$31 -> 350 | H125: ='Rates and GI'!$D$31 -> 350
B126: Միջին կանխատեսվող քանակ | E126: 0 | F126: 0
...

Sheet a24
A1: 24 | B1: «Իրավախախտում կատարած անձանց գեղագիտական դաստիարակություն և կրթություն» ծրագրի շրջանակների ընդլայնում
B3: Հոդված | C3: Նշումներ | D3: Ընդամենը | E3: =start -> 43831 | F3: =EOMONTH(E3,11)+1 -> 44197 | G3: =EOMONTH(F3,11)+1 -> 44562 | H3: =EOMONTH(G3,11)+1 -> 44927
B4: Համախառն աշխատավարձ
B5: Ներգրավված տեղական փորձագետների վարձատրություն | D5: =SUM(E5:H5) -> 742.35 | E5: =E63 -> 742.35 | F5: =F63 -> 0 | G5: =G63 -> 0 | H5: =H63 -> 0
B6: Ներգրավված միջազգային փորձագետների վարձատրություն | D6: =SUM(E6:H6) -> 0 | E6: =E67 -> 0 | F6: =F67 -> 0 | G6: =G67 -> 0 | H6: =H67 -> 0
B7: Ընդամենը աշխատավարձ | D7: =SUBTOTAL(9,D5:D6) -> 742.35 | E7: =SUBTOTAL(9,E5:E6) -> 742.35 | F7: =SUBTOTAL(9,F5:F6) -> 0 | G7: =SUBTOTAL(9,G5:G6) -> 0 | H7: =SUBTOTAL(9,H5:H6) -> 0
B9: Անձնակազմի ծախսեր
B10: Գործուղումներ | D10: =SUM(E10:H10) -> 0 | E10: =E87 -> 0 | F10: =F87 -> 0 | G10: =G87 -> 0 | H10: =H87 -> 0
B11: Անձնակազմի մոտիվացիոն ֆոնդ | D11: =SUM(E11:H11) -> 0 | E11: 0 | F11: 0 | G11: 0 | H11: 0
B12: Ընդամենը անձնակազմի ծախսեր | D12: =SUBTOTAL(9,D10:D11) -> 0 | E12: =SUBTOTAL(9,E10:E11) -> 0 | F12: =SUBTOTAL(9,F10:F11) -> 0 | G12: =SUBTOTAL(9,G10:G11) -> 0 | H12: =SUBTOTAL(9,H10:H11) -> 0
B14: Ներկայացուցչական ծախսեր
B15: Միջազգային փորձագետների ընդունում | D15: =SUM(E15:H15) -> 0 | E15: =E95 -> 0 | F15: =F95 -> 0 | G15: =G95 -> 0 | H15: =H95 -> 0
B16: Այլ ներկայացուցչական ծախսեր
B17: Ընդամենը ներկայացուցչական ծախսեր | D17: =SUBTOTAL(9,D15:D16) -> 0 | E17: =SUBTOTAL(9,E15:E16) -> 0 | F17: =SUBTOTAL(9,F15:F16) -> 0 | G17: =SUBTOTAL(9,G15:G16) -> 0 | H17: =SUBTOTAL(9,H15:H16) -> 0
B19: Դասընթացներ և միջոցառումներ
B20: Դասընթացներ | D20: =SUM(E20:H20) -> 0 | E20: =E99 -> 0 | F20: =F99 -> 0 | G20: =G99 -> 0 | H20: =H99 -> 0
B21: Միջոցառումներ | D21: =SUM(E21:H21) -> 0
B22: Ընդամենը դասընթացներ և միջոցառումներ | D22: =SUBTOTAL(9,D20:D21) -> 0 | E22: =SUBTOTAL(9,E20:E21) -> 0 | F22: =SUBTOTAL(9,F20:F21) -> 0 | G22: =SUBTOTAL(9,G20:G21) -> 0 | H22: =SUBTOTAL(9,H20:H21) -> 0
B24: Նյութեր
B25: Նյութերի թարգմանություն | D25: =SUM(E25:H25) -> 0 | E25: =E109 -> 0 | F25: =F109 -> 0 | G25: =G109 -> 0 | H25: =H109 -> 0
B26: Ուսումնական և մեթոդական նյութեր, տեխնոլոգիաներ | D26: =SUM(E26:H26) -> 0 | E26: =E130 -> 0 | F26: =F130 -> 0 | G26: =G130 -> 0 | H26: =H130 -> 0
B27: էլեկտրոնային ռեսուրսների ստեղծում կամ արդիականացում
B28: Ընդամենը նյութեր | D28: =SUBTOTAL(9,D25:D27) -> 0 | E28: =SUBTOTAL(9,E25:E27) -> 0 | F28: =SUBTOTAL(9,F25:F27) -> 0 | G28: =SUBTOTAL(9,G25:G27) -> 0 | H28: =SUBTOTAL(9,H25:H27) -> 0
B30: Կապիտալ ծախսեր
B31: Շենքեր, շինություններ | D31: =SUM(E31:H31) -> 0
B32: Սարքավորումներ և տեխնոլոգիաներ | D32: =SUM(E32:H32) -> 0 | E32: =E119 -> 0
B33: Կահույք | D33: =SUM(E33:H33) -> 0
B34: Այլ | D34: =SUM(E34:H34) -> 0
B35: Ընդամենը կապիտալ ծախսեր | D35: =SUBTOTAL(9,D31:D34) -> 0 | E35: =SUBTOTAL(9,E31:E34) -> 0 | F35: =SUBTOTAL(9,F31:F34) -> 0 | G35: =SUBTOTAL(9,G31:G34) -> 0 | H35: =SUBTOTAL(9,H31:H34) -> 0
B37: Գրասենյակային և վարչական ծախսեր
B38: Կոմունալ վճարներ, կապ, վարձակալություն և տարածքի պահպանման ծախսեր | D38: =SUM(E38:H38) -> 0
B39: Գրենական պիտույքներ, տնտեսական ապրանքներ | D39: =SUM(E39:H39) -> 0
B40: Համակարգչային պարագաներ, սարքավորումների սպասարկում և ծրագրային ապահովում | D40: =SUM(E40:H40) -> 0 | E40: =E176 -> 0 | F40: =F176 -> 0 | G40: =G176 -> 0 | H40: =H176 -> 0
B41: Տրանսպորտային ծախսեր | D41: =SUM(E41:H41) -> 0
B42: Այլ գրասենյակային ծախսեր | D42: =SUM(E42:H42) -> 0
B43: Ընդամենը գրասենյակային և վարչական ծախսեր | D43: =SUBTOTAL(9,D38:D42) -> 0 | E43: =SUBTOTAL(9,E38:E42) -> 0 | F43: =SUBTOTAL(9,F38:F42) -> 0 | G43: =SUBTOTAL(9,G38:G42) -> 0 | H43: =SUBTOTAL(9,H38:H42) -> 0
B45: Հանրային իրազեկում, հասարակայնության հետ կապեր
B46: Իրազեկման արշավ | D46: =SUM(E46:H46) -> 0 | E46: =E149 -> 0 | F46: =F149 -> 0 | G46: =G149 -> 0 | H46: =H149 -> 0
B47: Հանրային միջոցառումներ | D47: =SUM(E47:H47) -> 0 | E47: =E139 -> 0 | F47: =F139 -> 0 | G47: =G139 -> 0 | H47: =H139 -> 0
B48: Ընդամենը հանրային իրազեկում և հասարակայնության հետ կապեր | D48: =SUBTOTAL(9,D46:D47) -> 0 | E48: =SUBTOTAL(9,E46:E47) -> 0 | F48: =SUBTOTAL(9,F46:F47) -> 0 | G48: =SUBTOTAL(9,G46:G47) -> 0 | H48: =SUBTOTAL(9,H46:H47) -> 0
B50: Ընդամենը գործողության ֆինանսավորման կարիք | D50: =SUBTOTAL(9,D5:D48) -> 742.35 | E50: =SUBTOTAL(9,E5:E48) -> 742.35 | F50: =SUBTOTAL(9,F5:F48) -> 0 | G50: =SUBTOTAL(9,G5:G48) -> 0 | H50: =SUBTOTAL(9,H5:H48) -> 0
B52: Հաշվարկներ
B54: Հոդված | C54: Նշումներ | E54: =start -> 43831 | F54: =EOMONTH(E54,11)+1 -> 44197 | G54: =EOMONTH(F54,11)+1 -> 44562 | H54: =EOMONTH(G54,11)+1 -> 44927
B56: Աշխատավարձ
B57: Հիմնական փորձագետների աշխատավարձ | E57: =E58*E59*E60*E61 -> 0
B58: Հիմնական փորձագետների ընդհանուր քանակ | E58: 0
B59: Ներգրավվածության տոկոս | E59: 0
B60: Միջին ամսական համախառն աշխատավարձ | E60: 0
B61: Ամիսների քանակ | E61: 0
B63: Ներգրավված տեղական փորձագետների վարձատրություն | E63: =E64*E65 -> 742.35 | F63: =F64*F65 -> 0 | G63: =G64*G65 -> 0 | H63: =H64*H65 -> 0
B64: Տեղական փորձագետների միջին ներգրավման ծավալ | C64: մարդ-օր | E64: =2*21 -> 42 | F64: 0 | G64: 0 | H64: 0
B65: Միջին օրական համախառն աշխատավարձ | E65: ='Rates and GI'!D12 -> 17.675 | F65: =E65*(1+index) -> 18.435025 | G65: =F65*(1+index) -> 19.227731 | H65: =G65*(1+index) -> 20.054524
B67: Ներգրավված միջազգային փորձագետների վարձատրություն | E67: =E68*E69 -> 0 | F67: =F68*F69 -> 0 | G67: =G68*G69 -> 0 | H67: =H68*H69 -> 0
B68: Միջազգային փորձագետների միջին ներգրավման ծավալ | C68: մարդ-օր | E68: 0 | F68: 0 | G68: 0 | H68: 0
B69: Միջին օրական համախառն աշխատավարձ | E69: ='Rates and GI'!D13 -> 162.216 | F69: =E69*(1+index) -> 169.19129 | G69: =F69*(1+index) -> 176.46651 | H69: =G69*(1+index) -> 184.05457
B71: Մասնագետների աշխատավարձ
B72: Ավագ մասնագետների ընդհանուր քանակ | E72: 0
B73: Ավագ մասնագետների միջին ամսական համախառն աշխատավարձ | E73: 0
B74: Կրտսեր մասնագետների ընդհանուր քանակ | E74: 0
B75: Կրտսեր մասնագետների միջին ամսական համախառն աշխատավարձ | E75: 0
B77: Վարչական անձնակազմի աշխատավարձ
B78: Վարչական աշխատողների ընդհանուր քանակ | E78: 0
B79: Վարչական աշխատողների միջին ամսական համախառն աշխատավարձ | E79: 0
B81: Օժանդակ անձնակազմի աշխատավարձ
B82: Օժանդակ աշխատողների ընդհանուր քանակ | E82: 0
B83: Օժանդակ անձնակազմի միջին ամսական համախառն աշխատավարձ | E83: 0
B85: Ամիսների քանակ
B87: Գործուղումներ | E87: =E88*E89+E91*E92 -> 0 | F87: =F88*F89+F91*F92 -> 0 | G87: =G88*G89+G91*G92 -> 0 | H87: =H88*H89+H91*H92 -> 0
