Workbook
Name _Hlk18427898: Emp!#REF!
Name eur: 'Rates and GI'!$D$7
Name index: 'Rates and GI'!$E$8
Name start: 'Rates and GI'!$B$2
Name usd: 'Rates and GI'!$D$6

Sheet Summary
A1: Միջոցառումների ֆինանսավորման կարիքների ամփոփաթերթ
G2: Հազար ՀՀ դրամ
A4: Գործողության համար | B4: Գործողության անվանում | C4: Ընդամենը գործողության ֆինանսավորման կարիք | D4: Գործողության ֆինանսավորման կարիք ըստ տարիների
D5: =start -> 43831 | E5: =EOMONTH(D5,11)+1 -> 44197 | F5: =EOMONTH(E5,11)+1 -> 44562 | G5: =EOMONTH(F5,11)+1 -> 44927
B6: ՔՐԵԱԿԱՏԱՐՈՂԱԿԱՆ ՈԼՈՐՏ
A7: ='a1'!A1 -> 1 | B7: ='a1'!B1 -> Միջազգային պարտավորությունների, Մարդու իրավունքների եվրոպական դատարանի վճիռների, Խոշտանգումների և անմարդկային կամ նվաստացնող վերաբերմունքի կամ պատժի կանխարգելման եվրոպական կոմիտեի (ԽԿԿ), ՀՀ Մարդու իրավունքների պաշտպանի զեկույցների, ՀՀ արդարադատության նախարարության քրեակատարողական հիմնարկներում և մարմիններում հասարակական վերահսկողություն իրականացնող հասարակական դիտորդների խմբի հաշվետվությունների, հաշվառմամբ Քրեակատարողական նոր օրենսգրքի նախագծի մշակում | C7: =SUM(D7:G7) -> 3600 | D7: ='a1'!E50 -> 3600 | E7: ='a1'!F50 -> 0 | F7: ='a1'!G50 -> 0 | G7: ='a1'!H50 -> 0
A8: ='a2'!A1 -> 2 | B8: ='a2'!B1 -> «Հայաստանի Հանրապետության կառավարության 2006 թվականի օգոստոսի 3-ի թիվ 1543-Ն որոշման մեջ փոփոխություններ և լրացումներ կատարելու մասին» ՀՀ կառավարության որոշման նախագծի մշակում և ներկայացնում ՀՀ վարչապետի աշխատակազմ | C8: =SUM(D8:G8) -> 7600 | D8: ='a2'!E50 -> 7600 | E8: ='a2'!F50 -> 0 | F8: ='a2'!G50 -> 0 | G8: ='a2'!H50 -> 0
A9: ='a3'!A1 -> 3 | B9: ='a3'!B1 -> Կալանավորված անձանց և դատապարտյալների հետ սոցիալական, հոգեբանական և իրավական աշխատանքներ իրականացնող կառուցվածքային ստորաբաժանումների գործունեության կարգի արդյունավետության բարձրացում | C9: =SUM(D9:G9) -> 1400 | D9: ='a3'!E50 -> 1400 | E9: ='a3'!F50 -> 0 | F9: ='a3'!G50 -> 0 | G9: ='a3'!H50 -> 0
A10: ='a7'!A1 -> 7 | B10: ='a7'!B1 -> Քրեակատարողական համակարգում կոռուպցիայի դեմ պայքար | C10: =SUM(D10:G10) -> 111098.88 | D10: ='a7'!E55 -> 111098.88 | E10: ='a7'!F55 -> 0 | F10: ='a7'!G55 -> 0 | G10: ='a7'!H55 -> 0
A11: ='a8'!A1 -> 8 | B11: ='a8'!B1 -> Պատիժը կրելուց պայմանական վաղաժամկետ ազատման ինստիտուտի արդյունավետության ապահովում | C11: =SUM(D11:G11) -> 6820.061 | D11: ='a8'!E50 -> 6820.061 | E11: ='a8'!F50 -> 0 | F11: ='a8'!G50 -> 0 | G11: ='a8'!H50 -> 0
A12: ='a9'!A1 -> 9 | B12: ='a9'!B1 -> Քրեակատարողական ծառայության և քրեակատարողական հիմնարկների կառավարման և գնահատման մոդելի արդիականացում | C12: =SUM(D12:G12) -> 18057.629 | D12: ='a9'!E50 -> 18057.629 | E12: ='a9'!F50 -> 0 | F12: ='a9'!G50 -> 0 | G12: ='a9'!H50 -> 0
A13: ='a10'!A1 -> 10 | B13: ='a10'!B1 -> Քրեակատարողական հիմնարկներում տնտեսվարման արդյունավետ մեխանիզմների ապահովում | C13: =SUM(D13:G13) -> 2327.05 | D13: ='a10'!E50 -> 2327.05 | E13: ='a10'!F50 -> 0 | F13: ='a10'!G50 -> 0 | G13: ='a10'!H50 -> 0
A14: ='a11'!A1 -> 11 | B14: ='a11'!B1 -> Քրեակատարողական հիմնարկների օպտիմալացում, շենքային պայմանների բարելավում | C14: =SUM(D14:G14) -> 35233334 | D14: ='a11'!E54 -> 10142648 | E14: ='a11'!F54 -> 12461972 | F14: ='a11'!G54 -> 10000872 | G14: ='a11'!H54 -> 2627842
A15: ='a12'!A1 -> 12 | B15: ='a12'!B1 -> Անչափահաս դատապարտյալների պահման պայմանների բարելավում | C15: =SUM(D15:G15) -> 972727.14 | D15: ='a12'!E54 -> 46029.436 | E15: ='a12'!F54 -> 370059 | F15: ='a12'!G54 -> 369648.12 | G15: ='a12'!H54 -> 186990.59
A16: ='a14'!A1 -> 14 | B16: ='a14'!B1 -> ՀՀ քրեակատարողական հիմնարկներում արդի ինժեներատեխնիկական և անվտանգության ապահովման միջոցներով վերազինում | C16: =SUM(D16:G16) -> 1188000 | D16: ='a14'!E55 -> 36000 | E16: ='a14'!F55 -> 1152000 | F16: ='a14'!G55 -> 0 | G16: ='a14'!H55 -> 0
A17: ='a15'!A1 -> 15 | B17: ='a15'!B1 -> Քրեակատարողական ծառայողների սոցիալական պայմանների բարելավում | C17: =SUM(D17:G17) -> 7325579.5 | D17: ='a15'!E57 -> 1746275.4 | E17: ='a15'!F57 -> 1805192.2 | F17: ='a15'!G57 -> 1859682.4 | G17: ='a15'!H57 -> 1914429.4
A18: ='a17'!A1 -> 17 | B18: ='a17'!B1 -> «Քրեակատարողական գործ» նախնական մասնագիտական (արհեստագործական) կրթության կազմակերպում | C18: =SUM(D18:G18) -> 202620 | D18: ='a17'!E50 -> 81030 | E18: ='a17'!F50 -> 40530 | F18: ='a17'!G50 -> 40530 | G18: ='a17'!H50 -> 40530
A19: ='a18'!A1 -> 18 | B19: ='a18'!B1 -> Քրեակատարողական համակարգում էլեկտրոնային կառավարման գործիքների կիրառման խթանում | C19: =SUM(D19:G19) -> 173856.5 | D19: ='a18'!E60 -> 137856.5 | E19: ='a18'!F60 -> 12000 | F19: ='a18'!G60 -> 12000 | G19: ='a18'!H60 -> 12000
A20: ='a19'!A1 -> 19 | B20: ='a19'!B1 -> Ազատությունից զրկված անձանց ռիսկերի և կարիքների գնահատման գործիքի ներդնում | C20: =SUM(D20:G20) -> 42371.826 | D20: ='a19'!E54 -> 42371.826 | E20: ='a19'!F54 -> 0 | F20: ='a19'!G54 -> 0 | G20: ='a19'!H54 -> 0
A21: ='a20'!A1 -> 20 | B21: ='a20'!B1 -> Ազատությունից զրկված անչափահաս անձանց ռիսկերի և կարիքների գնահատման գործիքի ներդնում | C21: =SUM(D21:G21) -> 8311.1 | D21: ='a20'!E54 -> 8311.1 | E21: ='a20'!F54 -> 0 | F21: ='a20'!G54 -> 0 | G21: ='a20'!H54 -> 0
A22: ='a21'!A1 -> 21 | B22: ='a21'!B1 -> Ազատությունից զրկված անչափահասների կրթություն ստանալու իրավունքի շարունակականության ապահովում | C22: =SUM(D22:G22) -> 63641.748 | D22: ='a21'!E54 -> 14920.2 | E22: ='a21'!F54 -> 15561.769 | F22: ='a21'!G54 -> 16230.925 | G22: ='a21'!H54 -> 16928.854
A23: ='a22'!A1 -> 22 | B23: ='a22'!B1 -> Ազատությունից զրկված անձանց մասնագիտական կրթության նոր ծրագրերի ներդնում | C23: =SUM(D23:G23) -> 954396.2 | D23: ='a22'!E50 -> 138343.83 | E23: ='a22'!F50 -> 194457.1 | F23: ='a22'!G50 -> 269971.84 | G23: ='a22'!H50 -> 351623.44
A24: ='a23'!A1 -> 23 | B24: ='a23'!B1 -> Ազատությունից զրկված անձանց զբաղվածության ապահովում | C24: =SUM(D24:G24) -> 3711.75 | D24: ='a23'!E50 -> 3711.75 | E24: ='a23'!F50 -> 0 | F24: ='a23'!G50 -> 0 | G24: ='a23'!H50 -> 0
A25: ='a24'!A1 -> 24 | B25: ='a24'!B1 -> «Իրավախախտում կատարած անձանց գեղագիտական դաստիարակություն և կրթություն» ծրագրի շրջանակների ընդլայնում | C25: =SUM(D25:G25) -> 742.35 | D25: ='a24'!E50 -> 742.35 | E25: ='a24'!F50 -> 0 | F25: ='a24'!G50 -> 0 | G25: ='a24'!H50 -> 0
A26: ='a25'!A1 -> 25 | B26: ='a25'!B1 -> Դատապարտյալների, այդ թվում՝ պատժի կրումից պայմանական վաղաժամկետ ազատման համար դիմած դատապարտյալների համար ազատազրկման ժամկետը (կամ պատժի կրումից պայմանական վաղաժամկետ ազատման համար նախատեսված ժամկետը) լրանալուց առնվազն վեց ամիս առաջ մասնագիտական ուսուցման դասընթացների անցկացում | C26: =SUM(D26:G26) -> 77725.18 | D26: ='a25'!E50 -> 20749.164 | E26: ='a25'!F50 -> 18198.264 | F26: ='a25'!G50 -> 18980.789 | G26: ='a25'!H50 -> 19796.963
A27: ='a26'!A1 -> 26 | B27: ='a26'!B1 -> Ազատությունից զրկված անձանց (դատապարտյալների և /կամ կալանավորված անձանց) համար առցանց-հեռավար կրթական հարթակի պատրաստում, որի միջոցով հնարավոր կլինի այդ անձանց համար իրականացնել ֆորմալ և ոչ ֆորմալ կրթություն | C27: =SUM(D27:G27) -> 97942.35 | D27: ='a26'!E46 -> 86199.493 | E27: ='a26'!F46 -> 5271.4286 | F27: ='a26'!G46 -> 5271.4286 | G27: ='a26'!H46 -> 1200
A28: ='a27'!A1 -> 27 | B28: ='a27'!B1 -> Ազատությունից զրկված անձանց (դատապարտյալների և /կամ կալանավորված անձանց) համար հանրակրթության իրականացում՝ անկախ տարիքից | C28: =SUM(D28:G28) -> 127180.1 | D28: ='a27'!E50 -> 0 | E28: ='a27'!F50 -> 40621.6 | F28: ='a27'!G50 -> 42368.329 | G28: ='a27'!H50 -> 44190.167
A29: ='a28'!A1 -> 28 | B29: ='a28'!B1 -> Ազատությունից զրկված անձանց (դատապարտյալների և /կամ կալանավորված անձանց) ազատազրկման ժամկետը լրանալուց հետո սոցիալական-իրավական հարցերով աջակցության տրամադրում (Երևանում և այլ համայնքներում վերականգնողական կենտրոնների գործունեության մոդելով) | C29: =SUM(D29:G29) -> 129780.73 | D29: ='a28'!E51 -> 31816.464 | E29: ='a28'!F51 -> 31290 | F29: ='a28'!G51 -> 32635.47 | G29: ='a28'!H51 -> 34038.795
A30: ='a29'!A1 -> 29 | B30: ='a29'!B1 -> Ընտանիքում բռնության գործադրման համար դատապարտված անձանց հետ վերականգնողական աշխատանքների իրականացում | C30: =SUM(D30:G30) -> 28491.964 | D30: ='a29'!E50 -> 16744.73 | E30: ='a29'!F50 -> 3754.3906 | F30: ='a29'!G50 -> 3913.4644 | G30: ='a29'!H50 -> 4079.3784
A31: ='a31'!A1 -> 31 | B31: ='a31'!B1 -> Քրեակատարողական հիմնարկներում ազատությունից զրկված հաշմանդամություն ունեցող անձանց պահման մատչելի պայմանների ապահովմանն ուղղված միջոցառումների իրականացում | C31: =SUM(D31:G31) -> 61413.613 | D31: ='a31'!E54 -> 52907.832 | E31: ='a31'!F54 -> 2716.765 | F31: ='a31'!G54 -> 2833.5859 | G31: ='a31'!H54 -> 2955.4301
A32: ='a32'!A1 -> 32 | B32: ='a32'!B1 -> Ազատությունից զրկված և հատուկ պաշտպանության կարիք ունեցող անձանց իրավունքների երաշխավորում | C32: =SUM(D32:G32) -> 41795.387 | D32: ='a32'!E54 -> 8556.1156 | E32: ='a32'!F54 -> 11143.663 | F32: ='a32'!G54 -> 10815.276 | G32: ='a32'!H54 -> 11280.333
A33: ='a33'!A1 -> 33 | B33: ='a33'!B1 -> Ազատությունից զրկված անձանց արտաքին աշխարհի հետ կապի իրավունքի պատշաճ իրացման ապահովում | C33: =SUM(D33:G33) -> 27629.47 | D33: ='a33'!E58 -> 17022.219 | E33: ='a33'!F58 -> 3257.7844 | F33: ='a33'!G58 -> 3531.8224 | G33: ='a33'!H58 -> 3817.644
A34: ='a34'!A1 -> 34 | B34: ='a34'!B1 -> Քրեակատարողական հիմնարկներում բժշկական ծառայության արդիականացում | C34: =SUM(D34:G34) -> 736427.27 | D34: ='a34'!E55 -> 256174.01 | E34: ='a34'!F55 -> 159936.12 | F34: ='a34'!G55 -> 160082.32 | G34: ='a34'!H55 -> 160234.81
A35: ='a38'!A1 -> 38 | B35: ='a38'!B1 -> Առանց ժամանակի կորստի ազատությունից զրկված անձանց ըստ անհրաժեշտության դեղերի տրամադրման գործընթացի արդյունավետության բարձրացում | C35: =SUM(D35:G35) -> 3506.7 | D35: ='a38'!E54 -> 3506.7 | E35: ='a38'!F54 -> 0 | F35: ='a38'!G54 -> 0 | G35: ='a38'!H54 -> 0
A36: ='a39'!A1 -> 39 | B36: ='a39'!B1 -> Ազատությունից զրկված անձանց դիետիկ սննդով ապահովում | C36: =SUM(D36:G36) -> 35131.971 | D36: ='a39'!E54 -> 11284.525 | E36: ='a39'!F54 -> 11452.318 | F36: ='a39'!G54 -> 6093.3882 | G36: ='a39'!H54 -> 6301.7399
A37: ='a40'!A1 -> 40 | B37: ='a40'!B1 -> Քրեակատարողական հիմնարկներում մահվան, ինքնավնասման և ինքնասպանության դեպքերի կանխարգելում | C37: =SUM(D37:G37) -> 55439.411 | D37: ='a40'!E54 -> 17037.065 | E37: ='a40'!F54 -> 12284.514 | F37: ='a40'!G54 -> 12793.487 | G37: ='a40'!H54 -> 13324.345
A38: ='a41'!A1 -> 41 | B38: ='a41'!B1 -> Քրեակատարողական հիմնարկներում մահվան, ինքնավնասման և ինքնասպանության դեպքերի կանխարգելում | C38: =SUM(D38:G38) -> 10261.044 | D38: ='a41'!E54 -> 10261.044 | E38: ='a41'!F54 -> 0 | F38: ='a41'!G54 -> 0 | G38: ='a41'!H54 -> 0
A39: ='a42'!A1 -> 42 | B39: ='a42'!B1 -> Ազատությունից զրկված անձանց տրամադրվող հոգեբանական ծառայության որակի բարձրացում | C39: =SUM(D39:G39) -> 18042.25 | D39: ='a42'!E55 -> 9168.0665 | E39: ='a42'!F55 -> 3161.2489 | F39: ='a42'!G55 -> 2806.6932 | G39: ='a42'!H55 -> 2906.2415
A40: ='a43'!A1 -> 43 | B40: ='a43'!B1 -> Քրեակատարողական հիմնարկներում երկրորդային (հիվանդանոցային) բժշկական օգնության և սպասարկման տրամադրման պայմանների բարելավում | C40: =SUM(D40:G40) -> 17010.919 | D40: ='a43'!E54 -> 3625.05 | E40: ='a43'!F54 -> 5387.2767 | F40: ='a43'!G54 -> 5487.1576 | G40: ='a43'!H54 -> 2511.435
A41: ='a44'!A1 -> 44 | B41: ='a44'!B1 -> Քրեակատարողական և Պրոբացիայի ծառայությունների արդյունավետ համագործակցության մեխանիզմների ներդնում | C41: =SUM(D41:G41) -> 9777.6604 | D41: ='a44'!E54 -> 4193.5135 | E41: ='a44'!F54 -> 5584.1469 | F41: ='a44'!G54 -> 0 | G41: ='a44'!H54 -> 0
...

Sheet a1
A1: 1 | B1: Միջազգային պարտավորությունների, Մարդու իրավունքների եվրոպական դատարանի վճիռների, Խոշտանգումների և անմարդկային կամ նվաստացնող վերաբերմունքի կամ պատժի կանխարգելման եվրոպական կոմիտեի (ԽԿԿ), ՀՀ Մարդու իրավունքների պաշտպանի զեկույցների, ՀՀ արդարադատության նախարարության քրեակատարողական հիմնարկներում և մարմիններում հասարակական վերահսկողություն իրականացնող հասարակական դիտորդների խմբի հաշվետվությունների, հաշվառմամբ Քրեակատարողական նոր օրենսգրքի նախագծի մշակում
B3: Հոդված | C3: Նշումներ | D3: Ընդամենը | E3: =start -> 43831 | F3: =EOMONTH(E3,11)+1 -> 44197 | G3: =EOMONTH(F3,11)+1 -> 44562 | H3: =EOMONTH(G3,11)+1 -> 44927
B4: Համախառն աշխատավարձ
B5: Ներգրավված տեղական փորձագետների վարձատրություն | D5: =SUM(E5:H5) -> 0 | E5: =E63 -> 0 | F5: =F63 -> 0 | G5: =G63 -> 0 | H5: =H63 -> 0
B6: Ներգրավված միջազգային փորձագետների վարձատրություն | D6: =SUM(E6:H6) -> 0 | E6: =E67 -> 0 | F6: =F67 -> 0 | G6: =G67 -> 0 | H6: =H67 -> 0
B7: Ընդամենը աշխատավարձ | D7: =SUBTOTAL(9,D5:D6) -> 0 | E7: =SUBTOTAL(9,E5:E6) -> 0 | F7: =SUBTOTAL(9,F5:F6) -> 0 | G7: =SUBTOTAL(9,G5:G6) -> 0 | H7: =SUBTOTAL(9,H5:H6) -> 0
B9: Անձնակազմի ծախսեր
B10: Գործուղումներ | D10: =SUM(E10:H10) -> 0 | E10: =E87 -> 0 | F10: =F87 -> 0 | G10: =G87 -> 0 | H10: =H87 -> 0
B11: Անձնակազմի մոտիվացիոն ֆոնդ | D11: =SUM(E11:H11) -> 0 | E11: 0 | F11: 0 | G11: 0 | H11: 0
B12: Ընդամենը անձնակազմի ծախսեր | D12: =SUBTOTAL(9,D10:D11) -> 0 | E12: =SUBTOTAL(9,E10:E11) -> 0 | F12: =SUBTOTAL(9,F10:F11) -> 0 | G12: =SUBTOTAL(9,G10:G11) -> 0 | H12: =SUBTOTAL(9,H10:H11) -> 0
B14: Ներկայացուցչական ծախսեր
B15: Միջազգային փորձագետների ընդունում | D15: =SUM(E15:H15) -> 0 | E15: =E95 -> 0 | F15: =F95 -> 0 | G15: =G95 -> 0 | H15: =H95 -> 0
B16: Այլ ներկայացուցչական ծախսեր
B17: Ընդամենը ներկայացուցչական ծախսեր | D17: =SUBTOTAL(9,D15:D16) -> 0 | E17: =SUBTOTAL(9,E15:E16) -> 0 | F17: =SUBTOTAL(9,F15:F16) -> 0 | G17: =SUBTOTAL(9,G15:G16) -> 0 | H17: =SUBTOTAL(9,H15:H16) -> 0
B19: Դասընթացներ և միջոցառումներ
B20: Դասընթացներ | D20: =SUM(E20:H20) -> 0 | E20: =E99 -> 0 | F20: =F99 -> 0 | G20: =G99 -> 0 | H20: =H99 -> 0
B21: Միջոցառումներ | D21: =SUM(E21:H21) -> 0
B22: Ընդամենը դասընթացներ և միջոցառումներ | D22: =SUBTOTAL(9,D20:D21) -> 0 | E22: =SUBTOTAL(9,E20:E21) -> 0 | F22: =SUBTOTAL(9,F20:F21) -> 0 | G22: =SUBTOTAL(9,G20:G21) -> 0 | H22: =SUBTOTAL(9,H20:H21) -> 0
B24: Նյութեր
B25: Նյութերի թարգմանություն | D25: =SUM(E25:H25) -> 0 | E25: =E107 -> 0 | F25: =F107 -> 0 | G25: =G107 -> 0 | H25: =H107 -> 0
B26: Ուսումնական և մեթոդական նյութեր, տեխնոլոգիաներ | D26: =SUM(E26:H26) -> 0 | E26: =E128 -> 0 | F26: =F128 -> 0 | G26: =G128 -> 0 | H26: =H128 -> 0
B27: էլեկտրոնային ռեսուրսների ստեղծում կամ արդիականացում
B28: Ընդամենը նյութեր | D28: =SUBTOTAL(9,D25:D27) -> 0 | E28: =SUBTOTAL(9,E25:E27) -> 0 | F28: =SUBTOTAL(9,F25:F27) -> 0 | G28: =SUBTOTAL(9,G25:G27) -> 0 | H28: =SUBTOTAL(9,H25:H27) -> 0
B30: Կապիտալ ծախսեր
B31: Շենքեր, շինություններ | D31: =SUM(E31:H31) -> 0
B32: Սարքավորումներ և տեխնոլոգիաներ | D32: =SUM(E32:H32) -> 0 | E32: =E117 -> 0
B33: Կահույք | D33: =SUM(E33:H33) -> 0
B34: Այլ | D34: =SUM(E34:H34) -> 0
B35: Ընդամենը կապիտալ ծախսեր | D35: =SUBTOTAL(9,D31:D34) -> 0 | E35: =SUBTOTAL(9,E31:E34) -> 0 | F35: =SUBTOTAL(9,F31:F34) -> 0 | G35: =SUBTOTAL(9,G31:G34) -> 0 | H35: =SUBTOTAL(9,H31:H34) -> 0
B37: Գրասենյակային և վարչական ծախսեր
B38: Կոմունալ վճարներ, կապ, վարձակալություն և տարածքի պահպանման ծախսեր | D38: =SUM(E38:H38) -> 0
B39: Գրենական պիտույքներ, տնտեսական ապրանքներ | D39: =SUM(E39:H39) -> 0
B40: Համակարգչային պարագաներ, սարքավորումների սպասարկում և ծրագրային ապահովում | D40: =SUM(E40:H40) -> 0 | E40: =E174 -> 0 | F40: =F174 -> 0 | G40: =G174 -> 0 | H40: =H174 -> 0
B41: Տրանսպորտային ծախսեր | D41: =SUM(E41:H41) -> 0
B42: Այլ գրասենյակային ծախսեր | D42: =SUM(E42:H42) -> 0
B43: Ընդամենը գրասենյակային և վարչական ծախսեր | D43: =SUBTOTAL(9,D38:D42) -> 0 | E43: =SUBTOTAL(9,E38:E42) -> 0 | F43: =SUBTOTAL(9,F38:F42) -> 0 | G43: =SUBTOTAL(9,G38:G42) -> 0 | H43: =SUBTOTAL(9,H38:H42) -> 0
B45: Հանրային իրազեկում, հասարակայնության հետ կապեր
B46: Իրազեկման արշավ | D46: =SUM(E46:H46) -> 0 | E46: =E147 -> 0 | F46: =F147 -> 0 | G46: =G147 -> 0 | H46: =H147 -> 0
B47: Հանրային միջոցառումներ | D47: =SUM(E47:H47) -> 3600 | E47: =E137 -> 3600 | F47: =F137 -> 0 | G47: =G137 -> 0 | H47: =H137 -> 0
B48: Ընդամենը հանրային իրազեկում և հասարակայնության հետ կապեր | D48: =SUBTOTAL(9,D46:D47) -> 3600 | E48: =SUBTOTAL(9,E46:E47) -> 3600 | F48: =SUBTOTAL(9,F46:F47) -> 0 | G48: =SUBTOTAL(9,G46:G47) -> 0 | H48: =SUBTOTAL(9,H46:H47) -> 0
...

Sheet a2
A1: 2 | B1: «Հայաստանի Հանրապետության կառավարության 2006 թվականի օգոստոսի 3-ի թիվ 1543-Ն որոշման մեջ փոփոխություններ և լրացումներ կատարելու մասին» ՀՀ կառավարության որոշման նախագծի մշակում և ներկայացնում ՀՀ վարչապետի աշխատակազմ
B3: Հոդված | C3: Նշումներ | D3: Ընդամենը | E3: =start -> 43831 | F3: =EOMONTH(E3,11)+1 -> 44197 | G3: =EOMONTH(F3,11)+1 -> 44562 | H3: =EOMONTH(G3,11)+1 -> 44927
B4: Համախառն աշխատավարձ
B5: Ներգրավված տեղական փորձագետների վարձատրություն | D5: =SUM(E5:H5) -> 0 | E5: =E63 -> 0 | F5: =F63 -> 0 | G5: =G63 -> 0 | H5: =H63 -> 0
B6: Ներգրավված միջազգային փորձագետների վարձատրություն | D6: =SUM(E6:H6) -> 0 | E6: =E67 -> 0 | F6: =F67 -> 0 | G6: =G67 -> 0 | H6: =H67 -> 0
B7: Ընդամենը աշխատավարձ | D7: =SUBTOTAL(9,D5:D6) -> 0 | E7: =SUBTOTAL(9,E5:E6) -> 0 | F7: =SUBTOTAL(9,F5:F6) -> 0 | G7: =SUBTOTAL(9,G5:G6) -> 0 | H7: =SUBTOTAL(9,H5:H6) -> 0
B9: Անձնակազմի ծախսեր
B10: Գործուղումներ | D10: =SUM(E10:H10) -> 0 | E10: =E87 -> 0 | F10: =F87 -> 0 | G10: =G87 -> 0 | H10: =H87 -> 0
B11: Անձնակազմի մոտիվացիոն ֆոնդ | D11: =SUM(E11:H11) -> 0 | E11: 0 | F11: 0 | G11: 0 | H11: 0
B12: Ընդամենը անձնակազմի ծախսեր | D12: =SUBTOTAL(9,D10:D11) -> 0 | E12: =SUBTOTAL(9,E10:E11) -> 0 | F12: =SUBTOTAL(9,F10:F11) -> 0 | G12: =SUBTOTAL(9,G10:G11) -> 0 | H12: =SUBTOTAL(9,H10:H11) -> 0
B14: Ներկայացուցչական ծախսեր
B15: Միջազգային փորձագետների ընդունում | D15: =SUM(E15:H15) -> 0 | E15: =E95 -> 0 | F15: =F95 -> 0 | G15: =G95 -> 0 | H15: =H95 -> 0
B16: Այլ ներկայացուցչական ծախսեր
B17: Ընդամենը ներկայացուցչական ծախսեր | D17: =SUBTOTAL(9,D15:D16) -> 0 | E17: =SUBTOTAL(9,E15:E16) -> 0 | F17: =SUBTOTAL(9,F15:F16) -> 0 | G17: =SUBTOTAL(9,G15:G16) -> 0 | H17: =SUBTOTAL(9,H15:H16) -> 0
B19: Դասընթացներ և միջոցառումներ
B20: Դասընթացներ | D20: =SUM(E20:H20) -> 0 | E20: =E99 -> 0 | F20: =F99 -> 0 | G20: =G99 -> 0 | H20: =H99 -> 0
B21: Միջոցառումներ | D21: =SUM(E21:H21) -> 0
B22: Ընդամենը դասընթացներ և միջոցառումներ | D22: =SUBTOTAL(9,D20:D21) -> 0 | E22: =SUBTOTAL(9,E20:E21) -> 0 | F22: =SUBTOTAL(9,F20:F21) -> 0 | G22: =SUBTOTAL(9,G20:G21) -> 0 | H22: =SUBTOTAL(9,H20:H21) -> 0
B24: Նյութեր
B25: Նյութերի թարգմանություն | D25: =SUM(E25:H25) -> 0 | E25: =E107 -> 0 | F25: =F107 -> 0 | G25: =G107 -> 0 | H25: =H107 -> 0
B26: Ուսումնական և մեթոդական նյութեր, տեխնոլոգիաներ | D26: =SUM(E26:H26) -> 0 | E26: =E128 -> 0 | F26: =F128 -> 0 | G26: =G128 -> 0 | H26: =H128 -> 0
B27: էլեկտրոնային ռեսուրսների ստեղծում կամ արդիականացում
B28: Ընդամենը նյութեր | D28: =SUBTOTAL(9,D25:D27) -> 0 | E28: =SUBTOTAL(9,E25:E27) -> 0 | F28: =SUBTOTAL(9,F25:F27) -> 0 | G28: =SUBTOTAL(9,G25:G27) -> 0 | H28: =SUBTOTAL(9,H25:H27) -> 0
B30: Կապիտալ ծախսեր
B31: Շենքեր, շինություններ | D31: =SUM(E31:H31) -> 0
B32: Սարքավորումներ և տեխնոլոգիաներ | D32: =SUM(E32:H32) -> 0 | E32: =E117 -> 0
B33: Կահույք | D33: =SUM(E33:H33) -> 0
B34: Այլ | D34: =SUM(E34:H34) -> 0
B35: Ընդամենը կապիտալ ծախսեր | D35: =SUBTOTAL(9,D31:D34) -> 0 | E35: =SUBTOTAL(9,E31:E34) -> 0 | F35: =SUBTOTAL(9,F31:F34) -> 0 | G35: =SUBTOTAL(9,G31:G34) -> 0 | H35: =SUBTOTAL(9,H31:H34) -> 0
B37: Գրասենյակային և վարչական ծախսեր
B38: Կոմունալ վճարներ, կապ, վարձակալություն և տարածքի պահպանման ծախսեր | D38: =SUM(E38:H38) -> 0
B39: Գրենական պիտույքներ, տնտեսական ապրանքներ | D39: =SUM(E39:H39) -> 0
B40: Համակարգչային պարագաներ, սարքավորումների սպասարկում և ծրագրային ապահովում | D40: =SUM(E40:H40) -> 0 | E40: =E174 -> 0 | F40: =F174 -> 0 | G40: =G174 -> 0 | H40: =H174 -> 0
B41: Տրանսպորտային ծախսեր | D41: =SUM(E41:H41) -> 0
B42: Այլ գրասենյակային ծախսեր | D42: =SUM(E42:H42) -> 0
B43: Ընդամենը գրասենյակային և վարչական ծախսեր | D43: =SUBTOTAL(9,D38:D42) -> 0 | E43: =SUBTOTAL(9,E38:E42) -> 0 | F43: =SUBTOTAL(9,F38:F42) -> 0 | G43: =SUBTOTAL(9,G38:G42) -> 0 | H43: =SUBTOTAL(9,H38:H42) -> 0
B45: Հանրային իրազեկում, հասարակայնության հետ կապեր
B46: Իրազեկման արշավ | D46: =SUM(E46:H46) -> 0 | E46: =E147 -> 0 | F46: =F147 -> 0 | G46: =G147 -> 0 | H46: =H147 -> 0
B47: Հանրային միջոցառումներ | D47: =SUM(E47:H47) -> 7600 | E47: =E137 -> 7600 | F47: =F137 -> 0 | G47: =G137 -> 0 | H47: =H137 -> 0
B48: Ընդամենը հանրային իրազեկում և հասարակայնության հետ կապեր | D48: =SUBTOTAL(9,D46:D47) -> 7600 | E48: =SUBTOTAL(9,E46:E47) -> 7600 | F48: =SUBTOTAL(9,F46:F47) -> 0 | G48: =SUBTOTAL(9,G46:G47) -> 0 | H48: =SUBTOTAL(9,H46:H47) -> 0
...

Sheet a3
A1: 3 | B1: Կալանավորված անձանց և դատապարտյալների հետ սոցիալական, հոգեբանական և իրավական աշխատանքներ իրականացնող կառուցվածքային ստորաբաժանումների գործունեության կարգի արդյունավետության բարձրացում
B3: Հոդված | C3: Նշումներ | D3: Ընդամենը | E3: =start -> 43831 | F3: =EOMONTH(E3,11)+1 -> 44197 | G3: =EOMONTH(F3,11)+1 -> 44562 | H3: =EOMONTH(G3,11)+1 -> 44927
B4: Համախառն աշխատավարձ
B5: Ներգրավված տեղական փորձագետների վարձատրություն | D5: =SUM(E5:H5) -> 0 | E5: =E63 -> 0 | F5: =F63 -> 0 | G5: =G63 -> 0 | H5: =H63 -> 0
B6: Ներգրավված միջազգային փորձագետների վարձատրություն | D6: =SUM(E6:H6) -> 0 | E6: =E67 -> 0 | F6: =F67 -> 0 | G6: =G67 -> 0 | H6: =H67 -> 0
B7: Ընդամենը աշխատավարձ | D7: =SUBTOTAL(9,D5:D6) -> 0 | E7: =SUBTOTAL(9,E5:E6) -> 0 | F7: =SUBTOTAL(9,F5:F6) -> 0 | G7: =SUBTOTAL(9,G5:G6) -> 0 | H7: =SUBTOTAL(9,H5:H6) -> 0
B9: Անձնակազմի ծախսեր
B10: Գործուղումներ | D10: =SUM(E10:H10) -> 0 | E10: =E87 -> 0 | F10: =F87 -> 0 | G10: =G87 -> 0 | H10: =H87 -> 0
B11: Անձնակազմի մոտիվացիոն ֆոնդ | D11: =SUM(E11:H11) -> 0 | E11: 0 | F11: 0 | G11: 0 | H11: 0
B12: Ընդամենը անձնակազմի ծախսեր | D12: =SUBTOTAL(9,D10:D11) -> 0 | E12: =SUBTOTAL(9,E10:E11) -> 0 | F12: =SUBTOTAL(9,F10:F11) -> 0 | G12: =SUBTOTAL(9,G10:G11) -> 0 | H12: =SUBTOTAL(9,H10:H11) -> 0
B14: Ներկայացուցչական ծախսեր
B15: Միջազգային փորձագետների ընդունում | D15: =SUM(E15:H15) -> 0 | E15: =E95 -> 0 | F15: =F95 -> 0 | G15: =G95 -> 0 | H15: =H95 -> 0
B16: Այլ ներկայացուցչական ծախսեր
B17: Ընդամենը ներկայացուցչական ծախսեր | D17: =SUBTOTAL(9,D15:D16) -> 0 | E17: =SUBTOTAL(9,E15:E16) -> 0 | F17: =SUBTOTAL(9,F15:F16) -> 0 | G17: =SUBTOTAL(9,G15:G16) -> 0 | H17: =SUBTOTAL(9,H15:H16) -> 0
B19: Դասընթացներ և միջոցառումներ
B20: Դասընթացներ | D20: =SUM(E20:H20) -> 0 | E20: =E99 -> 0 | F20: =F99 -> 0 | G20: =G99 -> 0 | H20: =H99 -> 0
B21: Միջոցառումներ | D21: =SUM(E21:H21) -> 0
B22: Ընդամենը դասընթացներ և միջոցառումներ | D22: =SUBTOTAL(9,D20:D21) -> 0 | E22: =SUBTOTAL(9,E20:E21) -> 0 | F22: =SUBTOTAL(9,F20:F21) -> 0 | G22: =SUBTOTAL(9,G20:G21) -> 0 | H22: =SUBTOTAL(9,H20:H21) -> 0
B24: Նյութեր
B25: Նյութերի թարգմանություն | D25: =SUM(E25:H25) -> 0 | E25: =E107 -> 0 | F25: =F107 -> 0 | G25: =G107 -> 0 | H25: =H107 -> 0
B26: Ուսումնական և մեթոդական նյութեր, տեխնոլոգիաներ | D26: =SUM(E26:H26) -> 0 | E26: =E128 -> 0 | F26: =F128 -> 0 | G26: =G128 -> 0 | H26: =H128 -> 0
B27: էլեկտրոնային ռեսուրսների ստեղծում կամ արդիականացում
B28: Ընդամենը նյութեր | D28: =SUBTOTAL(9,D25:D27) -> 0 | E28: =SUBTOTAL(9,E25:E27) -> 0 | F28: =SUBTOTAL(9,F25:F27) -> 0 | G28: =SUBTOTAL(9,G25:G27) -> 0 | H28: =SUBTOTAL(9,H25:H27) -> 0
B30: Կապիտալ ծախսեր
B31: Շենքեր, շինություններ | D31: =SUM(E31:H31) -> 0
B32: Սարքավորումներ և տեխնոլոգիաներ | D32: =SUM(E32:H32) -> 0 | E32: =E117 -> 0
B33: Կահույք | D33: =SUM(E33:H33) -> 0
B34: Այլ | D34: =SUM(E34:H34) -> 0
B35: Ընդամենը կապիտալ ծախսեր | D35: =SUBTOTAL(9,D31:D34) -> 0 | E35: =SUBTOTAL(9,E31:E34) -> 0 | F35: =SUBTOTAL(9,F31:F34) -> 0 | G35: =SUBTOTAL(9,G31:G34) -> 0 | H35: =SUBTOTAL(9,H31:H34) -> 0
B37: Գրասենյակային և վարչական ծախսեր
B38: Կոմունալ վճարներ, կապ, վարձակալություն և տարածքի պահպանման ծախսեր | D38: =SUM(E38:H38) -> 0
B39: Գրենական պիտույքներ, տնտեսական ապրանքներ | D39: =SUM(E39:H39) -> 0
B40: Համակարգչային պարագաներ, սարքավորումների սպասարկում և ծրագրային ապահովում | D40: =SUM(E40:H40) -> 0 | E40: =E174 -> 0 | F40: =F174 -> 0 | G40: =G174 -> 0 | H40: =H174 -> 0
B41: Տրանսպորտային ծախսեր | D41: =SUM(E41:H41) -> 0
B42: Այլ գրասենյակային ծախսեր | D42: =SUM(E42:H42) -> 0
B43: Ընդամենը գրասենյակային և վարչական ծախսեր | D43: =SUBTOTAL(9,D38:D42) -> 0 | E43: =SUBTOTAL(9,E38:E42) -> 0 | F43: =SUBTOTAL(9,F38:F42) -> 0 | G43: =SUBTOTAL(9,G38:G42) -> 0 | H43: =SUBTOTAL(9,H38:H42) -> 0
B45: Հանրային իրազեկում, հասարակայնության հետ կապեր
B46: Իրազեկման արշավ | D46: =SUM(E46:H46) -> 0 | E46: =E147 -> 0 | F46: =F147 -> 0 | G46: =G147 -> 0 | H46: =H147 -> 0
B47: Հանրային միջոցառումներ | D47: =SUM(E47:H47) -> 1400 | E47: =E137 -> 1400 | F47: =F137 -> 0 | G47: =G137 -> 0 | H47: =H137 -> 0
B48: Ընդամենը հանրային իրազեկում և հասարակայնության հետ կապեր | D48: =SUBTOTAL(9,D46:D47) -> 1400 | E48: =SUBTOTAL(9,E46:E47) -> 1400 | F48: =SUBTOTAL(9,F46:F47) -> 0 | G48: =SUBTOTAL(9,G46:G47) -> 0 | H48: =SUBTOTAL(9,H46:H47) -> 0
...

Sheet a7
A1: 7 | B1: Քրեակատարողական համակարգում կոռուպցիայի դեմ պայքար
B3: Հոդված | C3: Նշումներ | D3: Ընդամենը | E3: =start -> 43831 | F3: =EOMONTH(E3,11)+1 -> 44197 | G3: =EOMONTH(F3,11)+1 -> 44562 | H3: =EOMONTH(G3,11)+1 -> 44927
B4: Համախառն աշխատավարձ
B5: Ներգրավված տեղական փորձագետների վարձատրություն | D5: =SUM(E5:H5) -> 4454.1 | E5: =E68 -> 4454.1 | F5: =F68 -> 0 | G5: =G68 -> 0 | H5: =H68 -> 0
B6: Ներգրավված միջազգային փորձագետների վարձատրություն | D6: =SUM(E6:H6) -> 6813.072 | E6: =E72 -> 6813.072 | F6: =F72 -> 0 | G6: =G72 -> 0 | H6: =H72 -> 0
B7: Ընդամենը աշխատավարձ | D7: =SUBTOTAL(9,D5:D6) -> 11267.172 | E7: =SUBTOTAL(9,E5:E6) -> 11267.172 | F7: =SUBTOTAL(9,F5:F6) -> 0 | G7: =SUBTOTAL(9,G5:G6) -> 0 | H7: =SUBTOTAL(9,H5:H6) -> 0
B9: Անձնակազմի ծախսեր
B10: Գործուղումներ | D10: =SUM(E10:H10) -> 0 | E10: =E92 -> 0 | F10: =F92 -> 0 | G10: =G92 -> 0 | H10: =H92 -> 0
B11: Անձնակազմի մոտիվացիոն ֆոնդ | D11: =SUM(E11:H11) -> 0 | E11: 0 | F11: 0 | G11: 0 | H11: 0
B12: Ընդամենը անձնակազմի ծախսեր | D12: =SUBTOTAL(9,D10:D11) -> 0 | E12: =SUBTOTAL(9,E10:E11) -> 0 | F12: =SUBTOTAL(9,F10:F11) -> 0 | G12: =SUBTOTAL(9,G10:G11) -> 0 | H12: =SUBTOTAL(9,H10:H11) -> 0
B14: Ներկայացուցչական ծախսեր
B15: Միջազգային փորձագետների ընդունում | D15: =SUM(E15:H15) -> 631.70366 | E15: =E100 -> 631.70366 | F15: =F100 -> 0 | G15: =G100 -> 0 | H15: =H100 -> 0
B16: Այլ ներկայացուցչական ծախսեր
B17: Ընդամենը ներկայացուցչական ծախսեր | D17: =SUBTOTAL(9,D15:D16) -> 631.70366 | E17: =SUBTOTAL(9,E15:E16) -> 631.70366 | F17: =SUBTOTAL(9,F15:F16) -> 0 | G17: =SUBTOTAL(9,G15:G16) -> 0 | H17: =SUBTOTAL(9,H15:H16) -> 0
B19: Դասընթացներ և միջոցառումներ
B20: Դասընթացներ | D20: =SUM(E20:H20) -> 0 | E20: =E104 -> 0 | F20: =F104 -> 0 | G20: =G104 -> 0 | H20: =H104 -> 0
B21: Միջոցառումներ | D21: =SUM(E21:H21) -> 0
B22: Ընդամենը դասընթացներ և միջոցառումներ | D22: =SUBTOTAL(9,D20:D21) -> 0 | E22: =SUBTOTAL(9,E20:E21) -> 0 | F22: =SUBTOTAL(9,F20:F21) -> 0 | G22: =SUBTOTAL(9,G20:G21) -> 0 | H22: =SUBTOTAL(9,H20:H21) -> 0
B24: Նյութեր
B25: Նյութերի թարգմանություն | D25: =SUM(E25:H25) -> 600 | E25: =E112 -> 600 | F25: =F112 -> 0 | G25: =G112 -> 0 | H25: =H112 -> 0
B26: Ուսումնական և մեթոդական նյութեր, տեխնոլոգիաներ | D26: =SUM(E26:H26) -> 0 | E26: =E133 -> 0 | F26: =F133 -> 0 | G26: =G133 -> 0 | H26: =H133 -> 0
B27: էլեկտրոնային ռեսուրսների ստեղծում կամ արդիականացում
B28: Ընդամենը նյութեր | D28: =SUBTOTAL(9,D25:D27) -> 600 | E28: =SUBTOTAL(9,E25:E27) -> 600 | F28: =SUBTOTAL(9,F25:F27) -> 0 | G28: =SUBTOTAL(9,G25:G27) -> 0 | H28: =SUBTOTAL(9,H25:H27) -> 0
B30: Կապիտալ ծախսեր
B31: Շենքեր, շինություններ | D31: =SUM(E31:H31) -> 0
B32: Սարքավորումներ և տեխնոլոգիաներ | D32: =SUM(E32:H32) -> 0 | E32: =E122 -> 0
B33: Կահույք | D33: =SUM(E33:H33) -> 0
B34: Այլ | D34: =SUM(E34:H34) -> 0
B35: Ընդամենը կապիտալ ծախսեր | D35: =SUBTOTAL(9,D31:D34) -> 0 | E35: =SUBTOTAL(9,E31:E34) -> 0 | F35: =SUBTOTAL(9,F31:F34) -> 0 | G35: =SUBTOTAL(9,G31:G34) -> 0 | H35: =SUBTOTAL(9,H31:H34) -> 0
B37: Գրասենյակային և վարչական ծախսեր
B38: Կոմունալ վճարներ, կապ, վարձակալություն և տարածքի պահպանման ծախսեր | D38: =SUM(E38:H38) -> 0
B39: Գրենական պիտույքներ, տնտեսական ապրանքներ | D39: =SUM(E39:H39) -> 0
B40: Համակարգչային պարագաներ, սարքավորումների սպասարկում և ծրագրային ապահովում | D40: =SUM(E40:H40) -> 0 | E40: =E179 -> 0 | F40: =F179 -> 0 | G40: =G179 -> 0 | H40: =H179 -> 0
B41: Տրանսպորտային ծախսեր | D41: =SUM(E41:H41) -> 0
B42: Այլ գրասենյակային ծախսեր | D42: =SUM(E42:H42) -> 0
B43: Ընդամենը գրասենյակային և վարչական ծախսեր | D43: =SUBTOTAL(9,D38:D42) -> 0 | E43: =SUBTOTAL(9,E38:E42) -> 0 | F43: =SUBTOTAL(9,F38:F42) -> 0 | G43: =SUBTOTAL(9,G38:G42) -> 0 | H43: =SUBTOTAL(9,H38:H42) -> 0
B45: Արտապատվիրակված ծառայություններ
B46: Քրեակատարողական համակարգի նախորդ 3 տարվա գործունեության ֆինանսական հաշվետովությունների արտաքին անկախ աուդիտ | D46: =SUM(E46:H46) -> 91000 | E46: =E181 -> 91000 | F46: =F181 -> 0 | G46: =G181 -> 0 | H46: =H181 -> 0
B47: Քրեակատարողական համակարգի նախորդ 3 տարվա գնումների գործընթացների արտաքին անկախ աուդիտ | D47: =SUM(E47:H47) -> 7000 | E47: =E187 -> 7000 | F47: =F183 -> 0 | G47: =G183 -> 0 | H47: =H183 -> 0
B48: Ընդամենը արտապատվիրակված էլեկտրոնային ռեսուրսների ստեղծման կամ արդիականացման նախագծեր | D48: =SUBTOTAL(9,D46:D47) -> 98000 | E48: =SUBTOTAL(9,E46:E47) -> 98000 | F48: =SUBTOTAL(9,F46:F47) -> 0 | G48: =SUBTOTAL(9,G46:G47) -> 0 | H48: =SUBTOTAL(9,H46:H47) -> 0
...

Sheet a8
A1: 8 | B1: Պատիժը կրելուց պայմանական վաղաժամկետ ազատման ինստիտուտի արդյունավետության ապահովում
B3: Հոդված | C3: Նշումներ | D3: Ընդամենը | E3: =start -> 43831 | F3: =EOMONTH(E3,11)+1 -> 44197 | G3: =EOMONTH(F3,11)+1 -> 44562 | H3: =EOMONTH(G3,11)+1 -> 44927
B4: Համախառն աշխատավարձ
B5: Ներգրավված տեղական փորձագետների վարձատրություն | D5: =SUM(E5:H5) -> 1113.525 | E5: =E63 -> 1113.525 | F5: =F63 -> 0 | G5: =G63 -> 0 | H5: =H63 -> 0
B6: Ներգրավված միջազգային փորձագետների վարձատրություն | D6: =SUM(E6:H6) -> 3406.536 | E6: =E67 -> 3406.536 | F6: =F67 -> 0 | G6: =G67 -> 0 | H6: =H67 -> 0
B7: Ընդամենը աշխատավարձ | D7: =SUBTOTAL(9,D5:D6) -> 4520.061 | E7: =SUBTOTAL(9,E5:E6) -> 4520.061 | F7: =SUBTOTAL(9,F5:F6) -> 0 | G7: =SUBTOTAL(9,G5:G6) -> 0 | H7: =SUBTOTAL(9,H5:H6) -> 0
B9: Անձնակազմի ծախսեր
B10: Գործուղումներ | D10: =SUM(E10:H10) -> 0 | E10: =E87 -> 0 | F10: =F87 -> 0 | G10: =G87 -> 0 | H10: =H87 -> 0
B11: Անձնակազմի մոտիվացիոն ֆոնդ | D11: =SUM(E11:H11) -> 0 | E11: 0 | F11: 0 | G11: 0 | H11: 0
B12: Ընդամենը անձնակազմի ծախսեր | D12: =SUBTOTAL(9,D10:D11) -> 0 | E12: =SUBTOTAL(9,E10:E11) -> 0 | F12: =SUBTOTAL(9,F10:F11) -> 0 | G12: =SUBTOTAL(9,G10:G11) -> 0 | H12: =SUBTOTAL(9,H10:H11) -> 0
B14: Ներկայացուցչական ծախսեր
B15: Միջազգային փորձագետների ընդունում | D15: =SUM(E15:H15) -> 0 | E15: =E95 -> 0 | F15: =F95 -> 0 | G15: =G95 -> 0 | H15: =H95 -> 0
B16: Այլ ներկայացուցչական ծախսեր
B17: Ընդամենը ներկայացուցչական ծախսեր | D17: =SUBTOTAL(9,D15:D16) -> 0 | E17: =SUBTOTAL(9,E15:E16) -> 0 | F17: =SUBTOTAL(9,F15:F16) -> 0 | G17: =SUBTOTAL(9,G15:G16) -> 0 | H17: =SUBTOTAL(9,H15:H16) -> 0
B19: Դասընթացներ և միջոցառումներ
B20: Դասընթացներ | D20: =SUM(E20:H20) -> 0 | E20: =E99 -> 0 | F20: =F99 -> 0 | G20: =G99 -> 0 | H20: =H99 -> 0
B21: Միջոցառումներ | D21: =SUM(E21:H21) -> 0
B22: Ընդամենը դասընթացներ և միջոցառումներ | D22: =SUBTOTAL(9,D20:D21) -> 0 | E22: =SUBTOTAL(9,E20:E21) -> 0 | F22: =SUBTOTAL(9,F20:F21) -> 0 | G22: =SUBTOTAL(9,G20:G21) -> 0 | H22: =SUBTOTAL(9,H20:H21) -> 0
B24: Նյութեր
B25: Նյութերի թարգմանություն | D25: =SUM(E25:H25) -> 0 | E25: =E107 -> 0 | F25: =F107 -> 0 | G25: =G107 -> 0 | H25: =H107 -> 0
B26: Ուսումնական և մեթոդական նյութեր, տեխնոլոգիաներ | D26: =SUM(E26:H26) -> 0 | E26: =E128 -> 0 | F26: =F128 -> 0 | G26: =G128 -> 0 | H26: =H128 -> 0
B27: էլեկտրոնային ռեսուրսների ստեղծում կամ արդիականացում
B28: Ընդամենը նյութեր | D28: =SUBTOTAL(9,D25:D27) -> 0 | E28: =SUBTOTAL(9,E25:E27) -> 0 | F28: =SUBTOTAL(9,F25:F27) -> 0 | G28: =SUBTOTAL(9,G25:G27) -> 0 | H28: =SUBTOTAL(9,H25:H27) -> 0
B30: Կապիտալ ծախսեր
B31: Շենքեր, շինություններ | D31: =SUM(E31:H31) -> 0
B32: Սարքավորումներ և տեխնոլոգիաներ | D32: =SUM(E32:H32) -> 0 | E32: =E117 -> 0
B33: Կահույք | D33: =SUM(E33:H33) -> 0
B34: Այլ | D34: =SUM(E34:H34) -> 0
B35: Ընդամենը կապիտալ ծախսեր | D35: =SUBTOTAL(9,D31:D34) -> 0 | E35: =SUBTOTAL(9,E31:E34) -> 0 | F35: =SUBTOTAL(9,F31:F34) -> 0 | G35: =SUBTOTAL(9,G31:G34) -> 0 | H35: =SUBTOTAL(9,H31:H34) -> 0
B37: Գրասենյակային և վարչական ծախսեր
B38: Կոմունալ վճարներ, կապ, վարձակալություն և տարածքի պահպանման ծախսեր | D38: =SUM(E38:H38) -> 0
B39: Գրենական պիտույքներ, տնտեսական ապրանքներ | D39: =SUM(E39:H39) -> 0
B40: Համակարգչային պարագաներ, սարքավորումների սպասարկում և ծրագրային ապահովում | D40: =SUM(E40:H40) -> 0 | E40: =E174 -> 0 | F40: =F174 -> 0 | G40: =G174 -> 0 | H40: =H174 -> 0
B41: Տրանսպորտային ծախսեր | D41: =SUM(E41:H41) -> 0
B42: Այլ գրասենյակային ծախսեր | D42: =SUM(E42:H42) -> 0
B43: Ընդամենը գրասենյակային և վարչական ծախսեր | D43: =SUBTOTAL(9,D38:D42) -> 0 | E43: =SUBTOTAL(9,E38:E42) -> 0 | F43: =SUBTOTAL(9,F38:F42) -> 0 | G43: =SUBTOTAL(9,G38:G42) -> 0 | H43: =SUBTOTAL(9,H38:H42) -> 0
B45: Հանրային իրազեկում, հասարակայնության հետ կապեր
B46: Իրազեկման արշավ | D46: =SUM(E46:H46) -> 0 | E46: =E147 -> 0 | F46: =F147 -> 0 | G46: =G147 -> 0 | H46: =H147 -> 0
B47: Հանրային միջոցառումներ | D47: =SUM(E47:H47) -> 2300 | E47: =E137 -> 2300 | F47: =F137 -> 0 | G47: =G137 -> 0 | H47: =H137 -> 0
B48: Ընդամենը հանրային իրազեկում և հասարակայնության հետ կապեր | D48: =SUBTOTAL(9,D46:D47) -> 2300 | E48: =SUBTOTAL(9,E46:E47) -> 2300 | F48: =SUBTOTAL(9,F46:F47) -> 0 | G48: =SUBTOTAL(9,G46:G47) -> 0 | H48: =SUBTOTAL(9,H46:H47) -> 0
...

Sheet a9
A1: 9 | B1: Քրեակատարողական ծառայության և քրեակատարողական հիմնարկների կառավարման և գնահատման մոդելի արդիականացում
B3: Հոդված | C3: Նշումներ | D3: Ընդամենը | E3: =start -> 43831 | F3: =EOMONTH(E3,11)+1 -> 44197 | G3: =EOMONTH(F3,11)+1 -> 44562 | H3: =EOMONTH(G3,11)+1 -> 44927
B4: Համախառն աշխատավարձ
B5: Ներգրավված տեղական փորձագետների վարձատրություն | D5: =SUM(E5:H5) -> 6681.15 | E5: =E63 -> 6681.15 | F5: =F63 -> 0 | G5: =G63 -> 0 | H5: =H63 -> 0
B6: Ներգրավված միջազգային փորձագետների վարձատրություն | D6: =SUM(E6:H6) -> 6813.072 | E6: =E67 -> 6813.072 | F6: =F67 -> 0 | G6: =G67 -> 0 | H6: =H67 -> 0
B7: Ընդամենը աշխատավարձ | D7: =SUBTOTAL(9,D5:D6) -> 13494.222 | E7: =SUBTOTAL(9,E5:E6) -> 13494.222 | F7: =SUBTOTAL(9,F5:F6) -> 0 | G7: =SUBTOTAL(9,G5:G6) -> 0 | H7: =SUBTOTAL(9,H5:H6) -> 0
B9: Անձնակազմի ծախսեր
B10: Գործուղումներ | D10: =SUM(E10:H10) -> 0 | E10: =E87 -> 0 | F10: =F87 -> 0 | G10: =G87 -> 0 | H10: =H87 -> 0
B11: Անձնակազմի մոտիվացիոն ֆոնդ | D11: =SUM(E11:H11) -> 0 | E11: 0 | F11: 0 | G11: 0 | H11: 0
B12: Ընդամենը անձնակազմի ծախսեր | D12: =SUBTOTAL(9,D10:D11) -> 0 | E12: =SUBTOTAL(9,E10:E11) -> 0 | F12: =SUBTOTAL(9,F10:F11) -> 0 | G12: =SUBTOTAL(9,G10:G11) -> 0 | H12: =SUBTOTAL(9,H10:H11) -> 0
B14: Ներկայացուցչական ծախսեր
B15: Միջազգային փորձագետների ընդունում | D15: =SUM(E15:H15) -> 1263.4073 | E15: =E95 -> 1263.4073 | F15: =F95 -> 0 | G15: =G95 -> 0 | H15: =H95 -> 0
B16: Այլ ներկայացուցչական ծախսեր
B17: Ընդամենը ներկայացուցչական ծախսեր | D17: =SUBTOTAL(9,D15:D16) -> 1263.4073 | E17: =SUBTOTAL(9,E15:E16) -> 1263.4073 | F17: =SUBTOTAL(9,F15:F16) -> 0 | G17: =SUBTOTAL(9,G15:G16) -> 0 | H17: =SUBTOTAL(9,H15:H16) -> 0
B19: Դասընթացներ և միջոցառումներ
B20: Դասընթացներ | D20: =SUM(E20:H20) -> 0 | E20: =E99 -> 0 | F20: =F99 -> 0 | G20: =G99 -> 0 | H20: =H99 -> 0
B21: Միջոցառումներ | D21: =SUM(E21:H21) -> 0
B22: Ընդամենը դասընթացներ և միջոցառումներ | D22: =SUBTOTAL(9,D20:D21) -> 0 | E22: =SUBTOTAL(9,E20:E21) -> 0 | F22: =SUBTOTAL(9,F20:F21) -> 0 | G22: =SUBTOTAL(9,G20:G21) -> 0 | H22: =SUBTOTAL(9,H20:H21) -> 0
B24: Նյութեր
B25: Նյութերի թարգմանություն | D25: =SUM(E25:H25) -> 300 | E25: =E107 -> 300 | F25: =F107 -> 0 | G25: =G107 -> 0 | H25: =H107 -> 0
B26: Ուսումնական և մեթոդական նյութեր, տեխնոլոգիաներ | D26: =SUM(E26:H26) -> 0 | E26: =E128 -> 0 | F26: =F128 -> 0 | G26: =G128 -> 0 | H26: =H128 -> 0
B27: էլեկտրոնային ռեսուրսների ստեղծում կամ արդիականացում
B28: Ընդամենը նյութեր | D28: =SUBTOTAL(9,D25:D27) -> 300 | E28: =SUBTOTAL(9,E25:E27) -> 300 | F28: =SUBTOTAL(9,F25:F27) -> 0 | G28: =SUBTOTAL(9,G25:G27) -> 0 | H28: =SUBTOTAL(9,H25:H27) -> 0
B30: Կապիտալ ծախսեր
B31: Շենքեր, շինություններ | D31: =SUM(E31:H31) -> 0
B32: Սարքավորումներ և տեխնոլոգիաներ | D32: =SUM(E32:H32) -> 0 | E32: =E117 -> 0
B33: Կահույք | D33: =SUM(E33:H33) -> 0
B34: Այլ | D34: =SUM(E34:H34) -> 0
B35: Ընդամենը կապիտալ ծախսեր | D35: =SUBTOTAL(9,D31:D34) -> 0 | E35: =SUBTOTAL(9,E31:E34) -> 0 | F35: =SUBTOTAL(9,F31:F34) -> 0 | G35: =SUBTOTAL(9,G31:G34) -> 0 | H35: =SUBTOTAL(9,H31:H34) -> 0
B37: Գրասենյակային և վարչական ծախսեր
B38: Կոմունալ վճարներ, կապ, վարձակալություն և տարածքի պահպանման ծախսեր | D38: =SUM(E38:H38) -> 0
B39: Գրենական պիտույքներ, տնտեսական ապրանքներ | D39: =SUM(E39:H39) -> 0
B40: Համակարգչային պարագաներ, սարքավորումների սպասարկում և ծրագրային ապահովում | D40: =SUM(E40:H40) -> 0 | E40: =E174 -> 0 | F40: =F174 -> 0 | G40: =G174 -> 0 | H40: =H174 -> 0
B41: Տրանսպորտային ծախսեր | D41: =SUM(E41:H41) -> 0
B42: Այլ գրասենյակային ծախսեր | D42: =SUM(E42:H42) -> 0
B43: Ընդամենը գրասենյակային և վարչական ծախսեր | D43: =SUBTOTAL(9,D38:D42) -> 0 | E43: =SUBTOTAL(9,E38:E42) -> 0 | F43: =SUBTOTAL(9,F38:F42) -> 0 | G43: =SUBTOTAL(9,G38:G42) -> 0 | H43: =SUBTOTAL(9,H38:H42) -> 0
B45: Հանրային իրազեկում, հասարակայնության հետ կապեր
B46: Իրազեկման արշավ | D46: =SUM(E46:H46) -> 0 | E46: =E147 -> 0 | F46: =F147 -> 0 | G46: =G147 -> 0 | H46: =H147 -> 0
B47: Հանրային միջոցառումներ | D47: =SUM(E47:H47) -> 3000 | E47: =E137 -> 3000 | F47: =F137 -> 0 | G47: =G137 -> 0 | H47: =H137 -> 0
B48: Ընդամենը հանրային իրազեկում և հասարակայնության հետ կապեր | D48: =SUBTOTAL(9,D46:D47) -> 3000 | E48: =SUBTOTAL(9,E46:E47) -> 3000 | F48: =SUBTOTAL(9,F46:F47) -> 0 | G48: =SUBTOTAL(9,G46:G47) -> 0 | H48: =SUBTOTAL(9,H46:H47) -> 0
...

Sheet a10
A1: 10 | B1: Քրեակատարողական հիմնարկներում տնտեսվարման արդյունավետ մեխանիզմների ապահովում
B3: Հոդված | C3: Նշումներ | D3: Ընդամենը | E3: =start -> 43831 | F3: =EOMONTH(E3,11)+1 -> 44197 | G3: =EOMONTH(F3,11)+1 -> 44562 | H3: =EOMONTH(G3,11)+1 -> 44927
B4: Համախառն աշխատավարձ
B5: Ներգրավված տեղական փորձագետների վարձատրություն | D5: =SUM(E5:H5) -> 2227.05 | E5: =E63 -> 2227.05 | F5: =F63 -> 0 | G5: =G63 -> 0 | H5: =H63 -> 0
B6: Ներգրավված միջազգային փորձագետների վարձատրություն | D6: =SUM(E6:H6) -> 0 | E6: =E67 -> 0 | F6: =F67 -> 0 | G6: =G67 -> 0 | H6: =H67 -> 0
B7: Ընդամենը աշխատավարձ | D7: =SUBTOTAL(9,D5:D6) -> 2227.05 | E7: =SUBTOTAL(9,E5:E6) -> 2227.05 | F7: =SUBTOTAL(9,F5:F6) -> 0 | G7: =SUBTOTAL(9,G5:G6) -> 0 | H7: =SUBTOTAL(9,H5:H6) -> 0
B9: Անձնակազմի ծախսեր
B10: Գործուղումներ | D10: =SUM(E10:H10) -> 0 | E10: =E87 -> 0 | F10: =F87 -> 0 | G10: =G87 -> 0 | H10: =H87 -> 0
B11: Անձնակազմի մոտիվացիոն ֆոնդ | D11: =SUM(E11:H11) -> 0 | E11: 0 | F11: 0 | G11: 0 | H11: 0
B12: Ընդամենը անձնակազմի ծախսեր | D12: =SUBTOTAL(9,D10:D11) -> 0 | E12: =SUBTOTAL(9,E10:E11) -> 0 | F12: =SUBTOTAL(9,F10:F11) -> 0 | G12: =SUBTOTAL(9,G10:G11) -> 0 | H12: =SUBTOTAL(9,H10:H11) -> 0
B14: Ներկայացուցչական ծախսեր
B15: Միջազգային փորձագետների ընդունում | D15: =SUM(E15:H15) -> 0 | E15: =E95 -> 0 | F15: =F95 -> 0 | G15: =G95 -> 0 | H15: =H95 -> 0
B16: Այլ ներկայացուցչական ծախսեր
B17: Ընդամենը ներկայացուցչական ծախսեր | D17: =SUBTOTAL(9,D15:D16) -> 0 | E17: =SUBTOTAL(9,E15:E16) -> 0 | F17: =SUBTOTAL(9,F15:F16) -> 0 | G17: =SUBTOTAL(9,G15:G16) -> 0 | H17: =SUBTOTAL(9,H15:H16) -> 0
B19: Դասընթացներ և միջոցառումներ
B20: Դասընթացներ | D20: =SUM(E20:H20) -> 0 | E20: =E99 -> 0 | F20: =F99 -> 0 | G20: =G99 -> 0 | H20: =H99 -> 0
B21: Միջոցառումներ | D21: =SUM(E21:H21) -> 0
B22: Ընդամենը դասընթացներ և միջոցառումներ | D22: =SUBTOTAL(9,D20:D21) -> 0 | E22: =SUBTOTAL(9,E20:E21) -> 0 | F22: =SUBTOTAL(9,F20:F21) -> 0 | G22: =SUBTOTAL(9,G20:G21) -> 0 | H22: =SUBTOTAL(9,H20:H21) -> 0
B24: Նյութեր
B25: Նյութերի թարգմանություն | D25: =SUM(E25:H25) -> 0 | E25: =E107 -> 0 | F25: =F107 -> 0 | G25: =G107 -> 0 | H25: =H107 -> 0
B26: Ուսումնական և մեթոդական նյութեր, տեխնոլոգիաներ | D26: =SUM(E26:H26) -> 0 | E26: =E128 -> 0 | F26: =F128 -> 0 | G26: =G128 -> 0 | H26: =H128 -> 0
B27: էլեկտրոնային ռեսուրսների ստեղծում կամ արդիականացում
B28: Ընդամենը նյութեր | D28: =SUBTOTAL(9,D25:D27) -> 0 | E28: =SUBTOTAL(9,E25:E27) -> 0 | F28: =SUBTOTAL(9,F25:F27) -> 0 | G28: =SUBTOTAL(9,G25:G27) -> 0 | H28: =SUBTOTAL(9,H25:H27) -> 0
B30: Կապիտալ ծախսեր
B31: Շենքեր, շինություններ | D31: =SUM(E31:H31) -> 0
B32: Սարքավորումներ և տեխնոլոգիաներ | D32: =SUM(E32:H32) -> 0 | E32: =E117 -> 0
B33: Կահույք | D33: =SUM(E33:H33) -> 0
B34: Այլ | D34: =SUM(E34:H34) -> 0
B35: Ընդամենը կապիտալ ծախսեր | D35: =SUBTOTAL(9,D31:D34) -> 0 | E35: =SUBTOTAL(9,E31:E34) -> 0 | F35: =SUBTOTAL(9,F31:F34) -> 0 | G35: =SUBTOTAL(9,G31:G34) -> 0 | H35: =SUBTOTAL(9,H31:H34) -> 0
B37: Գրասենյակային և վարչական ծախսեր
B38: Կոմունալ վճարներ, կապ, վարձակալություն և տարածքի պահպանման ծախսեր | D38: =SUM(E38:H38) -> 0
B39: Գրենական պիտույքներ, տնտեսական ապրանքներ | D39: =SUM(E39:H39) -> 0
B40: Համակարգչային պարագաներ, սարքավորումների սպասարկում և ծրագրային ապահովում | D40: =SUM(E40:H40) -> 0 | E40: =E174 -> 0 | F40: =F174 -> 0 | G40: =G174 -> 0 | H40: =H174 -> 0
B41: Տրանսպորտային ծախսեր | D41: =SUM(E41:H41) -> 0
B42: Այլ գրասենյակային ծախսեր | D42: =SUM(E42:H42) -> 0
B43: Ընդամենը գրասենյակային և վարչական ծախսեր | D43: =SUBTOTAL(9,D38:D42) -> 0 | E43: =SUBTOTAL(9,E38:E42) -> 0 | F43: =SUBTOTAL(9,F38:F42) -> 0 | G43: =SUBTOTAL(9,G38:G42) -> 0 | H43: =SUBTOTAL(9,H38:H42) -> 0
B45: Հանրային իրազեկում, հասարակայնության հետ կապեր
B46: Իրազեկման արշավ | D46: =SUM(E46:H46) -> 0 | E46: =E147 -> 0 | F46: =F147 -> 0 | G46: =G147 -> 0 | H46: =H147 -> 0
B47: Հանրային միջոցառումներ | D47: =SUM(E47:H47) -> 100 | E47: =E137 -> 100 | F47: =F137 -> 0 | G47: =G137 -> 0 | H47: =H137 -> 0
B48: Ընդամենը հանրային իրազեկում և հասարակայնության հետ կապեր | D48: =SUBTOTAL(9,D46:D47) -> 100 | E48: =SUBTOTAL(9,E46:E47) -> 100 | F48: =SUBTOTAL(9,F46:F47) -> 0 | G48: =SUBTOTAL(9,G46:G47) -> 0 | H48: =SUBTOTAL(9,H46:H47) -> 0
...

Sheet a11
A1: 11 | B1: Քրեակատարողական հիմնարկների օպտիմալացում, շենքային պայմանների բարելավում
B3: Հոդված | C3: Նշումներ | D3: Ընդամենը | E3: =start -> 43831 | F3: =EOMONTH(E3,11)+1 -> 44197 | G3: =EOMONTH(F3,11)+1 -> 44562 | H3: =EOMONTH(G3,11)+1 -> 44927
B4: Համախառն աշխատավարձ
B5: Ներգրավված տեղական փորձագետների վարձատրություն | D5: =SUM(E5:H5) -> 0 | E5: =E67 -> 0 | F5: =F67 -> 0 | G5: =G67 -> 0 | H5: =H67 -> 0
B6: Ներգրավված միջազգային փորձագետների վարձատրություն | D6: =SUM(E6:H6) -> 0 | E6: =E71 -> 0 | F6: =F71 -> 0 | G6: =G71 -> 0 | H6: =H71 -> 0
B7: Ընդամենը աշխատավարձ | D7: =SUBTOTAL(9,D5:D6) -> 0 | E7: =SUBTOTAL(9,E5:E6) -> 0 | F7: =SUBTOTAL(9,F5:F6) -> 0 | G7: =SUBTOTAL(9,G5:G6) -> 0 | H7: =SUBTOTAL(9,H5:H6) -> 0
B9: Անձնակազմի ծախսեր
B10: Գործուղումներ | D10: =SUM(E10:H10) -> 0 | E10: =E91 -> 0 | F10: =F91 -> 0 | G10: =G91 -> 0 | H10: =H91 -> 0
B11: Անձնակազմի մոտիվացիոն ֆոնդ | D11: =SUM(E11:H11) -> 0 | E11: 0 | F11: 0 | G11: 0 | H11: 0
B12: Ընդամենը անձնակազմի ծախսեր | D12: =SUBTOTAL(9,D10:D11) -> 0 | E12: =SUBTOTAL(9,E10:E11) -> 0 | F12: =SUBTOTAL(9,F10:F11) -> 0 | G12: =SUBTOTAL(9,G10:G11) -> 0 | H12: =SUBTOTAL(9,H10:H11) -> 0
B14: Ներկայացուցչական ծախսեր
B15: Միջազգային փորձագետների ընդունում | D15: =SUM(E15:H15) -> 0 | E15: =E99 -> 0 | F15: =F99 -> 0 | G15: =G99 -> 0 | H15: =H99 -> 0
B16: Այլ ներկայացուցչական ծախսեր
B17: Ընդամենը ներկայացուցչական ծախսեր | D17: =SUBTOTAL(9,D15:D16) -> 0 | E17: =SUBTOTAL(9,E15:E16) -> 0 | F17: =SUBTOTAL(9,F15:F16) -> 0 | G17: =SUBTOTAL(9,G15:G16) -> 0 | H17: =SUBTOTAL(9,H15:H16) -> 0
B19: Դասընթացներ և միջոցառումներ
B20: Դասընթացներ | D20: =SUM(E20:H20) -> 0 | E20: =E103 -> 0 | F20: =F103 -> 0 | G20: =G103 -> 0 | H20: =H103 -> 0
B21: Միջոցառումներ | D21: =SUM(E21:H21) -> 0
B22: Ընդամենը դասընթացներ և միջոցառումներ | D22: =SUBTOTAL(9,D20:D21) -> 0 | E22: =SUBTOTAL(9,E20:E21) -> 0 | F22: =SUBTOTAL(9,F20:F21) -> 0 | G22: =SUBTOTAL(9,G20:G21) -> 0 | H22: =SUBTOTAL(9,H20:H21) -> 0
B24: Նյութեր
B25: Նյութերի թարգմանություն | D25: =SUM(E25:H25) -> 0 | E25: =E111 -> 0 | F25: =F111 -> 0 | G25: =G111 -> 0 | H25: =H111 -> 0
B26: Ուսումնական և մեթոդական նյութեր, տեխնոլոգիաներ | D26: =SUM(E26:H26) -> 0 | E26: =E170 -> 0 | F26: =F170 -> 0 | G26: =G170 -> 0 | H26: =H170 -> 0
B27: էլեկտրոնային ռեսուրսների ստեղծում կամ արդիականացում
B28: Ընդամենը նյութեր | D28: =SUBTOTAL(9,D25:D27) -> 0 | E28: =SUBTOTAL(9,E25:E27) -> 0 | F28: =SUBTOTAL(9,F25:F27) -> 0 | G28: =SUBTOTAL(9,G25:G27) -> 0 | H28: =SUBTOTAL(9,H25:H27) -> 0
B30: Կապիտալ ծախսեր
B31: Շենքեր, շինություններ | D31: =SUM(E31:H31) -> 35233334 | E31: =E116 -> 10142648 | F31: =F116 -> 12461972 | G31: =G116 -> 10000872 | H31: =H116 -> 2627842
B32: Սարքավորումներ և տեխնոլոգիաներ | D32: =SUM(E32:H32) -> 0 | E32: =E159 -> 0
B33: Կահույք | D33: =SUM(E33:H33) -> 0
B34: Այլ | D34: =SUM(E34:H34) -> 0
B35: Ընդամենը կապիտալ ծախսեր | D35: =SUBTOTAL(9,D31:D34) -> 35233334 | E35: =SUBTOTAL(9,E31:E34) -> 10142648 | F35: =SUBTOTAL(9,F31:F34) -> 12461972 | G35: =SUBTOTAL(9,G31:G34) -> 10000872 | H35: =SUBTOTAL(9,H31:H34) -> 2627842
B37: Գրասենյակային և վարչական ծախսեր
B38: Կոմունալ վճարներ, կապ, վարձակալություն և տարածքի պահպանման ծախսեր | D38: =SUM(E38:H38) -> 0
B39: Գրենական պիտույքներ, տնտեսական ապրանքներ | D39: =SUM(E39:H39) -> 0
B40: Համակարգչային պարագաներ, սարքավորումների սպասարկում և ծրագրային ապահովում | D40: =SUM(E40:H40) -> 0 | E40: =E215 -> 0 | F40: =F215 -> 0 | G40: =G215 -> 0 | H40: =H215 -> 0
B41: Տրանսպորտային ծախսեր | D41: =SUM(E41:H41) -> 0
B42: Այլ գրասենյակային ծախսեր | D42: =SUM(E42:H42) -> 0
B43: Ընդամենը գրասենյակային և վարչական ծախսեր | D43: =SUBTOTAL(9,D38:D42) -> 0 | E43: =SUBTOTAL(9,E38:E42) -> 0 | F43: =SUBTOTAL(9,F38:F42) -> 0 | G43: =SUBTOTAL(9,G38:G42) -> 0 | H43: =SUBTOTAL(9,H38:H42) -> 0
B45: Արտապատվիրակված էլեկտրոնային ռեսուրսների ստեղծման կամ արդիականացման նախագծեր
B46: Արտապատվիրակված էլեկտրոնային ռեսուրսների ստեղծման կամ արդիականացման նախագծեր | D46: =SUM(E46:H46) -> 0 | E46: =E220 -> 0 | F46: =F220 -> 0 | G46: =G220 -> 0 | H46: =H220 -> 0
B47: Ընդամենը արտապատվիրակված էլեկտրոնային ռեսուրսների ստեղծման կամ արդիականացման նախագծեր | D47: =SUBTOTAL(9,D46) -> 0 | E47: =SUBTOTAL(9,E46) -> 0 | F47: =SUBTOTAL(9,F46) -> 0 | G47: =SUBTOTAL(9,G46) -> 0 | H47: =SUBTOTAL(9,H46) -> 0
B49: Հանրային իրազեկում, հասարակայնության հետ կապեր
...

Sheet a12
A1: 12 | B1: Անչափահաս դատապարտյալների պահման պայմանների բարելավում
B3: Հոդված | C3: Նշումներ | D3: Ընդամենը | E3: =start -> 43831 | F3: =EOMONTH(E3,11)+1 -> 44197 | G3: =EOMONTH(F3,11)+1 -> 44562 | H3: =EOMONTH(G3,11)+1 -> 44927
B4: Համախառն աշխատավարձ
B5: Ներգրավված տեղական փորձագետների վարձատրություն | D5: =SUM(E5:H5) -> 4749.7136 | E5: =E67 -> 1113.525 | F5: =F67 -> 1161.4066 | G5: =G67 -> 1211.3471 | H5: =H67 -> 1263.435
B6: Ներգրավված միջազգային փորձագետների վարձատրություն | D6: =SUM(E6:H6) -> 14530.496 | E6: =E71 -> 3406.536 | F6: =F71 -> 3553.017 | G6: =G71 -> 3705.7968 | H6: =H71 -> 3865.146
B7: Ընդամենը աշխատավարձ | D7: =SUBTOTAL(9,D5:D6) -> 19280.209 | E7: =SUBTOTAL(9,E5:E6) -> 4520.061 | F7: =SUBTOTAL(9,F5:F6) -> 4714.4236 | G7: =SUBTOTAL(9,G5:G6) -> 4917.1438 | H7: =SUBTOTAL(9,H5:H6) -> 5128.581
B9: Անձնակազմի ծախսեր
B10: Գործուղումներ | D10: =SUM(E10:H10) -> 7265.8541 | E10: =E91 -> 0 | F10: =F91 -> 3632.927 | G10: =G91 -> 3632.927 | H10: =H91 -> 0
B11: Անձնակազմի մոտիվացիոն ֆոնդ | D11: =SUM(E11:H11) -> 0 | E11: 0 | F11: 0 | G11: 0 | H11: 0
B12: Ընդամենը անձնակազմի ծախսեր | D12: =SUBTOTAL(9,D10:D11) -> 7265.8541 | E12: =SUBTOTAL(9,E10:E11) -> 0 | F12: =SUBTOTAL(9,F10:F11) -> 3632.927 | G12: =SUBTOTAL(9,G10:G11) -> 3632.927 | H12: =SUBTOTAL(9,H10:H11) -> 0
B14: Ներկայացուցչական ծախսեր
B15: Միջազգային փորձագետների ընդունում | D15: =SUM(E15:H15) -> 1375.6146 | E15: =E99 -> 0 | F15: =F99 -> 658.86692 | G15: =G99 -> 0 | H15: =H99 -> 716.74772
B16: Այլ ներկայացուցչական ծախսեր
B17: Ընդամենը ներկայացուցչական ծախսեր | D17: =SUBTOTAL(9,D15:D16) -> 1375.6146 | E17: =SUBTOTAL(9,E15:E16) -> 0 | F17: =SUBTOTAL(9,F15:F16) -> 658.86692 | G17: =SUBTOTAL(9,G15:G16) -> 0 | H17: =SUBTOTAL(9,H15:H16) -> 716.74772
B19: Դասընթացներ և միջոցառումներ
B20: Դասընթացներ | D20: =SUM(E20:H20) -> 3025.8217 | E20: =E103 -> 709.375 | F20: =F103 -> 739.87812 | G20: =G103 -> 771.69288 | H20: =H103 -> 804.87568
B21: Միջոցառումներ | D21: =SUM(E21:H21) -> 0
B22: Ընդամենը դասընթացներ և միջոցառումներ | D22: =SUBTOTAL(9,D20:D21) -> 3025.8217 | E22: =SUBTOTAL(9,E20:E21) -> 709.375 | F22: =SUBTOTAL(9,F20:F21) -> 739.87812 | G22: =SUBTOTAL(9,G20:G21) -> 771.69288 | H22: =SUBTOTAL(9,H20:H21) -> 804.87568
B24: Նյութեր
B25: Նյութերի թարգմանություն | D25: =SUM(E25:H25) -> 1279.6427 | E25: =E111 -> 300 | F25: =F111 -> 312.9 | G25: =G111 -> 326.3547 | H25: =H111 -> 340.38795
B26: Ուսումնական և մեթոդական նյութեր, տեխնոլոգիաներ | D26: =SUM(E26:H26) -> 0 | E26: =E135 -> 0 | F26: =F135 -> 0 | G26: =G135 -> 0 | H26: =H135 -> 0
B27: էլեկտրոնային ռեսուրսների ստեղծում կամ արդիականացում
B28: Ընդամենը նյութեր | D28: =SUBTOTAL(9,D25:D27) -> 1279.6427 | E28: =SUBTOTAL(9,E25:E27) -> 300 | F28: =SUBTOTAL(9,F25:F27) -> 312.9 | G28: =SUBTOTAL(9,G25:G27) -> 326.3547 | H28: =SUBTOTAL(9,H25:H27) -> 340.38795
B30: Կապիտալ ծախսեր
B31: Շենքեր, շինություններ | D31: =SUM(E31:H31) -> 940500 | E31: =E116 -> 40500 | F31: =F116 -> 360000 | G31: =G116 -> 360000 | H31: =H116 -> 180000
B32: Սարքավորումներ և տեխնոլոգիաներ | D32: =SUM(E32:H32) -> 0 | E32: =E124 -> 0
B33: Կահույք | D33: =SUM(E33:H33) -> 0
B34: Այլ | D34: =SUM(E34:H34) -> 0
B35: Ընդամենը կապիտալ ծախսեր | D35: =SUBTOTAL(9,D31:D34) -> 940500 | E35: =SUBTOTAL(9,E31:E34) -> 40500 | F35: =SUBTOTAL(9,F31:F34) -> 360000 | G35: =SUBTOTAL(9,G31:G34) -> 360000 | H35: =SUBTOTAL(9,H31:H34) -> 180000
B37: Գրասենյակային և վարչական ծախսեր
B38: Կոմունալ վճարներ, կապ, վարձակալություն և տարածքի պահպանման ծախսեր | D38: =SUM(E38:H38) -> 0
B39: Գրենական պիտույքներ, տնտեսական ապրանքներ | D39: =SUM(E39:H39) -> 0
B40: Համակարգչային պարագաներ, սարքավորումների սպասարկում և ծրագրային ապահովում | D40: =SUM(E40:H40) -> 0 | E40: =E180 -> 0 | F40: =F180 -> 0 | G40: =G180 -> 0 | H40: =H180 -> 0
B41: Տրանսպորտային ծախսեր | D41: =SUM(E41:H41) -> 0
B42: Այլ գրասենյակային ծախսեր | D42: =SUM(E42:H42) -> 0
B43: Ընդամենը գրասենյակային և վարչական ծախսեր | D43: =SUBTOTAL(9,D38:D42) -> 0 | E43: =SUBTOTAL(9,E38:E42) -> 0 | F43: =SUBTOTAL(9,F38:F42) -> 0 | G43: =SUBTOTAL(9,G38:G42) -> 0 | H43: =SUBTOTAL(9,H38:H42) -> 0
B45: Արտապատվիրակված էլեկտրոնային ռեսուրսների ստեղծման կամ արդիականացման նախագծեր
B46: Արտապատվիրակված էլեկտրոնային ռեսուրսների ստեղծման կամ արդիականացման նախագծեր | D46: =SUM(E46:H46) -> 0 | E46: =E185 -> 0 | F46: =F185 -> 0 | G46: =G185 -> 0 | H46: =H185 -> 0
B47: Ընդամենը արտապատվիրակված էլեկտրոնային ռեսուրսների ստեղծման կամ արդիականացման նախագծեր | D47: =SUBTOTAL(9,D46) -> 0 | E47: =SUBTOTAL(9,E46) -> 0 | F47: =SUBTOTAL(9,F46) -> 0 | G47: =SUBTOTAL(9,G46) -> 0 | H47: =SUBTOTAL(9,H46) -> 0
B49: Հանրային իրազեկում, հասարակայնության հետ կապեր
...

Sheet a14
A1: 14 | B1: ՀՀ քրեակատարողական հիմնարկներում արդի ինժեներատեխնիկական և անվտանգության ապահովման միջոցներով վերազինում
B3: Հոդված | C3: Նշումներ | D3: Ընդամենը | E3: =start -> 43831 | F3: =EOMONTH(E3,11)+1 -> 44197 | G3: =EOMONTH(F3,11)+1 -> 44562 | H3: =EOMONTH(G3,11)+1 -> 44927
B4: Համախառն աշխատավարձ
B5: Ներգրավված տեղական փորձագետների վարձատրություն | D5: =SUM(E5:H5) -> 0 | E5: =E68 -> 0 | F5: =F68 -> 0 | G5: =G68 -> 0 | H5: =H68 -> 0
B6: Ներգրավված միջազգային փորձագետների վարձատրություն | D6: =SUM(E6:H6) -> 0 | E6: =E72 -> 0 | F6: =F72 -> 0 | G6: =G72 -> 0 | H6: =H72 -> 0
B7: Ընդամենը աշխատավարձ | D7: =SUBTOTAL(9,D5:D6) -> 0 | E7: =SUBTOTAL(9,E5:E6) -> 0 | F7: =SUBTOTAL(9,F5:F6) -> 0 | G7: =SUBTOTAL(9,G5:G6) -> 0 | H7: =SUBTOTAL(9,H5:H6) -> 0
B9: Անձնակազմի ծախսեր
B10: Գործուղումներ | D10: =SUM(E10:H10) -> 0 | E10: =E92 -> 0 | F10: =F92 -> 0 | G10: =G92 -> 0 | H10: =H92 -> 0
B11: Անձնակազմի մոտիվացիոն ֆոնդ | D11: =SUM(E11:H11) -> 0 | E11: 0 | F11: 0 | G11: 0 | H11: 0
B12: Ընդամենը անձնակազմի ծախսեր | D12: =SUBTOTAL(9,D10:D11) -> 0 | E12: =SUBTOTAL(9,E10:E11) -> 0 | F12: =SUBTOTAL(9,F10:F11) -> 0 | G12: =SUBTOTAL(9,G10:G11) -> 0 | H12: =SUBTOTAL(9,H10:H11) -> 0
B14: Ներկայացուցչական ծախսեր
B15: Միջազգային փորձագետների ընդունում | D15: =SUM(E15:H15) -> 0 | E15: =E100 -> 0 | F15: =F100 -> 0 | G15: =G100 -> 0 | H15: =H100 -> 0
B16: Այլ ներկայացուցչական ծախսեր
B17: Ընդամենը ներկայացուցչական ծախսեր | D17: =SUBTOTAL(9,D15:D16) -> 0 | E17: =SUBTOTAL(9,E15:E16) -> 0 | F17: =SUBTOTAL(9,F15:F16) -> 0 | G17: =SUBTOTAL(9,G15:G16) -> 0 | H17: =SUBTOTAL(9,H15:H16) -> 0
B19: Դասընթացներ և միջոցառումներ
B20: Դասընթացներ | D20: =SUM(E20:H20) -> 0 | E20: =E104 -> 0 | F20: =F104 -> 0 | G20: =G104 -> 0 | H20: =H104 -> 0
B21: Միջոցառումներ | D21: =SUM(E21:H21) -> 0
B22: Ընդամենը դասընթացներ և միջոցառումներ | D22: =SUBTOTAL(9,D20:D21) -> 0 | E22: =SUBTOTAL(9,E20:E21) -> 0 | F22: =SUBTOTAL(9,F20:F21) -> 0 | G22: =SUBTOTAL(9,G20:G21) -> 0 | H22: =SUBTOTAL(9,H20:H21) -> 0
B24: Նյութեր
B25: Նյութերի թարգմանություն | D25: =SUM(E25:H25) -> 0 | E25: =E112 -> 0 | F25: =F112 -> 0 | G25: =G112 -> 0 | H25: =H112 -> 0
B26: Ուսումնական և մեթոդական նյութեր, տեխնոլոգիաներ | D26: =SUM(E26:H26) -> 0 | E26: =E141 -> 0 | F26: =F141 -> 0 | G26: =G141 -> 0 | H26: =H141 -> 0
B27: էլեկտրոնային ռեսուրսների ստեղծում կամ արդիականացում
B28: Ընդամենը նյութեր | D28: =SUBTOTAL(9,D25:D27) -> 0 | E28: =SUBTOTAL(9,E25:E27) -> 0 | F28: =SUBTOTAL(9,F25:F27) -> 0 | G28: =SUBTOTAL(9,G25:G27) -> 0 | H28: =SUBTOTAL(9,H25:H27) -> 0
B30: Կապիտալ ծախսեր
B31: Շենքեր, շինություններ | D31: =SUM(E31:H31) -> 0
B32: Սարքավորումներ և տեխնոլոգիաներ | D32: =SUM(E32:H32) -> 252000 | E32: =E122 -> 0 | F32: =F122 -> 252000 | G32: =G122 -> 0 | H32: =H122 -> 0
B33: Կահույք | D33: =SUM(E33:H33) -> 0
B34: Այլ | D34: =SUM(E34:H34) -> 0
B35: Ընդամենը կապիտալ ծախսեր | D35: =SUBTOTAL(9,D31:D34) -> 252000 | E35: =SUBTOTAL(9,E31:E34) -> 0 | F35: =SUBTOTAL(9,F31:F34) -> 252000 | G35: =SUBTOTAL(9,G31:G34) -> 0 | H35: =SUBTOTAL(9,H31:H34) -> 0
B37: Գրասենյակային և վարչական ծախսեր
B38: Կոմունալ վճարներ, կապ, վարձակալություն և տարածքի պահպանման ծախսեր | D38: =SUM(E38:H38) -> 0
B39: Գրենական պիտույքներ, տնտեսական ապրանքներ | D39: =SUM(E39:H39) -> 0
B40: Համակարգչային պարագաներ, սարքավորումների սպասարկում և ծրագրային ապահովում | D40: =SUM(E40:H40) -> 0 | E40: =E186 -> 0 | F40: =F186 -> 0 | G40: =G186 -> 0 | H40: =H186 -> 0
B41: Տրանսպորտային ծախսեր | D41: =SUM(E41:H41) -> 0
B42: Այլ գրասենյակային ծախսեր | D42: =SUM(E42:H42) -> 0
B43: Ընդամենը գրասենյակային և վարչական ծախսեր | D43: =SUBTOTAL(9,D38:D42) -> 0 | E43: =SUBTOTAL(9,E38:E42) -> 0 | F43: =SUBTOTAL(9,F38:F42) -> 0 | G43: =SUBTOTAL(9,G38:G42) -> 0 | H43: =SUBTOTAL(9,H38:H42) -> 0
B45: Արտապատվիրակված էլեկտրոնային ռեսուրսների ստեղծման կամ արդիականացման նախագծեր
B46: Արտապատվիրակված էլեկտրոնային ռեսուրսների ստեղծման կամ արդիականացման նախագծեր | D46: =SUM(E46:H46) -> 0 | E46: =E188 -> 0 | F46: =F188 -> 0 | G46: =G188 -> 0 | H46: =H188 -> 0
B47: Արտապատվիրակված անվտանգության և տեսահսկման համակարգերի ստեղծման կամ արդիականացման նախագծեր | D47: =SUM(E47:H47) -> 936000 | E47: =E190 -> 36000 | F47: =F190 -> 900000 | G47: =G190 -> 0 | H47: =H190 -> 0
B48: Ընդամենը արտապատվիրակված էլեկտրոնային ռեսուրսների ստեղծման կամ արդիականացման նախագծեր | D48: =SUBTOTAL(9,D46:D47) -> 936000 | E48: =SUBTOTAL(9,E46:E47) -> 36000 | F48: =SUBTOTAL(9,F46:F47) -> 900000 | G48: =SUBTOTAL(9,G46:G47) -> 0 | H48: =SUBTOTAL(9,H46:H47) -> 0
...

Sheet a15
A1: 15 | B1: Քրեակատարողական ծառայողների սոցիալական պայմանների բարելավում
B3: Հոդված | C3: Նշումներ | D3: Ընդամենը | E3: =start -> 43831 | F3: =EOMONTH(E3,11)+1 -> 44197 | G3: =EOMONTH(F3,11)+1 -> 44562 | H3: =EOMONTH(G3,11)+1 -> 44927
B4: Համախառն աշխատավարձ
B5: Ներգրավված տեղական փորձագետների վարձատրություն | D5: =SUM(E5:H5) -> 4549.8632 | E5: =E70 -> 2227.05 | F5: =F70 -> 2322.8131 | G5: =G70 -> 0 | H5: =H70 -> 0
B6: Ներգրավված միջազգային փորձագետների վարձատրություն | D6: =SUM(E6:H6) -> 0 | E6: =E74 -> 0 | F6: =F74 -> 0 | G6: =G74 -> 0 | H6: =H74 -> 0
B7: Ընդամենը աշխատավարձ | D7: =SUBTOTAL(9,D5:D6) -> 4549.8632 | E7: =SUBTOTAL(9,E5:E6) -> 2227.05 | F7: =SUBTOTAL(9,F5:F6) -> 2322.8131 | G7: =SUBTOTAL(9,G5:G6) -> 0 | H7: =SUBTOTAL(9,H5:H6) -> 0
B9: Անձնակազմի ծախսեր
B10: Գործուղումներ | D10: =SUM(E10:H10) -> 0 | E10: =E108 -> 0 | F10: =F108 -> 0 | G10: =G108 -> 0 | H10: =H108 -> 0
B11: Աշխատավարձային ֆոնդի աճ | D11: =SUM(E11:H11) -> 6277093.6 | E11: =E95 -> 1569273.4 | F11: =F95 -> 1569273.4 | G11: =G95 -> 1569273.4 | H11: =H95 -> 1569273.4
B12: Անձնակազմի մոտիվացիոն ֆոնդ | D12: =SUM(E12:H12) -> 0 | E12: 0 | F12: 0 | G12: 0 | H12: 0
B13: «Մատչելի բնակարան» ծրագիր | D13: =SUM(E13:H13) -> 1043936 | E13: =E101 -> 174775 | F13: =F101 -> 233596 | G13: =G101 -> 290409 | H13: =H101 -> 345156
B14: Ընդամենը անձնակազմի ծախսեր | D14: =SUBTOTAL(9,D10:D13) -> 7321029.6 | E14: =SUBTOTAL(9,E10:E13) -> 1744048.4 | F14: =SUBTOTAL(9,F10:F13) -> 1802869.4 | G14: =SUBTOTAL(9,G10:G13) -> 1859682.4 | H14: =SUBTOTAL(9,H10:H13) -> 1914429.4
B16: Ներկայացուցչական ծախսեր
B17: Միջազգային փորձագետների ընդունում | D17: =SUM(E17:H17) -> 0 | E17: =E116 -> 0 | F17: =F116 -> 0 | G17: =G116 -> 0 | H17: =H116 -> 0
B18: Այլ ներկայացուցչական ծախսեր
B19: Ընդամենը ներկայացուցչական ծախսեր | D19: =SUBTOTAL(9,D17:D18) -> 0 | E19: =SUBTOTAL(9,E17:E18) -> 0 | F19: =SUBTOTAL(9,F17:F18) -> 0 | G19: =SUBTOTAL(9,G17:G18) -> 0 | H19: =SUBTOTAL(9,H17:H18) -> 0
B21: Դասընթացներ և միջոցառումներ
B22: Դասընթացներ | D22: =SUM(E22:H22) -> 0 | E22: =E120 -> 0 | F22: =F120 -> 0 | G22: =G120 -> 0 | H22: =H120 -> 0
B23: Միջոցառումներ | D23: =SUM(E23:H23) -> 0
B24: Ընդամենը դասընթացներ և միջոցառումներ | D24: =SUBTOTAL(9,D22:D23) -> 0 | E24: =SUBTOTAL(9,E22:E23) -> 0 | F24: =SUBTOTAL(9,F22:F23) -> 0 | G24: =SUBTOTAL(9,G22:G23) -> 0 | H24: =SUBTOTAL(9,H22:H23) -> 0
B26: Նյութեր
B27: Նյութերի թարգմանություն | D27: =SUM(E27:H27) -> 0 | E27: =E128 -> 0 | F27: =F128 -> 0 | G27: =G128 -> 0 | H27: =H128 -> 0
B28: Ուսումնական և մեթոդական նյութեր, տեխնոլոգիաներ | D28: =SUM(E28:H28) -> 0 | E28: =E157 -> 0 | F28: =F157 -> 0 | G28: =G157 -> 0 | H28: =H157 -> 0
B29: էլեկտրոնային ռեսուրսների ստեղծում կամ արդիականացում
B30: Ընդամենը նյութեր | D30: =SUBTOTAL(9,D27:D29) -> 0 | E30: =SUBTOTAL(9,E27:E29) -> 0 | F30: =SUBTOTAL(9,F27:F29) -> 0 | G30: =SUBTOTAL(9,G27:G29) -> 0 | H30: =SUBTOTAL(9,H27:H29) -> 0
B32: Կապիտալ ծախսեր
B33: Շենքեր, շինություններ | D33: =SUM(E33:H33) -> 0
B34: Սարքավորումներ և տեխնոլոգիաներ | D34: =SUM(E34:H34) -> 0 | E34: =E138 -> 0 | F34: =F138 -> 0 | G34: =G138 -> 0 | H34: =H138 -> 0
B35: Կահույք | D35: =SUM(E35:H35) -> 0
B36: Այլ | D36: =SUM(E36:H36) -> 0
B37: Ընդամենը կապիտալ ծախսեր | D37: =SUBTOTAL(9,D33:D36) -> 0 | E37: =SUBTOTAL(9,E33:E36) -> 0 | F37: =SUBTOTAL(9,F33:F36) -> 0 | G37: =SUBTOTAL(9,G33:G36) -> 0 | H37: =SUBTOTAL(9,H33:H36) -> 0
B39: Գրասենյակային և վարչական ծախսեր
B40: Կոմունալ վճարներ, կապ, վարձակալություն և տարածքի պահպանման ծախսեր | D40: =SUM(E40:H40) -> 0
B41: Գրենական պիտույքներ, տնտեսական ապրանքներ | D41: =SUM(E41:H41) -> 0
B42: Համակարգչային պարագաներ, սարքավորումների սպասարկում և ծրագրային ապահովում | D42: =SUM(E42:H42) -> 0 | E42: =E202 -> 0 | F42: =F202 -> 0 | G42: =G202 -> 0 | H42: =H202 -> 0
B43: Տրանսպորտային ծախսեր | D43: =SUM(E43:H43) -> 0
B44: Այլ գրասենյակային ծախսեր | D44: =SUM(E44:H44) -> 0
B45: Ընդամենը գրասենյակային և վարչական ծախսեր | D45: =SUBTOTAL(9,D40:D44) -> 0 | E45: =SUBTOTAL(9,E40:E44) -> 0 | F45: =SUBTOTAL(9,F40:F44) -> 0 | G45: =SUBTOTAL(9,G40:G44) -> 0 | H45: =SUBTOTAL(9,H40:H44) -> 0
B47: Արտապատվիրակված էլեկտրոնային ռեսուրսների ստեղծման կամ արդիականացման նախագծեր
B48: Արտապատվիրակված էլեկտրոնային ռեսուրսների ստեղծման կամ արդիականացման նախագծեր | D48: =SUM(E48:H48) -> 0 | E48: =E204 -> 0 | F48: =F204 -> 0 | G48: =G204 -> 0 | H48: =H204 -> 0
...

Sheet a17
A1: 17 | B1: «Քրեակատարողական գործ» նախնական մասնագիտական (արհեստագործական) կրթության կազմակերպում
B3: Հոդված | C3: Նշումներ | D3: Ընդամենը | E3: =start -> 43831 | F3: =EOMONTH(E3,11)+1 -> 44197 | G3: =EOMONTH(F3,11)+1 -> 44562 | H3: =EOMONTH(G3,11)+1 -> 44927
B4: Համախառն աշխատավարձ
B5: Ներգրավված տեղական փորձագետների վարձատրություն | D5: =SUM(E5:H5) -> 0 | E5: =E63 -> 0 | F5: =F63 -> 0 | G5: =G63 -> 0 | H5: =H63 -> 0
B6: Ներգրավված միջազգային փորձագետների վարձատրություն | D6: =SUM(E6:H6) -> 0 | E6: =E67 -> 0 | F6: =F67 -> 0 | G6: =G67 -> 0 | H6: =H67 -> 0
B7: Ընդամենը աշխատավարձ | D7: =SUBTOTAL(9,D5:D6) -> 0 | E7: =SUBTOTAL(9,E5:E6) -> 0 | F7: =SUBTOTAL(9,F5:F6) -> 0 | G7: =SUBTOTAL(9,G5:G6) -> 0 | H7: =SUBTOTAL(9,H5:H6) -> 0
B9: Անձնակազմի ծախսեր
B10: Գործուղումներ | D10: =SUM(E10:H10) -> 0 | E10: =E87 -> 0 | F10: =F87 -> 0 | G10: =G87 -> 0 | H10: =H87 -> 0
B11: Անձնակազմի մոտիվացիոն ֆոնդ | D11: =SUM(E11:H11) -> 0 | E11: 0 | F11: 0 | G11: 0 | H11: 0
