Workbook

Sheet 1
D1: Հավելված N 1
D2: ՀՀ կառավարության 2019 թվականի -ի N -Ն որոշման
A3: «ՀԱՅԱՍՏԱՆԻ ՀԱՆՐԱՊԵՏՈՒԹՅԱՆ 2019 ԹՎԱԿԱՆԻ ՊԵՏԱԿԱՆ ԲՅՈՒՋԵԻ ՄԱՍԻՆ» ՀԱՅԱՍՏԱՆԻ ՀԱՆՐԱՊԵՏՈՒԹՅԱՆ ՕՐԵՆՔԻ N1 ՀԱՎԵԼՎԱԾԻ N2 ԱՂՅՈՒՍԱԿՆԵՐՈՒՄ ԿԱՏԱՐՎՈՂ ՎԵՐԱԲԱՇԽՈՒՄԸ ԵՎ ՀԱՅԱՍՏԱՆԻ ՀԱՆՐԱՊԵՏՈՒԹՅԱՆ ԿԱՌԱՎԱՐՈՒԹՅԱՆ 2018 ԹՎԱԿԱՆԻ ԴԵԿՏԵՄԲԵՐԻ 27-Ի N1515-Ն ՈՐՈՇՄԱՆ N5 ՀԱՎԵԼՎԱԾԻ N1 ԱՂՅՈՒՍԱԿՈՒՄ ԿԱՏԱՐՎՈՂ ՓՈՓՈԽՈՒԹՅՈՒՆՆԵՐԸ
A5: Ծրագրային դասիչը | C5: Բյուջետային գլխավոր կարգադրիչների, ծրագրերի և միջոցառումների անվանումները | D5: Ցուցանիշների փոփոխությունը (ավելացումները նշված են դրական նշանով, իսկ նվազեցումները` փակագծերում)
A6: Ծրագիր | B6: Միջոցա-ռում | D6: Տարի
C7: ԸՆԴԱՄԵՆԸ | D7: =+D8+D22 -> 0
C8: ՀՀ ֆինանսների նախարարություն | D8: =+D9 -> -18000
A9: 1006 | C9: Ծրագրի անվանումը` | D9: =+D15 -> -18000
C10: Պետական պարտքի կառավարում
C11: Ծրագրի նպատակը`
C12: Կառավարության ֆինանսական կարիքների բավարարման մշտական հնարավորության ապահովումը` երկարաժամկետ հատվածում նվազեցնելով պարտքի սպասարկման մեծությունը
C13: Վերջնական արդյունքի նկարագրությունը`
C14: Կառավարության պարտքի օպտիմալ կառուցվածքի ձևավորում՛ հաշվի առնելով պոտենցիալ ռիսկերը
B15: 11005 | C15: Միջոցառման անվանումը` | D15: -18000
C16: Արտարժութային պետական պարտատոմսերի թողարկմանն առնչվող ծախսեր
C17: Միջոցառման նկարագրությունը`
C18: Նոր արտարժութային պետական պարտատոմսերի տեղաբաշխումների կազմակերպման, իրավական սպասարկման, վարկանշման ծառայությունների դիմաց վճարումներ
C19: Միջոցառման տեսակը
C20: Ծառայությունների մատուցում
C22: ՀՀ կառավարություն | D22: =+D23 -> 18000
A23: 1139 | C23: Ծրագրի անվանումը` | D23: =+D30 -> 18000
C24: ՀՀ կառավարության պահուստային ֆոնդ
C25: Ծրագրի նպատակը`
C26: Պետական բյուջեում չկանխատեսված՝ ինչպես նաեւ բյուջետային երաշխիքների ապահովման ծախսերի ֆինանսավորման ապահովում
C27: Վերջնական արդյունքի նկարագրությունը`
C28: Պահուստային ֆոնդի կառավարման արդյունավետության և թափանցիկության
C29: Ծրագրի միջոցառումներ
B30: 11001 | C30: Միջոցառման անվանումը` | D30: =-D15 -> 18000
C31: ՀՀ կառավարության պահուստային ֆոնդ
C32: Միջոցառման նկարագրությունը`
C33: ՀՀ պետական բյուջեում նախատեսված ելքերի լրացուցիչ ֆինանսավորման՝ պետական բյուջեում չկանխատեսված ելքերի՝ ինչպես նաև բյուջետային երաշխիքների ապահովման ելքերի ֆինանսավորման ապահովում
C34: Միջոցառման տեսակը
C35: Ծառայությունների մատուցում

Sheet 2
G1: Հավելված N 2
G2: ՀՀ կառավարության 2019 թվականի -ի N -Ն որոշման
A3: ՀԱՅԱՍՏԱՆԻ ՀԱՆՐԱՊԵՏՈՒԹՅԱՆ ԿԱՌԱՎԱՐՈՒԹՅԱՆ 2018 ԹՎԱԿԱՆԻ ԴԵԿՏԵՄԲԵՐԻ 27-Ի N1515-Ն ՈՐՈՇՄԱՆ N3 ՀԱՎԵԼՎԱԾՈՒՄ ԿԱՏԱՐՎՈՂ ՓՈՓՈԽՈՒԹՅՈՒՆՆԵՐԸ
A5: Գործառական դասիչը | D5: Ծրագրային դասիչը | F5: Բյուջետային ծախսերի գործառական դասակարգման բաժինների, խմբերի և դասերի, բյուջետային ծրագրերի միջոցառումների, բյուջետային հատկացումների գլխավոր կարգադրիչների անվանումները | G5: Ցուցանիշների փոփոխությունը (ավելացումները նշված են դրական նշանով, իսկ նվազեցումները` փակագծերում)
A6: Բաժին | B6: Խումբ | C6: Դաս | D6: Ծրագիր | E6: Միջո-ցառում | G6: Տարի
F7: ԸՆԴԱՄԵՆԸ ԾԱԽՍԵՐ | G7: =+G9+G17 -> 0
F8: այդ թվում`
A9: 01 | F9: ԸՆԴՀԱՆՈՒՐ ԲՆՈՒՅԹԻ ՀԱՆՐԱՅԻՆ ԾԱՌԱՅՈՒԹՅՈՒՆՆԵՐ | G9: =+G10 -> -18000
B10: 07 | F10: Պետական պարտքի գծով գործառնություններ | G10: =+G12 -> -18000
F11: այդ թվում`
C12: 01 | F12: Պետական պարտքի գծով գործառնություններ | G12: =+G14 -> -18000
F13: այդ թվում`
D14: 1006 | E14: 11005 | F14: Արտարժութային պետական պարտատոմսերի թողարկմանն առնչվող ծախսեր | G14: =+G15 -> -18000
F15: ՀՀ ֆինանսների նախարարություն | G15: =+'1'!D15 -> -18000
A17: 11 | F17: ՀԻՄՆԱԿԱՆ ԲԱԺԻՆՆԵՐԻՆ ՉԴԱՍՎՈՂ ՊԱՀՈՒՍՏԱՅԻՆ ՖՈՆԴԵՐ | G17: =+G19 -> 18000
F18: այդ թվում`
B19: 01 | F19: ՀՀ կառավարության և համայնքների պահուստային ֆոնդ | G19: =+G21 -> 18000
F20: այդ թվում`
C21: 01 | F21: ՀՀ կառավարության պահուստային ֆոնդ | G21: =+G23 -> 18000
F22: այդ թվում`
D23: 1139 | E23: 11001 | F23: ՀՀ կառավարության պահուստային ֆոնդ | G23: =+G24 -> 18000
F24: ՀՀ կառավարություն | G24: =+'1'!D30 -> 18000

Sheet 3
D1: Հավելված N 3
D2: ՀՀ կառավարության 2019 թվականի -ի N -Ն որոշման
A3: ՀԱՅԱՍՏԱՆԻ ՀԱՆՐԱՊԵՏՈՒԹՅԱՆ ԿԱՌԱՎԱՐՈՒԹՅԱՆ 2018 ԹՎԱԿԱՆԻ ԴԵԿՏԵՄԲԵՐԻ 27-Ի N1515-Ն ՈՐՈՇՄԱՆ N4 ՀԱՎԵԼՎԱԾՈՒՄ ԿԱՏԱՐՎՈՂ ՓՈՓՈԽՈՒԹՅՈՒՆՆԵՐԸ
A5: Ծրագրային դասիչը | C5: Բյուջետային հատկացումների գլխավոր կարգադրիչների, ծրագրերի, միջոցառումների և միջոցառումները կատարող պետական մարմինների անվանումները | D5: Ցուցանիշների փոփոխությունը (ավելացումները նշված են դրական նշանով, իսկ նվազեցումները` փակագծերում)
A6: Ծրագիր | B6: Միջո-ցառում | D6: Տարի
C7: ԸՆԴԱՄԵՆԸ | D7: =+D8+D22 -> 0
C8: ՀՀ ֆինանսների նախարարություն | D8: =+D10 -> -18000
C9: այդ թվում`
A10: 1006 | C10: Պետական պարտքի կառավարում | D10: =+D12 -> -18000
C11: այդ թվում`
B12: 11005 | C12: Արտարժութային պետական պարտատոմսերի թողարկմանն առնչվող ծախսեր | D12: =+D14 -> -18000
C13: այդ թվում` ըստ կատարողների
C14: ՀՀ ֆինանսների նախարարություն | D14: =+D16 -> -18000
C15: այդ թվում` բյուջետային ծախսերի տնտեսագիտական դասակարգման հոդվածներ
C16: ԸՆԴԱՄԵՆԸ ԾԱԽՍԵՐ | D16: =+D17 -> -18000
C17: ԸՆԹԱՑԻԿ ԾԱԽՍԵՐ | D17: =+D18 -> -18000
C18: ԾԱՌԱՅՈՒԹՅՈՒՆՆԵՐԻ ԵՎ ԱՊՐԱՆՔՆԵՐԻ ՁԵՌՔԲԵՐՈՒՄ | D18: =+D19 -> -18000
C19: Պայմանագրային այլ ծառայությունների ձեռքբերում | D19: =+D20 -> -18000
C20: - Ընդհանուր բնույթի այլ ծառայություններ | D20: =+'1'!D15 -> -18000
C22: ՀՀ կառավարություն | D22: =+D24 -> 18000
C23: այդ թվում`
A24: 1139 | C24: ՀՀ կառավարության պահուստային ֆոնդ | D24: =+D26 -> 18000
C25: այդ թվում`
B26: 11001 | C26: ՀՀ կառավարության պահուստային ֆոնդ | D26: =+D28 -> 18000
C27: այդ թվում` ըստ կատարողների
C28: ՀՀ կառավարություն | D28: =+D30 -> 18000
C29: այդ թվում` բյուջետային ծախսերի տնտեսագիտական դասակարգման հոդվածներ
C30: ԸՆԴԱՄԵՆԸ ԾԱԽՍԵՐ | D30: =+D31 -> 18000
C31: ԸՆԹԱՑԻԿ ԾԱԽՍԵՐ | D31: =+D32 -> 18000
C32: ԱՅԼ ԾԱԽՍԵՐ | D32: =+D33 -> 18000
C33: Պահուստային միջոցներ | D33: =+'1'!D30 -> 18000

Sheet 4
C1: Հավելված N 4
C2: ՀՀ կառավարության 2019 թվականի -ի N -Ն որոշման
A3: ՀԱՅԱՍՏԱՆԻ ՀԱՆՐԱՊԵՏՈՒԹՅԱՆ ԿԱՌԱՎԱՐՈՒԹՅԱՆ 2018 ԹՎԱԿԱՆԻ ԴԵԿՏԵՄԲԵՐԻ 27-Ի N1515-Ն ՈՐՈՇՄԱՆ N11 ՀԱՎԵԼՎԱԾԻ N11.21 ԵՎ N11.52 ԱՂՅՈՒՍԱԿՆԵՐՈՒՄ ԵՎ N11.1 ՀԱՎԵԼՎԱԾԻ N11.1.21 ԵՎ N11.1.66 ԱՂՅՈՒՍԱԿՆԵՐՈՒՄ ԿԱՏԱՐՎՈՂ ՓՈՓՈԽՈՒԹՅՈՒՆՆԵՐԸ
A5: ՊԵՏԱԿԱՆ ՄԱՐՄՆԻ ԳԾՈՎ ԱՐԴՅՈՒՆՔԱՅԻՆ (ԿԱՏԱՐՈՂԱԿԱՆ) ՑՈՒՑԱՆԻՇՆԵՐԸ
A6: ՀՀ ֆինանսների նախարարություն
A7: Ծրագրի դասիչը | B7: Ծրագրի անվանումը
A8: 1006 | B8: Պետական պարտքի կառավարում
A9: Ծրագրի միջոցառումները
A10: Ծրագրի դասիչը` | B10: 1006 | C10: Ցուցանիշների փոփոխությունը (ավելացումները նշված են դրական նշանով)
A11: Միջոցառման դասիչը` | B11: 11005 | C11: Տարի
A12: Միջոցառման անվանումը` | B12: Արտարժութային պետական պարտատոմսերի թողարկմանն առնչվող ծախսեր
A13: Նկարագրությունը` | B13: Նոր արտարժութային պետական պարտատոմսերի տեղաբաշխումների կազմակերպման, իրավական սպասարկման, վարկանշման ծառայությունների դիմաց վճարումներ
A14: Միջոցառման տեսակը` | B14: Ծառայությունների մատուցում
A15: Միջոցառումն իրականացնողի անվանումը | B15: ՀՀ ֆինանսների նախարարություն
A16: Արդյունքի չափորոշիչներ
A17: Միջոցառման վրա կատարվող ծախսը (հազար դրամ) | C17: =+'1'!D15 -> -18000
A19: ՀՀ կառավարություն
A20: Ծրագրի դասիչը | B20: Ծրագրի անվանումը
A21: 1139 | B21: ՀՀ կառավարության պահուստային ֆոնդ
A23: Ծրագրի միջոցառումները
A24: Ծրագրի դասիչը` | B24: 1139 | C24: Ցուցանիշների փոփոխությունը (ավելացումները նշված են դրական նշանով)
A25: Միջոցառման դասիչը` | B25: 11001 | C25: Տարի
A26: Միջոցառման անվանումը` | B26: ՀՀ կառավարության պահուստային ֆոնդ
A27: Նկարագրությունը` | B27: ՀՀ պետական բյուջեում նախատեսված ելքերի լրացուցիչ ֆինանսավորման՝ պետական բյուջեում չկանխատեսված ելքերի՝ ինչպես նաև բյուջետային երաշխիքների ապահովման ելքերի ֆինանսավորման ապահովում
A28: Միջոցառման տեսակը` | B28: Ծառայությունների մատուցում
A29: Միջոցառումն իրականացնողի անվանումը | B29: ՀՀ կառավարություն
A30: Արդյունքի չափորոշիչներ
A31: Միջոցառման վրա կատարվող ծախսը (հազար դրամ) | C31: =+'1'!D30 -> 18000
