Workbook
Name \A: #REF!
Name Armata: #REF!
Name BOP: #REF!
Name BOPfoot: #REF!
Name DebtCG: '[1]Fis-Debt'!#REF!
Name DebtGG: #REF!
Name MonExo: #REF!
Name MonGrow: [2]BM!#REF!
Name RealExo: #REF!
Name RealPercent: #REF!
Name Table_2._Turkey__Exogenous_assumptions: #REF!
Name է: [2]BM!#REF!
Name ՀՀՀՀՀ: #REF!
Name շախմատիստ: #REF!

Sheet N  1
A1: Հավելված 1 ՀՀ կառավարության 2019 թվականի____________ի N _____-Ն որոշման
A4: «ՀԱՅԱՍՏԱՆԻ ՀԱՆՐԱՊԵՏՈՒԹՅԱՆ 2019 ԹՎԱԿԱՆԻ ՊԵՏԱԿԱՆ ԲՅՈՒՋԵԻ ՄԱՍԻՆ» ՀԱՅԱՍՏԱՆԻ ՀԱՆՐԱՊԵՏՈՒԹՅԱՆ ՕՐԵՆՔԻ 2-ՐԴ ՀՈԴՎԱԾԻ ԱՂՅՈՒՍԱԿՈՒՄ ԿԱՏԱՐՎՈՂ ՓՈՓՈԽՈՒԹՅՈՒՆՆԵՐԸ
B5: հազար դրամներով
B6: Ցուցանիշների փոփոխությունը (ավելացումները նշված են դրական նշանով)
A7: Եկամուտների գծով | B7: =B8 -> 39599.1
A8: Ծախսերի գծով | B8: ='N 2'!B10 -> 39599.1
A9: Դեֆիցիտը (պակասուրդը) | B9: =B7-B8 -> 0

Sheet N  2
A1: Հավելված 2 ՀՀ կառավարության 2019 թվականի____________ի N _____-Ն որոշման
A4: «ՀԱՅԱՍՏԱՆԻ ՀԱՆՐԱՊԵՏՈՒԹՅԱՆ 2019 ԹՎԱԿԱՆԻ ՊԵՏԱԿԱՆ ԲՅՈՒՋԵԻ ՄԱՍԻՆ» ՀԱՅԱՍՏԱՆԻ ՀԱՆՐԱՊԵՏՈՒԹՅԱՆ ՕՐԵՆՔԻ 6-ՐԴ ՀՈԴՎԱԾԻ ԱՂՅՈՒՍԱԿՈՒՄ ԵՎ ՀԱՅԱՍՏԱՆԻ ՀԱՆՐԱՊԵՏՈՒԹՅԱՆ ԿԱՌԱՎԱՐՈՒԹՅԱՆ 2018 ԹՎԱԿԱՆԻ ԴԵԿՏԵՄԲԵՐԻ 27-Ի N 1515-Ն ՈՐՈՇՄԱՆ 2-ՐԴ ՀԱՎԵԼՎԱԾՈՒՄ ԿԱՏԱՐՎՈՂ ՓՈՓՈԽՈՒԹՅՈՒՆՆԵՐԸ
B5: հազար դրամներով
A6: Պետական բյուջեի եկամուտները | B6: Ցուցանիշների փոփոխությունը (ավելացումները նշված են դրական նշանով)
B7: Տարի
A8: ԸՆԴԱՄԵՆԸ | B8: =B10 -> 39599.1
A9: այդ թվում`
A10: Հարկային եկամուտներ և պետական տուրքեր | B10: ='N 3'!D7 -> 39599.1

Sheet N 3
C1: Հավելված 3 ՀՀ կառավարության 2019 թվականի____________ի N _____-Ն որոշման
A3: «ՀԱՅԱՍՏԱՆԻ ՀԱՆՐԱՊԵՏՈՒԹՅԱՆ 2019 ԹՎԱԿԱՆԻ ՊԵՏԱԿԱՆ ԲՅՈՒՋԵԻ ՄԱՍԻՆ» ՀԱՅԱՍՏԱՆԻ ՀԱՆՐԱՊԵՏՈՒԹՅԱՆ ՕՐԵՆՔԻ N 1 ՀԱՎԵԼՎԱԾԻ N 2 ԱՂՅՈՒՍԱԿՈՒՄ ԵՎ ՀԱՅԱՍՏԱՆԻ ՀԱՆՐԱՊԵՏՈՒԹՅԱՆ ԿԱՌԱՎԱՐՈՒԹՅԱՆ 2018 ԹՎԱԿԱՆԻ ԴԵԿՏԵՄԲԵՐԻ 27-Ի N 1515-Ն ՈՐՈՇՄԱՆ N 5 ՀԱՎԵԼՎԱԾԻ N 1 ԱՂՅՈՒՍԱԿՈՒՄ ԿԱՏԱՐՎՈՂ ՓՈՓՈԽՈՒԹՅՈՒՆՆԵՐԸ
A5: Ծրագրային դասիչը | C5: Բյուջետային հատկացումների գլխավոր կարգադրիչների, ծրագրերի և միջոցառումների անվանումները | D5: Ցուցանիշների փոփոխությունը (ավելացումները նշված են դրական նշանով)
A6: Ծրագիր | B6: Միջոցառում | D6: Տարի
C7: ԸՆԴԱՄԵՆԸ | D7: =D9+D30+D43 -> 39599.1
C8: ՀՀ կառավարություն
A9: 1139 | C9: Ծրագրի անվանումը`
C10: ՀՀ կառավարության պահուստային ֆոնդ
C11: Ծրագրի նպատակը`
C12: Պետական բյուջեում չկանխատեսված՝ ինչպես նաեւ բյուջետային երաշխիքների ապահովման ծախսերի ֆինանսավորման ապահովում
C13: Վերջնական արդյունքի նկարագրությունը`
C14: Պահուստային ֆոնդի կառավարման արդյունավետության և թափանցիկության
A15: Ծրագրի միջոցառումներ
B16: 11001 | C16: Միջոցառման անվանումը` | D16: =D28 -> 39599.1
C17: ՀՀ կառավարության պահուստային ֆոնդ
C18: Միջոցառման նկարագրությունը`
C19: ՀՀ պետական բյուջեում նախատեսված ելքերի լրացուցիչ ֆինանսավորման՝ պետական բյուջեում չկանխատեսված ելքերի՝ ինչպես նաև բյուջետային երաշխիքների ապահովման ելքերի ֆինանսավորման ապահովում
C20: Միջոցառման տեսակը
C21: Ծառայությունների մատուցում
B22: 11001 | C22: Միջոցառման անվանումը` | D22: =-D16 -> -39599.1
C23: ՀՀ կառավարության պահուստային ֆոնդ
C24: Միջոցառման նկարագրությունը`
C25: ՀՀ պետական բյուջեում նախատեսված ելքերի լրացուցիչ ֆինանսավորման՝ պետական բյուջեում չկանխատեսված ելքերի՝ ինչպես նաև բյուջետային երաշխիքների ապահովման ելքերի ֆինանսավորման ապահովում
C26: Միջոցառման տեսակը
C27: Ծառայությունների մատուցում
C28: ՀՀ Շրջակա միջավայրի նախարարություն | D28: =D30+D43 -> 39599.1
A29: 1016 | C29: Ծրագրի անվանումը`
C30: Շրջակա միջավայրի վրա ազդեցության գնահատում և մոնիթորինգ | D30: =D37 -> 3569.7
C31: Ծրագրի նպատակը`
C32: Նպաստել շրջակա միջավայրի և բնական ռեսուրսների (բացառությամբ օգտակար հանածոների) պահպանությանը
C33: Վերջնական արդյունքի նկարագրությունը`
C34: Շրջակա միջավայրի վերաբերյալ ամբողջական տեղեկատվության հրապարակում
A35: Ծրագրի միջոցառումներ
B36: 11002 | C36: Միջոցառման անվանումը`
C37: Շրջակա միջավայրի մոնիթորինգ և տեղեկատվության ապահովում | D37: 3569.7
C38: Միջոցառման նկարագրությունը`
C39: Շրջակա միջավայրի մոնիթորինգի և տեղեկատվության տրամադրման աշխատանքներ
C40: Միջոցառման տեսակը
C41: Ծառայությունների մատուցում
A42: 1155 | C42: Ծրագրի անվանումը`
...

Sheet N 4
F1: Հավելված 4 ՀՀ կառավարության 2019 թվականի____________ի N _____-Ն որոշման
A4: ՀԱՅԱՍՏԱՆԻ ՀԱՆՐԱՊԵՏՈՒԹՅԱՆ ԿԱՌԱՎԱՐՈՒԹՅԱՆ 2018 ԹՎԱԿԱՆԻ ԴԵԿՏԵՄԲԵՐԻ 27-Ի ԹԻՎ 1515-Ն ՈՐՈՇՄԱՆ N3 ԵՎ N4 ՀԱՎԵԼՎԱԾՆԵՐՈՒՄ ԿԱՏԱՐՎՈՂ ՓՈՓՈԽՈՒԹՅՈՒՆՆԵՐԸ
G5: հազար դրամներով
A6: Բաժին | B6: Խումբ | C6: Դաս | D6: Ծրագրային դասիչը | F6: Բյուջետային հատկացումների գլխավոր կարգադրիչների, ծրագրերի, միջոցառումների և միջոցառումները կատարող պետական մարմինների անվանումները | G6: Ցուցանիշների փոփոխությունը (ավելացումները նշված են դրական նշանով, նվազեցումները՝ փակագծերում)
D7: Ծրագիր | E7: Միջոցառում | G7: Տարի
F8: ԸՆԴԱՄԵՆԸ այդ թվում` | G8: =G14+G22+G30 -> 39599.1
A9: 11 | F9: ՀԻՄՆԱԿԱՆ ԲԱԺԻՆՆԵՐԻՆ ՉԴԱՍՎՈՂ ՊԱՀՈՒՍՏԱՅԻՆ ՖՈՆԴԵՐ այդ թվում` | G9: =G10 -> 0
B10: 01 | F10: ՀՀ կառավարության և համայնքների պահուստային ֆոնդ այդ թվում` | G10: =G11 -> 0
C11: 01 | F11: ՀՀ կառավարության պահուստային ֆոնդ այդ թվում` | G11: =H13 -> 0
F12: ՀՀ կառավարություն
D13: 1139 | F13: ՀՀ կառավարության պահուստային ֆոնդ այդ թվում`
E14: 11001 | F14: ՀՀ կառավարության պահուստային ֆոնդ | G14: =G16 -> 39599.1
F15: այդ թվում` ըստ կատարողների
F16: ՀՀ կառավարություն | G16: =G18 -> 39599.1
F17: այդ թվում` բյուջետային ծախսերի տնտեսագիտական դասակարգման հոդվածներ
F18: ԸՆԴԱՄԵՆԸ ԾԱԽՍԵՐ | G18: =G19 -> 39599.1
F19: ԸՆԹԱՑԻԿ ԾԱԽՍԵՐ | G19: =G20 -> 39599.1
F20: ԱՅԼ ԾԱԽՍԵՐ | G20: =G21 -> 39599.1
F21: Պահուստային միջոցներ | G21: =G30 -> 39599.1
E22: 11001 | F22: ՀՀ կառավարության պահուստային ֆոնդ | G22: =G24 -> -39599.1
F23: այդ թվում` ըստ կատարողների
F24: ՀՀ կառավարություն | G24: =G26 -> -39599.1
F25: այդ թվում` բյուջետային ծախսերի տնտեսագիտական դասակարգման հոդվածներ
F26: ԸՆԴԱՄԵՆԸ ԾԱԽՍԵՐ | G26: =G27 -> -39599.1
F27: ԸՆԹԱՑԻԿ ԾԱԽՍԵՐ | G27: =G28 -> -39599.1
F28: ԱՅԼ ԾԱԽՍԵՐ | G28: =G29 -> -39599.1
F29: Պահուստային միջոցներ | G29: =-G21 -> -39599.1
A30: 05 | F30: ՇՐՋԱԿԱ ՄԻՋԱՎԱՅՐԻ ՊԱՇՏՊԱՆՈՒԹՅՈՒՆ այդ թվում` | G30: =G31+G44 -> 39599.1
B31: 06 | F31: Շրջակա միջավայրի պաշտպանություն (այլ դասերին չպատկանող) այդ թվում` | G31: =G32 -> 3569.7
C32: 01 | F32: Շրջակա միջավայրի պաշտպանություն (այլ դասերին չպատկանող) այդ թվում` | G32: =G33 -> 3569.7
F33: ՀՀ շրջակա միջավայրի նախարարություն այդ թվում` | G33: =G34 -> 3569.7
D34: 1016 | F34: Շրջակա միջավայրի վրա ազդեցության գնահատում և մոնիթորինգ այդ թվում` | G34: =G35 -> 3569.7
E35: 11002 | F35: Շրջակա միջավայրի մոնիթորինգ և տեղեկատվության ապահովում | G35: =G37 -> 3569.7
F36: այդ թվում` ըստ կատարողների
F37: ՀՀ շրջակա միջավայրի նախարարություն | G37: =G39 -> 3569.7
F38: այդ թվում` բյուջետային ծախսերի տնտեսագիտական դասակարգման հոդվածներ
F39: ԸՆԴԱՄԵՆԸ ԾԱԽՍԵՐ | G39: =G40 -> 3569.7
F40: ԸՆԹԱՑԻԿ ԾԱԽՍԵՐ | G40: =G41 -> 3569.7
F41: ԴՐԱՄԱՇՆՈՐՀՆԵՐ | G41: =G42 -> 3569.7
F42: Ընթացիկ դրամաշնորհներ պետական հատվածի այլ մակարդակներին | G42: =G43 -> 3569.7
...

Sheet N 5 POAK
B1: Հավելված 5 ՀՀ կառավարության 2019 թվականի____________ի N _____-Ն որոշման
B3: ՀԱՅԱՍՏԱՆԻ ՀԱՆՐԱՊԵՏՈՒԹՅԱՆ ԿԱՌԱՎԱՐՈՒԹՅԱՆ 2018 ԹՎԱԿԱՆԻ ԴԵԿՏԵՄԲԵՐԻ 27-Ի ԹԻՎ 1515-Ն ՈՐՈՇՄԱՆ N5 ՀԱՎԵԼՎԱԾԻ N8 ԱՂՅՈՒՍԱԿՈՒՄ ԿԱՏԱՐՎՈՂ ՓՈՓՈԽՈՒԹՅՈՒՆՆԵՐԸ
H6: հազար դրամներով
B7: Ծրագրային դասիչ | D7: Բյուջետային հատկացումների գլխավոր կարգադրիչների, ծրագրերի, միջոցառումների, ծախսային ուղղությունների անվանումները | G7: Միջոցառումները կատարող պետական մարմինների և դրամաշնորհ ստացող տնտեսվարող սուբյեկտների անվանումները | H7: Տարի
B8: Ծրագիր | C8: Միջոցառում
B9: 1 | C9: 2 | D9: 3 | G9: 4 | H9: 5
C11: ՀՀ շրջակա միջավայրի նախարարություն | H11: =H12+H15 -> 39599.1
B12: 1016 | C12: Շրջակա միջավայրի վրա ազդեցության գնահատում և մոնիթորինգ | H12: =+H13 -> 3569.7
C13: 11002 | D13: Շրջակա միջավայրի մոնիթորինգի և տեղեկատվության ապահովում | G13: ՀՀ շրջակա միջավայրի նախարարություն | H13: =H14 -> 3569.7
G14: «Շրջակա միջավայրի մոնիթորինգի և տեղեկատվության կենտրոն» ՊՈԱԿ | H14: ='N 4'!G35 -> 3569.7
B15: 1155 | C15: Բնական պաշարների և բնության հատուկ պահպանվող տարածքների կառավարում և պահպանում | H15: =H16+H18+H20+H22+H24+H26 -> 36029.4
C16: 11004 | D16: «Սևան» ազգային պարկի պահպանության, պարկում գիտական ուսումնասիրությունների, անտառտնտեսական աշխատանքների կատարում | G16: ՀՀ շրջակա միջավայրի նախարարություն | H16: =H17 -> 6027.7
G17: «Սևան» ազգային պարկ» ՊՈԱԿ | H17: ='N 4'!G48 -> 6027.7
C18: 11005 | D18: «Դիլիջան» ազգային պարկի պահպանության, պարկում գիտական ուսումնասիրությունների, անտառտնտեսական աշխատանքների կատարում | G18: ՀՀ շրջակա միջավայրի նախարարություն | H18: =H19 -> 3926.1
G19: «Դիլիջան» ազգային պարկ» ՊՈԱԿ | H19: ='N 4'!G57 -> 3926.1
C20: 11006 | D20: Արգելոցապարկային համալիր ԲՀՊ տարածքների պահպանության, գիտական ուսումնասիրությունների, անտառտնտեսական աշխատանքների կատարում | G20: ՀՀ շրջակա միջավայրի նախարարություն | H20: =H21 -> 9329.3
G21: «Արգելոցապարկային համալիր» ՊՈԱԿ | H21: ='N 4'!G66 -> 9329.3
C22: 11007 | D22: «Խոսրովի անտառ» պետական արգելոցի պահպանության, արգելոցում գիտական ուսումնասիրությունների կատարում | G22: ՀՀ շրջակա միջավայրի նախարարություն | H22: =H23 -> 5636.5
G23: «Խոսրովի անտառ» պետական արգելոց» ՊՈԱԿ | H23: ='N 4'!G75 -> 5636.5
C24: 11008 | D24: «Արփի լիճ» ազգային պարկի պահպանության, պարկում գիտական ուսումնասիրությունների կատարում | G24: ՀՀ շրջակա միջավայրի նախարարություն | H24: =H25 -> 2817.2
G25: «Արփի լիճ» ազգային պարկ» ՊՈԱԿ | H25: ='N 4'!G84 -> 2817.2
C26: 11010 | D26: Զանգեզուր կենսոլորտային համալիր ԲՀՊ տարածքների պահպանության, գիտական ուսումնասիրությունների, անտառտնտեսական աշխատանքների կատարում | G26: ՀՀ շրջակա միջավայրի նախարարություն | H26: =H27 -> 8292.6
G27: «Զանգեզուր» կենսոլորտային համալիր» ՊՈԱԿ | H27: ='N 4'!G93 -> 8292.6

Sheet N6 Doc1
B1: Հավելված 6 ՀՀ կառավարության 2019 թվականի____________ի N _____-Ն որոշման
A3: ՀԱՅԱՍՏԱՆԻ ՀԱՆՐԱՊԵՏՈՒԹՅԱՆ ԿԱՌԱՎԱՐՈՒԹՅԱՆ 2018 ԹՎԱԿԱՆԻ ԴԵԿՏԵՄԲԵՐԻ 27-Ի N 1515-Ն ՈՐՈՇՄԱՆ N11 ՀԱՎԵԼՎԱԾԻ N 1.66 ԱՂՅՈՒՍԱԿՈՒՄ ԿԱՏԱՐՎՈՂ ՓՈՓՈԽՈՒԹՅՈՒՆՆԵՐԸ
A5: ՀՀ կառավարություն
A6: ՄԱՍ 2. ՊԵՏԱԿԱՆ ՄԱՐՄՆԻ ԳԾՈՎ ԱՐԴՅՈՒՆՔԱՅԻՆ (ԿԱՏԱՐՈՂԱԿԱՆ) ՑՈՒՑԱՆԻՇՆԵՐԸ
A8: Ծրագրի դասիչը | B8: Ծրագրի անվանումը
A9: 1139 | B9: ՀՀ կառավարության պահուստային ֆոնդ
A11: Ծրագրի միջոցառումները
A13: Ծրագրի դասիչը` | B13: 1139
A14: Միջոցառման դասիչը` | B14: 11001 | C14: Տարի
A15: Միջոցառման անվանումը` | B15: ՀՀ կառավարության պահուստային ֆոնդ
A16: Նկարագրությունը` | B16: ՀՀ պետական բյուջեում նախատեսված ելքերի լրացուցիչ ֆինանսավորման՝ պետական բյուջեում չկանխատեսված ելքերի՝ ինչպես նաև բյուջետային երաշխիքների ապահովման ելքերի ֆինանսավորման ապահովում
A17: Միջոցառման տեսակը` | B17: Ծառայությունների մատուցում
A18: Միջոցառումն իրականացնողի անվանումը | B18: ՀՀ կառավարություն
A19: Արդյունքի չափորոշիչներ
A20: Միջոցառման վրա կատարվող ծախսը (հազար դրամ) | C20: =-C38+-C52+-C61+-C70+-C79+-C88+-C97 -> -39599.1
A22: ՀԱՅԱՍՏԱՆԻ ՀԱՆՐԱՊԵՏՈՒԹՅԱՆ ԿԱՌԱՎԱՐՈՒԹՅԱՆ 2018 ԹՎԱԿԱՆԻ ԴԵԿՏԵՄԲԵՐԻ 27-Ի N 1515-Ն ՈՐՈՇՄԱՆ N 11 ՀԱՎԵԼՎԱԾԻ N 11.13 ԱՂՅՈՒՍԱԿՈՒՄ ԿԱՏԱՐՎՈՂ ՓՈՓՈԽՈՒԹՅՈՒՆՆԵՐԸ
A23: ՀՀ շրջակա միջավայրի նախարարություն
A24: ՄԱՍ 2. ՊԵՏԱԿԱՆ ՄԱՐՄՆԻ ԳԾՈՎ ԱՐԴՅՈՒՆՔԱՅԻՆ (ԿԱՏԱՐՈՂԱԿԱՆ) ՑՈՒՑԱՆԻՇՆԵՐԸ
A26: Ծրագրի դասիչը | B26: Ծրագրի անվանումը
A27: 1016 | B27: Շրջակա միջավայրի վրա ազդեցության գնահատում և մոնիթորինգ
A29: Ծրագրի միջոցառումները
A31: Ծրագրի դասիչը` | B31: 1016 | C31: Ցուցանիշների փոփոխությունը (ավելացումները նշված են դրական նշանով)
A32: Միջոցառման դասիչը` | B32: 11002 | C32: Տարի
A33: Միջոցառման անվանումը` | B33: Շրջակա միջավայրի մոնիթորինգ և տեղեկատվության ապահովում
A34: Նկարագրությունը` | B34: Շրջակա միջավայրի մոնիթորինգի և տեղեկատվության տրամադրման աշխատանքներ
A35: Միջոցառման տեսակը` | B35: Ծառայությունների մատուցում
A36: Միջոցառումն իրականացնողի անվանումը՛ | B36: «Շրջակա միջավայրի մոնիթորինգի և տեղեկատվության կենտրոն» ՊՈԱԿ
A37: Արդյունքի չափորոշիչներ
A38: Միջոցառման վրա կատարվող ծախսը (հազար դրամ) | C38: ='N 4'!G35 -> 3569.7
A40: Ծրագրի դասիչը | B40: Ծրագրի անվանումը
A41: 1155 | B41: Բնական պաշարների և բնության հատուկ պահպանվող տարածքների կառավարում և պահպանում
A43: Ծրագրի միջոցառումները
A45: Ծրագրի դասիչը` | B45: 1155 | C45: Ցուցանիշների փոփոխությունը (ավելացումները նշված են դրական նշանով)
A46: Միջոցառման դասիչը` | B46: 11004 | C46: Տարի
A47: Միջոցառման անվանումը` | B47: «Սևան» ազգային պարկի պահպանության՝ պարկում գիտական ուսումնասիրությունների՝ անտառատնտեսական աշխատանքների կատարում
A48: Նկարագրությունը` | B48: «Սևան» ազգային պարկի տարածքում պահպանության՝ գիտական ուսումնասիրությունների՝ անտառատնտեսական աշխատանքների իրականացում
A49: Միջոցառման տեսակը` | B49: Ծառայությունների մատուցում
A50: Միջոցառումն իրականացնողի անվանումը՛ | B50: «Սևան» ազգային պարկ»ՊՈԱԿ
A51: Արդյունքի չափորոշիչներ
A52: Միջոցառման վրա կատարվող ծախսը (հազար դրամ) | C52: ='N 4'!G48 -> 6027.7
...

Sheet N7 Doc3
B1: Հավելված 7 ՀՀ կառավարության 2019 թվականի____________ի N _____-Ն որոշման
A2: ՀԱՅԱՍՏԱՆԻ ՀԱՆՐԱՊԵՏՈՒԹՅԱՆ ԿԱՌԱՎԱՐՈՒԹՅԱՆ 2018 ԹՎԱԿԱՆԻ ԴԵԿՏԵՄԲԵՐԻ 27-Ի N 1515-Ն ՈՐՈՇՄԱՆ N11.1 ՀԱՎԵԼՎԱԾԻ N 11.1.66 ԱՂՅՈՒՍԱԿՈՒՄ ԿԱՏԱՐՎՈՂ ՓՈՓՈԽՈՒԹՅՈՒՆՆԵՐԸ
A4: ՀՀ կառավարություն
A6: ՄԱՍ 1. ՊԵՏԱԿԱՆ ՄԱՐՄՆԻ ԳԾՈՎ ԱՐԴՅՈՒՆՔԱՅԻՆ (ԿԱՏԱՐՈՂԱԿԱՆ) ՑՈՒՑԱՆԻՇՆԵՐԸ
A8: Ծրագրի դասիչը | B8: Ծրագրի անվանումը
A9: 1139 | B9: ՀՀ կառավարության պահուստային ֆոնդ
A11: Ծրագրի միջոցառումները
A13: Ծրագրի դասիչը` | B13: 1139
A14: Միջոցառման դասիչը` | B14: 11001 | C14: Տարի
A15: Միջոցառման անվանումը` | B15: ՀՀ կառավարության պահուստային ֆոնդ
A16: Նկարագրությունը` | B16: ՀՀ պետական բյուջեում նախատեսված ելքերի լրացուցիչ ֆինանսավորման՝ պետական բյուջեում չկանխատեսված ելքերի՝ ինչպես նաև բյուջետային երաշխիքների ապահովման ելքերի ֆինանսավորման ապահովում
A17: Միջոցառման տեսակը` | B17: Ծառայությունների մատուցում
A18: Միջոցառումն իրականացնողի անվանումը | B18: ՀՀ կառավարություն
A19: Արդյունքի չափորոշիչներ | C19: =-C38+-C53+-C62+-C71+-C80+-C89+-C98 -> -39599.1
A21: ՀԱՅԱՍՏԱՆԻ ՀԱՆՐԱՊԵՏՈՒԹՅԱՆ ԿԱՌԱՎԱՐՈՒԹՅԱՆ 2018 ԹՎԱԿԱՆԻ ԴԵԿՏԵՄԲԵՐԻ 27-Ի N 1515-Ն ՈՐՈՇՄԱՆ N11.1 ՀԱՎԵԼՎԱԾԻ N 11.1.13 ԱՂՅՈՒՍԱԿՈՒՄ ԿԱՏԱՐՎՈՂ ՓՈՓՈԽՈՒԹՅՈՒՆՆԵՐԸ
A23: ՀՀ շրջակա միջավայրի նախարարություն
A24: ՄԱՍ 1. ՊԵՏԱԿԱՆ ՄԱՐՄՆԻ ԳԾՈՎ ԱՐԴՅՈՒՆՔԱՅԻՆ (ԿԱՏԱՐՈՂԱԿԱՆ) ՑՈՒՑԱՆԻՇՆԵՐԸ
A26: Ծրագրի դասիչը | B26: Ծրագրի անվանումը
A27: 1016 | B27: Շրջակա միջավայրի վրա ազդեցության գնահատում և մոնիթորինգ
A29: Ծրագրի միջոցառումները
A31: Ծրագրի դասիչը` | B31: 1016 | C31: Ցուցանիշների փոփոխությունը (ավելացումները նշված են դրական նշանով)
A32: Միջոցառման դասիչը` | B32: 11002 | C32: Տարի
A33: Միջոցառման անվանումը` | B33: Շրջակա միջավայրի մոնիթորինգ և տեղեկատվության ապահովում
A34: Նկարագրությունը` | B34: Շրջակա միջավայրի մոնիթորինգի և տեղեկատվության տրամադրման աշխատանքներ
A35: Միջոցառման տեսակը` | B35: Ծառայությունների մատուցում
A36: Միջոցառումն իրականացնողի անվանումը՛ | B36: «Շրջակա միջավայրի մոնիթորինգի և տեղեկատվության կենտրոն» ՊՈԱԿ
A37: Արդյունքի չափորոշիչներ
A38: Միջոցառման վրա կատարվող ծախսը (հազար դրամ) | C38: ='N6 Doc1'!C38 -> 3569.7
A41: Ծրագրի դասիչը | B41: Ծրագրի անվանումը
A42: 1155 | B42: Բնական պաշարների և բնության հատուկ պահպանվող տարածքների կառավարում և պահպանում
A44: Ծրագրի միջոցառումները
A46: Ծրագրի դասիչը` | B46: 1155 | C46: Ցուցանիշների փոփոխությունը (ավելացումները նշված են դրական նշանով)
A47: Միջոցառման դասիչը` | B47: 11004 | C47: Տարի
A48: Միջոցառման անվանումը` | B48: «Սևան» ազգային պարկի պահպանության՝ պարկում գիտական ուսումնասիրությունների՝ անտառատնտեսական աշխատանքների կատարում
A49: Նկարագրությունը` | B49: «Սևան» ազգային պարկի տարածքում պահպանության՝ գիտական ուսումնասիրությունների՝ անտառատնտեսական աշխատանքների իրականացում
A50: Միջոցառման տեսակը` | B50: Ծառայությունների մատուցում
A51: Միջոցառումն իրականացնողի անվանումը՛ | B51: «Սևան» ազգային պարկ»ՊՈԱԿ
A52: Արդյունքի չափորոշիչներ
A53: Միջոցառման վրա կատարվող ծախսը (հազար դրամ) | C53: ='N6 Doc1'!C52 -> 6027.7
A55: Ծրագրի դասիչը` | B55: 1155 | C55: Ցուցանիշների փոփոխությունը (ավելացումները նշված են դրական նշանով)
...
