Workbook
Name \A: #REF!
Name Armata: #REF!
Name BOP: #REF!
Name BOPfoot: #REF!
Name DebtCG: '[1]Fis-Debt'!#REF!
Name DebtGG: #REF!
Name MonExo: #REF!
Name MonGrow: [2]BM!#REF!
Name RealExo: #REF!
Name RealPercent: #REF!
Name Table_2._Turkey__Exogenous_assumptions: #REF!
Name է: [2]BM!#REF!
Name ՀՀՀՀՀ: #REF!
Name շախմատիստ: #REF!

Sheet N  1
A1: Հավելված 1 ՀՀ կառավարության 2019 թվականի____________ի N _____-Ն որոշման
A4: «ՀԱՅԱՍՏԱՆԻ ՀԱՆՐԱՊԵՏՈՒԹՅԱՆ 2019 ԹՎԱԿԱՆԻ ՊԵՏԱԿԱՆ ԲՅՈՒՋԵԻ ՄԱՍԻՆ» ՀԱՅԱՍՏԱՆԻ ՀԱՆՐԱՊԵՏՈՒԹՅԱՆ ՕՐԵՆՔԻ 2-ՐԴ ՀՈԴՎԱԾԻ ԱՂՅՈՒՍԱԿՈՒՄ ԿԱՏԱՐՎՈՂ ՓՈՓՈԽՈՒԹՅՈՒՆՆԵՐԸ
B5: հազար դրամներով
B6: Ցուցանիշների փոփոխությունը (ավելացումները նշված են դրական նշանով)
A7: Եկամուտների գծով | B7: =B8 -> 39599.1
A8: Ծախսերի գծով | B8: ='N 2'!B10 -> 39599.1
A9: Դեֆիցիտը (պակասուրդը) | B9: =B7-B8 -> 0

Sheet N  2
A1: Հավելված 2 ՀՀ կառավարության 2019 թվականի____________ի N _____-Ն որոշման
A4: «ՀԱՅԱՍՏԱՆԻ ՀԱՆՐԱՊԵՏՈՒԹՅԱՆ 2019 ԹՎԱԿԱՆԻ ՊԵՏԱԿԱՆ ԲՅՈՒՋԵԻ ՄԱՍԻՆ» ՀԱՅԱՍՏԱՆԻ ՀԱՆՐԱՊԵՏՈՒԹՅԱՆ ՕՐԵՆՔԻ 6-ՐԴ ՀՈԴՎԱԾԻ ԱՂՅՈՒՍԱԿՈՒՄ ԵՎ ՀԱՅԱՍՏԱՆԻ ՀԱՆՐԱՊԵՏՈՒԹՅԱՆ ԿԱՌԱՎԱՐՈՒԹՅԱՆ 2018 ԹՎԱԿԱՆԻ ԴԵԿՏԵՄԲԵՐԻ 27-Ի N 1515-Ն ՈՐՈՇՄԱՆ 2-ՐԴ ՀԱՎԵԼՎԱԾՈՒՄ ԿԱՏԱՐՎՈՂ ՓՈՓՈԽՈՒԹՅՈՒՆՆԵՐԸ
B5: հազար դրամներով
A6: Պետական բյուջեի եկամուտները | B6: Ցուցանիշների փոփոխությունը (ավելացումները նշված են դրական նշանով)
B7: Տարի
A8: ԸՆԴԱՄԵՆԸ | B8: =B10 -> 39599.1
A9: այդ թվում`
A10: Հարկային եկամուտներ և պետական տուրքեր | B10: ='N 3'!D7 -> 39599.1

Sheet N 3
C1: Հավելված 3 ՀՀ կառավարության 2019 թվականի____________ի N _____-Ն որոշման
A3: «ՀԱՅԱՍՏԱՆԻ ՀԱՆՐԱՊԵՏՈՒԹՅԱՆ 2019 ԹՎԱԿԱՆԻ ՊԵՏԱԿԱՆ ԲՅՈՒՋԵԻ ՄԱՍԻՆ» ՀԱՅԱՍՏԱՆԻ ՀԱՆՐԱՊԵՏՈՒԹՅԱՆ ՕՐԵՆՔԻ N 1 ՀԱՎԵԼՎԱԾԻ N 2 ԱՂՅՈՒՍԱԿՈՒՄ ԵՎ ՀԱՅԱՍՏԱՆԻ ՀԱՆՐԱՊԵՏՈՒԹՅԱՆ ԿԱՌԱՎԱՐՈՒԹՅԱՆ 2018 ԹՎԱԿԱՆԻ ԴԵԿՏԵՄԲԵՐԻ 27-Ի N 1515-Ն ՈՐՈՇՄԱՆ N 5 ՀԱՎԵԼՎԱԾԻ N 1 ԱՂՅՈՒՍԱԿՈՒՄ ԿԱՏԱՐՎՈՂ ՓՈՓՈԽՈՒԹՅՈՒՆՆԵՐԸ
A5: Ծրագրային դասիչը | C5: Բյուջետային հատկացումների գլխավոր կարգադրիչների, ծրագրերի և միջոցառումների անվանումները | D5: Ցուցանիշների փոփոխությունը (ավելացումները նշված են դրական նշանով)
A6: Ծրագիր | B6: Միջոցառում | D6: Տարի
C7: ԸՆԴԱՄԵՆԸ | D7: =D9+D30+D43 -> 39599.1
C8: ՀՀ կառավարություն
A9: 1139 | C9: Ծրագրի անվանումը`
C10: ՀՀ կառավարության պահուստային ֆոնդ
C11: Ծրագրի նպատակը`
C12: Պետական բյուջեում չկանխատեսված՝ ինչպես նաեւ բյուջետային երաշխիքների ապահովման ծախսերի ֆինանսավորման ապահովում
C13: Վերջնական արդյունքի նկարագրությունը`
C14: Պահուստային ֆոնդի կառավարման արդյունավետության և թափանցիկության
A15: Ծրագրի միջոցառումներ
B16: 11001 | C16: Միջոցառման անվանումը` | D16: =D28 -> 39599.1
C17: ՀՀ կառավարության պահուստային ֆոնդ
C18: Միջոցառման նկարագրությունը`
C19: ՀՀ պետական բյուջեում նախատեսված ելքերի լրացուցիչ ֆինանսավորման՝ պետական բյուջեում չկանխատեսված ելքերի՝ ինչպես նաև բյուջետային երաշխիքների ապահովման ելքերի ֆինանսավորման ապահովում
C20: Միջոցառման տեսակը
C21: Ծառայությունների մատուցում
B22: 11001 | C22: Միջոցառման անվանումը` | D22: =-D16 -> -39599.1
C23: ՀՀ կառավարության պահուստային ֆոնդ
C24: Միջոցառման նկարագրությունը`
C25: ՀՀ պետական բյուջեում նախատեսված ելքերի լրացուցիչ ֆինանսավորման՝ պետական բյուջեում չկանխատեսված ելքերի՝ ինչպես նաև բյուջետային երաշխիքների ապահովման ելքերի ֆինանսավորման ապահովում
C26: Միջոցառման տեսակը
C27: Ծառայությունների մատուցում
C28: ՀՀ Շրջակա միջավայրի նախարարություն | D28: =D30+D43 -> 39599.1
A29: 1016 | C29: Ծրագրի անվանումը`
C30: Շրջակա միջավայրի վրա ազդեցության գնահատում և մոնիթորինգ | D30: =D37 -> 3569.7
C31: Ծրագրի նպատակը`
C32: Նպաստել շրջակա միջավայրի և բնական ռեսուրսների (բացառությամբ օգտակար հանածոների) պահպանությանը
C33: Վերջնական արդյունքի նկարագրությունը`
C34: Շրջակա միջավայրի վերաբերյալ ամբողջական տեղեկատվության հրապարակում
A35: Ծրագրի միջոցառումներ
B36: 11002 | C36: Միջոցառման անվանումը`
C37: Շրջակա միջավայրի մոնիթորինգ և տեղեկատվության ապահովում | D37: 3569.7
C38: Միջոցառման նկարագրությունը`
C39: Շրջակա միջավայրի մոնիթորինգի և տեղեկատվության տրամադրման աշխատանքներ
C40: Միջոցառման տեսակը
C41: Ծառայությունների մատուցում
A42: 1155 | C42: Ծրագրի անվանումը`
C43: Բնական պաշարների և բնության հատուկ պահպանվող տարածքների կառավարում և պահպանում | D43: =D50+D56+D62+D68+D74+D80 -> 36029.4
C44: Ծրագրի նպատակը`
C45: Բնական պաշարների և կենսաբազմազանության արդյունավետ կառավարում և պահպանություն
C46: Վերջնական արդյունքի նկարագրությունը`
C47: Բնական պաշարների և կենսաբազմազանության վերարտադրության աճի ապահովում
A48: Ծրագրի միջոցառումներ
B49: 11004 | C49: Միջոցառման անվանումը`
C50: «Սևան» ազգային պարկի պահպանության՝ պարկում գիտական ուսումնասիրությունների՝ անտառատնտեսական աշխատանքների կատարում | D50: 6027.7
C51: Միջոցառման նկարագրությունը`
C52: «Սևան» ազգային պարկի տարածքում պահպանության՝ գիտական ուսումնասիրությունների՝ անտառատնտեսական աշխատանքների իրականացում
C53: Միջոցառման տեսակը
C54: Ծառայությունների մատուցում
B55: 11005 | C55: Միջոցառման անվանումը`
C56: «Դիլիջան» ազգային պարկի պահպանության՝ պարկում գիտական ուսումնասիրությունների՝ անտառատնտեսական աշխատանքների կատարում | D56: 3926.1
C57: Միջոցառման նկարագրությունը`
C58: «Դիլիջան» ազգային պարկի տարածքում պահպանության՝ գիտական ուսումնասիրությունների՝ անտառատնտեսական աշխատանքների իրականացում
C59: Միջոցառման տեսակը
C60: Ծառայությունների մատուցում
B61: 11006 | C61: Միջոցառման անվանումը`
C62: Արգելոցապարկային համալիր ԲՀՊ տարածքների պահպանության՝ գիտական ուսումնասիրությունների՝ անտառատնտեսական աշխատանքների կատարում | D62: 9329.3
C63: Միջոցառման նկարագրությունը`
C64: ԲՀՊ տարածքներում պահպանության՝ գիտական ուսումնասիրությունների՝ անտառատնտեսական աշխատանքների իրականացում_x000D_
C65: Միջոցառման տեսակը
C66: Ծառայությունների մատուցում
B67: 11007 | C67: Միջոցառման անվանումը`
C68: «Խոսրովի անտառ» պետական արգելոցի պահպանության՝ գիտական ուսումնասիրությունների կատարում | D68: 5636.5
C69: Միջոցառման նկարագրությունը`
C70: «Խոսրովի անտառ» պետական արգելոցի տարածքում պահպանության՝ գիտական ուսումնասիրությունների՝ անտառատնտեսական աշխատանքների իրականացում
C71: Միջոցառման տեսակը
C72: Ծառայությունների մատուցում
B73: 11008 | C73: Միջոցառման անվանումը`
C74: «Արփի լիճ» ազգային պարկի պահպանության՝ պարկում գիտական ուսումնասիրությունների կատարում | D74: 2817.2
C75: Միջոցառման նկարագրությունը`
C76: «Արփի լիճ» ազգային պարկի պահպանության՝ գիտական ուսումնասիրությունների իրականացում
C77: Միջոցառման տեսակը
C78: Ծառայությունների մատուցում
B79: 11010 | C79: Միջոցառման անվանումը`
C80: Զանգեզուր կենսոլորտային համալիր ԲՀՊ տարածքների պահպանության՝ գիտական ուսումնասիրությունների՝ անտառատնտեսական աշխատանքների կատարում | D80: 8292.6
C81: Միջոցառման նկարագրությունը`
C82: ԲՀՊ տարածքներում պահպանության՝ գիտական ուսումնասիրությունների՝ անտառատնտեսական աշխատանքների կատարում _x000D_
C83: Միջոցառման տեսակը
C84: Ծառայությունների մատուցում

Sheet N 4
F1: Հավելված 4 ՀՀ կառավարության 2019 թվականի____________ի N _____-Ն որոշման
A4: ՀԱՅԱՍՏԱՆԻ ՀԱՆՐԱՊԵՏՈՒԹՅԱՆ ԿԱՌԱՎԱՐՈՒԹՅԱՆ 2018 ԹՎԱԿԱՆԻ ԴԵԿՏԵՄԲԵՐԻ 27-Ի ԹԻՎ 1515-Ն ՈՐՈՇՄԱՆ N3 ԵՎ N4 ՀԱՎԵԼՎԱԾՆԵՐՈՒՄ ԿԱՏԱՐՎՈՂ ՓՈՓՈԽՈՒԹՅՈՒՆՆԵՐԸ
G5: հազար դրամներով
A6: Բաժին | B6: Խումբ | C6: Դաս | D6: Ծրագրային դասիչը | F6: Բյուջետային հատկացումների գլխավոր կարգադրիչների, ծրագրերի, միջոցառումների և միջոցառումները կատարող պետական մարմինների անվանումները | G6: Ցուցանիշների փոփոխությունը (ավելացումները նշված են դրական նշանով, նվազեցումները՝ փակագծերում)
D7: Ծրագիր | E7: Միջոցառում | G7: Տարի
F8: ԸՆԴԱՄԵՆԸ այդ թվում` | G8: =G14+G22+G30 -> 39599.1
A9: 11 | F9: ՀԻՄՆԱԿԱՆ ԲԱԺԻՆՆԵՐԻՆ ՉԴԱՍՎՈՂ ՊԱՀՈՒՍՏԱՅԻՆ ՖՈՆԴԵՐ այդ թվում` | G9: =G10 -> 0
B10: 01 | F10: ՀՀ կառավարության և համայնքների պահուստային ֆոնդ այդ թվում` | G10: =G11 -> 0
C11: 01 | F11: ՀՀ կառավարության պահուստային ֆոնդ այդ թվում` | G11: =H13 -> 0
F12: ՀՀ կառավարություն
D13: 1139 | F13: ՀՀ կառավարության պահուստային ֆոնդ այդ թվում`
E14: 11001 | F14: ՀՀ կառավարության պահուստային ֆոնդ | G14: =G16 -> 39599.1
F15: այդ թվում` ըստ կատարողների
F16: ՀՀ կառավարություն | G16: =G18 -> 39599.1
F17: այդ թվում` բյուջետային ծախսերի տնտեսագիտական դասակարգման հոդվածներ
F18: ԸՆԴԱՄԵՆԸ ԾԱԽՍԵՐ | G18: =G19 -> 39599.1
F19: ԸՆԹԱՑԻԿ ԾԱԽՍԵՐ | G19: =G20 -> 39599.1
F20: ԱՅԼ ԾԱԽՍԵՐ | G20: =G21 -> 39599.1
F21: Պահուստային միջոցներ | G21: =G30 -> 39599.1
E22: 11001 | F22: ՀՀ կառավարության պահուստային ֆոնդ | G22: =G24 -> -39599.1
F23: այդ թվում` ըստ կատարողների
F24: ՀՀ կառավարություն | G24: =G26 -> -39599.1
F25: այդ թվում` բյուջետային ծախսերի տնտեսագիտական դասակարգման հոդվածներ
F26: ԸՆԴԱՄԵՆԸ ԾԱԽՍԵՐ | G26: =G27 -> -39599.1
F27: ԸՆԹԱՑԻԿ ԾԱԽՍԵՐ | G27: =G28 -> -39599.1
F28: ԱՅԼ ԾԱԽՍԵՐ | G28: =G29 -> -39599.1
F29: Պահուստային միջոցներ | G29: =-G21 -> -39599.1
A30: 05 | F30: ՇՐՋԱԿԱ ՄԻՋԱՎԱՅՐԻ ՊԱՇՏՊԱՆՈՒԹՅՈՒՆ այդ թվում` | G30: =G31+G44 -> 39599.1
B31: 06 | F31: Շրջակա միջավայրի պաշտպանություն (այլ դասերին չպատկանող) այդ թվում` | G31: =G32 -> 3569.7
C32: 01 | F32: Շրջակա միջավայրի պաշտպանություն (այլ դասերին չպատկանող) այդ թվում` | G32: =G33 -> 3569.7
F33: ՀՀ շրջակա միջավայրի նախարարություն այդ թվում` | G33: =G34 -> 3569.7
D34: 1016 | F34: Շրջակա միջավայրի վրա ազդեցության գնահատում և մոնիթորինգ այդ թվում` | G34: =G35 -> 3569.7
E35: 11002 | F35: Շրջակա միջավայրի մոնիթորինգ և տեղեկատվության ապահովում | G35: =G37 -> 3569.7
F36: այդ թվում` ըստ կատարողների
F37: ՀՀ շրջակա միջավայրի նախարարություն | G37: =G39 -> 3569.7
F38: այդ թվում` բյուջետային ծախսերի տնտեսագիտական դասակարգման հոդվածներ
F39: ԸՆԴԱՄԵՆԸ ԾԱԽՍԵՐ | G39: =G40 -> 3569.7
F40: ԸՆԹԱՑԻԿ ԾԱԽՍԵՐ | G40: =G41 -> 3569.7
F41: ԴՐԱՄԱՇՆՈՐՀՆԵՐ | G41: =G42 -> 3569.7
F42: Ընթացիկ դրամաշնորհներ պետական հատվածի այլ մակարդակներին | G42: =G43 -> 3569.7
F43: - Ընթացիկ դրամաշնորհներ պետական և համայնքային ոչ առևտրային կազմակերպություններին | G43: ='N 3'!D37 -> 3569.7
B44: 04 | F44: Կենսաբազմազանության և բնության պաշտպանություն այդ թվում` | G44: =G45 -> 36029.4
C45: 01 | F45: Կենսաբազմազանության և բնության պաշտպանություն այդ թվում` | G45: =G46 -> 36029.4
F46: ՀՀ շրջակա միջավայրի նախարարություն այդ թվում` | G46: =G47 -> 36029.4
D47: 1155 | F47: Բնական պաշարների և բնության հատուկ պահպանվող տարածքների կառավարում և պահպանում այդ թվում` | G47: =G48+G57+G66+G75+G84+G93 -> 36029.4
E48: 11004 | F48: «Սևան» ազգային պարկի պահպանության՝ պարկում գիտական ուսումնասիրությունների՝ անտառատնտեսական աշխատանքների կատարում | G48: =G50 -> 6027.7
F49: այդ թվում` ըստ կատարողների
F50: ՀՀ շրջակա միջավայրի նախարարություն | G50: =G52 -> 6027.7
F51: այդ թվում` բյուջետային ծախսերի տնտեսագիտական դասակարգման հոդվածներ
F52: ԸՆԴԱՄԵՆԸ ԾԱԽՍԵՐ | G52: =G53 -> 6027.7
F53: ԸՆԹԱՑԻԿ ԾԱԽՍԵՐ | G53: =G54 -> 6027.7
F54: ԴՐԱՄԱՇՆՈՐՀՆԵՐ | G54: =G55 -> 6027.7
F55: Ընթացիկ դրամաշնորհներ պետական հատվածի այլ մակարդակներին | G55: =G56 -> 6027.7
F56: - Ընթացիկ դրամաշնորհներ պետական և համայնքային ոչ առևտրային կազմակերպություններին | G56: ='N 3'!D50 -> 6027.7
E57: 11005 | F57: «Դիլիջան» ազգային պարկի պահպանության՝ պարկում գիտական ուսումնասիրությունների՝ անտառատնտեսական աշխատանքների կատարում | G57: =G59 -> 3926.1
F58: այդ թվում` ըստ կատարողների
F59: ՀՀ շրջակա միջավայրի նախարարություն | G59: =G61 -> 3926.1
F60: այդ թվում` բյուջետային ծախսերի տնտեսագիտական դասակարգման հոդվածներ
F61: ԸՆԴԱՄԵՆԸ ԾԱԽՍԵՐ | G61: =G62 -> 3926.1
F62: ԸՆԹԱՑԻԿ ԾԱԽՍԵՐ | G62: =G63 -> 3926.1
F63: ԴՐԱՄԱՇՆՈՐՀՆԵՐ | G63: =G64 -> 3926.1
F64: Ընթացիկ դրամաշնորհներ պետական հատվածի այլ մակարդակներին | G64: =G65 -> 3926.1
F65: - Ընթացիկ դրամաշնորհներ պետական և համայնքային ոչ առևտրային կազմակերպություններին | G65: ='N 3'!D56 -> 3926.1
E66: 11006 | F66: Արգելոցապարկային համալիր ԲՀՊ տարածքների պահպանության՝ գիտական ուսումնասիրությունների՝ անտառատնտեսական աշխատանքների կատարում | G66: =G68 -> 9329.3
F67: այդ թվում` ըստ կատարողների
F68: ՀՀ շրջակա միջավայրի նախարարություն | G68: =G70 -> 9329.3
F69: այդ թվում` բյուջետային ծախսերի տնտեսագիտական դասակարգման հոդվածներ
F70: ԸՆԴԱՄԵՆԸ ԾԱԽՍԵՐ | G70: =G71 -> 9329.3
F71: ԸՆԹԱՑԻԿ ԾԱԽՍԵՐ | G71: =G72 -> 9329.3
F72: ԴՐԱՄԱՇՆՈՐՀՆԵՐ | G72: =G73 -> 9329.3
F73: Ընթացիկ դրամաշնորհներ պետական հատվածի այլ մակարդակներին | G73: =G74 -> 9329.3
F74: - Ընթացիկ դրամաշնորհներ պետական և համայնքային ոչ առևտրային կազմակերպություններին | G74: ='N 3'!D62 -> 9329.3
E75: 11007 | F75: «Խոսրովի անտառ» պետական արգելոցի պահպանության՝ գիտական ուսումնասիրությունների կատարում | G75: =G77 -> 5636.5
F76: այդ թվում` ըստ կատարողների
F77: ՀՀ շրջակա միջավայրի նախարարություն | G77: =G79 -> 5636.5
F78: այդ թվում` բյուջետային ծախսերի տնտեսագիտական դասակարգման հոդվածներ
F79: ԸՆԴԱՄԵՆԸ ԾԱԽՍԵՐ | G79: =G80 -> 5636.5
F80: ԸՆԹԱՑԻԿ ԾԱԽՍԵՐ | G80: =G81 -> 5636.5
F81: ԴՐԱՄԱՇՆՈՐՀՆԵՐ | G81: =G82 -> 5636.5
F82: Ընթացիկ դրամաշնորհներ պետական հատվածի այլ մակարդակներին | G82: =G83 -> 5636.5
F83: - Ընթացիկ դրամաշնորհներ պետական և համայնքային ոչ առևտրային կազմակերպություններին | G83: ='N 3'!D68 -> 5636.5
E84: 11008 | F84: «Արփի լիճ» ազգային պարկի պահպանության՝ պարկում գիտական ուսումնասիրությունների կատարում | G84: =G86 -> 2817.2
F85: այդ թվում` ըստ կատարողների
F86: ՀՀ շրջակա միջավայրի նախարարություն | G86: =G88 -> 2817.2
F87: այդ թվում` բյուջետային ծախսերի տնտեսագիտական դասակարգման հոդվածներ
F88: ԸՆԴԱՄԵՆԸ ԾԱԽՍԵՐ | G88: =G89 -> 2817.2
F89: ԸՆԹԱՑԻԿ ԾԱԽՍԵՐ | G89: =G90 -> 2817.2
F90: ԴՐԱՄԱՇՆՈՐՀՆԵՐ | G90: =G91 -> 2817.2
F91: Ընթացիկ դրամաշնորհներ պետական հատվածի այլ մակարդակներին | G91: =G92 -> 2817.2
F92: - Ընթացիկ դրամաշնորհներ պետական և համայնքային ոչ առևտրային կազմակերպություններին | G92: ='N 3'!D74 -> 2817.2
E93: 11010 | F93: Զանգեզուր կենսոլորտային համալիր ԲՀՊ տարածքների պահպանության՝ գիտական ուսումնասիրությունների՝ անտառատնտեսական աշխատանքների կատարում | G93: =G95 -> 8292.6
F94: այդ թվում` ըստ կատարողների
F95: ՀՀ շրջակա միջավայրի նախարարություն | G95: =G97 -> 8292.6
F96: այդ թվում` բյուջետային ծախսերի տնտեսագիտական դասակարգման հոդվածներ
F97: ԸՆԴԱՄԵՆԸ ԾԱԽՍԵՐ | G97: =G98 -> 8292.6
F98: ԸՆԹԱՑԻԿ ԾԱԽՍԵՐ | G98: =G99 -> 8292.6
F99: ԴՐԱՄԱՇՆՈՐՀՆԵՐ | G99: =G100 -> 8292.6
F100: Ընթացիկ դրամաշնորհներ պետական հատվածի այլ մակարդակներին | G100: =G101 -> 8292.6
F101: - Ընթացիկ դրամաշնորհներ պետական և համայնքային ոչ առևտրային կազմակերպություններին | G101: ='N 3'!D80 -> 8292.6

Sheet N 5 POAK
B1: Հավելված 5 ՀՀ կառավարության 2019 թվականի____________ի N _____-Ն որոշման
B3: ՀԱՅԱՍՏԱՆԻ ՀԱՆՐԱՊԵՏՈՒԹՅԱՆ ԿԱՌԱՎԱՐՈՒԹՅԱՆ 2018 ԹՎԱԿԱՆԻ ԴԵԿՏԵՄԲԵՐԻ 27-Ի ԹԻՎ 1515-Ն ՈՐՈՇՄԱՆ N5 ՀԱՎԵԼՎԱԾԻ N8 ԱՂՅՈՒՍԱԿՈՒՄ ԿԱՏԱՐՎՈՂ ՓՈՓՈԽՈՒԹՅՈՒՆՆԵՐԸ
H6: հազար դրամներով
B7: Ծրագրային դասիչ | D7: Բյուջետային հատկացումների գլխավոր կարգադրիչների, ծրագրերի, միջոցառումների, ծախսային ուղղությունների անվանումները | G7: Միջոցառումները կատարող պետական մարմինների և դրամաշնորհ ստացող տնտեսվարող սուբյեկտների անվանումները | H7: Տարի
B8: Ծրագիր | C8: Միջոցառում
B9: 1 | C9: 2 | D9: 3 | G9: 4 | H9: 5
C11: ՀՀ շրջակա միջավայրի նախարարություն | H11: =H12+H15 -> 39599.1
B12: 1016 | C12: Շրջակա միջավայրի վրա ազդեցության գնահատում և մոնիթորինգ | H12: =+H13 -> 3569.7
C13: 11002 | D13: Շրջակա միջավայրի մոնիթորինգի և տեղեկատվության ապահովում | G13: ՀՀ շրջակա միջավայրի նախարարություն | H13: =H14 -> 3569.7
G14: «Շրջակա միջավայրի մոնիթորինգի և տեղեկատվության կենտրոն» ՊՈԱԿ | H14: ='N 4'!G35 -> 3569.7
B15: 1155 | C15: Բնական պաշարների և բնության հատուկ պահպանվող տարածքների կառավարում և պահպանում | H15: =H16+H18+H20+H22+H24+H26 -> 36029.4
C16: 11004 | D16: «Սևան» ազգային պարկի պահպանության, պարկում գիտական ուսումնասիրությունների, անտառտնտեսական աշխատանքների կատարում | G16: ՀՀ շրջակա միջավայրի նախարարություն | H16: =H17 -> 6027.7
G17: «Սևան» ազգային պարկ» ՊՈԱԿ | H17: ='N 4'!G48 -> 6027.7
C18: 11005 | D18: «Դիլիջան» ազգային պարկի պահպանության, պարկում գիտական ուսումնասիրությունների, անտառտնտեսական աշխատանքների կատարում | G18: ՀՀ շրջակա միջավայրի նախարարություն | H18: =H19 -> 3926.1
G19: «Դիլիջան» ազգային պարկ» ՊՈԱԿ | H19: ='N 4'!G57 -> 3926.1
C20: 11006 | D20: Արգելոցապարկային համալիր ԲՀՊ տարածքների պահպանության, գիտական ուսումնասիրությունների, անտառտնտեսական աշխատանքների կատարում | G20: ՀՀ շրջակա միջավայրի նախարարություն | H20: =H21 -> 9329.3
G21: «Արգելոցապարկային համալիր» ՊՈԱԿ | H21: ='N 4'!G66 -> 9329.3
C22: 11007 | D22: «Խոսրովի անտառ» պետական արգելոցի պահպանության, արգելոցում գիտական ուսումնասիրությունների կատարում | G22: ՀՀ շրջակա միջավայրի նախարարություն | H22: =H23 -> 5636.5
G23: «Խոսրովի անտառ» պետական արգելոց» ՊՈԱԿ | H23: ='N 4'!G75 -> 5636.5
C24: 11008 | D24: «Արփի լիճ» ազգային պարկի պահպանության, պարկում գիտական ուսումնասիրությունների կատարում | G24: ՀՀ շրջակա միջավայրի նախարարություն | H24: =H25 -> 2817.2
G25: «Արփի լիճ» ազգային պարկ» ՊՈԱԿ | H25: ='N 4'!G84 -> 2817.2
C26: 11010 | D26: Զանգեզուր կենսոլորտային համալիր ԲՀՊ տարածքների պահպանության, գիտական ուսումնասիրությունների, անտառտնտեսական աշխատանքների կատարում | G26: ՀՀ շրջակա միջավայրի նախարարություն | H26: =H27 -> 8292.6
G27: «Զանգեզուր» կենսոլորտային համալիր» ՊՈԱԿ | H27: ='N 4'!G93 -> 8292.6

Sheet N6 Doc1
B1: Հավելված 6 ՀՀ կառավարության 2019 թվականի____________ի N _____-Ն որոշման
A3: ՀԱՅԱՍՏԱՆԻ ՀԱՆՐԱՊԵՏՈՒԹՅԱՆ ԿԱՌԱՎԱՐՈՒԹՅԱՆ 2018 ԹՎԱԿԱՆԻ ԴԵԿՏԵՄԲԵՐԻ 27-Ի N 1515-Ն ՈՐՈՇՄԱՆ N11 ՀԱՎԵԼՎԱԾԻ N 1.66 ԱՂՅՈՒՍԱԿՈՒՄ ԿԱՏԱՐՎՈՂ ՓՈՓՈԽՈՒԹՅՈՒՆՆԵՐԸ
A5: ՀՀ կառավարություն
A6: ՄԱՍ 2. ՊԵՏԱԿԱՆ ՄԱՐՄՆԻ ԳԾՈՎ ԱՐԴՅՈՒՆՔԱՅԻՆ (ԿԱՏԱՐՈՂԱԿԱՆ) ՑՈՒՑԱՆԻՇՆԵՐԸ
A8: Ծրագրի դասիչը | B8: Ծրագրի անվանումը
A9: 1139 | B9: ՀՀ կառավարության պահուստային ֆոնդ
A11: Ծրագրի միջոցառումները
A13: Ծրագրի դասիչը` | B13: 1139
A14: Միջոցառման դասիչը` | B14: 11001 | C14: Տարի
A15: Միջոցառման անվանումը` | B15: ՀՀ կառավարության պահուստային ֆոնդ
A16: Նկարագրությունը` | B16: ՀՀ պետական բյուջեում նախատեսված ելքերի լրացուցիչ ֆինանսավորման՝ պետական բյուջեում չկանխատեսված ելքերի՝ ինչպես նաև բյուջետային երաշխիքների ապահովման ելքերի ֆինանսավորման ապահովում
A17: Միջոցառման տեսակը` | B17: Ծառայությունների մատուցում
A18: Միջոցառումն իրականացնողի անվանումը | B18: ՀՀ կառավարություն
A19: Արդյունքի չափորոշիչներ
A20: Միջոցառման վրա կատարվող ծախսը (հազար դրամ) | C20: =-C38+-C52+-C61+-C70+-C79+-C88+-C97 -> -39599.1
A22: ՀԱՅԱՍՏԱՆԻ ՀԱՆՐԱՊԵՏՈՒԹՅԱՆ ԿԱՌԱՎԱՐՈՒԹՅԱՆ 2018 ԹՎԱԿԱՆԻ ԴԵԿՏԵՄԲԵՐԻ 27-Ի N 1515-Ն ՈՐՈՇՄԱՆ N 11 ՀԱՎԵԼՎԱԾԻ N 11.13 ԱՂՅՈՒՍԱԿՈՒՄ ԿԱՏԱՐՎՈՂ ՓՈՓՈԽՈՒԹՅՈՒՆՆԵՐԸ
A23: ՀՀ շրջակա միջավայրի նախարարություն
A24: ՄԱՍ 2. ՊԵՏԱԿԱՆ ՄԱՐՄՆԻ ԳԾՈՎ ԱՐԴՅՈՒՆՔԱՅԻՆ (ԿԱՏԱՐՈՂԱԿԱՆ) ՑՈՒՑԱՆԻՇՆԵՐԸ
A26: Ծրագրի դասիչը | B26: Ծրագրի անվանումը
A27: 1016 | B27: Շրջակա միջավայրի վրա ազդեցության գնահատում և մոնիթորինգ
A29: Ծրագրի միջոցառումները
A31: Ծրագրի դասիչը` | B31: 1016 | C31: Ցուցանիշների փոփոխությունը (ավելացումները նշված են դրական նշանով)
A32: Միջոցառման դասիչը` | B32: 11002 | C32: Տարի
A33: Միջոցառման անվանումը` | B33: Շրջակա միջավայրի մոնիթորինգ և տեղեկատվության ապահովում
A34: Նկարագրությունը` | B34: Շրջակա միջավայրի մոնիթորինգի և տեղեկատվության տրամադրման աշխատանքներ
A35: Միջոցառման տեսակը` | B35: Ծառայությունների մատուցում
A36: Միջոցառումն իրականացնողի անվանումը՛ | B36: «Շրջակա միջավայրի մոնիթորինգի և տեղեկատվության կենտրոն» ՊՈԱԿ
A37: Արդյունքի չափորոշիչներ
A38: Միջոցառման վրա կատարվող ծախսը (հազար դրամ) | C38: ='N 4'!G35 -> 3569.7
A40: Ծրագրի դասիչը | B40: Ծրագրի անվանումը
A41: 1155 | B41: Բնական պաշարների և բնության հատուկ պահպանվող տարածքների կառավարում և պահպանում
A43: Ծրագրի միջոցառումները
A45: Ծրագրի դասիչը` | B45: 1155 | C45: Ցուցանիշների փոփոխությունը (ավելացումները նշված են դրական նշանով)
A46: Միջոցառման դասիչը` | B46: 11004 | C46: Տարի
A47: Միջոցառման անվանումը` | B47: «Սևան» ազգային պարկի պահպանության՝ պարկում գիտական ուսումնասիրությունների՝ անտառատնտեսական աշխատանքների կատարում
A48: Նկարագրությունը` | B48: «Սևան» ազգային պարկի տարածքում պահպանության՝ գիտական ուսումնասիրությունների՝ անտառատնտեսական աշխատանքների իրականացում
A49: Միջոցառման տեսակը` | B49: Ծառայությունների մատուցում
A50: Միջոցառումն իրականացնողի անվանումը՛ | B50: «Սևան» ազգային պարկ»ՊՈԱԿ
A51: Արդյունքի չափորոշիչներ
A52: Միջոցառման վրա կատարվող ծախսը (հազար դրամ) | C52: ='N 4'!G48 -> 6027.7
A54: Ծրագրի դասիչը` | B54: 1155 | C54: Ցուցանիշների փոփոխությունը (ավելացումները նշված են դրական նշանով)
A55: Միջոցառման դասիչը` | B55: 11005 | C55: Տարի
A56: Միջոցառման անվանումը` | B56: «Դիլիջան» ազգային պարկի պահպանության՝ պարկում գիտական ուսումնասիրությունների՝ անտառատնտեսական աշխատանքների կատարում
A57: Նկարագրությունը` | B57: «Դիլիջան» ազգային պարկի տարածքում պահպանության՝ գիտական ուսումնասիրությունների՝ անտառատնտեսական աշխատանքների իրականացում
A58: Միջոցառման տեսակը` | B58: Ծառայությունների մատուցում
A59: Միջոցառումն իրականացնողի անվանումը՛ | B59: «Դիլիջան» ազգային պարկ» ՊՈԱԿ
A60: Արդյունքի չափորոշիչներ
A61: Միջոցառման վրա կատարվող ծախսը (հազար դրամ) | C61: ='N 4'!G57 -> 3926.1
A63: Ծրագրի դասիչը` | B63: 1155 | C63: Ցուցանիշների փոփոխությունը (ավելացումները նշված են դրական նշանով)
A64: Միջոցառման դասիչը` | B64: 11006 | C64: Տարի
A65: Միջոցառման անվանումը` | B65: Արգելոցապարկային համալիր ԲՀՊ տարածքների պահպանության՝ գիտական ուսումնասիրությունների՝ անտառատնտեսական աշխատանքների կատարում
A66: Նկարագրությունը` | B66: ԲՀՊ տարածքներում պահպանության՝ գիտական ուսումնասիրությունների՝ անտառատնտեսական աշխատանքների իրականացում_x000D_
A67: Միջոցառման տեսակը` | B67: Ծառայությունների մատուցում
A68: Միջոցառումն իրականացնողի անվանումը՛ | B68: «Արգելոցապարկային համալիր» ՊՈԱԿ
A69: Արդյունքի չափորոշիչներ
A70: Միջոցառման վրա կատարվող ծախսը (հազար դրամ) | C70: ='N 4'!G66 -> 9329.3
A72: Ծրագրի դասիչը` | B72: 1155 | C72: Ցուցանիշների փոփոխությունը (ավելացումները նշված են դրական նշանով)
A73: Միջոցառման դասիչը` | B73: 11007 | C73: Տարի
A74: Միջոցառման անվանումը` | B74: «Խոսրովի անտառ» պետական արգելոցի պահպանության՝ գիտական ուսումնասիրությունների կատարում
A75: Նկարագրությունը` | B75: «Խոսրովի անտառ» պետական արգելոցի տարածքում պահպանության՝ գիտական ուսումնասիրությունների՝ անտառատնտեսական աշխատանքների իրականացում
A76: Միջոցառման տեսակը` | B76: Ծառայությունների մատուցում
A77: Միջոցառումն իրականացնողի անվանումը՛ | B77: «Խոսրովի անտառ» պետական արգելոց» ՊՈԱԿ
A78: Արդյունքի չափորոշիչներ
A79: Միջոցառման վրա կատարվող ծախսը (հազար դրամ) | C79: ='N 4'!G75 -> 5636.5
A81: Ծրագրի դասիչը` | B81: 1155 | C81: Ցուցանիշների փոփոխությունը (ավելացումները նշված են դրական նշանով)
A82: Միջոցառման դասիչը` | B82: 11008 | C82: Տարի
A83: Միջոցառման անվանումը` | B83: «Արփի լիճ» ազգային պարկի պահպանության՝ պարկում գիտական ուսումնասիրությունների կատարում
A84: Նկարագրությունը` | B84: «Արփի լիճ» ազգային պարկի պահպանության՝ գիտական ուսումնասիրությունների իրականացում
A85: Միջոցառման տեսակը` | B85: Ծառայությունների մատուցում
A86: Միջոցառումն իրականացնողի անվանումը՛ | B86: «Արփի լիճ» ազգային պարկ» ՊՈԱԿ
A87: Արդյունքի չափորոշիչներ
A88: Միջոցառման վրա կատարվող ծախսը (հազար դրամ) | C88: ='N 4'!G84 -> 2817.2
A90: Ծրագրի դասիչը` | B90: 1155 | C90: Ցուցանիշների փոփոխությունը (ավելացումները նշված են դրական նշանով)
A91: Միջոցառման դասիչը` | B91: 11010 | C91: Տարի
A92: Միջոցառման անվանումը` | B92: Զանգեզուր կենսոլորտային համալիր ԲՀՊ տարածքների պահպանության՝ գիտական ուսումնասիրությունների՝ անտառատնտեսական աշխատանքների կատարում
A93: Նկարագրությունը` | B93: ԲՀՊ տարածքներում պահպանության՝ գիտական ուսումնասիրությունների՝ անտառատնտեսական աշխատանքների կատարում _x000D_
A94: Միջոցառման տեսակը` | B94: Ծառայությունների մատուցում
A95: Միջոցառումն իրականացնողի անվանումը՛ | B95: «Զանգեզուր» կենսոլորտային համալիր» ՊՈԱԿ
A96: Արդյունքի չափորոշիչներ
A97: Միջոցառման վրա կատարվող ծախսը (հազար դրամ) | C97: ='N 4'!G93 -> 8292.6

Sheet N7 Doc3
B1: Հավելված 7 ՀՀ կառավարության 2019 թվականի____________ի N _____-Ն որոշման
A2: ՀԱՅԱՍՏԱՆԻ ՀԱՆՐԱՊԵՏՈՒԹՅԱՆ ԿԱՌԱՎԱՐՈՒԹՅԱՆ 2018 ԹՎԱԿԱՆԻ ԴԵԿՏԵՄԲԵՐԻ 27-Ի N 1515-Ն ՈՐՈՇՄԱՆ N11.1 ՀԱՎԵԼՎԱԾԻ N 11.1.66 ԱՂՅՈՒՍԱԿՈՒՄ ԿԱՏԱՐՎՈՂ ՓՈՓՈԽՈՒԹՅՈՒՆՆԵՐԸ
A4: ՀՀ կառավարություն
A6: ՄԱՍ 1. ՊԵՏԱԿԱՆ ՄԱՐՄՆԻ ԳԾՈՎ ԱՐԴՅՈՒՆՔԱՅԻՆ (ԿԱՏԱՐՈՂԱԿԱՆ) ՑՈՒՑԱՆԻՇՆԵՐԸ
A8: Ծրագրի դասիչը | B8: Ծրագրի անվանումը
A9: 1139 | B9: ՀՀ կառավարության պահուստային ֆոնդ
A11: Ծրագրի միջոցառումները
A13: Ծրագրի դասիչը` | B13: 1139
A14: Միջոցառման դասիչը` | B14: 11001 | C14: Տարի
A15: Միջոցառման անվանումը` | B15: ՀՀ կառավարության պահուստային ֆոնդ
A16: Նկարագրությունը` | B16: ՀՀ պետական բյուջեում նախատեսված ելքերի լրացուցիչ ֆինանսավորման՝ պետական բյուջեում չկանխատեսված ելքերի՝ ինչպես նաև բյուջետային երաշխիքների ապահովման ելքերի ֆինանսավորման ապահովում
A17: Միջոցառման տեսակը` | B17: Ծառայությունների մատուցում
A18: Միջոցառումն իրականացնողի անվանումը | B18: ՀՀ կառավարություն
A19: Արդյունքի չափորոշիչներ | C19: =-C38+-C53+-C62+-C71+-C80+-C89+-C98 -> -39599.1
A21: ՀԱՅԱՍՏԱՆԻ ՀԱՆՐԱՊԵՏՈՒԹՅԱՆ ԿԱՌԱՎԱՐՈՒԹՅԱՆ 2018 ԹՎԱԿԱՆԻ ԴԵԿՏԵՄԲԵՐԻ 27-Ի N 1515-Ն ՈՐՈՇՄԱՆ N11.1 ՀԱՎԵԼՎԱԾԻ N 11.1.13 ԱՂՅՈՒՍԱԿՈՒՄ ԿԱՏԱՐՎՈՂ ՓՈՓՈԽՈՒԹՅՈՒՆՆԵՐԸ
A23: ՀՀ շրջակա միջավայրի նախարարություն
A24: ՄԱՍ 1. ՊԵՏԱԿԱՆ ՄԱՐՄՆԻ ԳԾՈՎ ԱՐԴՅՈՒՆՔԱՅԻՆ (ԿԱՏԱՐՈՂԱԿԱՆ) ՑՈՒՑԱՆԻՇՆԵՐԸ
A26: Ծրագրի դասիչը | B26: Ծրագրի անվանումը
A27: 1016 | B27: Շրջակա միջավայրի վրա ազդեցության գնահատում և մոնիթորինգ
A29: Ծրագրի միջոցառումները
A31: Ծրագրի դասիչը` | B31: 1016 | C31: Ցուցանիշների փոփոխությունը (ավելացումները նշված են դրական նշանով)
A32: Միջոցառման դասիչը` | B32: 11002 | C32: Տարի
A33: Միջոցառման անվանումը` | B33: Շրջակա միջավայրի մոնիթորինգ և տեղեկատվության ապահովում
A34: Նկարագրությունը` | B34: Շրջակա միջավայրի մոնիթորինգի և տեղեկատվության տրամադրման աշխատանքներ
A35: Միջոցառման տեսակը` | B35: Ծառայությունների մատուցում
A36: Միջոցառումն իրականացնողի անվանումը՛ | B36: «Շրջակա միջավայրի մոնիթորինգի և տեղեկատվության կենտրոն» ՊՈԱԿ
A37: Արդյունքի չափորոշիչներ
A38: Միջոցառման վրա կատարվող ծախսը (հազար դրամ) | C38: ='N6 Doc1'!C38 -> 3569.7
A41: Ծրագրի դասիչը | B41: Ծրագրի անվանումը
A42: 1155 | B42: Բնական պաշարների և բնության հատուկ պահպանվող տարածքների կառավարում և պահպանում
A44: Ծրագրի միջոցառումները
A46: Ծրագրի դասիչը` | B46: 1155 | C46: Ցուցանիշների փոփոխությունը (ավելացումները նշված են դրական նշանով)
A47: Միջոցառման դասիչը` | B47: 11004 | C47: Տարի
A48: Միջոցառման անվանումը` | B48: «Սևան» ազգային պարկի պահպանության՝ պարկում գիտական ուսումնասիրությունների՝ անտառատնտեսական աշխատանքների կատարում
A49: Նկարագրությունը` | B49: «Սևան» ազգային պարկի տարածքում պահպանության՝ գիտական ուսումնասիրությունների՝ անտառատնտեսական աշխատանքների իրականացում
A50: Միջոցառման տեսակը` | B50: Ծառայությունների մատուցում
A51: Միջոցառումն իրականացնողի անվանումը՛ | B51: «Սևան» ազգային պարկ»ՊՈԱԿ
A52: Արդյունքի չափորոշիչներ
A53: Միջոցառման վրա կատարվող ծախսը (հազար դրամ) | C53: ='N6 Doc1'!C52 -> 6027.7
A55: Ծրագրի դասիչը` | B55: 1155 | C55: Ցուցանիշների փոփոխությունը (ավելացումները նշված են դրական նշանով)
A56: Միջոցառման դասիչը` | B56: 11005 | C56: Տարի
A57: Միջոցառման անվանումը` | B57: «Դիլիջան» ազգային պարկի պահպանության՝ պարկում գիտական ուսումնասիրությունների՝ անտառատնտեսական աշխատանքների կատարում
A58: Նկարագրությունը` | B58: «Դիլիջան» ազգային պարկի տարածքում պահպանության՝ գիտական ուսումնասիրությունների՝ անտառատնտեսական աշխատանքների իրականացում
A59: Միջոցառման տեսակը` | B59: Ծառայությունների մատուցում
A60: Միջոցառումն իրականացնողի անվանումը՛ | B60: «Դիլիջան» ազգային պարկ» ՊՈԱԿ
A61: Արդյունքի չափորոշիչներ
A62: Միջոցառման վրա կատարվող ծախսը (հազար դրամ) | C62: ='N6 Doc1'!C61 -> 3926.1
A64: Ծրագրի դասիչը` | B64: 1155 | C64: Ցուցանիշների փոփոխությունը (ավելացումները նշված են դրական նշանով)
A65: Միջոցառման դասիչը` | B65: 11006 | C65: Տարի
A66: Միջոցառման անվանումը` | B66: Արգելոցապարկային համալիր ԲՀՊ տարածքների պահպանության՝ գիտական ուսումնասիրությունների՝ անտառատնտեսական աշխատանքների կատարում
A67: Նկարագրությունը` | B67: ԲՀՊ տարածքներում պահպանության՝ գիտական ուսումնասիրությունների՝ անտառատնտեսական աշխատանքների իրականացում_x000D_
A68: Միջոցառման տեսակը` | B68: Ծառայությունների մատուցում
A69: Միջոցառումն իրականացնողի անվանումը՛ | B69: «Արգելոցապարկային համալիր» ՊՈԱԿ
A70: Արդյունքի չափորոշիչներ
A71: Միջոցառման վրա կատարվող ծախսը (հազար դրամ) | C71: ='N6 Doc1'!C70 -> 9329.3
A73: Ծրագրի դասիչը` | B73: 1155 | C73: Ցուցանիշների փոփոխությունը (ավելացումները նշված են դրական նշանով)
A74: Միջոցառման դասիչը` | B74: 11007 | C74: Տարի
A75: Միջոցառման անվանումը` | B75: «Խոսրովի անտառ» պետական արգելոցի պահպանության՝ գիտական ուսումնասիրությունների կատարում
A76: Նկարագրությունը` | B76: «Խոսրովի անտառ» պետական արգելոցի տարածքում պահպանության՝ գիտական ուսումնասիրությունների՝ անտառատնտեսական աշխատանքների իրականացում
A77: Միջոցառման տեսակը` | B77: Ծառայությունների մատուցում
A78: Միջոցառումն իրականացնողի անվանումը՛ | B78: «Խոսրովի անտառ» պետական արգելոց» ՊՈԱԿ
A79: Արդյունքի չափորոշիչներ
A80: Միջոցառման վրա կատարվող ծախսը (հազար դրամ) | C80: ='N6 Doc1'!C79 -> 5636.5
A82: Ծրագրի դասիչը` | B82: 1155 | C82: Ցուցանիշների փոփոխությունը (ավելացումները նշված են դրական նշանով)
A83: Միջոցառման դասիչը` | B83: 11008 | C83: Տարի
A84: Միջոցառման անվանումը` | B84: «Արփի լիճ» ազգային պարկի պահպանության՝ պարկում գիտական ուսումնասիրությունների կատարում
A85: Նկարագրությունը` | B85: «Արփի լիճ» ազգային պարկի պահպանության՝ գիտական ուսումնասիրությունների իրականացում
A86: Միջոցառման տեսակը` | B86: Ծառայությունների մատուցում
A87: Միջոցառումն իրականացնողի անվանումը՛ | B87: «Արփի լիճ» ազգային պարկ» ՊՈԱԿ
A88: Արդյունքի չափորոշիչներ
A89: Միջոցառման վրա կատարվող ծախսը (հազար դրամ) | C89: ='N6 Doc1'!C88 -> 2817.2
A91: Ծրագրի դասիչը` | B91: 1155 | C91: Ցուցանիշների փոփոխությունը (ավելացումները նշված են դրական նշանով)
A92: Միջոցառման դասիչը` | B92: 11010 | C92: Տարի
A93: Միջոցառման անվանումը` | B93: Զանգեզուր կենսոլորտային համալիր ԲՀՊ տարածքների պահպանության՝ գիտական ուսումնասիրությունների՝ անտառատնտեսական աշխատանքների կատարում
A94: Նկարագրությունը` | B94: ԲՀՊ տարածքներում պահպանության՝ գիտական ուսումնասիրությունների՝ անտառատնտեսական աշխատանքների կատարում _x000D_
A95: Միջոցառման տեսակը` | B95: Ծառայությունների մատուցում
A96: Միջոցառումն իրականացնողի անվանումը՛ | B96: «Զանգեզուր» կենսոլորտային համալիր» ՊՈԱԿ
A97: Արդյունքի չափորոշիչներ
A98: Միջոցառման վրա կատարվող ծախսը (հազար դրամ) | C98: ='N6 Doc1'!C97 -> 8292.6
