Workbook

Sheet 1
C3: Հավելված N 1
C4: ՀՀ կառավարության 2019 թվականի
C5: ______________N______-Ն որոշման
B7: «ՀԱՅԱՍՏԱՆԻ ՀԱՆՐԱՊԵՏՈՒԹՅԱՆ 2019 ԹՎԱԿԱՆԻ ՊԵՏԱԿԱՆ ԲՅՈՒՋԵԻ ՄԱՍԻՆ» ՀԱՅԱՍՏԱՆԻ ՀԱՆՐԱՊԵՏՈՒԹՅԱՆ ՕՐԵՆՔԻ 2-ՐԴ ՀՈԴՎԱԾԻ ԱՂՅՈՒՍԱԿՈՒՄ ԿԱՏԱՐՎՈՂ ՓՈՓՈԽՈՒԹՅՈՒՆՆԵՐԸ
C8: հազար դրամներով
C9: Ցուցանիշների փոփոխություն (գումարների ավելացումը ներկայացված է դրական նշանով)
B10: Եկամուտների գծով | C10: ='2'!B11 -> 2032000
B11: Ծախսերի գծով | C11: ='3'!D11 -> 2032000
B12: Դեֆիցիտը (պակասուրդը) | C12: =C11-C10 -> 0

Sheet 2
B1: Հավելված N 2
B2: ՀՀ կառավարության 2019 թվականի
B3: ______________N______-Ն որոշման
A5: «ՀԱՅԱՍՏԱՆԻ ՀԱՆՐԱՊԵՏՈՒԹՅԱՆ 2019 ԹՎԱԿԱՆԻ ՊԵՏԱԿԱՆ ԲՅՈՒՋԵԻ ՄԱՍԻՆ» ՀԱՅԱՍՏԱՆԻ ՀԱՆՐԱՊԵՏՈՒԹՅԱՆ ՕՐԵՆՔԻ 6-ՐԴ ՀՈԴՎԱԾԻ ԱՂՅՈՒՍԱԿՈՒՄ ԵՎ ՀԱՅԱՍՏԱՆԻ ՀԱՆՐԱՊԵՏՈՒԹՅԱՆ ԿԱՌԱՎԱՐՈՒԹՅԱՆ 2018 ԹՎԱԿԱՆԻ ԴԵԿՏԵՄԲԵՐԻ 27-Ի N 1515-Ն ՈՐՈՇՄԱՆ N 2 ՀԱՎԵԼՎԱԾՈՒՄ ԿԱՏԱՐՎՈՂ ՓՈՓՈԽՈՒԹՅՈՒՆՆԵՐԸ
B6: հազար դրամներով
A7: Եկամտատեսակ | B7: Ցուցանիշների փոփոխությունը (գումարների ավելացումը նշված է դրական նշանով)
B8: Տարի
A9: Ընդամենը, | B9: =+B11 -> 2032000
A10: այդ թվում՝
A11: Հարկային եկամուտներ և պետական տուրքեր | B11: ='8'!G15 -> 2032000

Sheet 3
D2: Հավելված N 3
D3: ՀՀ կառավարության 2019 թվականի
D4: ___________ ___-ի N _______ որոշման
A6: «ՀԱՅԱՍՏԱՆԻ ՀԱՆՐԱՊԵՏՈՒԹՅԱՆ 2019 ԹՎԱԿԱՆԻ ՊԵՏԱԿԱՆ ԲՅՈՒՋԵԻ ՄԱՍԻՆ» ՀԱՅԱՍՏԱՆԻ ՀԱՆՐԱՊԵՏՈՒԹՅԱՆ ՕՐԵՆՔԻ N 1 ՀԱՎԵԼՎԱԾԻ N 2 ԱՂՅՈՒՍԱԿՈՒՄ ԵՎ ՀԱՅԱՍՏԱՆԻ ՀԱՆՐԱՊԵՏՈՒԹՅԱՆ ԿԱՌԱՎԱՐՈՒԹՅԱՆ 2018 ԹՎԱԿԱՆԻ ԴԵԿՏԵՄԲԵՐԻ 27-Ի N 1515-Ն ՈՐՈՇՄԱՆ N 5 ՀԱՎԵԼՎԱԾԻ N 1 ԱՂՅՈՒՍԱԿՈՒՄ ԿԱՏԱՐՎՈՂ ՎԵՐԱԲԱՇԽՈՒՄՆԵՐԸ ԵՎ ՓՈՓՈԽՈՒԹՅՈՒՆՆԵՐԸ
D7: (հազ. դրամ)
A8: Շրագրային դասիչը | C8: Բյուջետային հատկացումների գլխավոր կարգադրիչների, ծրագրերի և միջոցառումների անվանումները | D8: Ցուցանիշների փոփոխությունը (ավելացումները նշված են դրական նշանով, իսկ նվազեցումները՝ փակագծերում)
D9: Տարի
A10: ծրագիրը | B10: միջոցառումը
A11: 1023 | C11: ԸՆԴԱՄԵՆԸ | D11: =D12 -> 2032000
C12: ՀՀ պետական եկամուտների կոմիտե | D12: =D20 -> 2032000
C13: Ծրագրի անվանումը՝
C14: Հարկային և մաքսային ծառայություններ
C15: Ծրագրի նպատակը՝
C16: Հարկային և մաքսային միասնական պետական քաղաքականության իրականացում, հարկային և մաքսային օրենսդրության ամբողջական և համահավասար կիրառում
C17: Վերջնական արդյունքի նկարագրությունը՝
C18: Արդյունավետ հարկային և մաքսային հսկողության իրականացում, պետական բյուջեի եկամուտների ապահովում
A19: Ծրագրի միջոցառումներ
B20: 31003 | C20: Միջոցառման անվանումը՝ | D20: ='8'!G15 -> 2032000
C21: ՀՀ պետական եկամուտների կոմիտեի շենքային ապահովվածության բարելավում
C22: Միջոցառման նկարագրությունը՝
C23: ՀՀ պետական եկամուտների կոմիտեի նոր շենքերի և շինությունների շինարարություն
C24: Միջոցառման տեսակը
C25: Պետական մարմինների կողմից օգտագործվող ոչ ֆինանսական ակտիվների հետ գործառնություններ
A26: Ծրագրի միջոցառումներ
B27: 31002 | C27: Միջոցառման անվանումը՝ | D27: -11918
C28: ՀՀ ՊԵԿ-ի տեխնիկական հագեցվածության բավարարում
C29: Միջոցառման նկարագրությունը
C30: Հարկային և մաքսային ծառայությունների անհրաժեշտ նյութատեխնիկական բազայով ապահովում
C31: Միջոցառման տեսակը՝
C32: Պետական մարմինների կողմից օգտագործվող ոչ ֆինանսական ակտիվների հետ գործառնություններ
A33: Ծրագրի միջոցառումներ
B34: 31004 | C34: Միջոցառման անվանումը՝ | D34: 2233
C35: ՀՀ ՊԵԿ-ի շենքային պայմաններով ապահովում
C36: Միջոցառման նկարագրությունը
C37: ՀՀ պետական եկամուտների կոմիտեի համար շենքի ձեռքբերում
C38: Միջոցառման տեսակը՝
C39: Պետական մարմինների կողմից օգտագործվող ոչ ֆինանսական ակտիվների հետ գործառնություններ
A40: Ծրագրի միջոցառումներ
B41: 31005 | C41: Միջոցառման անվանումը՝ | D41: 9685
C42: ՀՀ ՊԵԿ շենքային տարածքի ընդլայնում
C43: Միջոցառման նկարագրությունը
C44: Շենքային տարածքի ընդլայնման համար հողի ձեռքբերում
C45: Միջոցառման տեսակը՝
C46: Պետական մարմինների կողմից օգտագործվող ոչ ֆինանսական ակտիվների հետ գործառնություններ

Sheet 4
G2: Հավելված N4
G3: ՀՀ կառավարության 2019 թվականի
G4: ___________ ___-ի N _______ որոշման
A6: ՀԱՅԱՍՏԱՆԻ ՀԱՆՐԱՊԵՏՈՒԹՅԱՆ ԿԱՌԱՎԱՐՈՒԹՅԱՆ 2018 ԹՎԱԿԱՆԻ ԴԵԿՏԵՄԲԵՐԻ 27-Ի N 1515-Ն ՈՐՈՇՄԱՆ NN 3 ԵՎ 4 ՀԱՎԵԼՎԱԾՆԵՐՈՒՄ ԿԱՏԱՐՎՈՂ ՎԵՐԱԲԱՇԽՈՒՄՆԵՐԸ ԵՎ ՓՈՓՈԽՈՒԹՅՈՒՆՆԵՐԸ
G7: (հազ. դրամ)
A8: Գործառնական դասիչը | D8: Ծրագրային դասիչը | F8: Բյուջետային ծախսերի գործառնական դասակարգման բաժինների, խմբերի և դասերի, բյուջետային ծրագրերի միջոցառումների, բյուջետային հատկացումների գլխավոր կարգադրիչների անվանումները | G8: Ցուցանիշների փոփոխությունը (ավելացումները նշված են դրական նշանով, իսկ նվազեցումները՝ փակագծերում)
G9: Տարի
A10: բաժինը | B10: խումբը | C10: դասը | D10: ծրագիրը | E10: միջոցառումը
F11: ԸՆԴԱՄԵՆԸ ԾԱԽՍԵՐ | G11: =G13 -> 2032000
F12: այդ թվում՝
A13: 01 | F13: ԸՆԴՀԱՆՈՒՐ ԲՆՈՒՅԹԻ ՀԱՆՐԱՅԻՆ ԾԱՌԱՅՈՒԹՅՈՒՆՆԵՐ | G13: =G15 -> 2032000
F14: այդ թվում՝
B15: 01 | F15: Օրենսդիր և գործադիր մարմիններ, պետական կառավարում, ֆինանսական և հարկաբյուջետային հարաբերություններ, արտաքին հարաբերություններ | G15: =G17 -> 2032000
F16: այդ թվում՝
C17: 02 | F17: Ֆինանսական և հարկաբյուջետային հարաբերություններ | G17: =G19 -> 2032000
F18: այդ թվում՝
D19: 1023 | F19: Հարկային և մաքսային ծառայություններ | G19: =G21+G30+G39+G48 -> 2032000
F20: այդ թվում՝
E21: 31003 | F21: ՀՀ պետական եկամուտների կոմիտեի շենքային ապահովվածության բարելավում | G21: =G23 -> 2032000
F22: այդ թվում՝ ըստ կատարողների
F23: ՀՀ պետական եկամուտների կոմիտե | G23: =G25 -> 2032000
F24: այդ թվում՝ բյուջետային ծախսերի տնտեսագիտական դասակարգման հոդվածների
F25: ԸՆԴԱՄԵՆԸ ԾԱԽՍԵՐ | G25: =G26 -> 2032000
F26: ՈՉ ՖԻՆԱՆՍԱԿԱՆ ԱԿՏԻՎՆԵՐԻ ԳԾՈՎ ԾԱԽՍԵՐ | G26: =G27 -> 2032000
F27: ՀԻՄՆԱԿԱՆ ՄԻՋՈՑՆԵՐ | G27: =G28 -> 2032000
F28: ՇԵՆՔԵՐ ԵՎ ՇԻՆՈՒԹՅՈՒՆՆԵՐ | G28: =G29 -> 2032000
F29: - Շենքերի և շինությունների շինարարություն | G29: ='8'!G15 -> 2032000
E30: 31002 | F30: ՀՀ ՊԵԿ-ի տեխնիկական հագեցվածության բավարարում | G30: =G32 -> -11918
F31: այդ թվում՝ ըստ կատարողների
F32: ՀՀ պետական եկամուտների կոմիտե | G32: =G34 -> -11918
F33: այդ թվում՝ բյուջետային ծախսերի տնտեսագիտական դասակարգման հոդվածների
F34: ԸՆԴԱՄԵՆԸ ԾԱԽՍԵՐ | G34: =G35 -> -11918
F35: ՈՉ ՖԻՆԱՆՍԱԿԱՆ ԱԿՏԻՎՆԵՐԻ ԳԾՈՎ ԾԱԽՍԵՐ | G35: =G36 -> -11918
F36: ՀԻՄՆԱԿԱՆ ՄԻՋՈՑՆԵՐ | G36: =G37 -> -11918
F37: ՄԵՔԵՆԱՆԵՐ ԵՎ ՍԱՐՔԱՎՈՐՈՒՄՆԵՐ | G37: =G38 -> -11918
F38: - Վարչական սարքավորումներ | G38: -11918
E39: 31004 | F39: ՀՀ ՊԵԿ-ի շենքային պայմաններով ապահովում | G39: =G41 -> 2233
F40: այդ թվում՝ ըստ կատարողների
F41: ՀՀ պետական եկամուտների կոմիտե | G41: =G43 -> 2233
F42: այդ թվում՝ բյուջետային ծախսերի տնտեսագիտական դասակարգման հոդվածների
F43: ԸՆԴԱՄԵՆԸ ԾԱԽՍԵՐ | G43: =G44 -> 2233
F44: ՈՉ ՖԻՆԱՆՍԱԿԱՆ ԱԿՏԻՎՆԵՐԻ ԳԾՈՎ ԾԱԽՍԵՐ | G44: =G45 -> 2233
F45: ՀԻՄՆԱԿԱՆ ՄԻՋՈՑՆԵՐ | G45: =G46 -> 2233
F46: ՇԵՆՔԵՐ ԵՎ ՇԻՆՈՒԹՅՈՒՆՆԵՐ | G46: =G47 -> 2233
F47: - Շենքերի և շինությունների ձեռքբերում | G47: 2233
E48: 31005 | F48: ՀՀ ՊԵԿ շենքային տարածքի ընդլայնում | G48: =G50 -> 9685
F49: այդ թվում՝ ըստ կատարողների
F50: ՀՀ պետական եկամուտների կոմիտե | G50: =G52 -> 9685
F51: այդ թվում՝ բյուջետային ծախսերի տնտեսագիտական դասակարգման հոդվածների
F52: ԸՆԴԱՄԵՆԸ ԾԱԽՍԵՐ | G52: =G53 -> 9685
F53: ՈՉ ՖԻՆԱՆՍԱԿԱՆ ԱԿՏԻՎՆԵՐԻ ԳԾՈՎ ԾԱԽՍԵՐ | G53: =G54 -> 9685
F54: ՉԱՐՏԱԴՐՎԱԾ ԱԿՏԻՎՆԵՐ | G54: =G55 -> 9685
F55: - Հող | G55: 9685

Sheet 5
C2: Հավելված N 5
C3: ՀՀ կառավարության 2019 թվականի
C4: ___________ ___-ի N _______ որոշման
A6: ՀԱՅԱՍՏԱՆԻ ՀԱՆՐԱՊԵՏՈՒԹՅԱՆ ԿԱՌԱՎԱՐՈՒԹՅԱՆ 2018 ԹՎԱԿԱՆԻ ԴԵԿՏԵՄԲԵՐԻ 27-Ի ԹԻՎ 1515-Ն ՈՐՈՇՄԱՆ NN 11 ԵՎ 11.1 ՀԱՎԵԼՎԱԾՆԵՐԻ NN 11.31 ԵՎ 11.1.33 ԱՂՅՈՒՍԱԿՆԵՐՈՒՄ ԿԱՏԱՐՎՈՂ ՎԵՐԱԲԱՇԽՈՒՄՆԵՐԸ ԵՎ ԼՐԱՑՈՒՄՆԵՐԸ
A8: ՀՀ պետական եկամուտների կոմիտե
A10: ՄԱՍ 2. ՊԵՏԱԿԱՆ ՄԱՐՄՆԻ ԳԾՈՎ ԱՐԴՅՈՒՆՔԱՅԻՆ (ԿԱՏԱՐՈՂԱԿԱՆ) ՑՈՒՑԱՆԻՇՆԵՐԸ
A12: Ծրագրի դասիչը | B12: Ծրագրի անվանումը
A13: 1023 | B13: Հարկային և մաքսային ծառայություններ
A15: Ծրագրի միջոցառումները
A17: Ծրագրի դասիչը՝ | B17: 1023 | C17: Ցուցանիշների փոփոխությունը (ավելացումները նշված են դրական նշանով, իսկ նվազեցումները՝ փակագծերում)
A18: Միջոցառման դասիչը՝ | B18: 31003 | C18: Տարի
A19: Միջոցառման անվանումը՝ | B19: ՀՀ պետական եկամուտների կոմիտեի շենքային ապահովվածության բարելավում
A20: Նկարագրությունը՝ | B20: ՀՀ պետական եկամուտների կոմիտեի նոր շենքերի և շինությունների շինարարություն, նախագծային աշխատանքների ձեռքբերում
A21: Միջոցառման տեսակը՝ | B21: Պետական մարմինների կողմից օգտագործվող ոչ ֆինանսական ակտիվների հետ գործառնություններ
A22: Միջոցառումն իրականացնողի անվանումը | B22: ՀՀ պետական եկամուտների կոմիտե
B23: Արդյունքի չափորոշիչներ
A24: Շինարարական օբյեկտների թիվ, հատ | C24: 1
A25: Կառուցվող շենքերի և շինությունների ընդհանուր մակերես, քմ | C25: 5100
A26: Բյուջետային տարում կառուցապատման մակերես, քմ | C26: 5100
A27: Շինարարական աշխատանքների ավարտվածության աստիճանը, տոկոս | C27: 100
A28: Միջոցառման վրա կատարվող ծախսը (հազար դրամ) | C28: ='8'!G15 -> 2032000
A29: Միջոցառման դասիչը՝ | B29: 31002 | C29: տարի
A30: Միջոցառման անվանումը՝ | B30: ՀՀ ՊԵԿ-ի տեխնիկական հագեցվածության բավարարում
A31: Նկարագրությունը՝ | B31: Հարկային և մաքսային ծառայությունների անհրաժեշտ նյութատեխնիկական բազայով ապահովում
A32: Միջոցառման տեսակը՝ | B32: Պետական մարմինների կողմից օգտագործվող ոչ ֆինանսական ակտիվների հետ գործառնություններ
A33: Միջոցառումն իրականացնողի անվանումը | B33: ՀՀ պետական եկամուտների կոմիտե
B34: Արդյունքի չափորոշիչներ
A35: Տվյլա բյուջետային տարվան նախորդող բյուջետային երեք տարւների ընթացքում հարկային և մաքսային ծառայությունների համար անհրաժեշտ նյութատեխնիկական բազայով ապահովովման վրա փաստացի կատարված ծախսերի գումարային մեծությունը, հազ. դրամ
A36: Միջոցառման վրա կատարվող ծախսը (հազար դրամ) | C36: -11918
A37: Ծրագրի դասիչը՝ | B37: 1023 | C37: Ցուցանիշների փոփոխությունը (ավելացումները նշված են դրական նշանով, իսկ նվազեցումները՝ փակագծերում)
A38: Միջոցառման դասիչը՝ | B38: 31004 | C38: տարի
A39: Միջոցառման անվանումը՝ | B39: ՀՀ ՊԵԿ-ի շենքային պայմաններով ապահովում
A40: Նկարագրությունը՝ | B40: ՀՀ պետական եկամուտների կոմիտեի համար շենքի ձեռքբերում
A41: Միջոցառման տեսակը՝ | B41: Պետական մարմինների կողմից օգտագործվող ոչ ֆինանսական ակտիվների հետ գործառնություններ
A42: Միջոցառումն իրականացնողի անվանումը | B42: ՀՀ պետական եկամուտների կոմիտե
B43: Արդյունքի չափորոշիչներ
A44: Ձեքբերվող շենքի և շինության քանակը, հատ | C44: 2
A45: Ձեքբերվող շենքի և շինության մակերեսը, քմ | C45: 195.57
A46: Միջոցառման վրա կատարվող ծախսը (հազար դրամ) | C46: 2233
A47: Ծրագրի դասիչը՝ | B47: 1023 | C47: Ցուցանիշների փոփոխությունը (ավելացումները նշված են դրական նշանով, իսկ նվազեցումները՝ փակագծերում)
A48: Միջոցառման դասիչը՝ | B48: 31005 | C48: տարի
A49: Միջոցառման անվանումը՝ | B49: ՀՀ ՊԵԿ շենքային տարածքի ընդլայնում
A50: Նկարագրությունը՝ | B50: Շենքային տարածքի ընդլայնման համար հողի ձեռքբերում
A51: Միջոցառման տեսակը՝ | B51: Պետական մարմինների կողմից օգտագործվող ոչ ֆինանսական ակտիվների հետ գործառնություններ
A52: Միջոցառումն իրականացնողի անվանումը | B52: ՀՀ պետական եկամուտների կոմիտե
B53: Արդյունքի չափորոշիչներ
A54: Ձեքբերվող հողատարածքի մակերեսը, քմ | C54: 1148.9
A55: Միջոցառման վրա կատարվող ծախսը (հազար դրամ) | C55: 9685
A57: ՄԱՍ 1. ՊԵՏԱԿԱՆ ՄԱՐՄՆԻ ԳԾՈՎ ԱՐԴՅՈՒՆՔԱՅԻՆ (ԿԱՏԱՐՈՂԱԿԱՆ) ՑՈՒՑԱՆԻՇՆԵՐԸ
A58: Ծրագրի դասիչը՝ | B58: Ծրագրի անվանումը՝
A59: 1023 | B59: Հարկային և մաքսային ծառայություններ
A61: Ծրագրի միջոցառումները
A62: Միջոցառման դասիչը՝ | B62: 31003 | C62: Տարի
A63: Միջոցառման անվանումը՝ | B63: ՀՀ պետական եկամուտների կոմիտեի շենքային ապահովվածության բարելավում
A64: Նկարագրությունը՝ | B64: ՀՀ պետական եկամուտների կոմիտեի նոր շենքերի և շինությունների շինարարություն, նախագծային աշխատանքների ձեռքբերում
A65: Միջոցառման տեսակը՝ | B65: Պետական մարմինների կողմից օգտագործվող ոչ ֆինանսական ակտիվների հետ գործառնություններ
A66: Միջոցառումն իրականացնողի անվանումը | B66: ՀՀ պետական եկամուտների կոմիտե
B67: Արդյունքի չափորոշիչներ
A68: Շինարարական օբյեկտների թիվ, հատ
A69: Կառուցվող շենքերի և շինությունների ընդհանուր մակերես, քմ | C69: 5100
A70: Բյուջետային տարում կառուցապատման մակերես, քմ | C70: 5100
A71: Շինարարական աշխատանքների ավարտվածության աստիճանը, տոկոս | C71: 100
A72: Միջոցառման վրա կատարվող ծախսը (հազար դրամ) | C72: ='8'!G15 -> 2032000
A73: Ծրագրի դասիչը՝ | B73: 1023 | C73: Ցուցանիշների փոփոխությունը (ավելացումները նշված են դրական նշանով, իսկ նվազեցումները՝ փակագծերում)
A74: Միջոցառման դասիչը՝ | B74: 31002 | C74: տարի
A75: Միջոցառման անվանումը՝ | B75: ՀՀ ՊԵԿ-ի տեխնիկական հագեցվածության բավարարում
A76: Նկարագրությունը՝ | B76: Հարկային և մաքսային ծառայությունների անհրաժեշտ նյութատեխնիկական բազայով ապահովում
A77: Միջոցառման տեսակը՝ | B77: Պետական մարմինների կողմից օգտագործվող ոչ ֆինանսական ակտիվների հետ գործառնություններ
A78: Միջոցառումն իրականացնողի անվանումը | B78: ՀՀ պետական եկամուտների կոմիտե
B79: Արդյունքի չափորոշիչներ
A80: Տվյլա բյուջետային տարվան նախորդող բյուջետային երեք տարւների ընթացքում հարկային և մաքսային ծառայությունների համար անհրաժեշտ նյութատեխնիկական բազայով ապահովովման վրա փաստացի կատարված ծախսերի գումարային մեծությունը, հազ. դրամ
A81: Միջոցառման վրա կատարվող ծախսը (հազար դրամ) | C81: -11918
A82: Ծրագրի դասիչը՝ | B82: 1023 | C82: Ցուցանիշների փոփոխությունը (ավելացումները նշված են դրական նշանով, իսկ նվազեցումները՝ փակագծերում)
A83: Միջոցառման դասիչը՝ | B83: 31004 | C83: տարի
A84: Միջոցառման անվանումը՝ | B84: ՀՀ ՊԵԿ-ի շենքային պայմաններով ապահովում
A85: Նկարագրությունը՝ | B85: ՀՀ պետական եկամուտների կոմիտեի համար շենքի ձեռքբերում
A86: Միջոցառման տեսակը՝ | B86: Պետական մարմինների կողմից օգտագործվող ոչ ֆինանսական ակտիվների հետ գործառնություններ
A87: Միջոցառումն իրականացնողի անվանումը | B87: ՀՀ պետական եկամուտների կոմիտե
B88: Արդյունքի չափորոշիչներ
A89: Ձեքբերվող շենքի քանակը, հատ | C89: 1
A90: Ձեքբերվող շենքի մակերեսը, քմ | C90: 195.57
A91: Միջոցառման վրա կատարվող ծախսը (հազար դրամ) | C91: 2233
A92: Ծրագրի դասիչը՝ | B92: 1023 | C92: Ցուցանիշների փոփոխությունը (ավելացումները նշված են դրական նշանով, իսկ նվազեցումները՝ փակագծերում)
A93: Միջոցառման դասիչը՝ | B93: 31005 | C93: տարի
A94: Միջոցառման անվանումը՝ | B94: ՀՀ ՊԵԿ շենքային տարածքի ընդլայնում
A95: Նկարագրությունը՝ | B95: Շենքային տարածքի ընդլայնման համար հողի ձեռքբերում
A96: Միջոցառման տեսակը՝ | B96: Պետական մարմինների կողմից օգտագործվող ոչ ֆինանսական ակտիվների հետ գործառնություններ
A97: Միջոցառումն իրականացնողի անվանումը | B97: ՀՀ պետական եկամուտների կոմիտե
B98: Արդյունքի չափորոշիչներ
A99: Ձեքբերվող հողատարածքի մակերեսը, քմ | C99: 1148.9
A100: Միջոցառման վրա կատարվող ծախսը (հազար դրամ) | C100: 9685

Sheet 6
H3: Հավելված N 6
H4: ՀՀ կառավարության 2019 թվականի
H5: ___________ ___-ի N _______ որոշման
A7: «ՀԱՅԱՍՏԱՆԻ ՀԱՆՐԱՊԵՏՈՒԹՅԱՆ 2019 ԹՎԱԿԱՆԻ ՊԵՏԱԿԱՆ ԲՅՈՒՋԵԻ ՄԱՍԻՆ» ՀԱՅԱՍՏԱՆԻ ՀԱՆՐԱՊԵՏՈՒԹՅԱՆ ՕՐԵՆՔԻ N1 ՀԱՎԵԼՎԱԾԻ N 3 ԱՂՅՈՒՍԱԿՈՒՄ ԿԱՏԱՐՎՈՂ ՎԵՐԱԲԱՇԽՈՒՄՆԵՐԸ ԵՎ ՓՈՓՈԽՈՒԹՅՈՒՆՆԵՐԸ
H8: (հազ. դրամ)
A9: Ծրագրային դասիչ | C9: Բյուջետային գլխավոր կարգադրիչների, ծրագրերի, միջոցառումների և ուղղությունների անվանումները | D9: Ցուցանիշների փոփոխությունը (ավելացումները նշված են դրական նշանով, իսկ նվազեցումները՝ փակագծերում)
D10: Ընդամենը | E10: այդ թվում՝
E11: Կառուցման աշխատանքներ | F11: Վերակառուցման, վերանորոգման և վերականգնման աշխատանքներ | G11: Նախագծահետազոտական, գեոդեզա-քարտեզագրական աշխատանքներ | H11: Ոչ ֆինանսական այլ ակտիվների ձեռքբերում
A12: ծրագիրը | B12: միջոցառումը
C13: ԸՆԴԱՄԵՆԸ | D13: =D15 -> 2032000 | E13: =E15 -> 2032000 | H13: =H15 -> 0
C14: այդ թվում՝
C15: ՀՀ ՊԵՏԱԿԱՆ ԵԿԱՄՈՒՏՆԵՐԻ ԿՈՄԻՏԵ | D15: =E15 -> 2032000 | E15: =E17 -> 2032000 | H15: =H20+H21+H24 -> 0
C16: այդ թվում`
A17: 1023 | B17: 31003 | C17: ՀՀ պետական եկամուտների կոմիտեի շենքային ապահովվածության բարելավում | D17: =E17 -> 2032000 | E17: =E19 -> 2032000
C18: այդ թվում՝ ըստ ուղղությունների
C19: ՀՀ ՊԵԿ Հյուսիսային մաքսատուն-վարչության ավտոմաքսատան կառուցման աշխատանքներ | D19: =E19 -> 2032000 | E19: ='8'!G15 -> 2032000
A20: 1023 | B20: 31002 | C20: ՀՀ ՊԵԿ-ի տեխնիկական հագեցվածության բավարարում | D20: =H20 -> -11918 | H20: -11918
A21: 1023 | B21: 31004 | C21: ՀՀ ՊԵԿ-ի շենքային պայմաններով ապահովում | D21: =H21 -> 2233 | H21: 2233
C22: այդ թվում՝ ըստ ուղղությունների
C23: Ք.Գյումրի, Թբիլիսյան խճուղի 2/16 | H23: 9685
A24: 1023 | B24: 31005 | C24: ՀՀ ՊԵԿ շենքային տարածքի ընդլայնում | D24: =H24 -> 9685 | H24: 9685

Sheet 7
D6: Հավելված N 7
D7: ՀՀ կառավարության 2019 թվականի
D8: ___________ ___-ի N _______ որոշման
A10: «ՀԱՅԱՍՏԱՆԻ ՀԱՆՐԱՊԵՏՈՒԹՅԱՆ 2019 ԹՎԱԿԱՆԻ ՊԵՏԱԿԱՆ ԲՅՈՒՋԵԻ ՄԱՍԻՆ» ՀԱՅԱՍՏԱՆԻ ՀԱՆՐԱՊԵՏՈՒԹՅԱՆ ՕՐԵՆՔԻ N1 ՀԱՎԵԼՎԱԾԻ N 2 ԱՂՅՈՒՍԱԿՈՒՄ ԵՎ ՀԱՅԱՍՏԱՆԻ ՀԱՆՐԱՊԵՏՈՒԹՅԱՆ ԿԱՌԱՎԱՐՈՒԹՅԱՆ 2018 ԹՎԱԿԱՆԻ ԴԵԿՏԵՄԲԵՐԻ 27-Ի N 1515-Ն ՈՐՈՇՄԱՆ N 5 ՀԱՎԵԼՎԱԾԻ N 2 ԱՂՅՈՒՍԱԿՈՒՄ ԿԱՏԱՐՎՈՂ ՎԵՐԱԲԱՇԽՈՒՄՆԵՐԸ ԵՎ ՓՈՓՈԽՈՒԹՅՈՒՆՆԵՐԸ
D11: (հազ. դրամ)
A12: Շրագրային դասիչը | C12: Բյուջետային հատկացումների գլխավոր կարգադրիչների, ծրագրերի և միջոցառումների անվանումները | D12: Ցուցանիշների փոփոխությունը (ավելացումները նշված են դրական նշանով, իսկ նվազեցումները՝ փակագծերում)
D13: Տարի
A14: ծրագիրը | B14: միջոցառումը
C15: ԸՆԴԱՄԵՆԸ | D15: =D17 -> 2032000
C16: այդ թվում՝
C17: ՀՀ ՊԵՏԱԿԱՆ ԵԿԱՄՈՒՏՆԵՐԻ ԿՈՄԻՏԵ | D17: =D19+D22+D25+D28 -> 2032000
C18: այդ թվում՝
A19: 1023 | B19: 31003 | C19: ՀՀ պետական եկամուտների կոմիտեի շենքային ապահովվածության բարելավում | D19: =D21 -> 2032000
C20: այդ թվում ըստ կատարողների՝
C21: ՀՀ պետական եկամուտների կոմիտե | D21: ='8'!G15 -> 2032000
A22: 1023 | B22: 31002 | C22: ՀՀ ՊԵԿ-ի տեխնիկական հագեցվածության բավարարում | D22: =D24 -> -11918
C23: այդ թվում ըստ կատարողների՝
C24: ՀՀ պետական եկամուտների կոմիտե | D24: -11918
A25: 1023 | B25: 31004 | C25: ՀՀ ՊԵԿ-ի շենքային պայմաններով ապահովում | D25: =D27 -> 2233
C26: այդ թվում ըստ կատարողների՝
C27: ՀՀ պետական եկամուտների կոմիտե | D27: 2233
A28: 1023 | B28: 31005 | C28: ՀՀ ՊԵԿ շենքային տարածքի ընդլայնում | D28: =D30 -> 9685
C29: այդ թվում ըստ կատարողների՝
C30: ՀՀ պետական եկամուտների կոմիտե | D30: 9685

Sheet 8
G1: Հավելված N 8
G2: ՀՀ կառավարության 2019 թվականի
G3: --------------------ի N --------- Ն որոշման
A5: ՀԱՅԱՍՏԱՆԻ ՀԱՆՐԱՊԵՏՈՒԹՅԱՆ ԿԱՌԱՎԱՐՈՒԹՅԱՆ 2018 ԹՎԱԿԱՆԻ ԴԵԿՏԵՄԲԵՐԻ 27-Ի N 1515-Ն ՈՐՈՇՄԱՆ N 12 ՀԱՎԵԼՎԱԾՈՒՄ ԿԱՏԱՐՎՈՂ ՎԵՐԱԲԱՇԽՈՒՄՆԵՐԸ ԵՎ ԼՐԱՑՈՒՄՆԵՐԸ
A6: Գնման առարկայի | G6: Ցուցանիշների փոփոխությունը (ավելացումները նշված են դրական նշանով)
A7: կոդը | B7: անվանումը | C7: գնման ձևը | D7: չափի միավորը | E7: միավորի գինը | F7: քանակը | G7: Գումարը (հազար դրամով)
A9: ՀՀ պետական եկամուտների կոմիտե
A10: Բաժին N 01 | B10: Խումբ N 01 | C10: Դաս N 02 | D10: Ֆինանսական և հարկաբյուջետային հարաբերություններ | G10: -11918
A11: 1023 31002 | B11: ՀՀ պետական եկամուտների կոմիտեի տեխնիկական հագեցվածության բավարարում | G11: -11918
B12: ՄԱՍ I. ԱՊՐԱՆՔՆԵՐ
B13: Վարչական սարքավորումներ | C13: ԳՀ | D13: քանակ | E13: -11918000 | G13: -11918
A14: Բաժին N 01 | B14: Խումբ N 01 | C14: Դաս N 02 | D14: Ֆինանսական և հարկաբյուջետային հարաբերություններ
A15: 1023 31003 | B15: ՀՀ պետական եկամուտների կոմիտեի շենքային ապահովվածության բարելավում | G15: =G17+G20+G21 -> 2032000
B16: ՄԱՍ II. ԱՇԽԱՏԱՆՔՆԵՐ
A17: 45451700-5 | B17: վերակառուցման աշխատանքներ | C17: ՀՄԱ | D17: դրամ | E17: 2000000000 | F17: 1 | G17: 2000000
A18: 1023 31003 | B18: ՀՀ պետական եկամուտների կոմիտեի շենքային ապահովվածության բարելավում
B19: ՄԱՍ III. ԾԱՌԱՅՈՒԹՅՈՒՆՆԵՐ
A20: 71351540-7 | B20: տեխնիկական հսկողության ծառայություններ | C20: ՀՄԱ | D20: դրամ | E20: 20000000 | F20: 1 | G20: 20000
A21: 98111140-7 | B21: հեղինակային հսկողության ծառայություններ | C21: ՄԱ | D21: դրամ | E21: 12000000 | F21: 1 | G21: 12000
A22: Բաժին N 01 | B22: Խումբ N 01 | C22: Դաս N 02 | D22: Ֆինանսական և հարկաբյուջետային հարաբերություններ | G22: 2233
A23: 1023 31004 | B23: ՀՀ պետական եկամուտների կոմիտեի շենքային պայմաններով ապահովում | G23: 2233
A24: 70121190-1 | B24: բնակելի անշարժ գույքի գնման ծառայություններ | C24: ՀՄԱ | D24: դրամ | E24: 2233000 | F24: 1 | G24: 2233
A25: Բաժին N 01 | B25: Խումբ N 01 | C25: Դաս N 02 | D25: Ֆինանսական և հարկաբյուջետային հարաբերություններ | G25: 9685
A26: 1023 31005 | B26: ՀՀ պետական եկամուտների կոմիտեի շենքային տարածքի ընդլայնում | G26: 9685
A27: 70121140-1 | B27: հողերի գնման ծառայություններ | C27: ՀՄԱ | D27: դրամ | E27: 9685000 | F27: 1 | G27: 9685
