Workbook
Name շախմատիստ: #REF!
Name շախմատիստ: #REF!

Sheet N 1
C1: Հավելված 1 ՀՀ կառավարության 2019 թվականի____________ի N _____-Ն որոշման
A2: «ՀԱՅԱՍՏԱՆԻ ՀԱՆՐԱՊԵՏՈՒԹՅԱՆ 2019 ԹՎԱԿԱՆԻ ՊԵՏԱԿԱՆ ԲՅՈՒՋԵԻ ՄԱՍԻՆ» ՀԱՅԱՍՏԱՆԻ ՀԱՆՐԱՊԵՏՈՒԹՅԱՆ ՕՐԵՆՔԻ N 1 ՀԱՎԵԼՎԱԾԻ N 2 ԱՂՅՈՒՍԱԿՈՒՄ ԿԱՏԱՐՎՈՂ ՎԵՐԱԲԱՇԽՈՒՄԸ ԵՎ ՀԱՅԱՍՏԱՆԻ ՀԱՆՐԱՊԵՏՈՒԹՅԱՆ ԿԱՌԱՎԱՐՈՒԹՅԱՆ 2018 ԹՎԱԿԱՆԻ ԴԵԿՏԵՄԲԵՐԻ 27-Ի N 1515-Ն ՈՐՈՇՄԱՆ N 5 ՀԱՎԵԼՎԱԾԻ N 1 ԱՂՅՈՒՍԱԿՈՒՄ ԿԱՏԱՐՎՈՂ ՓՈՓՈԽՈՒԹՅՈՒՆՆԵՐԸ
D3: (հազար դրամներով)
A4: Ծրագրային դասիչը | C4: Բյուջետային հատկացումների գլխավոր կարգադրիչների, ծրագրերի և միջոցառումների | D4: Ցուցանիշների փոփոխությունը (ծախսերի ավելացումները նշված են դրական նշանով, իսկ նվազեցումները` փակագծերում)
A5: ծրագիրը | B5: միջոցառումը | C5: անվանումները | D5: տարի
C6: ՀՀ Շրջակա միջավայրի նախարարություն | D6: =D7+D20 -> 0
A7: 1173 | C7: Ծրագրի անվանումը` | D7: =D14 -> -50000
C8: Անտառների կառավարում
C9: Ծրագրի նպատակը`
C10: Անտառային տարածքների կայուն կառավարում
C11: Վերջնական արդյունքի նկարագրությունը`
C12: Կայուն կառավարվող անտառային տարածքների աճ
B13: Ծրագրի միջոցառումներ
B14: 11001 | C14: Միջոցառման անվանումը` | D14: =-D20 -> -50000
C15: Անտառային ոլորտում քաղաքականության մշակման և աջակցության ծառայությունների՝ ծրագրերի համակարգում
C16: Միջոցառման նկարագրությունը`
C17: Անտառային ոլորտի քաղաքականության մշակման՝ աջակցության և համակարգման ծրագրեր
C18: Միջոցառման տեսակը
C19: Ծառայությունների մատուցում
A20: 1071 | C20: Ծրագրի անվանումը` | D20: =D27 -> 50000
C21: Բնապահպանության ոլորտում պետական քաղաքականության մշակում՝ ծրագրերի համակարգում և մոնիտորինգ
C22: Ծրագրի նպատակը`
C23: Շրջակա միջավայրի պահպանությանն ուղղված պետական քաղաքականության մշակում և իրականացում
C24: Վերջնական արդյունքի նկարագրությունը`
C25: Շրջակա միջավայրի պահպանությանն ուղղված օրենսդրական դաշտի բարելավում՝ իրականացվող ծրագրերի ազդեցության և արդյունավետության աճ
C26: Ծրագրի միջոցառումներ
B27: 11001 | C27: Միջոցառման անվանումը` | D27: 50000
C28: Բնապահպանության ոլորտում քաղաքականության մշակում՝ ծրագրերի համակարգում և մոնիտորինգ
C29: Միջոցառման նկարագրությունը`
C30: Շրջակա միջավայրի պահպանությանն ուղղված օրենսդրական դաշտի բարելավում՝ իրականացվող ծրագրերի արդյունավետության ապահովում
C31: Միջոցառման տեսակը
C32: Ծառայությունների մատուցում

Sheet N 2
F1: Հավելված 2 ՀՀ կառավարության 2019 թվականի____________ի N _____-Ն որոշման
A3: ՀԱՅԱՍՏԱՆԻ ՀԱՆՐԱՊԵՏՈՒԹՅԱՆ ԿԱՌԱՎԱՐՈՒԹՅԱՆ 2018 ԹՎԱԿԱՆԻ ԴԵԿՏԵՄԲԵՐԻ 27-Ի N 1515-Ն ՈՐՈՇՄԱՆ N3 ԵՎ N4 ՀԱՎԵԼՎԱԾՆԵՐՈՒՄ ԿԱՏԱՐՎՈՂ ՓՈՓՈԽՈՒԹՅՈՒՆՆԵՐԸ
G4: (հազար դրամներով)
A5: Բաժին | B5: Խումբ | C5: Դաս | D5: Ծրագրային դասիչը | F5: Բյուջետային հատկացումների գլխավոր կարգադրիչների, ծրագրերի, միջոցառումների և միջոցառումները կատարող պետական մարմինների անվանումները | G5: Ցուցանիշների փոփոխությունը (ծախսերի ավելացումները նշված են դրական նշանով, իսկ նվազեցումները` փակագծերում)
D6: Ծրագիր | E6: Միջոցառում | G6: Տարի
F7: ԸՆԴԱՄԵՆԸ այդ թվում` | G7: =G8+G22 -> 0
A8: 04 | F8: ՏՆՏԵՍԱԿԱՆ ՀԱՐԱԲԵՐՈՒԹՅՈՒՆՆԵՐ այդ թվում` | G8: =G9 -> -50000
B9: 02 | F9: Գյուղատնտեսություն, անտառային տնտեսություն, ձկնորսություն և որսորդություն` այդ թվում` | G9: =G10 -> -50000
C10: 02 | F10: Անտառային տնտեսություն այդ թվում` | G10: =G12 -> -50000
F11: ՀՀ շրջակա միջավայրի նախարարություն այդ թվում` | G11: =G12 -> -50000
D12: 1173 | F12: Անտառների կառավարում այդ թվում` | G12: =G13 -> -50000
E13: 11001 | F13: Անտառային ոլորտում քաղաքականության մշակման և աջակցության ծառայությունների՝ ծրագրերի համակարգում | G13: =G15 -> -50000
F14: այդ թվում` ըստ կատարողների
F15: ՀՀ շրջակա միջավայրի նախարարություն | G15: =G17 -> -50000
F16: այդ թվում` բյուջետային ծախսերի տնտեսագիտական դասակարգման հոդվածներ
F17: ԸՆԴԱՄԵՆԸ ԾԱԽՍԵՐ | G17: =G18 -> -50000
F18: ԸՆԹԱՑԻԿ ԾԱԽՍԵՐ | G18: =G19 -> -50000
F19: ԱՇԽԱՏԱՆՔԻ ՎԱՐՁԱՏՐՈՒԹՅՈՒՆ | G19: =G20 -> -50000
F20: Դրամով վճարվող աշխատավարձեր և հավելավճարներ | G20: =G21 -> -50000
F21: - Աշխատողների աշխատավարձեր և հավելավճարներ | G21: -50000
A22: 05 | F22: ՇՐՋԱԿԱ ՄԻՋԱՎԱՅՐԻ ՊԱՇՏՊԱՆՈՒԹՅՈՒՆ այդ թվում` | G22: =G23 -> 50000
B23: 06 | F23: Շրջակա միջավայրի պաշտպանություն (այլ դասերին չպատկանող) այդ թվում` | G23: =G24 -> 50000
C24: 01 | F24: Շրջակա միջավայրի պաշտպանություն (այլ դասերին չպատկանող) այդ թվում` | G24: =G25 -> 50000
F25: ՀՀ շրջակա միջավայրի նախարարություն այդ թվում` | G25: =G26 -> 50000
D26: 1071 | F26: Բնապահպանության ոլորտում պետական քաղաքականության մշակում՝ ծրագրերի համակարգում և մոնիտորինգ | G26: =G27 -> 50000
E27: ='N 1'!B27 -> 11001 | F27: Բնապահպանության ոլորտում քաղաքականության մշակում՝ ծրագրերի համակարգում և մոնիտորինգ | G27: =G29 -> 50000
F28: այդ թվում` ըստ կատարողների
F29: ՀՀ շրջակա միջավայրի նախարարություն | G29: =G31 -> 50000
F30: այդ թվում` բյուջետային ծախսերի տնտեսագիտական դասակարգման հոդվածներ
F31: ԸՆԴԱՄԵՆԸ ԾԱԽՍԵՐ | G31: =G32 -> 50000
F32: ԸՆԹԱՑԻԿ ԾԱԽՍԵՐ | G32: =G33 -> 50000
F33: ԱՇԽԱՏԱՆՔԻ ՎԱՐՁԱՏՐՈՒԹՅՈՒՆ | G33: =G34 -> 50000
F34: Դրամով վճարվող աշխատավարձեր և հավելավճարներ | G34: =G35 -> 50000
F35: - Աշխատողների աշխատավարձեր և հավելավճարներ | G35: 50000

Sheet  N 3
B1: Հավելված 3 ՀՀ կառավարության 2019 թվականի____________ի N _____-Ն որոշման
A4: Ծրագրի դասիչը | B4: Ծրագրի անվանումը
A5: 1004 | B5: Ոռոգման համակարգի առողջացում
A7: Ծրագրի միջոցառումները
A9: Ծրագրի դասիչը` | B9: 1004
A10: Միջոցառման դասիչը` | B10: 31002 | C10: Տարի
A11: Միջոցառման անվանումը` | B11: Ոռոգման համակարգերի հիմնանորոգում
A12: Նկարագրությունը` | B12: Ոռոգման համակարգերի հիմնանորոգում
A13: Միջոցառման տեսակը` | B13: Պետական մարմինների կողմից օգտագործվող ոչ ֆինանսական ակտիվների հետ գործառնություններ
A14: Ակտիվն օգտագործող կազմակերպության(ների) անվանում(ները)՛ | B14: «ՋՕԸ»- եր և «Ջրառ» ՓԲԸ
A15: Արդյունքի չափորոշիչներ
A16: Հիմնանորոգվող ոռոգման ցանցերի երկարություն, կմ | C16: 11.935
A17: Նոր կառուցվող ոռոգմանցանցերի երկարություն, կմ | C17: 10.085
A18: Վերականգնվող խորքային հորեր, հատ
A19: Վերանորոգվող ջրամբար, հատ | C19: 2
A20: Աշխատանքների ավարտվածության աստիճան, տոկոս | C20: 100
A21: Միջոցառման վրա կատարվող ծախսը (հազար դրամ) | C21: 539,536.70
A24: Ծրագրի դասիչը | B24: Ծրագրի անվանումը
A25: 1045 | B25: Նախնական (արհեստագործական) և միջին մասնագիտական կրթություն
A27: Ծրագրի միջոցառումները
A29: Ծրագրի դասիչը` | B29: 1045
A30: Միջոցառման դասիչը` | B30: 32001 | C30: Տարի
A31: Միջոցառման անվանումը` | B31: Նախնական մասնագիտական (արհեստագործական) և միջին մասնագիտական ուսումնական հաստատությունների շենքային պայմանների բարելավում
A32: Նկարագրությունը` | B32: ՆՄՄԿՈՒ հաստատությունների շենքերի հիմնանորոգման և նախագծման (շինարարական աշխատանքներ՝ ջեռուցման համակարգի ստեղծում՝ ներքին հարդարում՝ տարածքի բարեկարգում) աշխատանքների իրականացում
A33: Միջոցառման տեսակը` | B33: Այլ պետական կազմակերպությունների կողմից օգտագործվող ոչ ֆինանսական ակտիվների հետ գործառնություններ
A34: Ակտիվն օգտագործող կազմակերպությունների անվանումները | B34: Ստեփանավանի պետական գյուղատնտեսական ևՀայաստանի ազգային Ագրարային համալսարանի Վանաձորի մասնաճյուղի քոլեջներ
A35: Արդյունքի չափորոշիչներ
A36: Կազմակերպությունների թիվը, որտեղ կատարվում են ներդրումները, հատ | C36: 2
A37: Աշխատանքների ավարտվածության աստիճանը, % | C37: 100
A38: Միջոցառման վրա կատարվող ծախսը (հազար դրամ) | C38: 713,653.20
A41: Ծրագրի դասիչը | B41: Ծրագրի անվանումը
A42: 1049 | B42: Ճանապարհային ցանցի բարելավում
A44: Ծրագրի միջոցառումները
A46: Ծրագրի դասիչը` | B46: 1049
A47: Միջոցառման դասիչը` | B47: 21001 | C47: Տարի
A48: Միջոցառման անվանումը` | B48: Պետական նշանակության ավտոճանապարհների հիմնանորոգում
A49: Նկարագրությունը` | B49: Միջպետական՝ հանրապետական և մարզային նշանակության ավտոճոնապարհների քայքայված ծածկի վերանորոգում՝ մաշված ծածկի փոխարինում_x000D_
A50: Միջոցառման տեսակը` | B50: Հանրության կողմից անմիջականորեն օգտագործվող ակտիվների հետ կապված միջոցառումներ
A52: Արդյունքի չափորոշիչներ
A53: Հիմնանորոգվող ավտոճանապարհների երկարությունը/կիլոմետր/ այդ թվում՛ | C53: 79
A54: Միջպետական նշանակության ավտոճանապարհներ | C54: 55.1
A55: Հանրապետական նշանակության ավտոճանապարհներ | C55: 5
A56: Մարզային նշանակության ավտոճանապարհներ | C56: 18.9
A57: Աշխատանքների ավարտվածության աստիճան, % | C57: 100
A58: Միջոցառման վրա կատարվող ծախսը (հազար դրամ) | C58: 8,390,491.00
A60: Ծրագրի դասիչը` | B60: 1049
A61: Միջոցառման դասիչը` | B61: 21002 | C61: Տարի
A62: Միջոցառման անվանումը` | B62: Տրանսպորտային օբյեկտների հիմնանորոգում
A63: Նկարագրությունը` | B63: Ավտոմոբիլային ճանապարհների վրա գտնվող կամուրջների հիմնանորոգում
A64: Միջոցառման տեսակը` | B64: Հանրության կողմից անմիջականորեն օգտագործվող ակտիվների հետ կապված միջոցառումներ
A66: Արդյունքի չափորոշիչներ
A67: Հիմնանորոգվող տրանսպորտային օբյեկտների թիվը, այդ թվում՛ | C67: 6
A68: Կամուրջներ | C68: 6
A69: Կամուրջներ (մ) | C69: 185
A70: Աշխատանքների ավարտվածության աստիճան, % | C70: 100
A71: Միջոցառման վրա կատարվող ծախսը (հազար դրամ) | C71: 372,472.00
A74: Ծրագրի դասիչը | B74: Ծրագրի անվանումը
A75: 1075 | B75: Մշակութային ժառանգության ծրագիր
A77: Ծրագրի միջոցառումները
A79: Ծրագրի դասիչը` | B79: 1075
A80: Միջոցառման դասիչը` | B80: 21001 | C80: Տարի
A81: Միջոցառման անվանումը` | B81: Հուշարձանների ամրակայում՝ նորոգում և վերականգնում
A82: Նկարագրությունը` | B82: Հուշարձանների գիտանախագծային փաստաթղթերի կազմում՝ հրատապ ուսումնասիրում՝ վավերագրման և ուսումնասիրման աշխատանքներ՝ հետախուզում և հնագիտական պեղում՝ ամրակայում՝ նորոգում և վերականգնում
A83: Միջոցառման տեսակը` | B83: Հանրության կողմից անմիջականորեն օգտագործվող ակտիվների հետ կապված միջոցառումներ
A85: Արդյունքի չափորոշիչներ
A86: Հուշարձանների ամրակայման, նորոգման և վերականգնման աշխատանքներ, քանակ | C86: 10
A87: Հուշարձանների հրատապ միջամտություն պահանջող աշխատանքներ, քանակ (ուսումնասիրման, նախագծման և վերականգնողական) | C87: 5
A88: Հուշարձանների ամրակայման, նորոգման և վերականգնման միջին տևողություն, ամիս | C88: 9
A89: Միջոցառման վրա կատարվող ծախսը (հազար դրամ) | C89: 162,000.00
A92: Ծրագրի դասիչը | B92: Ծրագրի անվանումը
A93: 1098 | B93: Բնակարանային ապահովում
A95: Ծրագրի միջոցառումները
A97: Ծրագրի դասիչը` | B97: 1098
A98: Միջոցառման դասիչը` | B98: 12001 | C98: Տարի
A99: Միջոցառման անվանումը` | B99: Երկրաշարժի հետևանքով անօթևան մնացած ընտանիքների բնակարանային ապահովում
A100: Նկարագրությունը` | B100: Բնակության վայր չունեցող անօթևան անձանց բնակարանային ապահովման աջակցություն
A101: Միջոցառման տեսակը` | B101: Տրանսֆերտների տրամադրում
A102: Շահառուների ընտրության չափանիշներ | B102: Երկրաշարժի հետևանքով անօթևան մնացած՛ ծրագրի շահառու ճանաչված ընտանիքներ
A103: Արդյունքի չափորոշիչներ
A104: Բնակարանով ապահովված շահառուների թիվ, ընտանիք | C104: 25
A105: Միջոցառման վրա կատարվող ծախսը (հազար դրամ) | C105: 560,000.00
A108: Ծրագրի դասիչը | B108: Ծրագրի անվանումը
A109: 1139 | B109: ՀՀ կառավարության պահուստային ֆոնդ
A111: Ծրագրի միջոցառումները
A113: Ծրագրի դասիչը` | B113: 1139
A114: Միջոցառման դասիչը` | B114: 11001 | C114: Տարի
A115: Միջոցառման անվանումը` | B115: ՀՀ կառավարության պահուստային ֆոնդ
A116: Նկարագրությունը` | B116: ՀՀ պետական բյուջեում նախատեսված ելքերի լրացուցիչ ֆինանսավորման՝ պետական բյուջեում չկանխատեսված ելքերի՝ ինչպես նաև բյուջետային երաշխիքների ապահովման ելքերի ֆինանսավորման ապահովում
A117: Միջոցառման տեսակը` | B117: Ծառայությունների մատուցում
A118: Միջոցառումն իրականացնողի անվանումը | B118: ՀՀ կառավարություն
A119: Արդյունքի չափորոշիչներ
A120: ՀԱՅԱՍՏԱՆԻ ՀԱՆՐԱՊԵՏՈՒԹՅԱՆ ԿԱՌԱՎԱՐՈՒԹՅԱՆ 2018 ԹՎԱԿԱՆԻ ԴԵԿՏԵՄԲԵՐԻ 27-Ի N 1515-Ն ՈՐՈՇՄԱՆ N 11 ՀԱՎԵԼՎԱԾԻ N 11.13 ԱՂՅՈՒՍԱԿՈՒՄ ԿԱՏԱՐՎՈՂ ՓՈՓՈԽՈՒԹՅՈՒՆՆԵՐԸ ԵՎ ԼՐԱՑՈՒՄՆԵՐԸ
A123: ՀՀ շրջակա միջավայրի նախարարություն
A124: ՄԱՍ 2. ՊԵՏԱԿԱՆ ՄԱՐՄՆԻ ԳԾՈՎ ԱՐԴՅՈՒՆՔԱՅԻՆ (ԿԱՏԱՐՈՂԱԿԱՆ) ՑՈՒՑԱՆԻՇՆԵՐԸ
A126: Ծրագրի դասիչը | B126: Ծրագրի անվանումը
A127: 1173 | B127: Անտառների կառավարում
A129: Ծրագրի միջոցառումները
A131: Ծրագրի դասիչը` | B131: 1173 | C131: Ցուցանիշների փոփոխությունը (ծախսերի ավելացումները նշված են դրական նշանով, իսկ նվազեցումները` փակագծերում)
A133: Միջոցառման դասիչը` | B133: 11001 | C133: Տարի
A134: Միջոցառման անվանումը` | B134: Անտառային ոլորտում քաղաքականության մշակման և աջակցության ծառայությունների՝ ծրագրերի համակարգում
...

Sheet N 4
B1: Հավելված 4 ՀՀ կառավարության 2019 թվականի____________ի N _____-Ն որոշման
A3: ՀԱՅԱՍՏԱՆԻ ՀԱՆՐԱՊԵՏՈՒԹՅԱՆ ԿԱՌԱՎԱՐՈՒԹՅԱՆ 2018 ԹՎԱԿԱՆԻ ԴԵԿՏԵՄԲԵՐԻ 27-Ի N 1515-Ն ՈՐՈՇՄԱՆ N 11.1 ՀԱՎԵԼՎԱԾԻ N 11.1.53 ԱՂՅՈՒՍԱԿՈՒՄ ԿԱՏԱՐՎՈՂ ՓՈՓՈԽՈՒԹՅՈՒՆՆԵՐԸ
A5: ՀՀ շրջակա միջավայրի նախարարության անտառային կոմիտե
A7: ՄԱՍ 1. ՊԵՏԱԿԱՆ ՄԱՐՄՆԻ ԳԾՈՎ ԱՐԴՅՈՒՆՔԱՅԻՆ (ԿԱՏԱՐՈՂԱԿԱՆ) ՑՈՒՑԱՆԻՇՆԵՐԸ
A10: =' N 3'!A126 -> Ծրագրի դասիչը | B10: =' N 3'!B126 -> Ծրագրի անվանումը
A11: =' N 3'!A127 -> 1173 | B11: =' N 3'!B127 -> Անտառների կառավարում
A13: =' N 3'!A129 -> Ծրագրի միջոցառումները
A15: =' N 3'!A131 -> Ծրագրի դասիչը` | B15: 1173 | C15: Ցուցանիշների փոփոխությունը (ծախսերի ավելացումները նշված են դրական նշանով, իսկ նվազեցումները` փակագծերում)
A16: =' N 3'!A133 -> Միջոցառման դասիչը` | B16: 11001 | C16: Տարի
A17: =' N 3'!A134 -> Միջոցառման անվանումը` | B17: Անտառային ոլորտում քաղաքականության մշակման և աջակցության ծառայությունների՝ ծրագրերի համակարգում
A18: =' N 3'!A135 -> Նկարագրությունը` | B18: Անտառային ոլորտի քաղաքականության մշակման՝ աջակցության և համակարգման ծրագրեր
A19: =' N 3'!A136 -> Միջոցառման տեսակը` | B19: Ծառայությունների մատուցում
A20: =' N 3'!A137 -> Միջոցառումն իրականացնողի անվանումը | B20: ՀՀ Շրջակա միջավայրի նախարարության Անտառային կոմիտե
A21: =' N 3'!A138 -> Արդյունքի չափորոշիչներ
A22: Միջոցառման վրա կատարվող ծախսը (հազար դրամ) | C22: ='N 1'!D7 -> -50000
A25: ՀԱՅԱՍՏԱՆԻ ՀԱՆՐԱՊԵՏՈՒԹՅԱՆ ԿԱՌԱՎԱՐՈՒԹՅԱՆ 2018 ԹՎԱԿԱՆԻ ԴԵԿՏԵՄԲԵՐԻ 27-Ի N 1515-Ն ՈՐՈՇՄԱՆ N 11.1 ՀԱՎԵԼՎԱԾԻ N 11.1.13 ԱՂՅՈՒՍԱԿՈՒՄ ԿԱՏԱՐՎՈՂ ՓՈՓՈԽՈՒԹՅՈՒՆՆԵՐԸ ԵՎ ԼՐԱՑՈՒՄՆԵՐԸ
A27: ՀՀ շրջակա միջավայրի նախարարություն
A28: ՄԱՍ 1. ՊԵՏԱԿԱՆ ՄԱՐՄՆԻ ԳԾՈՎ ԱՐԴՅՈՒՆՔԱՅԻՆ (ԿԱՏԱՐՈՂԱԿԱՆ) ՑՈՒՑԱՆԻՇՆԵՐԸ
A30: Ծրագրի դասիչը | B30: Ծրագրի անվանումը
A31: 1071 | B31: Բնապահպանության ոլորտում պետական քաղաքականության մշակում՝ ծրագրերի համակարգում և մոնիտորինգ
A33: Ծրագրի միջոցառումները
A35: Ծրագրի դասիչը` | B35: 1071 | C35: Ցուցանիշների փոփոխությունը (ծախսերի ավելացումները նշված են դրական նշանով, իսկ նվազեցումները` փակագծերում)
A36: Միջոցառման դասիչը` | B36: 11001 | C36: Տարի
A37: Միջոցառման անվանումը` | B37: Բնապահպանության ոլորտում քաղաքականության մշակում՝ ծրագրերի համակարգում և մոնիտորինգ
A38: Նկարագրությունը` | B38: Շրջակա միջավայրի պահպանությանն ուղղված օրենսդրական դաշտի բարելավում՝ իրականացվող ծրագրերի արդյունավետության ապահովում
A39: Միջոցառման տեսակը` | B39: Ծառայությունների մատուցում
A40: Միջոցառումն իրականացնողի անվանումը՛ | B40: ՀՀ Շրջակա միջավայրի նախարարություն
A41: Արդյունքի չափորոշիչներ
A42: Միջոցառման վրա կատարվող ծախսը (հազար դրամ) | C42: ='N 1'!D27 -> 50000
