Workbook
Name AgencyCode: #REF!
Name AgencyName: #REF!
Name åû: #REF!
Name Functional1: #REF!
Name mas: #REF!
Name mass: #REF!
Name PANature: #REF!
Name PAType: #REF!
Name Performance2: #REF!
Name PerformanceType: #REF!
Name x: #REF!

Sheet Հավելված_1
F1: Հավելված 1
F2: ՀՀ կառավարության 2020 թվականի
F3: ______________ ի ___Ն որոշման
C4: Ց Ա Ն Կ
B5: «ՀԱՅԱՍՏԱՆԻ ՀԱՆՐԱՊԵՏՈՒԹՅԱՆ 2020 ԹՎԱԿԱՆԻ ՊԵՏԱԿԱՆ ԲՅՈՒՋԵԻ ՄԱՍԻՆ» ՀԱՅԱՍՏԱՆԻ ՀԱՆՐԱՊԵՏՈՒԹՅԱՆ ՕՐԵՆՔՈՎ ՏԵՂԱԿԱՆ ԻՆՔՆԱԿԱՌԱՎԱՐՄԱՆ ՄԱՐՄԻՆՆԵՐԻՆ ՊԵՏԱԿԱՆ ԱՋԱԿՑՈՒԹՅԱՆ ՆՊԱՏԱԿՈՎ ՆԱԽԱՏԵՍՎԱԾ ԵՐԵՎԱՆԻ ՔԱՂԱՔԱՊԵՏԱՐԱՆԻՆ ԵՎ ՀԱՅԱՍՏԱՆԻ ՀԱՆՐԱՊԵՏՈՒԹՅԱՆ ՄԱՐԶՊԵՏԱՐԱՆՆԵՐԻՆ ՀԱՏԿԱՑՎՈՂ ԳՈՒՄԱՐՆԵՐԻ
E6: հազար դրամներով
A7: Հ/հ | B7: Անվանումը | C7: Առաջին եռամսյակ | D7: Առաջին կիսամյակ | E7: Ինն ամիս | F7: Տարի
A8: 1 | B8: 2 | C8: 3 | D8: 4 | E8: 5 | F8: 6
A9: Ընդամենը | C9: =SUM(C10:C20) -> 581060.6 | D9: =SUM(D10:D20) -> 1452651.5 | E9: =SUM(E10:E20) -> 2324242.5 | F9: =SUM(F10:F20) -> 3486363.7
A10: 1 | B10: Հայաստանի Հանրապետության տարածքային կառավարման և ենթակառուցվածքների նախարարությանը | C10: =+Հավելված_2!C12 -> 110000.1 | D10: =+Հավելված_2!D12 -> 275000.2 | E10: =+Հավելված_2!E12 -> 440000.3 | F10: =+Հավելված_2!F12 -> 660000.5
A11: 2 | B11: Հայաստանի Հանրապետության Արագածոտնի մարզպետարան | C11: =+Հավելված_2!C20 -> 16040.9 | D11: =+Հավելված_2!D20 -> 40105.6 | E11: =+Հավելված_2!E20 -> 64168.3 | F11: =+Հավելված_2!F20 -> 96252.4
A12: 3 | B12: Հայաստանի Հանրապետության Արարատի մարզպետարան | C12: =+Հավելված_2!C90 -> 47055.5 | D12: =+Հավելված_2!D90 -> 117636.4 | E12: =+Հավելված_2!E90 -> 188221.7 | F12: =+Հավելված_2!F90 -> 282332.7
A13: 4 | B13: Հայաստանի Հանրապետության Արմավիրի մարզպետարան | C13: =+Հավելված_2!C187 -> 61399.7 | D13: =+Հավելված_2!D187 -> 153499.1 | E13: =+Հավելված_2!E187 -> 245596.9 | F13: =+Հավելված_2!F187 -> 368395.5
A14: 5 | B14: Հայաստանի Հանրապետության Գեղարքունիքի մարզպետարան | C14: =+Հավելված_2!C291 -> 39521.3 | D14: =+Հավելված_2!D291 -> 98802.9 | E14: =+Հավելված_2!E291 -> 158084.1 | F14: =+Հավելված_2!F291 -> 237126.1
A15: 6 | B15: Հայաստանի Հանրապետության Լոռու մարզպետարան | C15: =+Հավելված_2!C345 -> 65738.7 | D15: =+Հավելված_2!D345 -> 164346.2 | E15: =+Հավելված_2!E345 -> 262953.9 | F15: =+Հավելված_2!F345 -> 394430.7
A16: 7 | B16: Հայաստանի Հանրապետության Կոտայքի մարզպետարան | C16: =+Հավելված_2!C404 -> 76949.3 | D16: =+Հավելված_2!D404 -> 192373.3 | E16: =+Հավելված_2!E404 -> 307797.2 | F16: =+Հավելված_2!F404 -> 461695.8
A17: 8 | B17: Հայաստանի Հանրապետության Շիրակի մարզպետարան | C17: =+Հավելված_2!C454 -> 55541.2 | D17: =+Հավելված_2!D454 -> 138853.2 | E17: =+Հավելված_2!E454 -> 222164.8 | F17: =+Հավելված_2!F454 -> 333247.2
A18: 9 | B18: Հայաստանի Հանրապետության Սյունիքի մարզպետարան | C18: =+Հավելված_2!C501 -> 57596.9 | D18: =+Հավելված_2!D501 -> 143992.1 | E18: =+Հավելված_2!E501 -> 230387.2 | F18: =+Հավելված_2!F501 -> 345580.8
A19: 10 | B19: Հայաստանի Հանրապետության Վայոց ձորի մարզպետարանի | C19: =+Հավելված_2!C517 -> 10472.4 | D19: =+Հավելված_2!D517 -> 26181 | E19: =+Հավելված_2!E517 -> 41889.6 | F19: =+Հավելված_2!F517 -> 62834.5
A20: 11 | B20: Հայաստանի Հանրապետության Տավուշի մարզպետարան | C20: =+Հավելված_2!C532 -> 40744.6 | D20: =+Հավելված_2!D532 -> 101861.5 | E20: =+Հավելված_2!E532 -> 162978.5 | F20: =+Հավելված_2!F532 -> 244467.5

Sheet Հավելված_2
F1: Հավելված 2
F2: ՀՀ կառավարության 2020 թվականի
F3: ______________ ի ___Ն որոշման
F5: Աղյուսակ 1
D6: Ց Ա Ն Կ
B7: «ՀԱՅԱՍՏԱՆԻ ՀԱՆՐԱՊԵՏՈՒԹՅԱՆ 2020 ԹՎԱԿԱՆԻ ՊԵՏԱԿԱՆ ԲՅՈՒՋԵԻ ՄԱՍԻՆ» ՀԱՅԱՍՏԱՆԻ ՀԱՆՐԱՊԵՏՈՒԹՅԱՆ ՕՐԵՆՔՈՎ ՏԵՂԱԿԱՆ ԻՆՔՆԱԿԱՌԱՎԱՐՄԱՆ ՄԱՐՄԻՆՆԵՐԻՆ ՊԵՏԱԿԱՆ ԱՋԱԿՑՈՒԹՅԱՆ ՆՊԱՏԱԿՈՎ ՆԱԽԱՏԵՍՎԱԾ ՀԱՅԱՍՏԱՆԻ ՀԱՆՐԱՊԵՏՈՒԹՅԱՆ ՏԱՐԱԾՔԱՅԻՆ ԿԱՌԱՎԱՐՄԱՆ ԵՎ ԵՆԹԱԿԱՌՈՒՑՎԱԾՔՆԵՐԻ ՆԱԽԱՐԱՐՈՒԹՅԱՆԸ ՀԱՏԿԱՑՎՈՂ ԳՈՒՄԱՐՆԵՐԻ` ԸՍՏ ՀԱՄԱՅՆՔՆԵՐԻ
E8: հազար դրամներով
A9: Հ/հ | B9: Համայնքի անվանումը | C9: Առաջին եռամսյակ | D9: Առաջին կիսամյակ | E9: Ինն ամիս | F9: Տարի
A10: 1 | B10: 2 | C10: 3 | D10: 4 | E10: 5 | F10: 6
A11: Ընդամենը | B11: Ընդամենը | C11: =+C12 -> 110000.1 | D11: =+D12 -> 275000.2 | E11: =+E12 -> 440000.3 | F11: =+F12 -> 660000.5
A12: 1 | B12: Երևան | C12: 110000.1 | D12: 275000.2 | E12: 440000.3 | F12: 660000.5
F14: Աղյուսակ 2
D15: Ց Ա Ն Կ
B16: «ՀԱՅԱՍՏԱՆԻ ՀԱՆՐԱՊԵՏՈՒԹՅԱՆ 2020 ԹՎԱԿԱՆԻ ՊԵՏԱԿԱՆ ԲՅՈՒՋԵԻ ՄԱՍԻՆ» ՀԱՅԱՍՏԱՆԻ ՀԱՆՐԱՊԵՏՈՒԹՅԱՆ ՕՐԵՆՔՈՎ ՏԵՂԱԿԱՆ ԻՆՔՆԱԿԱՌԱՎԱՐՄԱՆ ՄԱՐՄԻՆՆԵՐԻՆ ՊԵՏԱԿԱՆ ԱՋԱԿՑՈՒԹՅԱՆ ՆՊԱՏԱԿՈՎ ՆԱԽԱՏԵՍՎԱԾ ՀԱՅԱՍՏԱՆԻ ՀԱՆՐԱՊԵՏՈՒԹՅԱՆ ԱՐԱԳԱԾՈՏՆԻ ՄԱՐԶՊԵՏԱՐԱՆԻՆ ՀԱՏԿԱՑՎՈՂ ԳՈՒՄԱՐՆԵՐԻ` ԸՍՏ ՀԱՄԱՅՆՔՆԵՐԻ
E17: հազար դրամներով
A18: Հ/հ | B18: Համայնքի անվանումը | C18: Առաջին եռամսյակ | D18: Առաջին կիսամյակ | E18: Ինն ամիս | F18: Տարի
A19: 1 | B19: 2 | C19: 3 | D19: 4 | E19: 5 | F19: 6
A20: Ընդամենը | C20: =SUM(C21:C82) -> 16040.9 | D20: =SUM(D21:D82) -> 40105.6 | E20: =SUM(E21:E82) -> 64168.3 | F20: =SUM(F21:F82) -> 96252.4
A21: 1 | B21: Աշտարակ | C21: 270 | D21: 675.3 | E21: 1080.5 | F21: 1620.7
A22: 2 | B22: Աղձք | C22: 1013.4 | D22: 2533.7 | E22: 4053.9 | F22: 6080.8
A23: 3 | B23: Անտառուտ | C23: 179.1 | D23: 447.9 | E23: 716.7 | F23: 1075
A24: 4 | B24: Ավան | C24: 496 | D24: 1240 | E24: 1984 | F24: 2976
A25: 5 | B25: Արագածոտն | C25: 97.7 | D25: 244.5 | E25: 391.3 | F25: 586.9
A26: 6 | B26: Ագարակ | C26: 325.4 | D26: 813.7 | E26: 1301.9 | F26: 1952.9
A27: 7 | B27: Արտաշավան | C27: 432 | D27: 1080 | E27: 1728 | F27: 2592
A28: 8 | B28: Արուճ | C28: 118 | D28: 295 | E28: 472 | F28: 708
A29: 9 | B29: Բազմաղբյուր | C29: 51.3 | D29: 128.5 | E29: 205.6 | F29: 308.4
A30: 10 | B30: Բյուրական | C30: 412.2 | D30: 1030.5 | E30: 1648.8 | F30: 2473.2
A31: 11 | B31: Լեռնարոտ | C31: 56.1 | D31: 140.3 | E31: 224.5 | F31: 336.8
A32: 12 | B32: Կարբի | C32: 96 | D32: 240 | E32: 384 | F32: 576
... A82: 62 | B82: Ցամաքասար | C82: 28 | D82: 70 | E82: 112 | F82: 168
F84: Աղյուսակ 3
D85: Ց Ա Ն Կ
B86: «ՀԱՅԱՍՏԱՆԻ ՀԱՆՐԱՊԵՏՈՒԹՅԱՆ 2020 ԹՎԱԿԱՆԻ ՊԵՏԱԿԱՆ ԲՅՈՒՋԵԻ ՄԱՍԻՆ» ՀԱՅԱՍՏԱՆԻ ՀԱՆՐԱՊԵՏՈՒԹՅԱՆ ՕՐԵՆՔՈՎ ՏԵՂԱԿԱՆ ԻՆՔՆԱԿԱՌԱՎԱՐՄԱՆ ՄԱՐՄԻՆՆԵՐԻՆ ՊԵՏԱԿԱՆ ԱՋԱԿՑՈՒԹՅԱՆ ՆՊԱՏԱԿՈՎ ՆԱԽԱՏԵՍՎԱԾ ՀԱՅԱՍՏԱՆԻ ՀԱՆՐԱՊԵՏՈՒԹՅԱՆ ԱՐԱՐԱՏԻ ՄԱՐԶՊԵՏԱՐԱՆԻՆ ՀԱՏԿԱՑՎՈՂ ԳՈՒՄԱՐՆԵՐԻ` ԸՍՏ ՀԱՄԱՅՆՔՆԵՐԻ
E87: հազար դրամներով
A88: Հ/հ | B88: Համայնքի անվանումը | C88: Առաջին եռամսյակ | D88: Առաջին կիսամյակ | E88: Ինն ամիս | F88: Տարի
A89: 1 | B89: 2 | C89: 3 | D89: 4 | E89: 5 | F89: 6
A90: Ընդամենը | C90: =SUM(C91:C179) -> 47055.5 | D90: =SUM(D91:D179) -> 117636.4 | E90: =SUM(E91:E179) -> 188221.7 | F90: =SUM(F91:F179) -> 282332.7
A91: 1 | B91: Արտաշատ | C91: 6206.6 | D91: 15516.1 | E91: 24826.5 | F91: 37239.8
A92: 2 | B92: Արարատ | C92: 4521.3 | D92: 11303.1 | E92: 18085.3 | F92: 27128
...

Sheet Հավելված_3
G1: Հավելված 3
G2: ՀՀ կառավարության 2020 թվականի
G3: ______________ ի ___Ն որոշման
B5: ՀԱՅԱՍՏԱՆԻ ՀԱՆՐԱՊԵՏՈՒԹՅԱՆ ԿԱՌԱՎԱՐՈՒԹՅԱՆ 2019 ԹՎԱԿԱՆԻ ԴԵԿՏԵՄԲԵՐԻ 26-Ի N 1919-Ն ՈՐՈՇՄԱՆ N 4 ՀԱՎԵԼՎԱԾՈՒՄ ԿԱՏԱՐՎՈՂ ՓՈՓՈԽՈՒԹՅՈՒՆՆԵՐԸ
F7: հազար դրամներով
A8: Ծրագրային դասիչը | C8: Բյուջետային հատկացումների գլխավոր կարգադրիչների, ծրագրերի, միջոցառումների և միջոցառումները կատարող պետական մարմինների անվանումները | D8: Առաջին եռամսյակ | E8: Առաջին կիսամյակ | F8: Ինն ամիս | G8: Տարի
A9: Ծրագիր | B9: Միջոց առում
C10: ԸՆԴԱՄԵՆԸ | D10: =+D12 -> 0 | E10: =+E12 -> 0 | F10: =+F12 -> -4.3655746e-10 | G10: =+G12 -> -4.9476512e-10
C11: այդ թվում`
C12: ՀՀ տարածքային կառավարման և ենթակառուցվածքների նախարարություն | D12: =+D14 -> 0 | E12: =+E14 -> 0 | F12: =+F14 -> -4.3655746e-10 | G12: =+G14 -> -4.9476512e-10
C13: այդ թվում`
A14: 1212 | C14: Տարածքային զարգացում | D14: =+D16 -> 0 | E14: =+E16 -> 0 | F14: =+F16 -> -4.3655746e-10 | G14: =+G16 -> -4.9476512e-10
C15: այդ թվում`
B16: 12008 | C16: Ֆինանսական փոխհատուցում տեղական ինքնակառավարման մարմիններին | D16: =+D18+D25+D32+D39+D46+D53+D60+D67+D74+D81+D88+D95 -> 0 | E16: =+E18+E25+E32+E39+E46+E53+E60+E67+E74+E81+E88+E95 -> 0 | F16: =+F18+F25+F32+F39+F46+F53+F60+F67+F74+F81+F88+F95 -> -4.3655746e-10 | G16: =+G18+G25+G32+G39+G46+G53+G60+G67+G74+G81+G88+G95 -> -4.9476512e-10
C17: այդ թվում` ըստ կատարողների
C18: ՀՀ կառավարություն | D18: =+D20 -> -581060.6 | E18: =+E20 -> -1452651.5 | F18: =+F20 -> -2324242.5 | G18: =+G20 -> -3486363.7
C19: այդ թվում` բյուջետային ծախսերի տնտեսագիտական դասակարգման հոդվածներ
C20: ԸՆԴԱՄԵՆԸ ԾԱԽՍԵՐ | D20: =+D21 -> -581060.6 | E20: =+E21 -> -1452651.5 | F20: =+F21 -> -2324242.5 | G20: =+G21 -> -3486363.7
C21: ԸՆԹԱՑԻԿ ԾԱԽՍԵՐ | D21: =+D22 -> -581060.6 | E21: =+E22 -> -1452651.5 | F21: =+F22 -> -2324242.5 | G21: =+G22 -> -3486363.7
C22: ԴՐԱՄԱՇՆՈՐՀՆԵՐ | D22: =+D23 -> -581060.6 | E22: =+E23 -> -1452651.5 | F22: =+F23 -> -2324242.5 | G22: =+G23 -> -3486363.7
C23: Ընթացիկ դրամաշնորհներ պետական հատվածի այլ մակարդակներին | D23: =+D24 -> -581060.6 | E23: =+E24 -> -1452651.5 | F23: =+F24 -> -2324242.5 | G23: =+G24 -> -3486363.7
C24: - Այլ ընթացիկ դրամաշնորհներ համայնքներին | D24: -581060.6 | E24: -1452651.5 | F24: -2324242.5 | G24: -3486363.7
C25: ՀՀ տարածքային կառավարման և ենթակառուցվածքների նախարարություն | D25: =+D27 -> 110000.1 | E25: =+E27 -> 275000.2 | F25: =+F27 -> 440000.3 | G25: =+G27 -> 660000.5
C26: այդ թվում` բյուջետային ծախսերի տնտեսագիտական դասակարգման հոդվածներ
C27: ԸՆԴԱՄԵՆԸ ԾԱԽՍԵՐ | D27: =+D28 -> 110000.1 | E27: =+E28 -> 275000.2 | F27: =+F28 -> 440000.3 | G27: =+G28 -> 660000.5
C28: ԸՆԹԱՑԻԿ ԾԱԽՍԵՐ | D28: =+D29 -> 110000.1 | E28: =+E29 -> 275000.2 | F28: =+F29 -> 440000.3 | G28: =+G29 -> 660000.5
C29: ԴՐԱՄԱՇՆՈՐՀՆԵՐ | D29: =+D30 -> 110000.1 | E29: =+E30 -> 275000.2 | F29: =+F30 -> 440000.3 | G29: =+G30 -> 660000.5
C30: Ընթացիկ դրամաշնորհներ պետական հատվածի այլ մակարդակներին | D30: =+D31 -> 110000.1 | E30: =+E31 -> 275000.2 | F30: =+F31 -> 440000.3 | G30: =+G31 -> 660000.5
C31: - Այլ ընթացիկ դրամաշնորհներ համայնքներին | D31: 110000.1 | E31: 275000.2 | F31: 440000.3 | G31: 660000.5
C32: ՀՀ Արագածոտնի մարզպետարան | D32: =+D34 -> 16040.9 | E32: =+E34 -> 40105.6 | F32: =+F34 -> 64168.3 | G32: =+G34 -> 96252.4
C33: այդ թվում` բյուջետային ծախսերի տնտեսագիտական դասակարգման հոդվածներ
C34: ԸՆԴԱՄԵՆԸ ԾԱԽՍԵՐ | D34: =+D35 -> 16040.9 | E34: =+E35 -> 40105.6 | F34: =+F35 -> 64168.3 | G34: =+G35 -> 96252.4
C35: ԸՆԹԱՑԻԿ ԾԱԽՍԵՐ | D35: =+D36 -> 16040.9 | E35: =+E36 -> 40105.6 | F35: =+F36 -> 64168.3 | G35: =+G36 -> 96252.4
C36: ԴՐԱՄԱՇՆՈՐՀՆԵՐ | D36: =+D37 -> 16040.9 | E36: =+E37 -> 40105.6 | F36: =+F37 -> 64168.3 | G36: =+G37 -> 96252.4
C37: Ընթացիկ դրամաշնորհներ պետական հատվածի այլ մակարդակներին | D37: =+D38 -> 16040.9 | E37: =+E38 -> 40105.6 | F37: =+F38 -> 64168.3 | G37: =+G38 -> 96252.4
C38: - Այլ ընթացիկ դրամաշնորհներ համայնքներին | D38: 16040.9 | E38: 40105.6 | F38: 64168.3 | G38: 96252.4
C39: ՀՀ Արարատի մարզպետարան | D39: =+D41 -> 47055.5 | E39: =+E41 -> 117636.4 | F39: =+F41 -> 188221.7 | G39: =+G41 -> 282332.7
C40: այդ թվում` բյուջետային ծախսերի տնտեսագիտական դասակարգման հոդվածներ
C41: ԸՆԴԱՄԵՆԸ ԾԱԽՍԵՐ | D41: =+D42 -> 47055.5 | E41: =+E42 -> 117636.4 | F41: =+F42 -> 188221.7 | G41: =+G42 -> 282332.7
C42: ԸՆԹԱՑԻԿ ԾԱԽՍԵՐ | D42: =+D43 -> 47055.5 | E42: =+E43 -> 117636.4 | F42: =+F43 -> 188221.7 | G42: =+G43 -> 282332.7
...

Sheet Հավելված_4
G1: Հավելված 4
G2: ՀՀ կառավարության 2020 թվականի
G3: ______________ ի ___Ն որոշման
C5: ՀԱՅԱՍՏԱՆԻ ՀԱՆՐԱՊԵՏՈՒԹՅԱՆ ԿԱՌԱՎԱՐՈՒԹՅԱՆ 2019 ԹՎԱԿԱՆԻ ԴԵԿՏԵՄԲԵՐԻ 26-Ի N 1919-Ն ՈՐՈՇՄԱՆ N 8 ՀԱՎԵԼՎԱԾՈՒՄ ԿԱՏԱՐՎՈՂ ԼՐԱՑՈՒՄԸ
B7: Գործառական դասիչ | E7: Ծրագրային դասիչը | G7: Բյուջետային հատակացումների գլխավոր կարգադրիչներ, ծրագրերի, միջոցառումների և միջոցառումներն իրականացնող պետական մարմինների անվանումները
B8: Բաժին | C8: Խումբ | D8: Դաս | E8: Ծրագիր | F8: Միջոցառում
B9: 01 | G9: ԸՆԴՀԱՆՈՒՐ ԲՆՈՒՅԹԻ ՀԱՆՐԱՅԻՆ ԾԱՌԱՅՈՒԹՅՈՒՆՆԵՐ
C10: 08 | G10: Կառավարության տարբեր մակարդակների միջև իրականացվող ընդհանուր բնույթի տրանսֆերտներ
D11: 01 | G11: Կառավարության տարբեր մակարդակների միջև իրականացվող ընդհանուր բնույթի տրանսֆերտներ
E12: 1212 | G12: Տարածքային զարգացում
F13: 12008 | G13: Ֆինանսական փոխհատուցում տեղական ինքնակառավարման մարմիններին

Sheet Հավելված_5
G1: Հավելված 5
G2: ՀՀ կառավարության 2020 թվականի
G3: ______________ ի ___Ն որոշման
B5: ՀԱՅԱՍՏԱՆԻ ՀԱՆՐԱՊԵՏՈՒԹՅԱՆ ԿԱՌԱՎԱՐՈՒԹՅԱՆ 2019 ԹՎԱԿԱՆԻ ԴԵԿՏԵՄԲԵՐԻ 26-Ի N 1919-Ն ՈՐՈՇՄԱՆ N 9.1 ՀԱՎԵԼՎԱԾԻ N 9.1.58 ԱՂՅՈՒՍԱԿՈՒՄ ԿԱՏԱՐՎՈՂ ՓՈՓՈԽՈՒԹՅՈՒՆՆԵՐԸ
B7: ՀՀ կառավարություն
B8: ՄԱՍ 1. ՊԵՏԱԿԱՆ ՄԱՐՄՆԻ ԳԾՈՎ ԱՐԴՅՈՒՆՔԱՅԻՆ (ԿԱՏԱՐՈՂԱԿԱՆ) ՑՈՒՑԱՆԻՇՆԵՐԸ
B10: Ծրագրի դասիչը | C10: Ծրագրի անվանումը
B11: 1212 | C11: Տարածքային զարգացում
B13: Ծրագրի միջոցառումները
B14: Ծրագրի դասիչը` | C14: 1212 | D14: Ցուցանիշների փոփոխությունը (նվազեցումները նշված են փակագծերում)
B15: Միջոցառման դասիչը` | C15: 12008 | D15: Առաջին եռամսյակ | E15: Առաջին կիսամյակ | F15: Ինն ամիս | G15: Տարի
B16: Միջոցառման անվանումը` | C16: Ֆինանսական փոխհատուցում տեղական ինքնակառավարման մարմիններին
B17: Նկարագրությունը` | C17: նվազագույն աշխատավարձի բարձրացմամբ պայմանավորված ֆինանսական փոխհատուցում ՏԻՄ-երին
B18: Միջոցառման տեսակը` | C18: Տրանսֆերտների տրամադրում
B19: Շահառուների ընտրության չափանիշները` | C19: ՀՀ համայնքի կարգավիճակի առկայություն
B20: Արդյունքի չափորոշիչներ
B21: Շահառուների թիվ, հատ | D21: -24610 | E21: -24610 | F21: -24610 | G21: -24610
B22: Միջոցառման վրա կատարվող ծախսը (հազար դրամ) | D22: -581060.6 | E22: -1452651.5 | F22: -2324242.5 | G22: -3486363.7
B24: ՀԱՅԱՍՏԱՆԻ ՀԱՆՐԱՊԵՏՈՒԹՅԱՆ ԿԱՌԱՎԱՐՈՒԹՅԱՆ 2019 ԹՎԱԿԱՆԻ ԴԵԿՏԵՄԲԵՐԻ 26-Ի N 1919-Ն ՈՐՈՇՄԱՆ N 9.1 ՀԱՎԵԼՎԱԾԻ N 9.1.8 ԱՂՅՈՒՍԱԿՈՒՄ ԿԱՏԱՐՎՈՂ ՓՈՓՈԽՈՒԹՅՈՒՆՆԵՐԸ
B26: ՀՀ տարածքային կառավարման և ենթակառուցվածքների նախարարություն
B27: ՄԱՍ 1. ՊԵՏԱԿԱՆ ՄԱՐՄՆԻ ԳԾՈՎ ԱՐԴՅՈՒՆՔԱՅԻՆ (ԿԱՏԱՐՈՂԱԿԱՆ) ՑՈՒՑԱՆԻՇՆԵՐԸ
B29: Ծրագրի դասիչը | C29: Ծրագրի անվանումը
B30: 1212 | C30: Տարածքային զարգացում
B32: Ծրագրի միջոցառումները
B33: Ծրագրի դասիչը` | C33: 1212 | D33: Ցուցանիշների փոփոխությունը (ավելացումները նշված են դրական նշանով)
B34: Միջոցառման դասիչը` | C34: 12008 | D34: Առաջին եռամսյակ | E34: Առաջին կիսամյակ | F34: Ինն ամիս | G34: Տարի
B35: Միջոցառման անվանումը` | C35: Ֆինանսական փոխհատուցում տեղական ինքնակառավարման մարմիններին
B36: Նկարագրությունը` | C36: նվազագույն աշխատավարձի բարձրացմամբ պայմանավորված ֆինանսական փոխհատուցում ՏԻՄ-երին
B37: Միջոցառման տեսակը` | C37: Տրանսֆերտների տրամադրում
B38: Շահառուների ընտրության չափանիշները` | C38: ՀՀ համայնքի կարգավիճակի առկայություն
B39: Արդյունքի չափորոշիչներ
B40: Շահառուների թիվ, հատ | D40: 3615 | E40: 3615 | F40: 3615 | G40: 3615
B41: Միջոցառման վրա կատարվող ծախսը (հազար դրամ) | D41: 110000.1 | E41: 265000.2 | F41: 440000.3 | G41: 660000.5
B43: ՀԱՅԱՍՏԱՆԻ ՀԱՆՐԱՊԵՏՈՒԹՅԱՆ ԿԱՌԱՎԱՐՈՒԹՅԱՆ 2019 ԹՎԱԿԱՆԻ ԴԵԿՏԵՄԲԵՐԻ 26-Ի N 1919-Ն ՈՐՈՇՄԱՆ N 9.1 ՀԱՎԵԼՎԱԾԻ N 9.1.48 ԱՂՅՈՒՍԱԿՈՒՄ ԿԱՏԱՐՎՈՂ ՓՈՓՈԽՈՒԹՅՈՒՆՆԵՐԸ
B45: ՀՀ Արագածոտնի մարզպետարան
B46: ՄԱՍ 1. ՊԵՏԱԿԱՆ ՄԱՐՄՆԻ ԳԾՈՎ ԱՐԴՅՈՒՆՔԱՅԻՆ (ԿԱՏԱՐՈՂԱԿԱՆ) ՑՈՒՑԱՆԻՇՆԵՐԸ
B48: Ծրագրի դասիչը | C48: Ծրագրի անվանումը
B49: 1212 | C49: Տարածքային զարգացում
B51: Ծրագրի միջոցառումները
B52: Ծրագրի դասիչը` | C52: 1212 | D52: Ցուցանիշների փոփոխությունը (ավելացումները նշված են դրական նշանով)
...
