Workbook
Name AgencyCode: #REF!
Name AgencyName: #REF!
Name åû: #REF!
Name Functional1: #REF!
Name mas: #REF!
Name mass: #REF!
Name PANature: #REF!
Name PAType: #REF!
Name Performance2: #REF!
Name PerformanceType: #REF!
Name x: #REF!

Sheet Հավելված_1
F1: Հավելված 1
F2: ՀՀ կառավարության 2020 թվականի
F3: ______________ ի ___Ն որոշման
C4: Ց Ա Ն Կ
B5: «ՀԱՅԱՍՏԱՆԻ ՀԱՆՐԱՊԵՏՈՒԹՅԱՆ 2020 ԹՎԱԿԱՆԻ ՊԵՏԱԿԱՆ ԲՅՈՒՋԵԻ ՄԱՍԻՆ» ՀԱՅԱՍՏԱՆԻ ՀԱՆՐԱՊԵՏՈՒԹՅԱՆ ՕՐԵՆՔՈՎ ՏԵՂԱԿԱՆ ԻՆՔՆԱԿԱՌԱՎԱՐՄԱՆ ՄԱՐՄԻՆՆԵՐԻՆ ՊԵՏԱԿԱՆ ԱՋԱԿՑՈՒԹՅԱՆ ՆՊԱՏԱԿՈՎ ՆԱԽԱՏԵՍՎԱԾ ԵՐԵՎԱՆԻ ՔԱՂԱՔԱՊԵՏԱՐԱՆԻՆ ԵՎ ՀԱՅԱՍՏԱՆԻ ՀԱՆՐԱՊԵՏՈՒԹՅԱՆ ՄԱՐԶՊԵՏԱՐԱՆՆԵՐԻՆ ՀԱՏԿԱՑՎՈՂ ԳՈՒՄԱՐՆԵՐԻ
E6: հազար դրամներով
A7: Հ/հ | B7: Անվանումը | C7: Առաջին եռամսյակ | D7: Առաջին կիսամյակ | E7: Ինն ամիս | F7: Տարի
A8: 1 | B8: 2 | C8: 3 | D8: 4 | E8: 5 | F8: 6
A9: Ընդամենը | C9: =SUM(C10:C20) -> 581060.6 | D9: =SUM(D10:D20) -> 1452651.5 | E9: =SUM(E10:E20) -> 2324242.5 | F9: =SUM(F10:F20) -> 3486363.7
A10: 1 | B10: Հայաստանի Հանրապետության տարածքային կառավարման և ենթակառուցվածքների նախարարությանը | C10: =+Հավելված_2!C12 -> 110000.1 | D10: =+Հավելված_2!D12 -> 275000.2 | E10: =+Հավելված_2!E12 -> 440000.3 | F10: =+Հավելված_2!F12 -> 660000.5
A11: 2 | B11: Հայաստանի Հանրապետության Արագածոտնի մարզպետարան | C11: =+Հավելված_2!C20 -> 16040.9 | D11: =+Հավելված_2!D20 -> 40105.6 | E11: =+Հավելված_2!E20 -> 64168.3 | F11: =+Հավելված_2!F20 -> 96252.4
A12: 3 | B12: Հայաստանի Հանրապետության Արարատի մարզպետարան | C12: =+Հավելված_2!C90 -> 47055.5 | D12: =+Հավելված_2!D90 -> 117636.4 | E12: =+Հավելված_2!E90 -> 188221.7 | F12: =+Հավելված_2!F90 -> 282332.7
A13: 4 | B13: Հայաստանի Հանրապետության Արմավիրի մարզպետարան | C13: =+Հավելված_2!C187 -> 61399.7 | D13: =+Հավելված_2!D187 -> 153499.1 | E13: =+Հավելված_2!E187 -> 245596.9 | F13: =+Հավելված_2!F187 -> 368395.5
A14: 5 | B14: Հայաստանի Հանրապետության Գեղարքունիքի մարզպետարան | C14: =+Հավելված_2!C291 -> 39521.3 | D14: =+Հավելված_2!D291 -> 98802.9 | E14: =+Հավելված_2!E291 -> 158084.1 | F14: =+Հավելված_2!F291 -> 237126.1
A15: 6 | B15: Հայաստանի Հանրապետության Լոռու մարզպետարան | C15: =+Հավելված_2!C345 -> 65738.7 | D15: =+Հավելված_2!D345 -> 164346.2 | E15: =+Հավելված_2!E345 -> 262953.9 | F15: =+Հավելված_2!F345 -> 394430.7
A16: 7 | B16: Հայաստանի Հանրապետության Կոտայքի մարզպետարան | C16: =+Հավելված_2!C404 -> 76949.3 | D16: =+Հավելված_2!D404 -> 192373.3 | E16: =+Հավելված_2!E404 -> 307797.2 | F16: =+Հավելված_2!F404 -> 461695.8
A17: 8 | B17: Հայաստանի Հանրապետության Շիրակի մարզպետարան | C17: =+Հավելված_2!C454 -> 55541.2 | D17: =+Հավելված_2!D454 -> 138853.2 | E17: =+Հավելված_2!E454 -> 222164.8 | F17: =+Հավելված_2!F454 -> 333247.2
A18: 9 | B18: Հայաստանի Հանրապետության Սյունիքի մարզպետարան | C18: =+Հավելված_2!C501 -> 57596.9 | D18: =+Հավելված_2!D501 -> 143992.1 | E18: =+Հավելված_2!E501 -> 230387.2 | F18: =+Հավելված_2!F501 -> 345580.8
A19: 10 | B19: Հայաստանի Հանրապետության Վայոց ձորի մարզպետարանի | C19: =+Հավելված_2!C517 -> 10472.4 | D19: =+Հավելված_2!D517 -> 26181 | E19: =+Հավելված_2!E517 -> 41889.6 | F19: =+Հավելված_2!F517 -> 62834.5
A20: 11 | B20: Հայաստանի Հանրապետության Տավուշի մարզպետարան | C20: =+Հավելված_2!C532 -> 40744.6 | D20: =+Հավելված_2!D532 -> 101861.5 | E20: =+Հավելված_2!E532 -> 162978.5 | F20: =+Հավելված_2!F532 -> 244467.5

Sheet Հավելված_2
F1: Հավելված 2
F2: ՀՀ կառավարության 2020 թվականի
F3: ______________ ի ___Ն որոշման
F5: Աղյուսակ 1
D6: Ց Ա Ն Կ
B7: «ՀԱՅԱՍՏԱՆԻ ՀԱՆՐԱՊԵՏՈՒԹՅԱՆ 2020 ԹՎԱԿԱՆԻ ՊԵՏԱԿԱՆ ԲՅՈՒՋԵԻ ՄԱՍԻՆ» ՀԱՅԱՍՏԱՆԻ ՀԱՆՐԱՊԵՏՈՒԹՅԱՆ ՕՐԵՆՔՈՎ ՏԵՂԱԿԱՆ ԻՆՔՆԱԿԱՌԱՎԱՐՄԱՆ ՄԱՐՄԻՆՆԵՐԻՆ ՊԵՏԱԿԱՆ ԱՋԱԿՑՈՒԹՅԱՆ ՆՊԱՏԱԿՈՎ ՆԱԽԱՏԵՍՎԱԾ ՀԱՅԱՍՏԱՆԻ ՀԱՆՐԱՊԵՏՈՒԹՅԱՆ ՏԱՐԱԾՔԱՅԻՆ ԿԱՌԱՎԱՐՄԱՆ ԵՎ ԵՆԹԱԿԱՌՈՒՑՎԱԾՔՆԵՐԻ ՆԱԽԱՐԱՐՈՒԹՅԱՆԸ ՀԱՏԿԱՑՎՈՂ ԳՈՒՄԱՐՆԵՐԻ` ԸՍՏ ՀԱՄԱՅՆՔՆԵՐԻ
E8: հազար դրամներով
A9: Հ/հ | B9: Համայնքի անվանումը | C9: Առաջին եռամսյակ | D9: Առաջին կիսամյակ | E9: Ինն ամիս | F9: Տարի
A10: 1 | B10: 2 | C10: 3 | D10: 4 | E10: 5 | F10: 6
A11: Ընդամենը | B11: Ընդամենը | C11: =+C12 -> 110000.1 | D11: =+D12 -> 275000.2 | E11: =+E12 -> 440000.3 | F11: =+F12 -> 660000.5
A12: 1 | B12: Երևան | C12: 110000.1 | D12: 275000.2 | E12: 440000.3 | F12: 660000.5
F14: Աղյուսակ 2
D15: Ց Ա Ն Կ
B16: «ՀԱՅԱՍՏԱՆԻ ՀԱՆՐԱՊԵՏՈՒԹՅԱՆ 2020 ԹՎԱԿԱՆԻ ՊԵՏԱԿԱՆ ԲՅՈՒՋԵԻ ՄԱՍԻՆ» ՀԱՅԱՍՏԱՆԻ ՀԱՆՐԱՊԵՏՈՒԹՅԱՆ ՕՐԵՆՔՈՎ ՏԵՂԱԿԱՆ ԻՆՔՆԱԿԱՌԱՎԱՐՄԱՆ ՄԱՐՄԻՆՆԵՐԻՆ ՊԵՏԱԿԱՆ ԱՋԱԿՑՈՒԹՅԱՆ ՆՊԱՏԱԿՈՎ ՆԱԽԱՏԵՍՎԱԾ ՀԱՅԱՍՏԱՆԻ ՀԱՆՐԱՊԵՏՈՒԹՅԱՆ ԱՐԱԳԱԾՈՏՆԻ ՄԱՐԶՊԵՏԱՐԱՆԻՆ ՀԱՏԿԱՑՎՈՂ ԳՈՒՄԱՐՆԵՐԻ` ԸՍՏ ՀԱՄԱՅՆՔՆԵՐԻ
E17: հազար դրամներով
A18: Հ/հ | B18: Համայնքի անվանումը | C18: Առաջին եռամսյակ | D18: Առաջին կիսամյակ | E18: Ինն ամիս | F18: Տարի
A19: 1 | B19: 2 | C19: 3 | D19: 4 | E19: 5 | F19: 6
A20: Ընդամենը | C20: =SUM(C21:C82) -> 16040.9 | D20: =SUM(D21:D82) -> 40105.6 | E20: =SUM(E21:E82) -> 64168.3 | F20: =SUM(F21:F82) -> 96252.4
A21: 1 | B21: Աշտարակ | C21: 270 | D21: 675.3 | E21: 1080.5 | F21: 1620.7
A22: 2 | B22: Աղձք | C22: 1013.4 | D22: 2533.7 | E22: 4053.9 | F22: 6080.8
A23: 3 | B23: Անտառուտ | C23: 179.1 | D23: 447.9 | E23: 716.7 | F23: 1075
A24: 4 | B24: Ավան | C24: 496 | D24: 1240 | E24: 1984 | F24: 2976
A25: 5 | B25: Արագածոտն | C25: 97.7 | D25: 244.5 | E25: 391.3 | F25: 586.9
A26: 6 | B26: Ագարակ | C26: 325.4 | D26: 813.7 | E26: 1301.9 | F26: 1952.9
A27: 7 | B27: Արտաշավան | C27: 432 | D27: 1080 | E27: 1728 | F27: 2592
A28: 8 | B28: Արուճ | C28: 118 | D28: 295 | E28: 472 | F28: 708
A29: 9 | B29: Բազմաղբյուր | C29: 51.3 | D29: 128.5 | E29: 205.6 | F29: 308.4
A30: 10 | B30: Բյուրական | C30: 412.2 | D30: 1030.5 | E30: 1648.8 | F30: 2473.2
A31: 11 | B31: Լեռնարոտ | C31: 56.1 | D31: 140.3 | E31: 224.5 | F31: 336.8
A32: 12 | B32: Կարբի | C32: 96 | D32: 240 | E32: 384 | F32: 576
... A82: 62 | B82: Ցամաքասար | C82: 28 | D82: 70 | E82: 112 | F82: 168
F84: Աղյուսակ 3
D85: Ց Ա Ն Կ
B86: «ՀԱՅԱՍՏԱՆԻ ՀԱՆՐԱՊԵՏՈՒԹՅԱՆ 2020 ԹՎԱԿԱՆԻ ՊԵՏԱԿԱՆ ԲՅՈՒՋԵԻ ՄԱՍԻՆ» ՀԱՅԱՍՏԱՆԻ ՀԱՆՐԱՊԵՏՈՒԹՅԱՆ ՕՐԵՆՔՈՎ ՏԵՂԱԿԱՆ ԻՆՔՆԱԿԱՌԱՎԱՐՄԱՆ ՄԱՐՄԻՆՆԵՐԻՆ ՊԵՏԱԿԱՆ ԱՋԱԿՑՈՒԹՅԱՆ ՆՊԱՏԱԿՈՎ ՆԱԽԱՏԵՍՎԱԾ ՀԱՅԱՍՏԱՆԻ ՀԱՆՐԱՊԵՏՈՒԹՅԱՆ ԱՐԱՐԱՏԻ ՄԱՐԶՊԵՏԱՐԱՆԻՆ ՀԱՏԿԱՑՎՈՂ ԳՈՒՄԱՐՆԵՐԻ` ԸՍՏ ՀԱՄԱՅՆՔՆԵՐԻ
E87: հազար դրամներով
A88: Հ/հ | B88: Համայնքի անվանումը | C88: Առաջին եռամսյակ | D88: Առաջին կիսամյակ | E88: Ինն ամիս | F88: Տարի
A89: 1 | B89: 2 | C89: 3 | D89: 4 | E89: 5 | F89: 6
A90: Ընդամենը | C90: =SUM(C91:C179) -> 47055.5 | D90: =SUM(D91:D179) -> 117636.4 | E90: =SUM(E91:E179) -> 188221.7 | F90: =SUM(F91:F179) -> 282332.7
A91: 1 | B91: Արտաշատ | C91: 6206.6 | D91: 15516.1 | E91: 24826.5 | F91: 37239.8
A92: 2 | B92: Արարատ | C92: 4521.3 | D92: 11303.1 | E92: 18085.3 | F92: 27128
A93: 3 | B93: Մասիս | C93: 7462 | D93: 18655 | E93: 29848 | F93: 44772
A94: 4 | B94: Վեդի | C94: 5095.3 | D94: 12738.1 | E94: 20381.3 | F94: 30572
A95: 5 | B95: Աբովյան | C95: 296.2 | D95: 740.4 | E95: 1184.7 | F95: 1777
A96: 6 | B96: Ազատաշեն | C96: 38.6 | D96: 96.5 | E96: 154.4 | F96: 231.6
A97: 7 | B97: Ազատավան | C97: 190.6 | D97: 476.4 | E97: 762.2 | F97: 1143.3
A98: 8 | B98: Այգավան | C98: 125 | D98: 312.5 | E98: 500 | F98: 750
A99: 9 | B99: Այգեզարդ | C99: 1124.6 | D99: 2811.1 | E99: 4498.3 | F99: 6747.5
A100: 10 | B100: Այգեպատ | C100: 54.4 | D100: 136 | E100: 217.6 | F100: 326.4
A101: 11 | B101: Այգեստան | C101: 44 | D101: 110 | E101: 176.1 | F101: 264.1
A102: 12 | B102: Այնթապ | C102: 218.8 | D102: 546.9 | E102: 875 | F102: 1312.5
... A179: 89 | B179: Քաղցրաշեն | C179: 767.7 | D179: 1919.2 | E179: 3070.7 | F179: 4606
F181: Աղյուսակ 4
D182: Ց Ա Ն Կ
B183: «ՀԱՅԱՍՏԱՆԻ ՀԱՆՐԱՊԵՏՈՒԹՅԱՆ 2020 ԹՎԱԿԱՆԻ ՊԵՏԱԿԱՆ ԲՅՈՒՋԵԻ ՄԱՍԻՆ» ՀԱՅԱՍՏԱՆԻ ՀԱՆՐԱՊԵՏՈՒԹՅԱՆ ՕՐԵՆՔՈՎ ՏԵՂԱԿԱՆ ԻՆՔՆԱԿԱՌԱՎԱՐՄԱՆ ՄԱՐՄԻՆՆԵՐԻՆ ՊԵՏԱԿԱՆ ԱՋԱԿՑՈՒԹՅԱՆ ՆՊԱՏԱԿՈՎ ՆԱԽԱՏԵՍՎԱԾ ՀԱՅԱՍՏԱՆԻ ՀԱՆՐԱՊԵՏՈՒԹՅԱՆ ԱՐՄԱՎԻՐԻ ՄԱՐԶՊԵՏԱՐԱՆԻՆ ՀԱՏԿԱՑՎՈՂ ԳՈՒՄԱՐՆԵՐԻ` ԸՍՏ ՀԱՄԱՅՆՔՆԵՐԻ
E184: հազար դրամներով
A185: Հ/հ | B185: Համայնքի անվանումը | C185: Առաջին եռամսյակ | D185: Առաջին կիսամյակ | E185: Ինն ամիս | F185: Տարի
A186: 1 | B186: 2 | C186: 3 | D186: 4 | E186: 5 | F186: 6
A187: Ընդամենը | C187: =SUM(C188:C283) -> 61399.7 | D187: =SUM(D188:D283) -> 153499.1 | E187: =SUM(E188:E283) -> 245596.9 | F187: =SUM(F188:F283) -> 368395.5
A188: 1 | B188: ք.Վաղարշապատ | C188: 14446.8 | D188: 36117 | E188: 57787.1 | F188: 86680.7
A189: 2 | B189: Ակնալիճ | C189: 233.5 | D189: 583.6 | E189: 933.8 | F189: 1400.7
A190: 3 | B190: Ակնաշեն | C190: 17.2 | D190: 42.9 | E190: 68.7 | F190: 103
A191: 4 | B191: Աղավնատուն | C191: 238.5 | D191: 596.1 | E191: 953.8 | F191: 1430.7
A192: 5 | B192: Ամբերդ | C192: 143 | D192: 357.5 | E192: 572.1 | F192: 858.1
A193: 6 | B193: Այգեկ | C193: 454.1 | D193: 1135.3 | E193: 1816.5 | F193: 2724.7
A194: 7 | B194: Այգեշատ (էջմ.) | C194: 21.2 | D194: 53.1 | E194: 84.9 | F194: 127.4
A195: 8 | B195: Ապագա | C195: 446.1 | D195: 1115.3 | E195: 1784.5 | F195: 2676.7
A196: 9 | B196: Առատաշեն | C196: 593.1 | D196: 1482.8 | E196: 2372.4 | F196: 3558.6
A197: 10 | B197: Արագած | C197: 304.5 | D197: 761.3 | E197: 1218.1 | F197: 1827.2
A198: 11 | B198: Արաքս (էջմ.) | C198: 95.9 | D198: 239.8 | E198: 383.7 | F198: 575.5
A199: 12 | B199: Արշալույս | C199: 1360.7 | D199: 3401.7 | E199: 5442.7 | F199: 8164
... A283: 96 | B283: Արևադաշտ | C283: 80.2 | D283: 200.5 | E283: 320.9 | F283: 481.3
F285: Աղյուսակ 5
D286: Ց Ա Ն Կ
B287: «ՀԱՅԱՍՏԱՆԻ ՀԱՆՐԱՊԵՏՈՒԹՅԱՆ 2020 ԹՎԱԿԱՆԻ ՊԵՏԱԿԱՆ ԲՅՈՒՋԵԻ ՄԱՍԻՆ» ՀԱՅԱՍՏԱՆԻ ՀԱՆՐԱՊԵՏՈՒԹՅԱՆ ՕՐԵՆՔՈՎ ՏԵՂԱԿԱՆ ԻՆՔՆԱԿԱՌԱՎԱՐՄԱՆ ՄԱՐՄԻՆՆԵՐԻՆ ՊԵՏԱԿԱՆ ԱՋԱԿՑՈՒԹՅԱՆ ՆՊԱՏԱԿՈՎ ՆԱԽԱՏԵՍՎԱԾ ՀԱՅԱՍՏԱՆԻ ՀԱՆՐԱՊԵՏՈՒԹՅԱՆ ԳԵՂԱՐՔՈՒՆԻՔԻ ՄԱՐԶՊԵՏԱՐԱՆԻՆ ՀԱՏԿԱՑՎՈՂ ԳՈՒՄԱՐՆԵՐԻ` ԸՍՏ ՀԱՄԱՅՆՔՆԵՐԻ
E288: հազար դրամներով
A289: Հ/հ | B289: Համայնքի անվանումը | C289: Առաջին եռամսյակ | D289: Առաջին կիսամյակ | E289: Ինն ամիս | F289: Տարի
A290: 1 | B290: 2 | C290: 3 | D290: 4 | E290: 5 | F290: 6
A291: Ընդամենը | C291: =SUM(C292:C337) -> 39521.3 | D291: =SUM(D292:D337) -> 98802.9 | E291: =SUM(E292:E337) -> 158084.1 | F291: =SUM(F292:F337) -> 237126.1
A292: 1 | B292: Ք. Վարդենիս | C292: 7236.4 | D292: 18090.9 | E292: 28945.4 | F292: 43418.1
A293: 2 | B293: Գեղամասար | C293: 327.2 | D293: 818 | E293: 1308.9 | F293: 1963.3
A294: 3 | B294: Կարճաղբյուր | C294: 51 | D294: 127.5 | E294: 204 | F294: 306
A295: 4 | B295: Ախպրաձոր | C295: 162.8 | D295: 406.9 | E295: 651.1 | F295: 976.6
A296: 5 | B296: Նորակերտ | C296: 26.8 | D296: 67 | E296: 107.1 | F296: 160.7
A297: 6 | B297: Վանևան | C297: 11.6 | D297: 29 | E297: 46.5 | F297: 69.7
A298: 7 | B298: Խաչաղբյուր | C298: 102.4 | D298: 256.1 | E298: 409.7 | F298: 614.6
A299: 8 | B299: Լուսակունք | C299: 264 | D299: 660 | E299: 1056 | F299: 1584
A300: 9 | B300: Գեղաքար | C300: 24 | D300: 60 | E300: 96 | F300: 144
A301: 10 | B301: Ծովակ | C301: 313.8 | D301: 784.5 | E301: 1255.1 | F301: 1882.7
A302: 11 | B302: Ք. Գավառ | C302: 5664.5 | D302: 14161.2 | E302: 22657.9 | F302: 33986.8
A303: 12 | B303: Լճափ | C303: 263.1 | D303: 657.6 | E303: 1052.2 | F303: 1578.3
... A337: 46 | B337: Զովաբեր | C337: 176.5 | D337: 441.2 | E337: 705.9 | F337: 1058.8
F339: Աղյուսակ 6
D340: Ց Ա Ն Կ
B341: «ՀԱՅԱՍՏԱՆԻ ՀԱՆՐԱՊԵՏՈՒԹՅԱՆ 2020 ԹՎԱԿԱՆԻ ՊԵՏԱԿԱՆ ԲՅՈՒՋԵԻ ՄԱՍԻՆ» ՀԱՅԱՍՏԱՆԻ ՀԱՆՐԱՊԵՏՈՒԹՅԱՆ ՕՐԵՆՔՈՎ ՏԵՂԱԿԱՆ ԻՆՔՆԱԿԱՌԱՎԱՐՄԱՆ ՄԱՐՄԻՆՆԵՐԻՆ ՊԵՏԱԿԱՆ ԱՋԱԿՑՈՒԹՅԱՆ ՆՊԱՏԱԿՈՎ ՆԱԽԱՏԵՍՎԱԾ ՀԱՅԱՍՏԱՆԻ ՀԱՆՐԱՊԵՏՈՒԹՅԱՆ ԼՈՌՈՒ ՄԱՐԶՊԵՏԱՐԱՆԻՆ ՀԱՏԿԱՑՎՈՂ ԳՈՒՄԱՐՆԵՐԻ` ԸՍՏ ՀԱՄԱՅՆՔՆԵՐԻ
E342: հազար դրամներով
A343: Հ/հ | B343: Համայնքի անվանումը | C343: Առաջին եռամսյակ | D343: Առաջին կիսամյակ | E343: Ինն ամիս | F343: Տարի
A344: 1 | B344: 2 | C344: 3 | D344: 4 | E344: 5 | F344: 6
A345: Ընդամենը | C345: =SUM(C346:C396) -> 65738.7 | D345: =SUM(D346:D396) -> 164346.2 | E345: =SUM(E346:E396) -> 262953.9 | F345: =SUM(F346:F396) -> 394430.7
A346: 1 | B346: Վանաձոր | C346: 32387.1 | D346: 80967.8 | E346: 129548.4 | F346: 194322.6
A347: 2 | B347: Գուգարք | C347: 1393.6 | D347: 3484 | E347: 5574.3 | F347: 8361.5
...

Sheet Հավելված_3
G1: Հավելված 3
G2: ՀՀ կառավարության 2020 թվականի
G3: ______________ ի ___Ն որոշման
B5: ՀԱՅԱՍՏԱՆԻ ՀԱՆՐԱՊԵՏՈՒԹՅԱՆ ԿԱՌԱՎԱՐՈՒԹՅԱՆ 2019 ԹՎԱԿԱՆԻ ԴԵԿՏԵՄԲԵՐԻ 26-Ի N 1919-Ն ՈՐՈՇՄԱՆ N 4 ՀԱՎԵԼՎԱԾՈՒՄ ԿԱՏԱՐՎՈՂ ՓՈՓՈԽՈՒԹՅՈՒՆՆԵՐԸ
F7: հազար դրամներով
A8: Ծրագրային դասիչը | C8: Բյուջետային հատկացումների գլխավոր կարգադրիչների, ծրագրերի, միջոցառումների և միջոցառումները կատարող պետական մարմինների անվանումները | D8: Առաջին եռամսյակ | E8: Առաջին կիսամյակ | F8: Ինն ամիս | G8: Տարի
A9: Ծրագիր | B9: Միջոց առում
C10: ԸՆԴԱՄԵՆԸ | D10: =+D12 -> 0 | E10: =+E12 -> 0 | F10: =+F12 -> -4.3655746e-10 | G10: =+G12 -> -4.9476512e-10
C11: այդ թվում`
C12: ՀՀ տարածքային կառավարման և ենթակառուցվածքների նախարարություն | D12: =+D14 -> 0 | E12: =+E14 -> 0 | F12: =+F14 -> -4.3655746e-10 | G12: =+G14 -> -4.9476512e-10
C13: այդ թվում`
A14: 1212 | C14: Տարածքային զարգացում | D14: =+D16 -> 0 | E14: =+E16 -> 0 | F14: =+F16 -> -4.3655746e-10 | G14: =+G16 -> -4.9476512e-10
C15: այդ թվում`
B16: 12008 | C16: Ֆինանսական փոխհատուցում տեղական ինքնակառավարման մարմիններին | D16: =+D18+D25+D32+D39+D46+D53+D60+D67+D74+D81+D88+D95 -> 0 | E16: =+E18+E25+E32+E39+E46+E53+E60+E67+E74+E81+E88+E95 -> 0 | F16: =+F18+F25+F32+F39+F46+F53+F60+F67+F74+F81+F88+F95 -> -4.3655746e-10 | G16: =+G18+G25+G32+G39+G46+G53+G60+G67+G74+G81+G88+G95 -> -4.9476512e-10
C17: այդ թվում` ըստ կատարողների
C18: ՀՀ կառավարություն | D18: =+D20 -> -581060.6 | E18: =+E20 -> -1452651.5 | F18: =+F20 -> -2324242.5 | G18: =+G20 -> -3486363.7
C19: այդ թվում` բյուջետային ծախսերի տնտեսագիտական դասակարգման հոդվածներ
C20: ԸՆԴԱՄԵՆԸ ԾԱԽՍԵՐ | D20: =+D21 -> -581060.6 | E20: =+E21 -> -1452651.5 | F20: =+F21 -> -2324242.5 | G20: =+G21 -> -3486363.7
C21: ԸՆԹԱՑԻԿ ԾԱԽՍԵՐ | D21: =+D22 -> -581060.6 | E21: =+E22 -> -1452651.5 | F21: =+F22 -> -2324242.5 | G21: =+G22 -> -3486363.7
C22: ԴՐԱՄԱՇՆՈՐՀՆԵՐ | D22: =+D23 -> -581060.6 | E22: =+E23 -> -1452651.5 | F22: =+F23 -> -2324242.5 | G22: =+G23 -> -3486363.7
C23: Ընթացիկ դրամաշնորհներ պետական հատվածի այլ մակարդակներին | D23: =+D24 -> -581060.6 | E23: =+E24 -> -1452651.5 | F23: =+F24 -> -2324242.5 | G23: =+G24 -> -3486363.7
C24: - Այլ ընթացիկ դրամաշնորհներ համայնքներին | D24: -581060.6 | E24: -1452651.5 | F24: -2324242.5 | G24: -3486363.7
C25: ՀՀ տարածքային կառավարման և ենթակառուցվածքների նախարարություն | D25: =+D27 -> 110000.1 | E25: =+E27 -> 275000.2 | F25: =+F27 -> 440000.3 | G25: =+G27 -> 660000.5
C26: այդ թվում` բյուջետային ծախսերի տնտեսագիտական դասակարգման հոդվածներ
C27: ԸՆԴԱՄԵՆԸ ԾԱԽՍԵՐ | D27: =+D28 -> 110000.1 | E27: =+E28 -> 275000.2 | F27: =+F28 -> 440000.3 | G27: =+G28 -> 660000.5
C28: ԸՆԹԱՑԻԿ ԾԱԽՍԵՐ | D28: =+D29 -> 110000.1 | E28: =+E29 -> 275000.2 | F28: =+F29 -> 440000.3 | G28: =+G29 -> 660000.5
C29: ԴՐԱՄԱՇՆՈՐՀՆԵՐ | D29: =+D30 -> 110000.1 | E29: =+E30 -> 275000.2 | F29: =+F30 -> 440000.3 | G29: =+G30 -> 660000.5
C30: Ընթացիկ դրամաշնորհներ պետական հատվածի այլ մակարդակներին | D30: =+D31 -> 110000.1 | E30: =+E31 -> 275000.2 | F30: =+F31 -> 440000.3 | G30: =+G31 -> 660000.5
C31: - Այլ ընթացիկ դրամաշնորհներ համայնքներին | D31: 110000.1 | E31: 275000.2 | F31: 440000.3 | G31: 660000.5
C32: ՀՀ Արագածոտնի մարզպետարան | D32: =+D34 -> 16040.9 | E32: =+E34 -> 40105.6 | F32: =+F34 -> 64168.3 | G32: =+G34 -> 96252.4
C33: այդ թվում` բյուջետային ծախսերի տնտեսագիտական դասակարգման հոդվածներ
C34: ԸՆԴԱՄԵՆԸ ԾԱԽՍԵՐ | D34: =+D35 -> 16040.9 | E34: =+E35 -> 40105.6 | F34: =+F35 -> 64168.3 | G34: =+G35 -> 96252.4
C35: ԸՆԹԱՑԻԿ ԾԱԽՍԵՐ | D35: =+D36 -> 16040.9 | E35: =+E36 -> 40105.6 | F35: =+F36 -> 64168.3 | G35: =+G36 -> 96252.4
C36: ԴՐԱՄԱՇՆՈՐՀՆԵՐ | D36: =+D37 -> 16040.9 | E36: =+E37 -> 40105.6 | F36: =+F37 -> 64168.3 | G36: =+G37 -> 96252.4
C37: Ընթացիկ դրամաշնորհներ պետական հատվածի այլ մակարդակներին | D37: =+D38 -> 16040.9 | E37: =+E38 -> 40105.6 | F37: =+F38 -> 64168.3 | G37: =+G38 -> 96252.4
C38: - Այլ ընթացիկ դրամաշնորհներ համայնքներին | D38: 16040.9 | E38: 40105.6 | F38: 64168.3 | G38: 96252.4
C39: ՀՀ Արարատի մարզպետարան | D39: =+D41 -> 47055.5 | E39: =+E41 -> 117636.4 | F39: =+F41 -> 188221.7 | G39: =+G41 -> 282332.7
C40: այդ թվում` բյուջետային ծախսերի տնտեսագիտական դասակարգման հոդվածներ
C41: ԸՆԴԱՄԵՆԸ ԾԱԽՍԵՐ | D41: =+D42 -> 47055.5 | E41: =+E42 -> 117636.4 | F41: =+F42 -> 188221.7 | G41: =+G42 -> 282332.7
C42: ԸՆԹԱՑԻԿ ԾԱԽՍԵՐ | D42: =+D43 -> 47055.5 | E42: =+E43 -> 117636.4 | F42: =+F43 -> 188221.7 | G42: =+G43 -> 282332.7
C43: ԴՐԱՄԱՇՆՈՐՀՆԵՐ | D43: =+D44 -> 47055.5 | E43: =+E44 -> 117636.4 | F43: =+F44 -> 188221.7 | G43: =+G44 -> 282332.7
C44: Ընթացիկ դրամաշնորհներ պետական հատվածի այլ մակարդակներին | D44: =+D45 -> 47055.5 | E44: =+E45 -> 117636.4 | F44: =+F45 -> 188221.7 | G44: =+G45 -> 282332.7
C45: - Այլ ընթացիկ դրամաշնորհներ համայնքներին | D45: 47055.5 | E45: 117636.4 | F45: 188221.7 | G45: 282332.7
C46: ՀՀ Արմավիրի մարզպետարան | D46: =+D48 -> 61399.7 | E46: =+E48 -> 153499.1 | F46: =+F48 -> 245596.9 | G46: =+G48 -> 368395.5
C47: այդ թվում` բյուջետային ծախսերի տնտեսագիտական դասակարգման հոդվածներ
C48: ԸՆԴԱՄԵՆԸ ԾԱԽՍԵՐ | D48: =+D49 -> 61399.7 | E48: =+E49 -> 153499.1 | F48: =+F49 -> 245596.9 | G48: =+G49 -> 368395.5
C49: ԸՆԹԱՑԻԿ ԾԱԽՍԵՐ | D49: =+D50 -> 61399.7 | E49: =+E50 -> 153499.1 | F49: =+F50 -> 245596.9 | G49: =+G50 -> 368395.5
C50: ԴՐԱՄԱՇՆՈՐՀՆԵՐ | D50: =+D51 -> 61399.7 | E50: =+E51 -> 153499.1 | F50: =+F51 -> 245596.9 | G50: =+G51 -> 368395.5
C51: Ընթացիկ դրամաշնորհներ պետական հատվածի այլ մակարդակներին | D51: =+D52 -> 61399.7 | E51: =+E52 -> 153499.1 | F51: =+F52 -> 245596.9 | G51: =+G52 -> 368395.5
C52: - Այլ ընթացիկ դրամաշնորհներ համայնքներին | D52: 61399.7 | E52: 153499.1 | F52: 245596.9 | G52: 368395.5
C53: ՀՀ Գեղարքունիքի մարզպետարան | D53: =+D55 -> 39521.3 | E53: =+E55 -> 98802.9 | F53: =+F55 -> 158084.1 | G53: =+G55 -> 237126.1
C54: այդ թվում` բյուջետային ծախսերի տնտեսագիտական դասակարգման հոդվածներ
C55: ԸՆԴԱՄԵՆԸ ԾԱԽՍԵՐ | D55: =+D56 -> 39521.3 | E55: =+E56 -> 98802.9 | F55: =+F56 -> 158084.1 | G55: =+G56 -> 237126.1
C56: ԸՆԹԱՑԻԿ ԾԱԽՍԵՐ | D56: =+D57 -> 39521.3 | E56: =+E57 -> 98802.9 | F56: =+F57 -> 158084.1 | G56: =+G57 -> 237126.1
C57: ԴՐԱՄԱՇՆՈՐՀՆԵՐ | D57: =+D58 -> 39521.3 | E57: =+E58 -> 98802.9 | F57: =+F58 -> 158084.1 | G57: =+G58 -> 237126.1
C58: Ընթացիկ դրամաշնորհներ պետական հատվածի այլ մակարդակներին | D58: =+D59 -> 39521.3 | E58: =+E59 -> 98802.9 | F58: =+F59 -> 158084.1 | G58: =+G59 -> 237126.1
C59: - Այլ ընթացիկ դրամաշնորհներ համայնքներին | D59: 39521.3 | E59: 98802.9 | F59: 158084.1 | G59: 237126.1
C60: ՀՀ Լոռու մարզպետարան | D60: =+D62 -> 65738.7 | E60: =+E62 -> 164346.2 | F60: =+F62 -> 262953.9 | G60: =+G62 -> 394430.7
C61: այդ թվում` բյուջետային ծախսերի տնտեսագիտական դասակարգման հոդվածներ
C62: ԸՆԴԱՄԵՆԸ ԾԱԽՍԵՐ | D62: =+D63 -> 65738.7 | E62: =+E63 -> 164346.2 | F62: =+F63 -> 262953.9 | G62: =+G63 -> 394430.7
C63: ԸՆԹԱՑԻԿ ԾԱԽՍԵՐ | D63: =+D64 -> 65738.7 | E63: =+E64 -> 164346.2 | F63: =+F64 -> 262953.9 | G63: =+G64 -> 394430.7
C64: ԴՐԱՄԱՇՆՈՐՀՆԵՐ | D64: =+D65 -> 65738.7 | E64: =+E65 -> 164346.2 | F64: =+F65 -> 262953.9 | G64: =+G65 -> 394430.7
C65: Ընթացիկ դրամաշնորհներ պետական հատվածի այլ մակարդակներին | D65: =+D66 -> 65738.7 | E65: =+E66 -> 164346.2 | F65: =+F66 -> 262953.9 | G65: =+G66 -> 394430.7
C66: - Այլ ընթացիկ դրամաշնորհներ համայնքներին | D66: 65738.7 | E66: 164346.2 | F66: 262953.9 | G66: 394430.7
C67: ՀՀ Կոտայքի մարզպետարան | D67: =+D69 -> 76949.3 | E67: =+E69 -> 192373.3 | F67: =+F69 -> 307797.2 | G67: =+G69 -> 461695.8
C68: այդ թվում` բյուջետային ծախսերի տնտեսագիտական դասակարգման հոդվածներ
C69: ԸՆԴԱՄԵՆԸ ԾԱԽՍԵՐ | D69: =+D70 -> 76949.3 | E69: =+E70 -> 192373.3 | F69: =+F70 -> 307797.2 | G69: =+G70 -> 461695.8
C70: ԸՆԹԱՑԻԿ ԾԱԽՍԵՐ | D70: =+D71 -> 76949.3 | E70: =+E71 -> 192373.3 | F70: =+F71 -> 307797.2 | G70: =+G71 -> 461695.8
C71: ԴՐԱՄԱՇՆՈՐՀՆԵՐ | D71: =+D72 -> 76949.3 | E71: =+E72 -> 192373.3 | F71: =+F72 -> 307797.2 | G71: =+G72 -> 461695.8
C72: Ընթացիկ դրամաշնորհներ պետական հատվածի այլ մակարդակներին | D72: =+D73 -> 76949.3 | E72: =+E73 -> 192373.3 | F72: =+F73 -> 307797.2 | G72: =+G73 -> 461695.8
C73: - Այլ ընթացիկ դրամաշնորհներ համայնքներին | D73: 76949.3 | E73: 192373.3 | F73: 307797.2 | G73: 461695.8
C74: ՀՀ Շիրակի մարզպետարան | D74: =+D76 -> 55541.2 | E74: =+E76 -> 138853.2 | F74: =+F76 -> 222164.8 | G74: =+G76 -> 333247.2
C75: այդ թվում` բյուջետային ծախսերի տնտեսագիտական դասակարգման հոդվածներ
C76: ԸՆԴԱՄԵՆԸ ԾԱԽՍԵՐ | D76: =+D77 -> 55541.2 | E76: =+E77 -> 138853.2 | F76: =+F77 -> 222164.8 | G76: =+G77 -> 333247.2
C77: ԸՆԹԱՑԻԿ ԾԱԽՍԵՐ | D77: =+D78 -> 55541.2 | E77: =+E78 -> 138853.2 | F77: =+F78 -> 222164.8 | G77: =+G78 -> 333247.2
C78: ԴՐԱՄԱՇՆՈՐՀՆԵՐ | D78: =+D79 -> 55541.2 | E78: =+E79 -> 138853.2 | F78: =+F79 -> 222164.8 | G78: =+G79 -> 333247.2
C79: Ընթացիկ դրամաշնորհներ պետական հատվածի այլ մակարդակներին | D79: =+D80 -> 55541.2 | E79: =+E80 -> 138853.2 | F79: =+F80 -> 222164.8 | G79: =+G80 -> 333247.2
C80: - Այլ ընթացիկ դրամաշնորհներ համայնքներին | D80: 55541.2 | E80: 138853.2 | F80: 222164.8 | G80: 333247.2
C81: ՀՀ Սյունիքի մարզպետարան | D81: =+D83 -> 57596.9 | E81: =+E83 -> 143992.1 | F81: =+F83 -> 230387.2 | G81: =+G83 -> 345580.8
C82: այդ թվում` բյուջետային ծախսերի տնտեսագիտական դասակարգման հոդվածներ
C83: ԸՆԴԱՄԵՆԸ ԾԱԽՍԵՐ | D83: =+D84 -> 57596.9 | E83: =+E84 -> 143992.1 | F83: =+F84 -> 230387.2 | G83: =+G84 -> 345580.8
C84: ԸՆԹԱՑԻԿ ԾԱԽՍԵՐ | D84: =+D85 -> 57596.9 | E84: =+E85 -> 143992.1 | F84: =+F85 -> 230387.2 | G84: =+G85 -> 345580.8
C85: ԴՐԱՄԱՇՆՈՐՀՆԵՐ | D85: =+D86 -> 57596.9 | E85: =+E86 -> 143992.1 | F85: =+F86 -> 230387.2 | G85: =+G86 -> 345580.8
C86: Ընթացիկ դրամաշնորհներ պետական հատվածի այլ մակարդակներին | D86: =+D87 -> 57596.9 | E86: =+E87 -> 143992.1 | F86: =+F87 -> 230387.2 | G86: =+G87 -> 345580.8
C87: - Այլ ընթացիկ դրամաշնորհներ համայնքներին | D87: 57596.9 | E87: 143992.1 | F87: 230387.2 | G87: 345580.8
C88: ՀՀ Վայոց ձորի մարզպետարան | D88: =+D90 -> 10472.4 | E88: =+E90 -> 26181 | F88: =+F90 -> 41889.6 | G88: =+G90 -> 62834.5
C89: այդ թվում` բյուջետային ծախսերի տնտեսագիտական դասակարգման հոդվածներ
C90: ԸՆԴԱՄԵՆԸ ԾԱԽՍԵՐ | D90: =+D91 -> 10472.4 | E90: =+E91 -> 26181 | F90: =+F91 -> 41889.6 | G90: =+G91 -> 62834.5
C91: ԸՆԹԱՑԻԿ ԾԱԽՍԵՐ | D91: =+D92 -> 10472.4 | E91: =+E92 -> 26181 | F91: =+F92 -> 41889.6 | G91: =+G92 -> 62834.5
C92: ԴՐԱՄԱՇՆՈՐՀՆԵՐ | D92: =+D93 -> 10472.4 | E92: =+E93 -> 26181 | F92: =+F93 -> 41889.6 | G92: =+G93 -> 62834.5
C93: Ընթացիկ դրամաշնորհներ պետական հատվածի այլ մակարդակներին | D93: =+D94 -> 10472.4 | E93: =+E94 -> 26181 | F93: =+F94 -> 41889.6 | G93: =+G94 -> 62834.5
C94: - Այլ ընթացիկ դրամաշնորհներ համայնքներին | D94: 10472.4 | E94: 26181 | F94: 41889.6 | G94: 62834.5
C95: ՀՀ Տավուշի մարզպետարան | D95: =+D97 -> 40744.6 | E95: =+E97 -> 101861.5 | F95: =+F97 -> 162978.5 | G95: =+G97 -> 244467.5
C96: այդ թվում` բյուջետային ծախսերի տնտեսագիտական դասակարգման հոդվածներ
C97: ԸՆԴԱՄԵՆԸ ԾԱԽՍԵՐ | D97: =+D98 -> 40744.6 | E97: =+E98 -> 101861.5 | F97: =+F98 -> 162978.5 | G97: =+G98 -> 244467.5
C98: ԸՆԹԱՑԻԿ ԾԱԽՍԵՐ | D98: =+D99 -> 40744.6 | E98: =+E99 -> 101861.5 | F98: =+F99 -> 162978.5 | G98: =+G99 -> 244467.5
C99: ԴՐԱՄԱՇՆՈՐՀՆԵՐ | D99: =+D100 -> 40744.6 | E99: =+E100 -> 101861.5 | F99: =+F100 -> 162978.5 | G99: =+G100 -> 244467.5
C100: Ընթացիկ դրամաշնորհներ պետական հատվածի այլ մակարդակներին | D100: =+D101 -> 40744.6 | E100: =+E101 -> 101861.5 | F100: =+F101 -> 162978.5 | G100: =+G101 -> 244467.5
C101: - Այլ ընթացիկ դրամաշնորհներ համայնքներին | D101: 40744.6 | E101: 101861.5 | F101: 162978.5 | G101: 244467.5

Sheet Հավելված_4
G1: Հավելված 4
G2: ՀՀ կառավարության 2020 թվականի
G3: ______________ ի ___Ն որոշման
C5: ՀԱՅԱՍՏԱՆԻ ՀԱՆՐԱՊԵՏՈՒԹՅԱՆ ԿԱՌԱՎԱՐՈՒԹՅԱՆ 2019 ԹՎԱԿԱՆԻ ԴԵԿՏԵՄԲԵՐԻ 26-Ի N 1919-Ն ՈՐՈՇՄԱՆ N 8 ՀԱՎԵԼՎԱԾՈՒՄ ԿԱՏԱՐՎՈՂ ԼՐԱՑՈՒՄԸ
B7: Գործառական դասիչ | E7: Ծրագրային դասիչը | G7: Բյուջետային հատակացումների գլխավոր կարգադրիչներ, ծրագրերի, միջոցառումների և միջոցառումներն իրականացնող պետական մարմինների անվանումները
B8: Բաժին | C8: Խումբ | D8: Դաս | E8: Ծրագիր | F8: Միջոցառում
B9: 01 | G9: ԸՆԴՀԱՆՈՒՐ ԲՆՈՒՅԹԻ ՀԱՆՐԱՅԻՆ ԾԱՌԱՅՈՒԹՅՈՒՆՆԵՐ
C10: 08 | G10: Կառավարության տարբեր մակարդակների միջև իրականացվող ընդհանուր բնույթի տրանսֆերտներ
D11: 01 | G11: Կառավարության տարբեր մակարդակների միջև իրականացվող ընդհանուր բնույթի տրանսֆերտներ
E12: 1212 | G12: Տարածքային զարգացում
F13: 12008 | G13: Ֆինանսական փոխհատուցում տեղական ինքնակառավարման մարմիններին

Sheet Հավելված_5
G1: Հավելված 5
G2: ՀՀ կառավարության 2020 թվականի
G3: ______________ ի ___Ն որոշման
B5: ՀԱՅԱՍՏԱՆԻ ՀԱՆՐԱՊԵՏՈՒԹՅԱՆ ԿԱՌԱՎԱՐՈՒԹՅԱՆ 2019 ԹՎԱԿԱՆԻ ԴԵԿՏԵՄԲԵՐԻ 26-Ի N 1919-Ն ՈՐՈՇՄԱՆ N 9.1 ՀԱՎԵԼՎԱԾԻ N 9.1.58 ԱՂՅՈՒՍԱԿՈՒՄ ԿԱՏԱՐՎՈՂ ՓՈՓՈԽՈՒԹՅՈՒՆՆԵՐԸ
B7: ՀՀ կառավարություն
B8: ՄԱՍ 1. ՊԵՏԱԿԱՆ ՄԱՐՄՆԻ ԳԾՈՎ ԱՐԴՅՈՒՆՔԱՅԻՆ (ԿԱՏԱՐՈՂԱԿԱՆ) ՑՈՒՑԱՆԻՇՆԵՐԸ
B10: Ծրագրի դասիչը | C10: Ծրագրի անվանումը
B11: 1212 | C11: Տարածքային զարգացում
B13: Ծրագրի միջոցառումները
B14: Ծրագրի դասիչը` | C14: 1212 | D14: Ցուցանիշների փոփոխությունը (նվազեցումները նշված են փակագծերում)
B15: Միջոցառման դասիչը` | C15: 12008 | D15: Առաջին եռամսյակ | E15: Առաջին կիսամյակ | F15: Ինն ամիս | G15: Տարի
B16: Միջոցառման անվանումը` | C16: Ֆինանսական փոխհատուցում տեղական ինքնակառավարման մարմիններին
B17: Նկարագրությունը` | C17: նվազագույն աշխատավարձի բարձրացմամբ պայմանավորված ֆինանսական փոխհատուցում ՏԻՄ-երին
B18: Միջոցառման տեսակը` | C18: Տրանսֆերտների տրամադրում
B19: Շահառուների ընտրության չափանիշները` | C19: ՀՀ համայնքի կարգավիճակի առկայություն
B20: Արդյունքի չափորոշիչներ
B21: Շահառուների թիվ, հատ | D21: -24610 | E21: -24610 | F21: -24610 | G21: -24610
B22: Միջոցառման վրա կատարվող ծախսը (հազար դրամ) | D22: -581060.6 | E22: -1452651.5 | F22: -2324242.5 | G22: -3486363.7
B24: ՀԱՅԱՍՏԱՆԻ ՀԱՆՐԱՊԵՏՈՒԹՅԱՆ ԿԱՌԱՎԱՐՈՒԹՅԱՆ 2019 ԹՎԱԿԱՆԻ ԴԵԿՏԵՄԲԵՐԻ 26-Ի N 1919-Ն ՈՐՈՇՄԱՆ N 9.1 ՀԱՎԵԼՎԱԾԻ N 9.1.8 ԱՂՅՈՒՍԱԿՈՒՄ ԿԱՏԱՐՎՈՂ ՓՈՓՈԽՈՒԹՅՈՒՆՆԵՐԸ
B26: ՀՀ տարածքային կառավարման և ենթակառուցվածքների նախարարություն
B27: ՄԱՍ 1. ՊԵՏԱԿԱՆ ՄԱՐՄՆԻ ԳԾՈՎ ԱՐԴՅՈՒՆՔԱՅԻՆ (ԿԱՏԱՐՈՂԱԿԱՆ) ՑՈՒՑԱՆԻՇՆԵՐԸ
B29: Ծրագրի դասիչը | C29: Ծրագրի անվանումը
B30: 1212 | C30: Տարածքային զարգացում
B32: Ծրագրի միջոցառումները
B33: Ծրագրի դասիչը` | C33: 1212 | D33: Ցուցանիշների փոփոխությունը (ավելացումները նշված են դրական նշանով)
B34: Միջոցառման դասիչը` | C34: 12008 | D34: Առաջին եռամսյակ | E34: Առաջին կիսամյակ | F34: Ինն ամիս | G34: Տարի
B35: Միջոցառման անվանումը` | C35: Ֆինանսական փոխհատուցում տեղական ինքնակառավարման մարմիններին
B36: Նկարագրությունը` | C36: նվազագույն աշխատավարձի բարձրացմամբ պայմանավորված ֆինանսական փոխհատուցում ՏԻՄ-երին
B37: Միջոցառման տեսակը` | C37: Տրանսֆերտների տրամադրում
B38: Շահառուների ընտրության չափանիշները` | C38: ՀՀ համայնքի կարգավիճակի առկայություն
B39: Արդյունքի չափորոշիչներ
B40: Շահառուների թիվ, հատ | D40: 3615 | E40: 3615 | F40: 3615 | G40: 3615
B41: Միջոցառման վրա կատարվող ծախսը (հազար դրամ) | D41: 110000.1 | E41: 265000.2 | F41: 440000.3 | G41: 660000.5
B43: ՀԱՅԱՍՏԱՆԻ ՀԱՆՐԱՊԵՏՈՒԹՅԱՆ ԿԱՌԱՎԱՐՈՒԹՅԱՆ 2019 ԹՎԱԿԱՆԻ ԴԵԿՏԵՄԲԵՐԻ 26-Ի N 1919-Ն ՈՐՈՇՄԱՆ N 9.1 ՀԱՎԵԼՎԱԾԻ N 9.1.48 ԱՂՅՈՒՍԱԿՈՒՄ ԿԱՏԱՐՎՈՂ ՓՈՓՈԽՈՒԹՅՈՒՆՆԵՐԸ
B45: ՀՀ Արագածոտնի մարզպետարան
B46: ՄԱՍ 1. ՊԵՏԱԿԱՆ ՄԱՐՄՆԻ ԳԾՈՎ ԱՐԴՅՈՒՆՔԱՅԻՆ (ԿԱՏԱՐՈՂԱԿԱՆ) ՑՈՒՑԱՆԻՇՆԵՐԸ
B48: Ծրագրի դասիչը | C48: Ծրագրի անվանումը
B49: 1212 | C49: Տարածքային զարգացում
B51: Ծրագրի միջոցառումները
B52: Ծրագրի դասիչը` | C52: 1212 | D52: Ցուցանիշների փոփոխությունը (ավելացումները նշված են դրական նշանով)
B53: Միջոցառման դասիչը` | C53: 12008 | D53: Առաջին եռամսյակ | E53: Առաջին կիսամյակ | F53: Ինն ամիս | G53: Տարի
B54: Միջոցառման անվանումը` | C54: Ֆինանսական փոխհատուցում տեղական ինքնակառավարման մարմիններին
B55: Նկարագրությունը` | C55: նվազագույն աշխատավարձի բարձրացմամբ պայմանավորված ֆինանսական փոխհատուցում ՏԻՄ-երին
B56: Միջոցառման տեսակը` | C56: Տրանսֆերտների տրամադրում
B57: Շահառուների ընտրության չափանիշները` | C57: ՀՀ համայնքի կարգավիճակի առկայություն
B58: Արդյունքի չափորոշիչներ
B59: Շահառուների թիվ, հատ | D59: 957 | E59: 957 | F59: 957 | G59: 957
B60: Միջոցառման վրա կատարվող ծախսը (հազար դրամ) | D60: 16040.9 | E60: 40105.6 | F60: 64168.3 | G60: 96252.4
B62: ՀԱՅԱՍՏԱՆԻ ՀԱՆՐԱՊԵՏՈՒԹՅԱՆ ԿԱՌԱՎԱՐՈՒԹՅԱՆ 2019 ԹՎԱԿԱՆԻ ԴԵԿՏԵՄԲԵՐԻ 26-Ի N 1919-Ն ՈՐՈՇՄԱՆ N 9.1 ՀԱՎԵԼՎԱԾԻ N 9.1.49 ԱՂՅՈՒՍԱԿՈՒՄ ԿԱՏԱՐՎՈՂ ՓՈՓՈԽՈՒԹՅՈՒՆՆԵՐԸ
B64: ՀՀ Արարատի մարզպետարան
B65: ՄԱՍ 1. ՊԵՏԱԿԱՆ ՄԱՐՄՆԻ ԳԾՈՎ ԱՐԴՅՈՒՆՔԱՅԻՆ (ԿԱՏԱՐՈՂԱԿԱՆ) ՑՈՒՑԱՆԻՇՆԵՐԸ
B67: Ծրագրի դասիչը | C67: Ծրագրի անվանումը
B68: 1212 | C68: Տարածքային զարգացում
B70: Ծրագրի միջոցառումները
B71: Ծրագրի դասիչը` | C71: 1212 | D71: Ցուցանիշների փոփոխությունը (ավելացումները նշված են դրական նշանով)
B72: Միջոցառման դասիչը` | C72: 12008 | D72: Առաջին եռամսյակ | E72: Առաջին կիսամյակ | F72: Ինն ամիս | G72: Տարի
B73: Միջոցառման անվանումը` | C73: Ֆինանսական փոխհատուցում տեղական ինքնակառավարման մարմիններին
B74: Նկարագրությունը` | C74: նվազագույն աշխատավարձի բարձրացմամբ պայմանավորված ֆինանսական փոխհատուցում ՏԻՄ-երին
B75: Միջոցառման տեսակը` | C75: Տրանսֆերտների տրամադրում
B76: Շահառուների ընտրության չափանիշները` | C76: ՀՀ համայնքի կարգավիճակի առկայություն
B77: Արդյունքի չափորոշիչներ
B78: Շահառուների թիվ, հատ | D78: 2470 | E78: 2470 | F78: 2470 | G78: 2470
B79: Միջոցառման վրա կատարվող ծախսը (հազար դրամ) | D79: 47055.5 | E79: 117636.4 | F79: 188221.7 | G79: 282332.7
B81: ՀԱՅԱՍՏԱՆԻ ՀԱՆՐԱՊԵՏՈՒԹՅԱՆ ԿԱՌԱՎԱՐՈՒԹՅԱՆ 2019 ԹՎԱԿԱՆԻ ԴԵԿՏԵՄԲԵՐԻ 26-Ի N 1919-Ն ՈՐՈՇՄԱՆ N 9.1 ՀԱՎԵԼՎԱԾԻ N 9.1.50 ԱՂՅՈՒՍԱԿՈՒՄ ԿԱՏԱՐՎՈՂ ՓՈՓՈԽՈՒԹՅՈՒՆՆԵՐԸ
B83: ՀՀ Արմավիրի մարզպետարան
B84: ՄԱՍ 1. ՊԵՏԱԿԱՆ ՄԱՐՄՆԻ ԳԾՈՎ ԱՐԴՅՈՒՆՔԱՅԻՆ (ԿԱՏԱՐՈՂԱԿԱՆ) ՑՈՒՑԱՆԻՇՆԵՐԸ
B86: Ծրագրի դասիչը | C86: Ծրագրի անվանումը
B87: 1212 | C87: Տարածքային զարգացում
B89: Ծրագրի միջոցառումները
B90: Ծրագրի դասիչը` | C90: 1212 | D90: Ցուցանիշների փոփոխությունը (ավելացումները նշված են դրական նշանով)
B91: Միջոցառման դասիչը` | C91: 12008 | D91: Առաջին եռամսյակ | E91: Առաջին կիսամյակ | F91: Ինն ամիս | G91: Տարի
B92: Միջոցառման անվանումը` | C92: Ֆինանսական փոխհատուցում տեղական ինքնակառավարման մարմիններին
B93: Նկարագրությունը` | C93: նվազագույն աշխատավարձի բարձրացմամբ պայմանավորված ֆինանսական փոխհատուցում ՏԻՄ-երին
B94: Միջոցառման տեսակը` | C94: Տրանսֆերտների տրամադրում
B95: Շահառուների ընտրության չափանիշները` | C95: ՀՀ համայնքի կարգավիճակի առկայություն
B96: Արդյունքի չափորոշիչներ
B97: Շահառուների թիվ, հատ | D97: 3475 | E97: 3475 | F97: 3475 | G97: 3475
B98: Միջոցառման վրա կատարվող ծախսը (հազար դրամ) | D98: 61399.7 | E98: 153499.1 | F98: 245596.9 | G98: 368395.5
B100: ՀԱՅԱՍՏԱՆԻ ՀԱՆՐԱՊԵՏՈՒԹՅԱՆ ԿԱՌԱՎԱՐՈՒԹՅԱՆ 2019 ԹՎԱԿԱՆԻ ԴԵԿՏԵՄԲԵՐԻ 26-Ի N 1919-Ն ՈՐՈՇՄԱՆ N 9.1 ՀԱՎԵԼՎԱԾԻ N 9.1.51 ԱՂՅՈՒՍԱԿՈՒՄ ԿԱՏԱՐՎՈՂ ՓՈՓՈԽՈՒԹՅՈՒՆՆԵՐԸ
B102: ՀՀ Գեղարքունիքի մարզպետարան
B103: ՄԱՍ 1. ՊԵՏԱԿԱՆ ՄԱՐՄՆԻ ԳԾՈՎ ԱՐԴՅՈՒՆՔԱՅԻՆ (ԿԱՏԱՐՈՂԱԿԱՆ) ՑՈՒՑԱՆԻՇՆԵՐԸ
B105: Ծրագրի դասիչը | C105: Ծրագրի անվանումը
B106: 1212 | C106: Տարածքային զարգացում
B108: Ծրագրի միջոցառումները
B109: Ծրագրի դասիչը` | C109: 1212 | D109: Ցուցանիշների փոփոխությունը (ավելացումները նշված են դրական նշանով)
B110: Միջոցառման դասիչը` | C110: 12008 | D110: Առաջին եռամսյակ | E110: Առաջին կիսամյակ | F110: Ինն ամիս | G110: Տարի
B111: Միջոցառման անվանումը` | C111: Ֆինանսական փոխհատուցում տեղական ինքնակառավարման մարմիններին
B112: Նկարագրությունը` | C112: նվազագույն աշխատավարձի բարձրացմամբ պայմանավորված ֆինանսական փոխհատուցում ՏԻՄ-երին
B113: Միջոցառման տեսակը` | C113: Տրանսֆերտների տրամադրում
B114: Շահառուների ընտրության չափանիշները` | C114: ՀՀ համայնքի կարգավիճակի առկայություն
B115: Արդյունքի չափորոշիչներ
B116: Շահառուների թիվ, հատ | D116: 1632 | E116: 1632 | F116: 1632 | G116: 1632
B117: Միջոցառման վրա կատարվող ծախսը (հազար դրամ) | D117: 39521.3 | E117: 98802.9 | F117: 158084.1 | G117: 237126.1
B120: ՀԱՅԱՍՏԱՆԻ ՀԱՆՐԱՊԵՏՈՒԹՅԱՆ ԿԱՌԱՎԱՐՈՒԹՅԱՆ 2019 ԹՎԱԿԱՆԻ ԴԵԿՏԵՄԲԵՐԻ 26-Ի N 1919-Ն ՈՐՈՇՄԱՆ N 9.1 ՀԱՎԵԼՎԱԾԻ N 9.1.52 ԱՂՅՈՒՍԱԿՈՒՄ ԿԱՏԱՐՎՈՂ ՓՈՓՈԽՈՒԹՅՈՒՆՆԵՐԸ
B122: ՀՀ Լոռու մարզպետարան
B123: ՄԱՍ 1. ՊԵՏԱԿԱՆ ՄԱՐՄՆԻ ԳԾՈՎ ԱՐԴՅՈՒՆՔԱՅԻՆ (ԿԱՏԱՐՈՂԱԿԱՆ) ՑՈՒՑԱՆԻՇՆԵՐԸ
B125: Ծրագրի դասիչը | C125: Ծրագրի անվանումը
B126: 1212 | C126: Տարածքային զարգացում
B128: Ծրագրի միջոցառումները
B129: Ծրագրի դասիչը` | C129: 1212 | D129: Ցուցանիշների փոփոխությունը (ավելացումները նշված են դրական նշանով)
...
