Workbook

Sheet Հավելված 1
G1: Հավելված N1
G2: ՀՀ կառավարության 2020 թվականի
G3: __________-ի N____-Ն որոշման
A5: «ՀԱՅԱՍՏԱՆԻ ՀԱՆՐԱՊԵՏՈՒԹՅԱՆ 2020 ԹՎԱԿԱՆԻ ՊԵՏԱԿԱՆ ԲՅՈՒՋԵԻ ՄԱՍԻՆ» ՀԱՅԱՍՏԱՆԻ ՀԱՆՐԱՊԵՏՈՒԹՅԱՆ ՕՐԵՆՔԻ N 1 ՀԱՎԵԼՎԱԾԻ N 2 ԱՂՅՈՒՍԱԿՈՒՄ ԿԱՏԱՐՎՈՂ ՎԵՐԱԲԱՇԽՈՒՄԸ ԵՎ ՀԱՅԱՍՏԱՆԻ ՀԱՆՐԱՊԵՏՈՒԹՅԱՆ ԿԱՌԱՎԱՐՈՒԹՅԱՆ 2019 ԹՎԱԿԱՆԻ ԴԵԿՏԵՄԲԵՐԻ 26-Ի N 1919-Ն ՈՐՈՇՄԱՆ N 5 ՀԱՎԵԼՎԱԾԻ N 1 ԱՂՅՈՒՍԱԿՈՒՄ ԿԱՏԱՐՎՈՂ ՓՈՓՈԽՈՒԹՅՈՒՆՆԵՐԸ ԵՎ ԼՐԱՑՈՒՄՆԵՐԸ
G10: (հազ. դրամ)
A11: Ծրագրային դասիչը | C11: Բյուջետային հատկացումների գլխավոր կարգադրիչների, ծրագրերի և միջոցառումների անվանումները | D11: Ցուցանիշների փոփոխությունը (ավելացումները նշված են դրական նշանով)
A12: Ծրագիր | B12: Միջոցառում | D12: Առաջին եռամսյակ | E12: Առաջին կիսամյակ | F12: Ինն ամիս | G12: Տարի
C13: ԸՆԴԱՄԵՆԸ | D13: =D14+D48 -> 0 | E13: =E14+E48 -> 0 | F13: =F14+F48 -> 0 | G13: =G14+G48 -> 0
C14: ՀՀ տարածքային կառավարման և ենթակառուցվածքների նախարարության | D14: =D15+D28 -> -718489.3 | E14: =E15+E28 -> -718489.3 | F14: =F15+F28 -> -718489.3 | G14: =G15+G28 -> -718489.3
A15: 1049 | C15: Ծրագրի անվանումը՝ | D15: =D22 -> -285000 | E15: =E22 -> -285000 | F15: =F22 -> -285000 | G15: =G22 -> -285000
C16: Ճանապարհային ցանցի բարելավում
C17: Ծրագրի նպատակը՝
C18: Ճանապարհային ցանցի բարելավում և անվտանգ երթևեկության ապահովում
C19: Վերջնական արդյունքի նկարագրությունը՝
C20: Ճանապարհների ծածկի որակի և փոխադրումների արդյունավետության բարելավում, ճանապարհների վիճակով պայմանավորված պատահարների նվազում
C21: Ծրագրի միջոցառումներ
B22: 11001 | C22: Միջոցառման անվանումը` | D22: -285000 | E22: -285000 | F22: -285000 | G22: -285000
C23: Միջպետական և հանրապետական նշանակության ավտոճանապարհների պահպանման և անվտանգ երթևեկության ծառայություններ
C24: Միջոցառման նկարագրությունը`
C25: Հողային պաստառի, երթևեկելի մասի, արհեստական կառույցների և կահավորման տարրերի նորմատիվ մակարդակում պահպանում և շահագործում
C26: Միջոցառման տեսակը
C27: Ծառայությունների մատուցում
C28: ՀՀ տարածքային կառավարման և ենթակառուցվածքների նախարարության | D28: =D36+D42 -> -433489.3 | E28: =E36+E42 -> -433489.3 | F28: =F36+F42 -> -433489.3 | G28: =G36+G42 -> -433489.3
A29: 1157 | C29: Ծրագրի անվանումը՝ | D29: =D36+D42 -> -433489.3 | E29: =E36+E42 -> -433489.3 | F29: =F36+F42 -> -433489.3 | G29: =G36+G42 -> -433489.3
C30: Քաղաքային զարգացում
C31: Ծրագրի նպատակը՝
C32: Քաղաքային ենթակառուցվածքների զարգացում
C33: Վերջնական արդյունքի նկարագրությունը՝
C34: Քաղաքային ենթակառուցվածքների արդիականացում և բարելավում
C35: Ծրագրի միջոցառումներ
B36: 12002 | C36: Միջոցառման անվանումը` | D36: -105089.3 | E36: =D36 -> -105089.3 | F36: =E36 -> -105089.3 | G36: =F36 -> -105089.3
C37: Երևան քաղաքի փողոցների արտաքին լուսավորության ծառայություններ
C38: Միջոցառման նկարագրությունը`
C39: Աջակցություն Երևանի քաղաքապետարանին Երևան քաղաքի փողոցների արտաքին լուսավորության ապահովման նպատակով
C40: Միջոցառման տեսակը
C41: Տրանսֆերտների տրամադրում
B42: 12007 | C42: Միջոցառման անվանումը` | D42: -328400 | E42: =D42 -> -328400 | F42: =E42 -> -328400 | G42: =F42 -> -328400
C43: Երևան քաղաքի փողոցների ճանապարհաշինարարական աշխատանքներ
C44: Միջոցառման նկարագրությունը`
C45: Աջակցություն Երևանի քաղաքապետարանին Երևան քաղաքի փողոցների վերանորոգման, վերակառուցման և ճաքալցման ծառայությունների մատուցման նպատակով
...

Sheet Հավելված 2
J1: Հավելված N2
J2: ՀՀ կառավարության 2020 թվականի
J3: __________-ի N____-Ն որոշման
A5: ՀԱՅԱՍՏԱՆԻ ՀԱՆՐԱՊԵՏՈՒԹՅԱՆ ԿԱՌԱՎԱՐՈՒԹՅԱՆ 2019 ԹՎԱԿԱՆԻ ԴԵԿՏԵՄԲԵՐԻ 26-Ի N 1919-Ն ՈՐՈՇՄԱՆ
A6: NN 3 ԵՎ 4 ՀԱՎԵԼՎԱԾՆԵՐՈՒՄ ԿԱՏԱՐՎՈՂ ՓՈՓՈԽՈՒԹՅՈՒՆՆԵՐԸ ԵՎ ԼՐԱՑՈՒՄՆԵՐԸ
J8: (հազ. դրամ)
A9: Գործառական դասիչը | D9: Ծրագրային դասիչը | F9: Բյուջետային հատկացումների գլխավոր կարգադրիչների, ծրագրերի, միջոցառումների և միջոցառումները կատարող պետական մարմինների անվանումները | G9: Առաջին եռամսյակ | H9: Առաջին կիսամյակ | I9: Ինն ամիս | J9: Տարի
A10: բաժինը | B10: խումբը | C10: դասը | D10: ծրագիրը | E10: միջոցառումը | H10: Առաջին կիսամյակ | I10: Ինն ամիս | J10: տարի
F11: ԸՆԴԱՄԵՆԸ ԾԱԽՍԵՐ այդ թվում | G11: =G12+G30+G57 -> 0 | H11: =H12+H30+H57 -> 0 | I11: =I12+I30+I57 -> 0 | J11: =J12+J30+J57 -> 0
A12: 04 | F12: ՏՆՏԵՍԱԿԱՆ ՀԱՐԱԲԵՐՈՒԹՅՈՒՆՆԵՐ | G12: -285000 | H12: -285000 | I12: -285000 | J12: -285000
F13: այդ թվում`
B14: 05 | F14: Տրանսպորտ | G14: -285000 | H14: -285000 | I14: -285000 | J14: -285000
F15: այդ թվում`
C16: 01 | F16: Ճանապարհային տրանսպորտ | G16: -285000 | H16: -285000 | I16: -285000 | J16: -285000
F17: ՀՀ տարածքային կառավարման և ենթակառուցվածքների նախարարություն
F18: այդ թվում`
D19: 1049 | F19: Ճանապարհային ցանցի բարելավում | G19: -285000 | H19: -285000 | I19: -285000 | J19: -285000
F20: այդ թվում՝
E21: 11001 | F21: ='Հավելված 1'!C23 -> Միջպետական և հանրապետական նշանակության ավտոճանապարհների պահպանման և անվտանգ երթևեկության ծառայություններ | G21: -285000 | H21: -285000 | I21: -285000 | J21: -285000
F22: այդ թվում` ըստ կատարողների
F23: ՀՀ տարածքային կառավարման և ենթակառուցվածքների նախարարություն | G23: -285000 | H23: -285000 | I23: -285000 | J23: -285000
F24: այդ թվում` բյուջետային ծախսերի տնտեսագիտական դասակարգման հոդվածներ
F25: ԸՆԴԱՄԵՆԸ ԾԱԽՍԵՐ | G25: -285000 | H25: -285000 | I25: -285000 | J25: -285000
F26: ԸՆԹԱՑԻԿ ԾԱԽՍԵՐ | G26: -285000 | H26: -285000 | I26: -285000 | J26: -285000
F27: ԾԱՌԱՅՈՒԹՅՈՒՆՆԵՐԻ ԵՎ ԱՊՐԱՆՔՆԵՐԻ ՁԵՌՔԲԵՐՈՒՄ | G27: -285000 | H27: -285000 | I27: -285000 | J27: -285000
F28: Ընթացիկ նորոգում և պահպանում (ծառայություններ և նյութեր) | G28: -285000 | H28: -285000 | I28: -285000 | J28: -285000
F29: - Շենքերի և կառույցների ընթացիկ նորոգում և պահպանում | G29: ='Հավելված 1'!D22 -> -285000 | H29: ='Հավելված 1'!E22 -> -285000 | I29: ='Հավելված 1'!F22 -> -285000 | J29: ='Հավելված 1'!G22 -> -285000
A30: 06 | F30: ԲՆԱԿԱՐԱՆԱՅԻՆ ՇԻՆԱՐԱՐՈՒԹՅՈՒՆ ԵՎ ԿՈՄՈՒՆԱԼ ԾԱՌԱՅՈՒԹՅՈՒՆՆԵՐ | G30: -433489.3 | H30: -433489.3 | I30: -433489.3 | J30: -433489.3
F31: այդ թվում`
B32: 04 | F32: Փողոցների լուսավորում | G32: -433489.3 | H32: -433489.3 | I32: -433489.3 | J32: -433489.3
F33: այդ թվում`
C34: 01 | F34: Փողոցների լուսավորում | G34: -433489.3 | H34: -433489.3 | I34: -433489.3 | J34: -433489.3
F35: ՀՀ տարածքային կառավարման և ենթակառուցվածքների նախարարություն
F36: այդ թվում`
D37: 1157 | F37: Քաղաքային զարգացում | G37: =G39+G48 -> -433489.3 | H37: =H39+H48 -> -433489.3 | I37: =I39+I48 -> -433489.3 | J37: =J39+J48 -> -433489.3
F38: այդ թվում՝
E39: 12002 | F39: Երևան քաղաքի փողոցների արտաքին լուսավորության ծառայություններ | G39: -105089.3 | H39: -105089.3 | I39: -105089.3 | J39: -105089.3
F40: այդ թվում` ըստ կատարողների
F41: ՀՀ տարածքային կառավարման և ենթակառուցվածքների նախարարություն | G41: -105089.3 | H41: -105089.3 | I41: -105089.3 | J41: -105089.3
F42: այդ թվում` բյուջետային ծախսերի տնտեսագիտական դասակարգման հոդվածներ
...

Sheet Հավելված 3
G1: Հավելված N3
G2: ՀՀ կառավարության 2020 թվականի
G3: __________-ի N____-Ն որոշման
A5: «ՀԱՅԱՍՏԱՆԻ ՀԱՆՐԱՊԵՏՈՒԹՅԱՆ 2020 ԹՎԱԿԱՆԻ ՊԵՏԱԿԱՆ ԲՅՈՒՋԵԻ ՄԱՍԻՆ» ՀԱՅԱՍՏԱՆԻ ՀԱՆՐԱՊԵՏՈՒԹՅԱՆ ՕՐԵՆՔԻ N 1 ՀԱՎԵԼՎԱԾԻ N 6 ԱՂՅՈՒՍԱԿՈՒՄ ԵՎ ՀԱՅԱՍՏԱՆԻ ՀԱՆՐԱՊԵՏՈՒԹՅԱՆ ԿԱՌԱՎԱՐՈՒԹՅԱՆ 2019 ԹՎԱԿԱՆԻ ԴԵԿՏԵՄԲԵՐԻ 26-Ի N 1919-Ն ՈՐՈՇՄԱՆ N 5 ՀԱՎԵԼՎԱԾԻ N 5 ԱՂՅՈՒՍԱԿՈՒՄ ԿԱՏԱՐՎՈՂ ՓՈՓՈԽՈՒԹՅՈՒՆԸ
G7: (հազ. դրամ)
A8: Ծրագրային դասիչը | C8: Բյուջետային ծրագրերի, միջոցառումների և աշխատանքների անվանումները | D8: Ցուցանիշների փոփոխությունը (ավելացումները նշված են դրական նշանով)
D9: Առաջին եռամսյակ | E9: Առաջին կիսամյակ | F9: Ինն ամիս | G9: Տարի
A10: ծրագիրը | B10: միջոցառումը | E10: Առաջին կիսամյակ | F10: Ինն ամիս | G10: տարի
A11: 1049 | B11: ='Հավելված 1'!C16 -> Ճանապարհային ցանցի բարելավում | D11: =D12 -> -285000 | E11: =E12 -> -285000 | F11: =F12 -> -285000 | G11: =G12 -> -285000
B12: 11001 | C12: ='Հավելված 1'!C23 -> Միջպետական և հանրապետական նշանակության ավտոճանապարհների պահպանման և անվտանգ երթևեկության ծառայություններ | D12: ='Հավելված 1'!D22 -> -285000 | E12: ='Հավելված 1'!E22 -> -285000 | F12: ='Հավելված 1'!F22 -> -285000 | G12: ='Հավելված 1'!G22 -> -285000
C13: 1. Ավտոճանապարհների ձմեռային և ընթացիկ պահպանում, այդ թվում՝ | D13: =D14 -> -285000 | E13: =E14 -> -285000 | F13: =F14 -> -285000 | G13: =G14 -> -285000
C14: 1.1 Միջպետական և հանրապետական նշանակության ավտոճանապարհների նշագծում | D14: ='Հավելված 1'!D22 -> -285000 | E14: ='Հավելված 1'!E22 -> -285000 | F14: ='Հավելված 1'!F22 -> -285000 | G14: ='Հավելված 1'!G22 -> -285000

Sheet Հավելված 4
G1: Հավելված N4
G2: ՀՀ կառավարության 2020 թվականի
G3: __________-ի N____-Ն որոշման
A5: ՀԱՅԱՍՏԱՆԻ ՀԱՆՐԱՊԵՏՈՒԹՅԱՆ ԿԱՌԱՎԱՐՈՒԹՅԱՆ 2019 ԹՎԱԿԱՆԻ ԴԵԿՏԵՄԲԵՐԻ 26-Ի N 1919-Ն ՈՐՈՇՄԱՆ
A6: N 5 ՀԱՎԵԼՎԱԾԻ N 6 ԱՂՅՈՒՍԱԿՈՒՄ ԿԱՏԱՐՎՈՂ ՓՈՓՈԽՈՒԹՅՈՒՆԸ
G7: (հազ. դրամ)
A8: Ծրագրային դասիչը | C8: Հատկացումների տրամադրման նպատակները և բյուջետային գլխավոր կարգադրիչների, ծրագրերի, միջոցառումների և կատարող պետական մարմինների անվանումները | D8: Ցուցանիշների փոփոխությունը (ավելացումները նշված են դրական նշանով)
D9: Առաջին եռամսյակ | E9: Առաջին կիսամյակ | F9: Ինն ամիս | G9: Տարի
A10: ծրագիրը | B10: միջոցառումը | E10: Առաջին կիսամյակ | F10: Ինն ամիս | G10: տարի
C11: ԸՆԴԱՄԵՆԸ | D11: =D16+D17 -> -433489.3 | E11: =E16+E17 -> -433489.3 | F11: =F16+F17 -> -433489.3 | G11: =G16+G17 -> -433489.3
A12: այդ թվում՝
A13: ՀՀ տարածքային կառավարման և ենթակառուցվածքների նախարարություն | D13: =D15 -> -433489.3 | E13: =E15 -> -433489.3 | F13: =F15 -> -433489.3 | G13: =G15 -> -433489.3
A14: այդ թվում̀
A15: 1157 | B15: Քաղաքային զարգացում | D15: =D16+D17 -> -433489.3 | E15: =E16+E17 -> -433489.3 | F15: =F16+F17 -> -433489.3 | G15: =G16+G17 -> -433489.3
B16: 12002 | C16: Երևան քաղաքի փողոցների արտաքին լուսավորության ծառայություններ | D16: ='Հավելված 2'!G47 -> -105089.3 | E16: ='Հավելված 2'!H47 -> -105089.3 | F16: ='Հավելված 2'!I47 -> -105089.3 | G16: ='Հավելված 2'!J47 -> -105089.3
B17: 12007 | C17: Երևան քաղաքի փողոցների ճանապարհաշինարարական աշխատանքներ | D17: ='Հավելված 1'!D42 -> -328400 | E17: ='Հավելված 1'!E42 -> -328400 | F17: ='Հավելված 1'!F42 -> -328400 | G17: ='Հավելված 1'!G42 -> -328400

Sheet Հավելված 5
E1: Հավելված N5
E2: ՀՀ կառավարության 2020 թվականի
E3: __________-ի N____-Ն որոշման
A5: ՀԱՅԱՍՏԱՆԻ ՀԱՆՐԱՊԵՏՈՒԹՅԱՆ ԿԱՌԱՎԱՐՈՒԹՅԱՆ 2019 ԹՎԱԿԱՆԻ ԴԵԿՏԵՄԲԵՐԻ 26-Ի N 1919-Ն ՈՐՈՇՄԱՆ
A6: N 5 ՀԱՎԵԼՎԱԾԻ N 7 ԱՂՅՈՒՍԱԿՈՒՄ ԿԱՏԱՐՎՈՂ ԼՐԱՑՈՒՄՆԵՐԸ
E8: (հազ. դրամ)
A9: Ծրագրային դասիչը | C9: Բյուջետային հատկացումների գլխավոր կարգադրիչների, ծրագրերի, միջոցառումների, ծախսային ուղղությունների անվանումները | D9: Միջոցառումները կատարող պետական մարմինների և դրամաշնորհ ստացող տնտեսավարող սուբյեկտների անվանումները | E9: Ցուցանիշների փոփոխությունը (ավելացումները նշված են դրական նշանով)
A10: ծրագիրը | B10: միջոցառումը | E10: տարի
A11: ՀՀ կրթության, գիտության, մշակույթի և սպորտի նախարարություն | E11: =E12 -> 718489.3
A12: 1168 | B12: Արվեստների ծրագիր | E12: =E13 -> 718489.3
B13: 32006 | C13: Կարեն Դեմիրճյանի անվան մարզահամերգային համալիրի կարողությունների զարգացում | D13: ՀՀ տարածքային կառավարման և ենթակառուցվածքների նախարարության պետական գույքի կառավարման կոմիտե | E13: =E14 -> 718489.3
D14: «Կարեն Դեմիրճյանի անվան մարզահամերգային համալիր» ՊՈԱԿ | E14: ='Հավելված 1'!D56 -> 718489.3

Sheet Հավելված 6
F1: Հավելված N6
F2: ՀՀ կառավարության 2020 թվականի
F3: __________-ի N____-Ն որոշման
A5: ՀԱՅԱՍՏԱՆԻ ՀԱՆՐԱՊԵՏՈՒԹՅԱՆ ԿԱՌԱՎԱՐՈՒԹՅԱՆ 2019 ԹՎԱԿԱՆԻ ԴԵԿՏԵՄԲԵՐԻ 26-Ի N 1919-Ն ՈՐՈՇՄԱՆ
A6: N 9 ՀԱՎԵԼՎԱԾԻ N 9.8, 9.14 և 9.47 ԱՂՅՈՒՍԱԿՆԵՐՈՒՄ ԿԱՏԱՐՎՈՂ ՓՈՓՈԽՈՒԹՅՈՒՆՆԵՐԸ ԵՎ ԼՐԱՑՈՒՄՆԵՐԸ
A8: ՀՀ տարածքային կառավարման և ենթակառուցվածքների նախարարություն
A9: ՄԱՍ 2. ՊԵՏԱԿԱՆ ՄԱՐՄՆԻ ԳԾՈՎ ԱՐԴՅՈՒՆՔԱՅԻՆ (ԿԱՏԱՐՈՂԱԿԱՆ) ՑՈՒՑԱՆԻՇՆԵՐԸ
A10: Ծրագրի դասիչը | B10: Ծրագրի անվանումը
A11: 1049 | B11: ='Հավելված 1'!C16 -> Ճանապարհային ցանցի բարելավում
A13: Ծրագրի միջոցառումները
A15: Ծրագրի դասիչը՝ | B15: 1049 | C15: Ցուցանիշների փոփոխությունը (ավելացումները նշված են դրական նշանով)
A16: Միջոցառման դասիչը՝ | B16: 11001 | C16: Առաջին եռամսյակ | D16: Առաջին կիսամյակ | E16: Ինն ամիս | F16: Տարի
A17: Միջոցառման անվանումը՝ | B17: ='Հավելված 1'!C23 -> Միջպետական և հանրապետական նշանակության ավտոճանապարհների պահպանման և անվտանգ երթևեկության ծառայություններ
A18: Նկարագրությունը՝ | B18: ='Հավելված 1'!C25 -> Հողային պաստառի, երթևեկելի մասի, արհեստական կառույցների և կահավորման տարրերի նորմատիվ մակարդակում պահպանում և շահագործում
A19: Միջոցառման տեսակը՝ | B19: ='Հավելված 1'!C27 -> Ծառայությունների մատուցում
A20: Միջոցառումն իրականացնողի անվանումը | B20: ՀՀ տարածքային կառավարման և ենթակառուցվածքների նախարարություն, մրցութային կարգով ընտրված կազմակերպություններ
B21: Արդյունքի չափորոշիչներ
A22: Պարբերական պահպանման/ միջին նորոգման ենթակա ճանապարհների երկարությունը, կիլոմետր
A23: Ամառային պահպանման ենթակա ավտոճանապարհների ընդհանուր երկարությունը (ոչ կուտակային ցուցանիշ), կիլոմետր
A24: Ձմեռային պահպանման ենթակա ավտոճանապարհների ընդհանուր երկարությունը (ոչ կուտակային ցուցանիշ), կիլոմետր
A25: Մետաղական արգելափակոցների պահպանման և վնասված հատվածների վերականգնման ընդհանուր երկարությունը (ոչ կուտակային ցուցանիշ), կիլոմետր
A26: Ընդհանուր օգտագործման ավտոմոբիլային ճանապարհների վրա գտնվող և առանձին պահպանման հանձնվող տրանսպորտային օբյեկտների ընթացիկ պահպանում (ոչ կուտակային ցուցանիշ), հատ, այդ թվում
A27: Կամուրջներ
A28: Թունելներ
A29: Բավարար պահպանության մակարդակով ճանապարհների տեսակարար կշիռը տվյալ կարգի ճանապարհների նկատմամբ (ոչ կուտակային ցուցանիշ), տոկոս
A30: Սպասարկման միջին կշռված տոկոսը (ոչ կուտակային ցուցանիշ), տոկոս
A31: Միջոցառման վրա կատարվող ծախսը (հազար դրամ) | C31: ='Հավելված 1'!D22 -> -285000 | D31: ='Հավելված 1'!E22 -> -285000 | E31: ='Հավելված 1'!F22 -> -285000 | F31: ='Հավելված 1'!G22 -> -285000
A32: Ծրագրի դասիչը | B32: Ծրագրի անվանումը
A33: 1157 | B33: ='Հավելված 1'!C30 -> Քաղաքային զարգացում
A35: Ծրագրի միջոցառումները
A37: Ծրագրի դասիչը՝ | B37: 1157 | C37: Ցուցանիշների փոփոխությունը (ավելացումները նշված են դրական նշանով)
A38: Միջոցառման դասիչը՝ | B38: 12002 | C38: Առաջին եռամսյակ | D38: Առաջին կիսամյակ | E38: Ինն ամիս | F38: Տարի
A39: Միջոցառման անվանումը՝ | B39: ='Հավելված 1'!C37 -> Երևան քաղաքի փողոցների արտաքին լուսավորության ծառայություններ
A40: Նկարագրությունը՝ | B40: ='Հավելված 1'!C39 -> Աջակցություն Երևանի քաղաքապետարանին Երևան քաղաքի փողոցների արտաքին լուսավորության ապահովման նպատակով
A41: Միջոցառման տեսակը՝ | B41: ='Հավելված 1'!C41 -> Տրանսֆերտների տրամադրում
A42: Շահառուների ընտրության չափանիշները | B42: ՀՀ բնակչություն
B43: Արդյունքի չափորոշիչներ
A44: Արտաքին լուսավորությամբ ապահովված փողոցների երկարություն, կմ
A45: Արտաքին լուսավորությամբ ապահովված օբյեկտների թիվ, հատ
A46: Միջոցառման վրա կատարվող ծախսը (հազար դրամ) | C46: ='Հավելված 4'!D16 -> -105089.3 | D46: ='Հավելված 4'!E16 -> -105089.3 | E46: ='Հավելված 4'!F16 -> -105089.3 | F46: ='Հավելված 4'!G16 -> -105089.3
...

Sheet Հավելված 7
F1: Հավելված N7
F2: ՀՀ կառավարության 2020 թվականի
F3: __________-ի N____-Ն որոշման
A5: ՀԱՅԱՍՏԱՆԻ ՀԱՆՐԱՊԵՏՈՒԹՅԱՆ ԿԱՌԱՎԱՐՈՒԹՅԱՆ 2019ԹՎԱԿԱՆԻ ԴԵԿՏԵՄԲԵՐԻ 26-Ի N 1919-Ն ՈՐՈՇՄԱՆ
A6: N 9.1 ՀԱՎԵԼՎԱԾԻ N9.1.8, 9.1.34 և 9.1.58 ԱՂՅՈՒՍԱԿՈՒՄ ԿԱՏԱՐՎՈՂ ՓՈՓՈԽՈՒԹՅՈՒՆՆԵՐԸ ԵՎ ԼՐԱՑՈՒՄՆԵՐԸ
A8: ՀՀ տարածքային կառավարման և ենթակառուցվածքների նախարարություն
A10: ՄԱՍ 1. ՊԵՏԱԿԱՆ ՄԱՐՄՆԻ ԳԾՈՎ ԱՐԴՅՈՒՆՔԱՅԻՆ (ԿԱՏԱՐՈՂԱԿԱՆ) ՑՈՒՑԱՆԻՇՆԵՐԸ
A12: Ծրագրի դասիչը | B12: Ծրագրի անվանումը
A13: 1049 | B13: Ճանապարհային ցանցի բարելավում
A15: Ծրագրի միջոցառումները
A17: Ծրագրի դասիչը՝ | B17: 1049 | C17: Ցուցանիշների փոփոխությունը (ավելացումները նշված են դրական նշանով)
A18: Միջոցառման դասիչը՝ | B18: 11001 | C18: Առաջին եռամսյակ | D18: Առաջին կիսամյակ | E18: Ինն ամիս | F18: Տարի
A19: Միջոցառման անվանումը՝ | B19: ='Հավելված 6'!B17 -> Միջպետական և հանրապետական նշանակության ավտոճանապարհների պահպանման և անվտանգ երթևեկության ծառայություններ
A20: Նկարագրությունը՝ | B20: ='Հավելված 6'!B18 -> Հողային պաստառի, երթևեկելի մասի, արհեստական կառույցների և կահավորման տարրերի նորմատիվ մակարդակում պահպանում և շահագործում
A21: Միջոցառման տեսակը՝ | B21: ='Հավելված 6'!B19 -> Ծառայությունների մատուցում
A22: Միջոցառումն իրականացնողի անվանումը | B22: ='Հավելված 6'!B20 -> ՀՀ տարածքային կառավարման և ենթակառուցվածքների նախարարություն, մրցութային կարգով ընտրված կազմակերպություններ
B23: Արդյունքի չափորոշիչներ
A24: Պարբերական պահպանման/ միջին նորոգման ենթակա ճանապարհների երկարությունը, կիլոմետր
A25: Ամառային պահպանման ենթակա ավտոճանապարհների ընդհանուր երկարությունը (ոչ կուտակային ցուցանիշ), կիլոմետր
A26: Ձմեռային պահպանման ենթակա ավտոճանապարհների ընդհանուր երկարությունը (ոչ կուտակային ցուցանիշ), կիլոմետր
A27: Մետաղական արգելափակոցների պահպանման և վնասված հատվածների վերականգնման ընդհանուր երկարությունը (ոչ կուտակային ցուցանիշ), կիլոմետր
A28: Ընդհանուր օգտագործման ավտոմոբիլային ճանապարհների վրա գտնվող և առանձին պահպանման հանձնվող տրանսպորտային օբյեկտների ընթացիկ պահպանում (ոչ կուտակային ցուցանիշ), հատ, այդ թվում
A29: Կամուրջներ
A30: Թունելներ
A31: Բավարար պահպանության մակարդակով ճանապարհների տեսակարար կշիռը տվյալ կարգի ճանապարհների նկատմամբ (ոչ կուտակային ցուցանիշ), տոկոս
A32: Սպասարկման միջին կշռված տոկոսը (ոչ կուտակային ցուցանիշ), տոկոս
A33: Միջոցառման վրա կատարվող ծախսը (հազար դրամ) | C33: ='Հավելված 6'!C31 -> -285000 | D33: ='Հավելված 6'!D31 -> -285000 | E33: ='Հավելված 6'!E31 -> -285000 | F33: ='Հավելված 6'!F31 -> -285000
A34: Ծրագրի դասիչը | B34: Ծրագրի անվանումը
A35: 1157 | B35: ='Հավելված 6'!B33 -> Քաղաքային զարգացում
A37: Ծրագրի միջոցառումները
A39: Ծրագրի դասիչը՝ | B39: 1157 | C39: Ցուցանիշների փոփոխությունը (ավելացումները նշված են դրական նշանով)
A40: Միջոցառման դասիչը՝ | B40: ='Հավելված 6'!B38 -> 12002 | C40: Առաջին եռամսյակ | D40: Առաջին կիսամյակ | E40: Ինն ամիս | F40: Տարի
A41: Միջոցառման անվանումը՝ | B41: ='Հավելված 6'!B39 -> Երևան քաղաքի փողոցների արտաքին լուսավորության ծառայություններ
A42: Նկարագրությունը՝ | B42: ='Հավելված 6'!B40 -> Աջակցություն Երևանի քաղաքապետարանին Երևան քաղաքի փողոցների արտաքին լուսավորության ապահովման նպատակով
A43: Միջոցառման տեսակը՝ | B43: ='Հավելված 6'!B41 -> Տրանսֆերտների տրամադրում
A44: Շահառուների ընտրության չափանիշները | B44: ՀՀ բնակչություն
B45: Արդյունքի չափորոշիչներ
A46: Արտաքին լուսավորությամբ ապահովված փողոցների երկարություն, կմ
A47: Արտաքին լուսավորությամբ ապահովված օբյեկտների թիվ, հատ
A48: Միջոցառման վրա կատարվող ծախսը (հազար դրամ) | C48: ='Հավելված 4'!D16 -> -105089.3 | D48: ='Հավելված 4'!E16 -> -105089.3 | E48: ='Հավելված 4'!F16 -> -105089.3 | F48: ='Հավելված 4'!G16 -> -105089.3
...

Sheet Лист1

Sheet Հավելված 8
G1: Հավելված N 8
F2: ՀՀ կառավարության 2020 թվականի
F3: ___________ ___-ի N _______ -Ն
A6: ՀԱՅԱՍՏԱՆԻ ՀԱՆՐԱՊԵՏՈՒԹՅԱՆ ԿԱՌԱՎԱՐՈՒԹՅԱՆ 2019 ԹՎԱԿԱՆԻ ԴԵԿՏԵՄԲԵՐԻ 26-Ի N 1919-Ն ՈՐՈՇՄԱՆ N 10 ՀԱՎԵԼՎԱԾՈՒՄ ԿԱՏԱՐՎՈՂ ՓՈՓՈԽՈՒԹՅՈՒՆԸ
A7: Գնման առարկայի | H7: Ցուցանիշների փոփոխությունը (ավելացումները նշված են դրական նշանով) Գումարը (հազ. դրամ)
A8: կոդը | B8: անվանումը | C8: գնման ձևը | D8: չափման միավորը | E8: միավորի գինը | F8: քանակը
A10: 1 | B10: 2 | C10: 3 | D10: 4 | E10: 5 | F10: 6 | H10: 7
A11: ՀՀ տարածքային կառավարման և ենթակառուցվածքների նախարարություն | H11: =H12 -> -285000
A12: Բաժին N 04 | B12: Խումբ N 05 | C12: Դաս N 01 | D12: Ճանապարհային տրանսպորտ | H12: =H13 -> -285000
A13: 1049 11001 Միջպետական և հանրապետական նշանակության ավտոճանապարհների պահպանման և անվտանգ երթևեկության ծառայություններ | H13: =H14 -> -285000
A14: ՄԱՍ II. ԱՇԽԱՏԱՆՔՆԵՐ | H14: =H15 -> -285000
A15: 45231176-1 | B15: ճանապարհների պահպանման աշխատանքներ | C15: ԲՄ | D15: դրամ | E15: =-285000000 -> -285000000 | G15: 1 | H15: ='Հավելված 1'!D22 -> -285000
