Workbook

Sheet Հավելված 1
G1: Հավելված N1
G2: ՀՀ կառավարության 2020 թվականի
G3: __________-ի N____-Ն որոշման
A5: «ՀԱՅԱՍՏԱՆԻ ՀԱՆՐԱՊԵՏՈՒԹՅԱՆ 2020 ԹՎԱԿԱՆԻ ՊԵՏԱԿԱՆ ԲՅՈՒՋԵԻ ՄԱՍԻՆ» ՀԱՅԱՍՏԱՆԻ ՀԱՆՐԱՊԵՏՈՒԹՅԱՆ ՕՐԵՆՔԻ N 1 ՀԱՎԵԼՎԱԾԻ N 2 ԱՂՅՈՒՍԱԿՈՒՄ ԿԱՏԱՐՎՈՂ ՎԵՐԱԲԱՇԽՈՒՄԸ ԵՎ ՀԱՅԱՍՏԱՆԻ ՀԱՆՐԱՊԵՏՈՒԹՅԱՆ ԿԱՌԱՎԱՐՈՒԹՅԱՆ 2019 ԹՎԱԿԱՆԻ ԴԵԿՏԵՄԲԵՐԻ 26-Ի N 1919-Ն ՈՐՈՇՄԱՆ N 5 ՀԱՎԵԼՎԱԾԻ N 1 ԱՂՅՈՒՍԱԿՈՒՄ ԿԱՏԱՐՎՈՂ ՓՈՓՈԽՈՒԹՅՈՒՆՆԵՐԸ ԵՎ ԼՐԱՑՈՒՄՆԵՐԸ
G10: (հազ. դրամ)
A11: Ծրագրային դասիչը | C11: Բյուջետային հատկացումների գլխավոր կարգադրիչների, ծրագրերի և միջոցառումների անվանումները | D11: Ցուցանիշների փոփոխությունը (ավելացումները նշված են դրական նշանով)
A12: Ծրագիր | B12: Միջոցառում | D12: Առաջին եռամսյակ | E12: Առաջին կիսամյակ | F12: Ինն ամիս | G12: Տարի
C13: ԸՆԴԱՄԵՆԸ | D13: =D14+D48 -> 0 | E13: =E14+E48 -> 0 | F13: =F14+F48 -> 0 | G13: =G14+G48 -> 0
C14: ՀՀ տարածքային կառավարման և ենթակառուցվածքների նախարարության | D14: =D15+D28 -> -718489.3 | E14: =E15+E28 -> -718489.3 | F14: =F15+F28 -> -718489.3 | G14: =G15+G28 -> -718489.3
A15: 1049 | C15: Ծրագրի անվանումը՝ | D15: =D22 -> -285000 | E15: =E22 -> -285000 | F15: =F22 -> -285000 | G15: =G22 -> -285000
C16: Ճանապարհային ցանցի բարելավում
C17: Ծրագրի նպատակը՝
C18: Ճանապարհային ցանցի բարելավում և անվտանգ երթևեկության ապահովում
C19: Վերջնական արդյունքի նկարագրությունը՝
C20: Ճանապարհների ծածկի որակի և փոխադրումների արդյունավետության բարելավում, ճանապարհների վիճակով պայմանավորված պատահարների նվազում
C21: Ծրագրի միջոցառումներ
B22: 11001 | C22: Միջոցառման անվանումը` | D22: -285000 | E22: -285000 | F22: -285000 | G22: -285000
C23: Միջպետական և հանրապետական նշանակության ավտոճանապարհների պահպանման և անվտանգ երթևեկության ծառայություններ
C24: Միջոցառման նկարագրությունը`
C25: Հողային պաստառի, երթևեկելի մասի, արհեստական կառույցների և կահավորման տարրերի նորմատիվ մակարդակում պահպանում և շահագործում
C26: Միջոցառման տեսակը
C27: Ծառայությունների մատուցում
C28: ՀՀ տարածքային կառավարման և ենթակառուցվածքների նախարարության | D28: =D36+D42 -> -433489.3 | E28: =E36+E42 -> -433489.3 | F28: =F36+F42 -> -433489.3 | G28: =G36+G42 -> -433489.3
A29: 1157 | C29: Ծրագրի անվանումը՝ | D29: =D36+D42 -> -433489.3 | E29: =E36+E42 -> -433489.3 | F29: =F36+F42 -> -433489.3 | G29: =G36+G42 -> -433489.3
C30: Քաղաքային զարգացում
C31: Ծրագրի նպատակը՝
C32: Քաղաքային ենթակառուցվածքների զարգացում
C33: Վերջնական արդյունքի նկարագրությունը՝
C34: Քաղաքային ենթակառուցվածքների արդիականացում և բարելավում
C35: Ծրագրի միջոցառումներ
B36: 12002 | C36: Միջոցառման անվանումը` | D36: -105089.3 | E36: =D36 -> -105089.3 | F36: =E36 -> -105089.3 | G36: =F36 -> -105089.3
C37: Երևան քաղաքի փողոցների արտաքին լուսավորության ծառայություններ
C38: Միջոցառման նկարագրությունը`
C39: Աջակցություն Երևանի քաղաքապետարանին Երևան քաղաքի փողոցների արտաքին լուսավորության ապահովման նպատակով
C40: Միջոցառման տեսակը
C41: Տրանսֆերտների տրամադրում
B42: 12007 | C42: Միջոցառման անվանումը` | D42: -328400 | E42: =D42 -> -328400 | F42: =E42 -> -328400 | G42: =F42 -> -328400
C43: Երևան քաղաքի փողոցների ճանապարհաշինարարական աշխատանքներ
C44: Միջոցառման նկարագրությունը`
C45: Աջակցություն Երևանի քաղաքապետարանին Երևան քաղաքի փողոցների վերանորոգման, վերակառուցման և ճաքալցման ծառայությունների մատուցման նպատակով
C46: Միջոցառման տեսակը
C47: Տրանսֆերտների տրամադրում
C48: ՀՀ կրթության, գիտության, մշակույթի և սպորտի նախարարություն | D48: =D49 -> 718489.3 | E48: =E49 -> 718489.3 | F48: =F49 -> 718489.3 | G48: =G49 -> 718489.3
A49: 1168 | B49: ՛ | C49: Ծրագրի անվանումը՝ | D49: =D56 -> 718489.3 | E49: =E56 -> 718489.3 | F49: =F56 -> 718489.3 | G49: =G56 -> 718489.3
C50: Արվեստների ծրագիր
C51: Ծրագրի նպատակը՝
C52: Նպաստել ազգային հենքի վրա ժամանակակից թատերարվեստի, երաժշտարվեստի, կերպարվեստի և պարարվեստի զարգացմանը և հանրահռչակմանը
C53: Վերջնական արդյունքի նկարագրությունը՝
C54: Մրցունակ արվեստային արտադրանքի ստեղծում, ստեղծագործական գործընթացների խթանում, արվեստի նոր նախագծերի ներդրում և մշակութային կյանքում հասարակության ներգրավում
C55: Ծրագրի միջոցառումներ
B56: 32006 | C56: Միջոցառման անվանումը` | D56: 718489.3 | E56: 718489.3 | F56: 718489.3 | G56: 718489.3
C57: Կարեն Դեմիրճյանի անվան մարզահամերգային համալիրի կարողությունների զարգացում
C58: Միջոցառման նկարագրությունը`
C59: «Կարեն Դեմիրճյանի անվան մարզահամերգային համալիր» պետական ոչ առևտրային կազմակերպությանը անհրաժեշտ լուսադիոդային լուսատուներ, սահադաշտի վերազինման համար սառնարանային սարքերի կոմպրեսորներ ու սարքավորումներ և երաժշտական գործիքի (ռոյալ) ձեռքբերում:
C60: Միջոցառման տեսակը
C61: Այլ պետական կազմակերպությունների կողմից օգտագործվող ոչ ֆինանսական ակտիվների հետ գործառնություններ
C62: ՀՀ կառավարություն | D62: =D64 -> 0 | E62: =E64 -> 0 | F62: =F64 -> 0 | G62: =G64 -> 0
A63: 1139 | C63: Ծրագրի անվանումը`
C64: ՀՀ կառավարության պահուստային ֆոնդ | D64: =D71+D78 -> 0 | E64: =E71+E78 -> 0 | F64: =F71+F78 -> 0 | G64: =G71+G78 -> 0
C65: Ծրագրի նպատակը`
C66: Պետական բյուջեում չկանխատեսված՝ ինչպես նաեւ բյուջետային երաշխիքների ապահովման ծախսերի ֆինանսավորման ապահովում
C67: Վերջնական արդյունքի նկարագրությունը`
C68: Պահուստային ֆոնդի կառավարման արդյունավետության և թափանցիկության
A69: Ծրագրի միջոցառումներ
B70: 11001 | C70: Միջոցառման անվանումը`
C71: ՀՀ կառավարության պահուստային ֆոնդ | D71: 718489.3 | E71: 718489.3 | F71: 718489.3 | G71: 718489.3
C72: Միջոցառման նկարագրությունը`
C73: ՀՀ պետական բյուջեում նախատեսված ելքերի լրացուցիչ ֆինանսավորման՝ պետական բյուջեում չկանխատեսված ելքերի՝ ինչպես նաև բյուջետային երաշխիքների ապահովման ելքերի ֆինանսավորման ապահովում
C74: Միջոցառման տեսակը
C75: Ծառայությունների մատուցում
A76: Ծրագրի միջոցառումներ
B77: 11001 | C77: Միջոցառման անվանումը`
C78: ՀՀ կառավարության պահուստային ֆոնդ | D78: -718489.3 | E78: -718489.3 | F78: -718489.3 | G78: -718489.3
C79: Միջոցառման նկարագրությունը`
C80: ՀՀ պետական բյուջեում նախատեսված ելքերի լրացուցիչ ֆինանսավորման՝ պետական բյուջեում չկանխատեսված ելքերի՝ ինչպես նաև բյուջետային երաշխիքների ապահովման ելքերի ֆինանսավորման ապահովում
C81: Միջոցառման տեսակը
C82: Ծառայությունների մատուցում

Sheet Հավելված 2
J1: Հավելված N2
J2: ՀՀ կառավարության 2020 թվականի
J3: __________-ի N____-Ն որոշման
A5: ՀԱՅԱՍՏԱՆԻ ՀԱՆՐԱՊԵՏՈՒԹՅԱՆ ԿԱՌԱՎԱՐՈՒԹՅԱՆ 2019 ԹՎԱԿԱՆԻ ԴԵԿՏԵՄԲԵՐԻ 26-Ի N 1919-Ն ՈՐՈՇՄԱՆ
A6: NN 3 ԵՎ 4 ՀԱՎԵԼՎԱԾՆԵՐՈՒՄ ԿԱՏԱՐՎՈՂ ՓՈՓՈԽՈՒԹՅՈՒՆՆԵՐԸ ԵՎ ԼՐԱՑՈՒՄՆԵՐԸ
J8: (հազ. դրամ)
A9: Գործառական դասիչը | D9: Ծրագրային դասիչը | F9: Բյուջետային հատկացումների գլխավոր կարգադրիչների, ծրագրերի, միջոցառումների և միջոցառումները կատարող պետական մարմինների անվանումները | G9: Առաջին եռամսյակ | H9: Առաջին կիսամյակ | I9: Ինն ամիս | J9: Տարի
A10: բաժինը | B10: խումբը | C10: դասը | D10: ծրագիրը | E10: միջոցառումը | H10: Առաջին կիսամյակ | I10: Ինն ամիս | J10: տարի
F11: ԸՆԴԱՄԵՆԸ ԾԱԽՍԵՐ այդ թվում | G11: =G12+G30+G57 -> 0 | H11: =H12+H30+H57 -> 0 | I11: =I12+I30+I57 -> 0 | J11: =J12+J30+J57 -> 0
A12: 04 | F12: ՏՆՏԵՍԱԿԱՆ ՀԱՐԱԲԵՐՈՒԹՅՈՒՆՆԵՐ | G12: -285000 | H12: -285000 | I12: -285000 | J12: -285000
F13: այդ թվում`
B14: 05 | F14: Տրանսպորտ | G14: -285000 | H14: -285000 | I14: -285000 | J14: -285000
F15: այդ թվում`
C16: 01 | F16: Ճանապարհային տրանսպորտ | G16: -285000 | H16: -285000 | I16: -285000 | J16: -285000
F17: ՀՀ տարածքային կառավարման և ենթակառուցվածքների նախարարություն
F18: այդ թվում`
D19: 1049 | F19: Ճանապարհային ցանցի բարելավում | G19: -285000 | H19: -285000 | I19: -285000 | J19: -285000
F20: այդ թվում՝
E21: 11001 | F21: ='Հավելված 1'!C23 -> Միջպետական և հանրապետական նշանակության ավտոճանապարհների պահպանման և անվտանգ երթևեկության ծառայություններ | G21: -285000 | H21: -285000 | I21: -285000 | J21: -285000
F22: այդ թվում` ըստ կատարողների
F23: ՀՀ տարածքային կառավարման և ենթակառուցվածքների նախարարություն | G23: -285000 | H23: -285000 | I23: -285000 | J23: -285000
F24: այդ թվում` բյուջետային ծախսերի տնտեսագիտական դասակարգման հոդվածներ
F25: ԸՆԴԱՄԵՆԸ ԾԱԽՍԵՐ | G25: -285000 | H25: -285000 | I25: -285000 | J25: -285000
F26: ԸՆԹԱՑԻԿ ԾԱԽՍԵՐ | G26: -285000 | H26: -285000 | I26: -285000 | J26: -285000
F27: ԾԱՌԱՅՈՒԹՅՈՒՆՆԵՐԻ ԵՎ ԱՊՐԱՆՔՆԵՐԻ ՁԵՌՔԲԵՐՈՒՄ | G27: -285000 | H27: -285000 | I27: -285000 | J27: -285000
F28: Ընթացիկ նորոգում և պահպանում (ծառայություններ և նյութեր) | G28: -285000 | H28: -285000 | I28: -285000 | J28: -285000
F29: - Շենքերի և կառույցների ընթացիկ նորոգում և պահպանում | G29: ='Հավելված 1'!D22 -> -285000 | H29: ='Հավելված 1'!E22 -> -285000 | I29: ='Հավելված 1'!F22 -> -285000 | J29: ='Հավելված 1'!G22 -> -285000
A30: 06 | F30: ԲՆԱԿԱՐԱՆԱՅԻՆ ՇԻՆԱՐԱՐՈՒԹՅՈՒՆ ԵՎ ԿՈՄՈՒՆԱԼ ԾԱՌԱՅՈՒԹՅՈՒՆՆԵՐ | G30: -433489.3 | H30: -433489.3 | I30: -433489.3 | J30: -433489.3
F31: այդ թվում`
B32: 04 | F32: Փողոցների լուսավորում | G32: -433489.3 | H32: -433489.3 | I32: -433489.3 | J32: -433489.3
F33: այդ թվում`
C34: 01 | F34: Փողոցների լուսավորում | G34: -433489.3 | H34: -433489.3 | I34: -433489.3 | J34: -433489.3
F35: ՀՀ տարածքային կառավարման և ենթակառուցվածքների նախարարություն
F36: այդ թվում`
D37: 1157 | F37: Քաղաքային զարգացում | G37: =G39+G48 -> -433489.3 | H37: =H39+H48 -> -433489.3 | I37: =I39+I48 -> -433489.3 | J37: =J39+J48 -> -433489.3
F38: այդ թվում՝
E39: 12002 | F39: Երևան քաղաքի փողոցների արտաքին լուսավորության ծառայություններ | G39: -105089.3 | H39: -105089.3 | I39: -105089.3 | J39: -105089.3
F40: այդ թվում` ըստ կատարողների
F41: ՀՀ տարածքային կառավարման և ենթակառուցվածքների նախարարություն | G41: -105089.3 | H41: -105089.3 | I41: -105089.3 | J41: -105089.3
F42: այդ թվում` բյուջետային ծախսերի տնտեսագիտական դասակարգման հոդվածներ
F43: ԸՆԴԱՄԵՆԸ ԾԱԽՍԵՐ | G43: -105089.3 | H43: -105089.3 | I43: -105089.3 | J43: -105089.3
F44: ԸՆԹԱՑԻԿ ԾԱԽՍԵՐ | G44: -105089.3 | H44: -105089.3 | I44: -105089.3 | J44: -105089.3
F45: ԴՐԱՄԱՇՆՈՐՀՆԵՐ | G45: -105089.3 | H45: -105089.3 | I45: -105089.3 | J45: -105089.3
F46: Ընթացիկ դրամաշնորհներ պետական հատվածի այլ մակարդակներին | G46: -105089.3 | H46: -105089.3 | I46: -105089.3 | J46: -105089.3
F47: - Ընթացիկ սուբվենցիաներ համայնքներին | G47: ='Հավելված 1'!D36 -> -105089.3 | H47: ='Հավելված 1'!E36 -> -105089.3 | I47: ='Հավելված 1'!F36 -> -105089.3 | J47: ='Հավելված 1'!G36 -> -105089.3
E48: 12007 | F48: ='Հավելված 1'!C43 -> Երևան քաղաքի փողոցների ճանապարհաշինարարական աշխատանքներ | G48: -328400 | H48: -328400 | I48: -328400 | J48: -328400
F49: այդ թվում` ըստ կատարողների
F50: ՀՀ տարածքային կառավարման և ենթակառուցվածքների նախարարություն | G50: -328400 | H50: -328400 | I50: -328400 | J50: -328400
F51: այդ թվում` բյուջետային ծախսերի տնտեսագիտական դասակարգման հոդվածներ
F52: ԸՆԴԱՄԵՆԸ ԾԱԽՍԵՐ | G52: -328400 | H52: -328400 | I52: -328400 | J52: -328400
F53: ԸՆԹԱՑԻԿ ԾԱԽՍԵՐ | G53: -328400 | H53: -328400 | I53: -328400 | J53: -328400
F54: ԴՐԱՄԱՇՆՈՐՀՆԵՐ | G54: -328400 | H54: -328400 | I54: -328400 | J54: -328400
F55: Ընթացիկ դրամաշնորհներ պետական հատվածի այլ մակարդակներին | G55: -328400 | H55: -328400 | I55: -328400 | J55: -328400
F56: - Ընթացիկ սուբվենցիաներ համայնքներին | G56: ='Հավելված 1'!D42 -> -328400 | H56: ='Հավելված 1'!E42 -> -328400 | I56: ='Հավելված 1'!F42 -> -328400 | J56: ='Հավելված 1'!G42 -> -328400
A57: 08 | F57: ՀԱՆԳԻՍՏ, ՄՇԱԿՈՒՅԹ ԵՎ ԿՐՈՆ | G57: 718489.3 | H57: 718489.3 | I57: 718489.3 | J57: 718489.3
F58: այդ թվում`
B59: 02 | F59: Մշակութային ծառայություններ | G59: 718489.3 | H59: 718489.3 | I59: 718489.3 | J59: 718489.3
F60: այդ թվում`
C61: 05 | F61: Արվեստ | G61: 718489.3 | H61: 718489.3 | I61: 718489.3 | J61: 718489.3
F62: ՀՀ կրթության, գիտության, մշակույթի և սպորտի նախարարություն
F63: այդ թվում`
D64: 1168 | F64: Արվեստների ծրագիր | G64: 718489.3 | H64: 718489.3 | I64: 718489.3 | J64: 718489.3
F65: այդ թվում՝
E66: 32006 | F66: Կարեն Դեմիրճյանի անվան մարզահամերգային համալիրի կարողությունների զարգացում | G66: 718489.3 | H66: 718489.3 | I66: 718489.3 | J66: 718489.3
F67: այդ թվում` ըստ կատարողների
F68: ՀՀ տարածքային կառավարման և ենթակառուցվածքների նախարարության պետական գույքի կառավարման կոմիտե | G68: 718489.3 | H68: 718489.3 | I68: 718489.3 | J68: 718489.3
F69: այդ թվում` բյուջետային ծախսերի տնտեսագիտական դասակարգման հոդվածներ
F70: ԸՆԴԱՄԵՆԸ ԾԱԽՍԵՐ | G70: 718489.3 | H70: 718489.3 | I70: 718489.3 | J70: 718489.3
F71: ԸՆԹԱՑԻԿ ԾԱԽՍԵՐ | G71: 718489.3 | H71: 718489.3 | I71: 718489.3 | J71: 718489.3
F72: ԴՐԱՄԱՇՆՈՐՀՆԵՐ | G72: 718489.3 | H72: 718489.3 | I72: 718489.3 | J72: 718489.3
F73: Կապիտալ դրամաշնորհներ պետական հատվածի այլ մակարդակներին | G73: 718489.3 | H73: 718489.3 | I73: 718489.3 | J73: 718489.3
F74: - Կապիտալ դրամաշնորհներ պետական և համայնքային ոչ առևտրային կազմակերպություններին | G74: ='Հավելված 1'!D48 -> 718489.3 | H74: ='Հավելված 1'!E48 -> 718489.3 | I74: ='Հավելված 1'!F48 -> 718489.3 | J74: ='Հավելված 1'!G48 -> 718489.3
A75: 11 | F75: ՀԻՄՆԱԿԱՆ ԲԱԺԻՆՆԵՐԻՆ ՉԴԱՍՎՈՂ ՊԱՀՈՒՍՏԱՅԻՆ ՖՈՆԴԵՐ | G75: =G77 -> 0 | H75: =H77 -> 0 | I75: =I77 -> 0 | J75: =J77 -> 0
F76: այդ թվում`
B77: 01 | F77: ՀՀ կառավարության և համայնքների պահուստային ֆոնդ | G77: =G79 -> 0 | H77: =H79 -> 0 | I77: =I79 -> 0 | J77: =J79 -> 0
F78: այդ թվում`
C79: 01 | D79: 1139 | F79: ՀՀ կառավարության պահուստային ֆոնդ | G79: =G81+G90 -> 0 | H79: =H81+H90 -> 0 | I79: =I81+I90 -> 0 | J79: =J81+J90 -> 0
F80: այդ թվում`
E81: 11001 | F81: ՀՀ կառավարության պահուստային ֆոնդ | G81: 718489.3 | H81: 718489.3 | I81: 718489.3 | J81: 718489.3
F82: ՀՀ կառավարություն
F83: այդ թվում` ըստ կատարողների
F84: ՀՀ կառավարություն | G84: 718489.3 | H84: 718489.3 | I84: 718489.3 | J84: 718489.3
F85: այդ թվում` բյուջետային ծախսերի տնտեսագիտական դասակարգման հոդվածներ
F86: ԸՆԴԱՄԵՆԸ ԾԱԽՍԵՐ | G86: 718489.3 | H86: 718489.3 | I86: 718489.3 | J86: 718489.3
F87: ԸՆԹԱՑԻԿ ԾԱԽՍԵՐ | G87: 718489.3 | H87: 718489.3 | I87: 718489.3 | J87: 718489.3
F88: ԱՅԼ ԾԱԽՍԵՐ | G88: 718489.3 | H88: 718489.3 | I88: 718489.3 | J88: 718489.3
F89: Պահուստային միջոցներ | G89: 718489.3 | H89: 718489.3 | I89: 718489.3 | J89: 718489.3
E90: 11001 | F90: ՀՀ կառավարության պահուստային ֆոնդ | G90: =-G89 -> -718489.3 | H90: =-H89 -> -718489.3 | I90: =-I89 -> -718489.3 | J90: =-J89 -> -718489.3
F91: ՀՀ կառավարություն
F92: այդ թվում` ըստ կատարողների
F93: ՀՀ կառավարություն | G93: -718489.3 | H93: -718489.3 | I93: -718489.3 | J93: -718489.3
F94: այդ թվում` բյուջետային ծախսերի տնտեսագիտական դասակարգման հոդվածներ
F95: ԸՆԴԱՄԵՆԸ ԾԱԽՍԵՐ | G95: -718489.3 | H95: -718489.3 | I95: -718489.3 | J95: -718489.3
F96: ԸՆԹԱՑԻԿ ԾԱԽՍԵՐ | G96: -718489.3 | H96: -718489.3 | I96: -718489.3 | J96: -718489.3
F97: ԱՅԼ ԾԱԽՍԵՐ | G97: -718489.3 | H97: -718489.3 | I97: -718489.3 | J97: -718489.3
F98: Պահուստային միջոցներ | G98: -718489.3 | H98: -718489.3 | I98: -718489.3 | J98: -718489.3

Sheet Հավելված 3
G1: Հավելված N3
G2: ՀՀ կառավարության 2020 թվականի
G3: __________-ի N____-Ն որոշման
A5: «ՀԱՅԱՍՏԱՆԻ ՀԱՆՐԱՊԵՏՈՒԹՅԱՆ 2020 ԹՎԱԿԱՆԻ ՊԵՏԱԿԱՆ ԲՅՈՒՋԵԻ ՄԱՍԻՆ» ՀԱՅԱՍՏԱՆԻ ՀԱՆՐԱՊԵՏՈՒԹՅԱՆ ՕՐԵՆՔԻ N 1 ՀԱՎԵԼՎԱԾԻ N 6 ԱՂՅՈՒՍԱԿՈՒՄ ԵՎ ՀԱՅԱՍՏԱՆԻ ՀԱՆՐԱՊԵՏՈՒԹՅԱՆ ԿԱՌԱՎԱՐՈՒԹՅԱՆ 2019 ԹՎԱԿԱՆԻ ԴԵԿՏԵՄԲԵՐԻ 26-Ի N 1919-Ն ՈՐՈՇՄԱՆ N 5 ՀԱՎԵԼՎԱԾԻ N 5 ԱՂՅՈՒՍԱԿՈՒՄ ԿԱՏԱՐՎՈՂ ՓՈՓՈԽՈՒԹՅՈՒՆԸ
G7: (հազ. դրամ)
A8: Ծրագրային դասիչը | C8: Բյուջետային ծրագրերի, միջոցառումների և աշխատանքների անվանումները | D8: Ցուցանիշների փոփոխությունը (ավելացումները նշված են դրական նշանով)
D9: Առաջին եռամսյակ | E9: Առաջին կիսամյակ | F9: Ինն ամիս | G9: Տարի
A10: ծրագիրը | B10: միջոցառումը | E10: Առաջին կիսամյակ | F10: Ինն ամիս | G10: տարի
A11: 1049 | B11: ='Հավելված 1'!C16 -> Ճանապարհային ցանցի բարելավում | D11: =D12 -> -285000 | E11: =E12 -> -285000 | F11: =F12 -> -285000 | G11: =G12 -> -285000
B12: 11001 | C12: ='Հավելված 1'!C23 -> Միջպետական և հանրապետական նշանակության ավտոճանապարհների պահպանման և անվտանգ երթևեկության ծառայություններ | D12: ='Հավելված 1'!D22 -> -285000 | E12: ='Հավելված 1'!E22 -> -285000 | F12: ='Հավելված 1'!F22 -> -285000 | G12: ='Հավելված 1'!G22 -> -285000
C13: 1. Ավտոճանապարհների ձմեռային և ընթացիկ պահպանում, այդ թվում՝ | D13: =D14 -> -285000 | E13: =E14 -> -285000 | F13: =F14 -> -285000 | G13: =G14 -> -285000
C14: 1.1 Միջպետական և հանրապետական նշանակության ավտոճանապարհների նշագծում | D14: ='Հավելված 1'!D22 -> -285000 | E14: ='Հավելված 1'!E22 -> -285000 | F14: ='Հավելված 1'!F22 -> -285000 | G14: ='Հավելված 1'!G22 -> -285000

Sheet Հավելված 4
G1: Հավելված N4
G2: ՀՀ կառավարության 2020 թվականի
G3: __________-ի N____-Ն որոշման
A5: ՀԱՅԱՍՏԱՆԻ ՀԱՆՐԱՊԵՏՈՒԹՅԱՆ ԿԱՌԱՎԱՐՈՒԹՅԱՆ 2019 ԹՎԱԿԱՆԻ ԴԵԿՏԵՄԲԵՐԻ 26-Ի N 1919-Ն ՈՐՈՇՄԱՆ
A6: N 5 ՀԱՎԵԼՎԱԾԻ N 6 ԱՂՅՈՒՍԱԿՈՒՄ ԿԱՏԱՐՎՈՂ ՓՈՓՈԽՈՒԹՅՈՒՆԸ
G7: (հազ. դրամ)
A8: Ծրագրային դասիչը | C8: Հատկացումների տրամադրման նպատակները և բյուջետային գլխավոր կարգադրիչների, ծրագրերի, միջոցառումների և կատարող պետական մարմինների անվանումները | D8: Ցուցանիշների փոփոխությունը (ավելացումները նշված են դրական նշանով)
D9: Առաջին եռամսյակ | E9: Առաջին կիսամյակ | F9: Ինն ամիս | G9: Տարի
A10: ծրագիրը | B10: միջոցառումը | E10: Առաջին կիսամյակ | F10: Ինն ամիս | G10: տարի
C11: ԸՆԴԱՄԵՆԸ | D11: =D16+D17 -> -433489.3 | E11: =E16+E17 -> -433489.3 | F11: =F16+F17 -> -433489.3 | G11: =G16+G17 -> -433489.3
A12: այդ թվում՝
A13: ՀՀ տարածքային կառավարման և ենթակառուցվածքների նախարարություն | D13: =D15 -> -433489.3 | E13: =E15 -> -433489.3 | F13: =F15 -> -433489.3 | G13: =G15 -> -433489.3
A14: այդ թվում̀
A15: 1157 | B15: Քաղաքային զարգացում | D15: =D16+D17 -> -433489.3 | E15: =E16+E17 -> -433489.3 | F15: =F16+F17 -> -433489.3 | G15: =G16+G17 -> -433489.3
B16: 12002 | C16: Երևան քաղաքի փողոցների արտաքին լուսավորության ծառայություններ | D16: ='Հավելված 2'!G47 -> -105089.3 | E16: ='Հավելված 2'!H47 -> -105089.3 | F16: ='Հավելված 2'!I47 -> -105089.3 | G16: ='Հավելված 2'!J47 -> -105089.3
B17: 12007 | C17: Երևան քաղաքի փողոցների ճանապարհաշինարարական աշխատանքներ | D17: ='Հավելված 1'!D42 -> -328400 | E17: ='Հավելված 1'!E42 -> -328400 | F17: ='Հավելված 1'!F42 -> -328400 | G17: ='Հավելված 1'!G42 -> -328400

Sheet Հավելված 5
E1: Հավելված N5
E2: ՀՀ կառավարության 2020 թվականի
E3: __________-ի N____-Ն որոշման
A5: ՀԱՅԱՍՏԱՆԻ ՀԱՆՐԱՊԵՏՈՒԹՅԱՆ ԿԱՌԱՎԱՐՈՒԹՅԱՆ 2019 ԹՎԱԿԱՆԻ ԴԵԿՏԵՄԲԵՐԻ 26-Ի N 1919-Ն ՈՐՈՇՄԱՆ
A6: N 5 ՀԱՎԵԼՎԱԾԻ N 7 ԱՂՅՈՒՍԱԿՈՒՄ ԿԱՏԱՐՎՈՂ ԼՐԱՑՈՒՄՆԵՐԸ
E8: (հազ. դրամ)
A9: Ծրագրային դասիչը | C9: Բյուջետային հատկացումների գլխավոր կարգադրիչների, ծրագրերի, միջոցառումների, ծախսային ուղղությունների անվանումները | D9: Միջոցառումները կատարող պետական մարմինների և դրամաշնորհ ստացող տնտեսավարող սուբյեկտների անվանումները | E9: Ցուցանիշների փոփոխությունը (ավելացումները նշված են դրական նշանով)
A10: ծրագիրը | B10: միջոցառումը | E10: տարի
A11: ՀՀ կրթության, գիտության, մշակույթի և սպորտի նախարարություն | E11: =E12 -> 718489.3
A12: 1168 | B12: Արվեստների ծրագիր | E12: =E13 -> 718489.3
B13: 32006 | C13: Կարեն Դեմիրճյանի անվան մարզահամերգային համալիրի կարողությունների զարգացում | D13: ՀՀ տարածքային կառավարման և ենթակառուցվածքների նախարարության պետական գույքի կառավարման կոմիտե | E13: =E14 -> 718489.3
D14: «Կարեն Դեմիրճյանի անվան մարզահամերգային համալիր» ՊՈԱԿ | E14: ='Հավելված 1'!D56 -> 718489.3

Sheet Հավելված 6
F1: Հավելված N6
F2: ՀՀ կառավարության 2020 թվականի
F3: __________-ի N____-Ն որոշման
A5: ՀԱՅԱՍՏԱՆԻ ՀԱՆՐԱՊԵՏՈՒԹՅԱՆ ԿԱՌԱՎԱՐՈՒԹՅԱՆ 2019 ԹՎԱԿԱՆԻ ԴԵԿՏԵՄԲԵՐԻ 26-Ի N 1919-Ն ՈՐՈՇՄԱՆ
A6: N 9 ՀԱՎԵԼՎԱԾԻ N 9.8, 9.14 և 9.47 ԱՂՅՈՒՍԱԿՆԵՐՈՒՄ ԿԱՏԱՐՎՈՂ ՓՈՓՈԽՈՒԹՅՈՒՆՆԵՐԸ ԵՎ ԼՐԱՑՈՒՄՆԵՐԸ
A8: ՀՀ տարածքային կառավարման և ենթակառուցվածքների նախարարություն
A9: ՄԱՍ 2. ՊԵՏԱԿԱՆ ՄԱՐՄՆԻ ԳԾՈՎ ԱՐԴՅՈՒՆՔԱՅԻՆ (ԿԱՏԱՐՈՂԱԿԱՆ) ՑՈՒՑԱՆԻՇՆԵՐԸ
A10: Ծրագրի դասիչը | B10: Ծրագրի անվանումը
A11: 1049 | B11: ='Հավելված 1'!C16 -> Ճանապարհային ցանցի բարելավում
A13: Ծրագրի միջոցառումները
A15: Ծրագրի դասիչը՝ | B15: 1049 | C15: Ցուցանիշների փոփոխությունը (ավելացումները նշված են դրական նշանով)
A16: Միջոցառման դասիչը՝ | B16: 11001 | C16: Առաջին եռամսյակ | D16: Առաջին կիսամյակ | E16: Ինն ամիս | F16: Տարի
A17: Միջոցառման անվանումը՝ | B17: ='Հավելված 1'!C23 -> Միջպետական և հանրապետական նշանակության ավտոճանապարհների պահպանման և անվտանգ երթևեկության ծառայություններ
A18: Նկարագրությունը՝ | B18: ='Հավելված 1'!C25 -> Հողային պաստառի, երթևեկելի մասի, արհեստական կառույցների և կահավորման տարրերի նորմատիվ մակարդակում պահպանում և շահագործում
A19: Միջոցառման տեսակը՝ | B19: ='Հավելված 1'!C27 -> Ծառայությունների մատուցում
A20: Միջոցառումն իրականացնողի անվանումը | B20: ՀՀ տարածքային կառավարման և ենթակառուցվածքների նախարարություն, մրցութային կարգով ընտրված կազմակերպություններ
B21: Արդյունքի չափորոշիչներ
A22: Պարբերական պահպանման/ միջին նորոգման ենթակա ճանապարհների երկարությունը, կիլոմետր
A23: Ամառային պահպանման ենթակա ավտոճանապարհների ընդհանուր երկարությունը (ոչ կուտակային ցուցանիշ), կիլոմետր
A24: Ձմեռային պահպանման ենթակա ավտոճանապարհների ընդհանուր երկարությունը (ոչ կուտակային ցուցանիշ), կիլոմետր
A25: Մետաղական արգելափակոցների պահպանման և վնասված հատվածների վերականգնման ընդհանուր երկարությունը (ոչ կուտակային ցուցանիշ), կիլոմետր
A26: Ընդհանուր օգտագործման ավտոմոբիլային ճանապարհների վրա գտնվող և առանձին պահպանման հանձնվող տրանսպորտային օբյեկտների ընթացիկ պահպանում (ոչ կուտակային ցուցանիշ), հատ, այդ թվում
A27: Կամուրջներ
A28: Թունելներ
A29: Բավարար պահպանության մակարդակով ճանապարհների տեսակարար կշիռը տվյալ կարգի ճանապարհների նկատմամբ (ոչ կուտակային ցուցանիշ), տոկոս
A30: Սպասարկման միջին կշռված տոկոսը (ոչ կուտակային ցուցանիշ), տոկոս
A31: Միջոցառման վրա կատարվող ծախսը (հազար դրամ) | C31: ='Հավելված 1'!D22 -> -285000 | D31: ='Հավելված 1'!E22 -> -285000 | E31: ='Հավելված 1'!F22 -> -285000 | F31: ='Հավելված 1'!G22 -> -285000
A32: Ծրագրի դասիչը | B32: Ծրագրի անվանումը
A33: 1157 | B33: ='Հավելված 1'!C30 -> Քաղաքային զարգացում
A35: Ծրագրի միջոցառումները
A37: Ծրագրի դասիչը՝ | B37: 1157 | C37: Ցուցանիշների փոփոխությունը (ավելացումները նշված են դրական նշանով)
A38: Միջոցառման դասիչը՝ | B38: 12002 | C38: Առաջին եռամսյակ | D38: Առաջին կիսամյակ | E38: Ինն ամիս | F38: Տարի
A39: Միջոցառման անվանումը՝ | B39: ='Հավելված 1'!C37 -> Երևան քաղաքի փողոցների արտաքին լուսավորության ծառայություններ
A40: Նկարագրությունը՝ | B40: ='Հավելված 1'!C39 -> Աջակցություն Երևանի քաղաքապետարանին Երևան քաղաքի փողոցների արտաքին լուսավորության ապահովման նպատակով
A41: Միջոցառման տեսակը՝ | B41: ='Հավելված 1'!C41 -> Տրանսֆերտների տրամադրում
A42: Շահառուների ընտրության չափանիշները | B42: ՀՀ բնակչություն
B43: Արդյունքի չափորոշիչներ
A44: Արտաքին լուսավորությամբ ապահովված փողոցների երկարություն, կմ
A45: Արտաքին լուսավորությամբ ապահովված օբյեկտների թիվ, հատ
A46: Միջոցառման վրա կատարվող ծախսը (հազար դրամ) | C46: ='Հավելված 4'!D16 -> -105089.3 | D46: ='Հավելված 4'!E16 -> -105089.3 | E46: ='Հավելված 4'!F16 -> -105089.3 | F46: ='Հավելված 4'!G16 -> -105089.3
A47: Միջոցառման դասիչը՝ | B47: 12007
A48: Միջոցառման անվանումը՝ | B48: ='Հավելված 2'!F48 -> Երևան քաղաքի փողոցների ճանապարհաշինարարական աշխատանքներ
A49: Նկարագրությունը՝ | B49: ='Հավելված 1'!C45 -> Աջակցություն Երևանի քաղաքապետարանին Երևան քաղաքի փողոցների վերանորոգման, վերակառուցման և ճաքալցման ծառայությունների մատուցման նպատակով
A50: Միջոցառման տեսակը՝ | B50: Տրանսֆերտների տրամադրում
A51: Շահառուների ընտրության չափանիշները | B51: ՀՀ բնակչություն
B52: Արդյունքի չափորոշիչներ
A53: Երևանի վերանորոգված փողոցների թիվ, հատ
A54: Երևանի վերանորոգված փողոցներ, քմ
A55: Երևանի վերանորոգված մայթեր, բակային տարածքներ և միջբակային տարածքների թիվ, հատ
A56: Երևանի ճաքալցված փողոցների թիվ, հատ
A57: Վերանորոգված փողոցների և բակերի տեսակարար կշիռը Երևանի փողոցների և բակերի ընդհանուր թվում, տոկոս
A58: Միջոցառման վրա կատարվող ծախսը (հազար դրամ) | C58: ='Հավելված 2'!G48 -> -328400 | D58: ='Հավելված 2'!H48 -> -328400 | E58: ='Հավելված 2'!I48 -> -328400 | F58: ='Հավելված 2'!J48 -> -328400
A59: ՀՀ կրթության, գիտության, մշակույթի և սպորտի նախարարություն
A61: ՄԱՍ 2. ՊԵՏԱԿԱՆ ՄԱՐՄՆԻ ԳԾՈՎ ԱՐԴՅՈՒՆՔԱՅԻՆ (ԿԱՏԱՐՈՂԱԿԱՆ) ՑՈՒՑԱՆԻՇՆԵՐԸ
F62: (հազ. դրամ)
A63: Ծրագրի դասիչը | B63: Ծրագրի անվանումը
A64: 1168 | B64: Արվեստների ծրագիր
A66: Ծրագրի միջոցառումները
A68: Ծրագրի դասիչը՝ | B68: 1168 | C68: Ցուցանիշների փոփոխությունը (ավելացումները նշված են դրական նշանով)
A69: Միջոցառման դասիչը՝ | B69: 32006 | C69: Առաջին եռամսյակ | D69: Առաջին կիսամյակ | E69: Ինն ամիս | F69: Տարի
A70: Միջոցառման անվանումը՝ | B70: Կարեն Դեմիրճյանի անվան մարզահամերգային համալիրի կարողությունների զարգացում
A71: Նկարագրությունը՝ | B71: «Կարեն Դեմիրճյանի անվան մարզահամերգային համալիր» պետական ոչ առևտրային կազմակերպությանը անհրաժեշտ լուսադիոդային լուսատուներ, սահադաշտի վերազինման համար սառնարանային սարքերի կոմպրեսորներ ու սարքավորումներ և երաժշտական գործիքի (ռոյալ) ձեռքբերում:
A72: Միջոցառման տեսակը՝ | B72: Այլ պետական կազմակերպությունների կողմից օգտագործվող ոչ ֆինանսական ակտիվների հետ գործառնություններ
A73: Ակտիվն օգտագործող կազմակերպության անվանումը | B73: «Կարեն Դեմիրճյանի անվան մարզահամերգային համալիր» ՊՈԱԿ
B74: Արդյունքի չափորոշիչներ
A75: Ձայինային սարքավորում ,հատ | C75: 38 | D75: 38 | E75: 38 | F75: 38
A76: Լուսային սարքեր և էլեկտրական լամպեր, հատ | C76: 665 | D76: 665 | E76: 665 | F76: 665
A77: Լուսադիոդային լուսատուներ, հատ | C77: 2346 | D77: 2346 | E77: 2346 | F77: 2346
A78: Սառնարանային սարքերի կոմպրեսորներ և սարքավորումներ, հատ | C78: 21 | D78: 21 | E78: 21 | F78: 21
A79: Ռոյալ, հատ | C79: 1 | D79: 1 | E79: 1 | F79: 1
A80: Միջոցառման վրա կատարվող ծախսը (հազ.դրամ) | C80: 718489.3 | D80: 718489.3 | E80: 718489.3 | F80: 718489.3
A81: ՀՀ կառավարություն
A83: ՄԱՍ 2. ՊԵՏԱԿԱՆ ՄԱՐՄՆԻ ԳԾՈՎ ԱՐԴՅՈՒՆՔԱՅԻՆ (ԿԱՏԱՐՈՂԱԿԱՆ) ՑՈՒՑԱՆԻՇՆԵՐԸ
A86: Ծրագրի դասիչը | B86: Ծրագրի անվանումը
A87: 1139 | B87: ՀՀ կառավարության պահուստային ֆոնդ
A89: Ծրագրի միջոցառումները
A91: Ծրագրի դասիչը՝ | B91: 1139
A92: Միջոցառման դասիչը՝ | B92: 11001 | C92: Առաջին եռամսյակ | D92: Առաջին կիսամյակ | E92: Ինն ամիս | F92: Տարի
A93: Միջոցառման անվանումը՝ | B93: ՀՀ կառավարության պահուստային ֆոնդ
A94: Նկարագրությունը՝ | B94: ՀՀ պետական բյուջեում նախատեսված ելքերի լրացուցիչ ֆինանսավորման՝ պետական բյուջեում չկանխատեսված ելքերի՝ ինչպես նաև բյուջետային երաշխիքների ապահովման ելքերի ֆինանսավորման ապահովում
A95: Միջոցառման տեսակը՝ | B95: Ծառայությունների մատուցում
A96: Միջոցառումն իրականացնողի անվանումը | B96: ՀՀ կառավարություն
B97: Արդյունքի չափորոշիչներ
A98: Միջոցառման վրա կատարվող ծախսը (հազար դրամ) | C98: =C80 -> 718489.3 | D98: =D80 -> 718489.3 | E98: =E80 -> 718489.3 | F98: =F80 -> 718489.3
A99: Միջոցառման դասիչը՝ | B99: 11001
A100: Միջոցառման անվանումը՝ | B100: ՀՀ կառավարության պահուստային ֆոնդ
A101: Նկարագրությունը՝ | B101: ՀՀ պետական բյուջեում նախատեսված ելքերի լրացուցիչ ֆինանսավորման՝ պետական բյուջեում չկանխատեսված ելքերի՝ ինչպես նաև բյուջետային երաշխիքների ապահովման ելքերի ֆինանսավորման ապահովում
A102: Միջոցառման տեսակը՝ | B102: Ծառայությունների մատուցում
A103: Միջոցառումն իրականացնողի անվանումը | B103: ՀՀ կառավարություն
B104: Արդյունքի չափորոշիչներ
A105: Միջոցառման վրա կատարվող ծախսը (հազար դրամ) | C105: =-C98 -> -718489.3 | D105: =-D98 -> -718489.3 | E105: =-E98 -> -718489.3 | F105: =-F98 -> -718489.3

Sheet Հավելված 7
F1: Հավելված N7
F2: ՀՀ կառավարության 2020 թվականի
F3: __________-ի N____-Ն որոշման
A5: ՀԱՅԱՍՏԱՆԻ ՀԱՆՐԱՊԵՏՈՒԹՅԱՆ ԿԱՌԱՎԱՐՈՒԹՅԱՆ 2019ԹՎԱԿԱՆԻ ԴԵԿՏԵՄԲԵՐԻ 26-Ի N 1919-Ն ՈՐՈՇՄԱՆ
A6: N 9.1 ՀԱՎԵԼՎԱԾԻ N9.1.8, 9.1.34 և 9.1.58 ԱՂՅՈՒՍԱԿՈՒՄ ԿԱՏԱՐՎՈՂ ՓՈՓՈԽՈՒԹՅՈՒՆՆԵՐԸ ԵՎ ԼՐԱՑՈՒՄՆԵՐԸ
A8: ՀՀ տարածքային կառավարման և ենթակառուցվածքների նախարարություն
A10: ՄԱՍ 1. ՊԵՏԱԿԱՆ ՄԱՐՄՆԻ ԳԾՈՎ ԱՐԴՅՈՒՆՔԱՅԻՆ (ԿԱՏԱՐՈՂԱԿԱՆ) ՑՈՒՑԱՆԻՇՆԵՐԸ
A12: Ծրագրի դասիչը | B12: Ծրագրի անվանումը
A13: 1049 | B13: Ճանապարհային ցանցի բարելավում
A15: Ծրագրի միջոցառումները
A17: Ծրագրի դասիչը՝ | B17: 1049 | C17: Ցուցանիշների փոփոխությունը (ավելացումները նշված են դրական նշանով)
A18: Միջոցառման դասիչը՝ | B18: 11001 | C18: Առաջին եռամսյակ | D18: Առաջին կիսամյակ | E18: Ինն ամիս | F18: Տարի
A19: Միջոցառման անվանումը՝ | B19: ='Հավելված 6'!B17 -> Միջպետական և հանրապետական նշանակության ավտոճանապարհների պահպանման և անվտանգ երթևեկության ծառայություններ
A20: Նկարագրությունը՝ | B20: ='Հավելված 6'!B18 -> Հողային պաստառի, երթևեկելի մասի, արհեստական կառույցների և կահավորման տարրերի նորմատիվ մակարդակում պահպանում և շահագործում
A21: Միջոցառման տեսակը՝ | B21: ='Հավելված 6'!B19 -> Ծառայությունների մատուցում
A22: Միջոցառումն իրականացնողի անվանումը | B22: ='Հավելված 6'!B20 -> ՀՀ տարածքային կառավարման և ենթակառուցվածքների նախարարություն, մրցութային կարգով ընտրված կազմակերպություններ
B23: Արդյունքի չափորոշիչներ
A24: Պարբերական պահպանման/ միջին նորոգման ենթակա ճանապարհների երկարությունը, կիլոմետր
A25: Ամառային պահպանման ենթակա ավտոճանապարհների ընդհանուր երկարությունը (ոչ կուտակային ցուցանիշ), կիլոմետր
A26: Ձմեռային պահպանման ենթակա ավտոճանապարհների ընդհանուր երկարությունը (ոչ կուտակային ցուցանիշ), կիլոմետր
A27: Մետաղական արգելափակոցների պահպանման և վնասված հատվածների վերականգնման ընդհանուր երկարությունը (ոչ կուտակային ցուցանիշ), կիլոմետր
A28: Ընդհանուր օգտագործման ավտոմոբիլային ճանապարհների վրա գտնվող և առանձին պահպանման հանձնվող տրանսպորտային օբյեկտների ընթացիկ պահպանում (ոչ կուտակային ցուցանիշ), հատ, այդ թվում
A29: Կամուրջներ
A30: Թունելներ
A31: Բավարար պահպանության մակարդակով ճանապարհների տեսակարար կշիռը տվյալ կարգի ճանապարհների նկատմամբ (ոչ կուտակային ցուցանիշ), տոկոս
A32: Սպասարկման միջին կշռված տոկոսը (ոչ կուտակային ցուցանիշ), տոկոս
A33: Միջոցառման վրա կատարվող ծախսը (հազար դրամ) | C33: ='Հավելված 6'!C31 -> -285000 | D33: ='Հավելված 6'!D31 -> -285000 | E33: ='Հավելված 6'!E31 -> -285000 | F33: ='Հավելված 6'!F31 -> -285000
A34: Ծրագրի դասիչը | B34: Ծրագրի անվանումը
A35: 1157 | B35: ='Հավելված 6'!B33 -> Քաղաքային զարգացում
A37: Ծրագրի միջոցառումները
A39: Ծրագրի դասիչը՝ | B39: 1157 | C39: Ցուցանիշների փոփոխությունը (ավելացումները նշված են դրական նշանով)
A40: Միջոցառման դասիչը՝ | B40: ='Հավելված 6'!B38 -> 12002 | C40: Առաջին եռամսյակ | D40: Առաջին կիսամյակ | E40: Ինն ամիս | F40: Տարի
A41: Միջոցառման անվանումը՝ | B41: ='Հավելված 6'!B39 -> Երևան քաղաքի փողոցների արտաքին լուսավորության ծառայություններ
A42: Նկարագրությունը՝ | B42: ='Հավելված 6'!B40 -> Աջակցություն Երևանի քաղաքապետարանին Երևան քաղաքի փողոցների արտաքին լուսավորության ապահովման նպատակով
A43: Միջոցառման տեսակը՝ | B43: ='Հավելված 6'!B41 -> Տրանսֆերտների տրամադրում
A44: Շահառուների ընտրության չափանիշները | B44: ՀՀ բնակչություն
B45: Արդյունքի չափորոշիչներ
A46: Արտաքին լուսավորությամբ ապահովված փողոցների երկարություն, կմ
A47: Արտաքին լուսավորությամբ ապահովված օբյեկտների թիվ, հատ
A48: Միջոցառման վրա կատարվող ծախսը (հազար դրամ) | C48: ='Հավելված 4'!D16 -> -105089.3 | D48: ='Հավելված 4'!E16 -> -105089.3 | E48: ='Հավելված 4'!F16 -> -105089.3 | F48: ='Հավելված 4'!G16 -> -105089.3
A49: Միջոցառման դասիչը՝ | B49: 12007
A50: Միջոցառման անվանումը՝ | B50: ='Հավելված 2'!F48 -> Երևան քաղաքի փողոցների ճանապարհաշինարարական աշխատանքներ
A51: Նկարագրությունը՝ | B51: ='Հավելված 1'!C45 -> Աջակցություն Երևանի քաղաքապետարանին Երևան քաղաքի փողոցների վերանորոգման, վերակառուցման և ճաքալցման ծառայությունների մատուցման նպատակով
A52: Միջոցառման տեսակը՝ | B52: Տրանսֆերտների տրամադրում
A53: Շահառուների ընտրության չափանիշները | B53: ՀՀ բնակչություն
B54: Արդյունքի չափորոշիչներ
A55: Երևանի վերանորոգված փողոցների թիվ, հատ
A56: Երևանի վերանորոգված փողոցներ, քմ
A57: Երևանի վերանորոգված մայթեր, բակային տարածքներ և միջբակային տարածքների թիվ, հատ
A58: Երևանի ճաքալցված փողոցների թիվ, հատ
A59: Վերանորոգված փողոցների և բակերի տեսակարար կշիռը Երևանի փողոցների և բակերի ընդհանուր թվում, տոկոս
A60: Միջոցառման վրա կատարվող ծախսը (հազար դրամ) | C60: ='Հավելված 2'!G48 -> -328400 | D60: ='Հավելված 2'!H48 -> -328400 | E60: ='Հավելված 2'!I48 -> -328400 | F60: ='Հավելված 2'!J48 -> -328400
A61: ՀՀ տարածքային կառավարման և ենթակառուցվածքների նախարարության պետական գույքի կառավարման կոմիտե
A63: ՄԱՍ 1. ՊԵՏԱԿԱՆ ՄԱՐՄՆԻ ԳԾՈՎ ԱՐԴՅՈՒՆՔԱՅԻՆ (ԿԱՏԱՐՈՂԱԿԱՆ) ՑՈՒՑԱՆԻՇՆԵՐԸ
F64: (հազ.դրամ)
A65: Ծրագրի դասիչը | B65: Ծրագրի անվանումը
A66: 1168 | B66: Արվեստների ծրագիր
A68: Ծրագրի միջոցառումները
A70: Ծրագրի դասիչը՝ | B70: 1168 | C70: Ցուցանիշների փոփոխությունը (ավելացումները նշված են դրական նշանով)
A71: Միջոցառման դասիչը՝ | B71: 32006 | C71: Առաջին եռամսյակ | D71: Առաջին կիսամյակ | E71: Ինն ամիս | F71: Տարի
A72: Միջոցառման անվանումը՝ | B72: Կարեն Դեմիրճյանի անվան մարզահամերգային համալիրի կարողությունների զարգացում
A73: Նկարագրությունը՝ | B73: «Կարեն Դեմիրճյանի անվան մարզահամերգային համալիր» պետական ոչ առևտրային կազմակերպությանը անհրաժեշտ լուսադիոդային լուսատուներ, սահադաշտի վերազինման համար սառնարանային սարքերի կոմպրեսորներ ու սարքավորումներ և երաժշտական գործիքի (ռոյալ) ձեռքբերում:
A74: Միջոցառման տեսակը՝ | B74: Այլ պետական կազմակերպությունների կողմից օգտագործվող ոչ ֆինանսական ակտիվների հետ գործառնություններ
A75: Ակտիվն օգտագործող կազմակերպության անվանումը | B75: «Կարեն Դեմիրճյանի անվան մարզահամերգային համալիր» ՊՈԱԿ
B76: Արդյունքի չափորոշիչներ
A77: Ձայինային սարքավորում ,հատ | C77: 38 | D77: 38 | E77: 38 | F77: 38
A78: Լուսային սարքեր և էլեկտրական լամպեր, հատ | C78: 665 | D78: 665 | E78: 665 | F78: 665
A79: Լուսադիոդային լուսատուներ, հատ | C79: 2346 | D79: 2346 | E79: 2346 | F79: 2346
A80: Սառնարանային սարքերի կոմպրեսորներ և սարքավորումներ, հատ | C80: 21 | D80: 21 | E80: 21 | F80: 21
A81: Ռոյալ, հատ | C81: 1 | D81: 1 | E81: 1 | F81: 1
A82: Միջոցառման վրա կատարվող ծախսը (հազ.դրամ) | C82: 718489.3 | D82: 718489.3 | E82: 718489.3 | F82: 718489.3
A83: ՀՀ կառավարություն
A85: ՄԱՍ 2. ՊԵՏԱԿԱՆ ՄԱՐՄՆԻ ԳԾՈՎ ԱՐԴՅՈՒՆՔԱՅԻՆ (ԿԱՏԱՐՈՂԱԿԱՆ) ՑՈՒՑԱՆԻՇՆԵՐԸ
A87: Ծրագրի դասիչը | B87: Ծրագրի անվանումը
A88: 1139 | B88: ՀՀ կառավարության պահուստային ֆոնդ
A90: Ծրագրի միջոցառումները
A92: Ծրագրի դասիչը՝ | B92: 1139
A93: Միջոցառման դասիչը՝ | B93: 11001 | C93: Առաջին եռամսյակ | D93: Առաջին կիսամյակ | E93: Ինն ամիս | F93: Տարի
A94: Միջոցառման անվանումը՝ | B94: ՀՀ կառավարության պահուստային ֆոնդ
A95: Նկարագրությունը՝ | B95: ՀՀ պետական բյուջեում նախատեսված ելքերի լրացուցիչ ֆինանսավորման՝ պետական բյուջեում չկանխատեսված ելքերի՝ ինչպես նաև բյուջետային երաշխիքների ապահովման ելքերի ֆինանսավորման ապահովում
A96: Միջոցառման տեսակը՝ | B96: Ծառայությունների մատուցում
A97: Միջոցառումն իրականացնողի անվանումը | B97: ՀՀ կառավարություն
B98: Արդյունքի չափորոշիչներ
A99: Միջոցառման վրա կատարվող ծախսը (հազար դրամ) | C99: =C82 -> 718489.3 | D99: =D82 -> 718489.3 | E99: =E82 -> 718489.3 | F99: =F82 -> 718489.3
A100: Միջոցառման դասիչը՝ | B100: 11001
A101: Միջոցառման անվանումը՝ | B101: ՀՀ կառավարության պահուստային ֆոնդ
A102: Նկարագրությունը՝ | B102: ՀՀ պետական բյուջեում նախատեսված ելքերի լրացուցիչ ֆինանսավորման՝ պետական բյուջեում չկանխատեսված ելքերի՝ ինչպես նաև բյուջետային երաշխիքների ապահովման ելքերի ֆինանսավորման ապահովում
A103: Միջոցառման տեսակը՝ | B103: Ծառայությունների մատուցում
A104: Միջոցառումն իրականացնողի անվանումը | B104: ՀՀ կառավարություն
B105: Արդյունքի չափորոշիչներ
A106: Միջոցառման վրա կատարվող ծախսը (հազար դրամ) | C106: =-C82 -> -718489.3 | D106: =-D82 -> -718489.3 | E106: =-E82 -> -718489.3 | F106: =-F82 -> -718489.3

Sheet Лист1

Sheet Հավելված 8
G1: Հավելված N 8
F2: ՀՀ կառավարության 2020 թվականի
F3: ___________ ___-ի N _______ -Ն
A6: ՀԱՅԱՍՏԱՆԻ ՀԱՆՐԱՊԵՏՈՒԹՅԱՆ ԿԱՌԱՎԱՐՈՒԹՅԱՆ 2019 ԹՎԱԿԱՆԻ ԴԵԿՏԵՄԲԵՐԻ 26-Ի N 1919-Ն ՈՐՈՇՄԱՆ N 10 ՀԱՎԵԼՎԱԾՈՒՄ ԿԱՏԱՐՎՈՂ ՓՈՓՈԽՈՒԹՅՈՒՆԸ
A7: Գնման առարկայի | H7: Ցուցանիշների փոփոխությունը (ավելացումները նշված են դրական նշանով) Գումարը (հազ. դրամ)
A8: կոդը | B8: անվանումը | C8: գնման ձևը | D8: չափման միավորը | E8: միավորի գինը | F8: քանակը
A10: 1 | B10: 2 | C10: 3 | D10: 4 | E10: 5 | F10: 6 | H10: 7
A11: ՀՀ տարածքային կառավարման և ենթակառուցվածքների նախարարություն | H11: =H12 -> -285000
A12: Բաժին N 04 | B12: Խումբ N 05 | C12: Դաս N 01 | D12: Ճանապարհային տրանսպորտ | H12: =H13 -> -285000
A13: 1049 11001 Միջպետական և հանրապետական նշանակության ավտոճանապարհների պահպանման և անվտանգ երթևեկության ծառայություններ | H13: =H14 -> -285000
A14: ՄԱՍ II. ԱՇԽԱՏԱՆՔՆԵՐ | H14: =H15 -> -285000
A15: 45231176-1 | B15: ճանապարհների պահպանման աշխատանքներ | C15: ԲՄ | D15: դրամ | E15: =-285000000 -> -285000000 | G15: 1 | H15: ='Հավելված 1'!D22 -> -285000
