Workbook

Sheet Հավելված 1
B1: Հավելված N 1
B2: ՀՀ կառավարության 2020 թվականի
B3: -Ն որոշման
A5: «ՀԱՅԱՍՏԱՆԻ ՀԱՆՐԱՊԵՏՈՒԹՅԱՆ 2020 ԹՎԱԿԱՆԻ ՊԵՏԱԿԱՆ ԲՅՈՒՋԵԻ ՄԱՍԻՆ» ՀԱՅԱՍՏԱՆԻ ՀԱՆՐԱՊԵՏՈՒԹՅԱՆ ՕՐԵՆՔԻ 2-ՐԴ ՀՈԴՎԱԾԻ ԱՂՅՈՒՍԱԿՈՒՄ ԿԱՏԱՐՎՈՂ ՓՈՓՈԽՈՒԹՅՈՒՆԸ
A6: (հազար դրամ)
B7: Ցուցանիշների փոփոխությունը
B8: (գումարների ավելացումները նշված են դրական նշանով)
A10: 1. Եկամուտների գծով | B10: 19894.1
A11: 2. Ծախսերի գծով | B11: 19894.1
A12: 3. Դեֆիցիտ | B12: 0

Sheet Հավելված 2 
E1: Հավելված N 2
E2: ՀՀ կառավարության 2020 թվականի
E3: -Ն որոշման
B5: «Հայաստանի Հանրապետության 2020 թվականի պետական բյուջեի մասին» Հայաստանի Հանրապետության օրենքի 6-րդ հոդվածի աղյուսակում և Հայաստանի Հանրապետության կառավարության 2019 թվականի դեկտեմբերի 26-ի N 1919-Ն որոշման N 2 հավելվածի աղյուսակում կատարվող փոփոխությունները
E7: (հազար դրամ)
B8: Եկամտատեսակը | C8: Ցուցանիշների փոփոխությունը (մուտքերի ավելացումը և ելքերի նվազումը ներկայացված են դրական նշանով)
B9: ՊԵՏԱԿԱՆ ԲՅՈՒՋԵԻ ԵԿԱՄՈՒՏՆԵՐ | C9: առաջին կիսամյակ | D9: ինն ամիս | E9: տարի
B10: ԸՆԴԱՄԵՆԸ | C10: =C12 -> 12908.3 | D10: =D12 -> 19894.1 | E10: =E12 -> 19894.1
B11: այդ թվում՝
B12: Այլ եկամուտներ | C12: 12908.3 | D12: 19894.1 | E12: 19894.1

Sheet Հավելված 3
F1: Հավելված N3
E2: ՀՀ կառավարության 2020 թվականի
E3: ___________ ___-ի N _______ -Ն որոշման
B6: ՀԱՅԱՍՏԱՆԻ ՀԱՆՐԱՊԵՏՈՒԹՅԱՆ 2020 ԹՎԱԿԱՆԻ ՊԵՏԱԿԱՆ ԲՅՈՒՋԵԻ ՄԱՍԻՆ ՕՐԵՆՔԻ N 1 ՀԱՎԵԼՎԱԾԻ N 2 ԱՂՅՈՒՍԱԿՈՒՄ ԵՎ ՀԱՅԱՍՏԱՆԻ ՀԱՆՐԱՊԵՏՈՒԹՅԱՆ ԿԱՌԱՎԱՐՈՒԹՅԱՆ 2019 ԹՎԱԿԱՆԻ ԴԵԿՏԵՄԲԵՐԻ 26-Ի N 1919-Ն ՈՐՈՇՄԱՆ N 5 ՀԱՎԵԼՎԱԾԻ N 1 ԱՂՅՈՒՍԱԿՈՒՄ ԿԱՏԱՐՎՈՂ ԼՐԱՑՈՒՄՆԵՐԸ
G7: (հազար դրամ)
B8: Ծրագրային դասիչը | D8: Բյուջետային հատկացումների գլխավոր կարգադրիչների, ծրագրերի և միջոցառումների անվանումները | E8: Ցուցանիշների փոփոխությունը (ավելացումները նշված են դրական նշանով,նվազեցումները` փակագծերում)
B9: Ծրագիր | C9: Միջոցառում | E9: Առաջին կիսամյակ | F9: Ինն ամիս | G9: Տարի
D10: Ընդամենը | E10: =E19+E26 -> 12908.3 | F10: =F19+F26 -> 19894.1 | G10: =G19+G26 -> 19894.1
D11: ՀՀ տարածքային կառավարման և ենթակառուցվածքների նախարարություն | E11: =E12 -> 12908.3 | F11: =F12 -> 19894.1 | G11: =G12 -> 19894.1
B12: 1079 | D12: Ծրագրի անվանումը՝ | E12: ='Հավելված 2 '!C12 -> 12908.3 | F12: ='Հավելված 2 '!D12 -> 19894.1 | G12: ='Հավելված 2 '!E12 -> 19894.1
D13: Պետական գույքի կառավարում
D14: Ծրագրի նպատակը՝
D15: Պետական գույքի համալիր և արդյունավետ կառավարման ապահովում
D16: Վերջնական արդյունքի նկարագրությունը՝
D17: Պետական գույքի կառավարման արդյունավետության բարձրացում
B18: Ծրագրի միջոցառումներ
C19: 11015 | D19: Միջոցառման անվանումը՝ | E19: ='Հավելված 2 '!C12 -> 12908.3 | F19: 20653.3 | G19: 30980
D20: Շարժական գույքի պահառության կազմակերպում
D21: Միջոցառման նկարագրությունը՝
D22: Պետական սեփականություն հանդիսացող, մինչև 5 մլն դրամ գնահատված արժեքով շարժական գույքի օտարման գործընթացում գտնվելու ժամանակահատվածում պահառության կազմակերպում
D23: Միջոցառման տեսակը
D24: Ծառայությունների մատուցում
C25: 31002 | D25: Միջոցառման անվանումը՝
D26: Ոչ ֆինանսական ակտիվների օտարումից մուտքեր | E26: 0 | F26: -759.2 | G26: -11085.9
D27: Միջոցառման նկարագրությունը՝
D28: Ոչ ֆինանսական ակտիվների օտարումից մուտքերի ապահովում
D29: Միջոցառման տեսակը
D30: Պետական մարմինների կողմից օգտագործվող ոչ ֆինանսական ակտիվների հետ գործառնություններ

Sheet Հավելված 4
F1: Հավելված N 4
D2: ՀՀ կառավարության 2020 թվականի
D3: ___________ ___-ի N _______ -Ն որոշման
A5: 2019 ԹՎԱԿԱՆԻ ԴԵԿՏԵՄԲԵՐԻ 26-Ի N 1919-Ն ՈՐՈՇՄԱՆ N 3 ԵՎ 4 ՀԱՎԵԼՎԱԾՆԵՐՈՒՄ ԿԱՏԱՐՎՈՂ ՓՈՓՈԽՈՒԹՅՈՒՆՆԵՐԸ ԵՎ ԼՐԱՑՈՒՄՆԵՐԸ
H7: (հազար դրամ)
A8: Գործառական դասիչը | D8: Ծրագրային դասիչը | F8: Բյուջետային ծախսերի գործառական դասակարգման բաժինների, խմբերի և դասերի, բյուջետային ծրագրերի միջոցառումների, բյուջետային հատկացումների գլխավոր կարգադրիչների անվանումները | G8: Ցուցանիշների փոփոխությունը (ավելացումները նշված են դրական նշանով,նվազեցումները` փակագծերում)
A9: Բաժին | B9: Խումբ | C9: Դաս | D9: Ծրագիր | E9: Միջոցառում | G9: Առաջին կիսամյակ | H9: Ինն ամիս | I9: Տարի
F10: ԸՆԴԱՄԵՆԸ ԾԱԽՍԵՐ այդ թվում` | G10: =G11 -> 12908.3 | H10: =H11 -> 19894.1 | I10: =I11 -> 19894.1
A11: 01 | F11: ԸՆԴՀԱՆՈՒՐ ԲՆՈՒՅԹԻ ՀԱՆՐԱՅԻՆ ԾԱՌԱՅՈՒԹՅՈՒՆՆԵՐ | G11: =G13 -> 12908.3 | H11: =H13 -> 19894.1 | I11: =I13 -> 19894.1
F12: այդ թվում`
B13: 06 | F13: Ընդհանուր բնույթի հանրային ծառայություններ /այլ դասերին չպատկանող/ | G13: =G15 -> 12908.3 | H13: =H15 -> 19894.1 | I13: =I15 -> 19894.1
F14: այդ թվում`
C15: 01 | F15: Ընդհանուր բնույթի հանրային ծառայություններ /այլ դասերին չպատկանող/ | G15: =G18+G28 -> 12908.3 | H15: =H18+H28 -> 19894.1 | I15: =I18+I28 -> 19894.1
F16: ՀՀ տարածքային կառավարման և ենթակառուցվածքների նախարարություն
F17: այդ թվում`
D18: 1079 | F18: ='Հավելված 3'!D13 -> Պետական գույքի կառավարում | G18: =G19 -> 12908.3 | H18: =H19 -> 20653.3 | I18: =I19 -> 30980
E19: 11015 | F19: Շարժական գույքի պահառության կազմակերպում | G19: =G21 -> 12908.3 | H19: =H21 -> 20653.3 | I19: =I21 -> 30980
F20: այդ թվում` ըստ կատարողների
F21: ՀՀ տարածքային կառավարման և ենթակառուցվածքների նախարարության պետական գույքի կառավարման կոմիտե | G21: =G23 -> 12908.3 | H21: =H23 -> 20653.3 | I21: =I23 -> 30980
F22: այդ թվում` բյուջետային ծախսերի տնտեսագիտական դասակարգման հոդվածներ
F23: ԸՆԴԱՄԵՆԸ ԾԱԽՍԵՐ | G23: =G24 -> 12908.3 | H23: =H24 -> 20653.3 | I23: =I24 -> 30980
F24: ԸՆԹԱՑԻԿ ԾԱԽՍԵՐ | G24: =G25 -> 12908.3 | H24: =H25 -> 20653.3 | I24: =I25 -> 30980
F25: ԴՐԱՄԱՇՆՈՐՀՆԵՐ | G25: =G26 -> 12908.3 | H25: =H26 -> 20653.3 | I25: =I26 -> 30980
F26: Ընթացիկ դրամաշնորհներ պետական հատվածի այլ մակարդակներին | G26: =G27 -> 12908.3 | H26: =H27 -> 20653.3 | I26: =I27 -> 30980
F27: Ընթացիկ դրամաշնորհներ պետական և համայնքային ոչ առևտրային կազմակերպություններին | G27: ='Հավելված 3'!E19 -> 12908.3 | H27: ='Հավելված 3'!F19 -> 20653.3 | I27: ='Հավելված 3'!G19 -> 30980
E28: 31002 | F28: Ոչ ֆինանսական ակտիվների օտարումից մուտքեր | G28: =G30 -> 0 | H28: =H30 -> -759.2 | I28: =I30 -> -11085.9
F29: այդ թվում` ըստ կատարողների
F30: ՀՀ տարածքային կառավարման և ենթակառուցվածքների նախարարության պետական գույքի կառավարման կոմիտե | G30: =G32 -> 0 | H30: =H32 -> -759.2 | I30: =I32 -> -11085.9
F31: այդ թվում` բյուջետային ծախսերի տնտեսագիտական դասակարգման հոդվածներ
F32: ԸՆԴԱՄԵՆԸ ԾԱԽՍԵՐ | G32: =G33 -> 0 | H32: =H33 -> -759.2 | I32: =I33 -> -11085.9
F33: ՈՉ ՖԻՆԱՆՍԱԿԱՆ ԱԿՏԻՎՆԵՐԻ ՀԵՏ ԳՈՐԾԱՌՆՈՒԹՅՈՒՆՆԵՐ | G33: =G35 -> 0 | H33: =H35 -> -759.2 | I33: =I35 -> -11085.9
F34: այդ թվում
F35: Ոչ ֆինանսական ակտիվների գծով ծախսեր | G35: =G36 -> 0 | H35: =H36 -> -759.2 | I35: =I36 -> -11085.9
F36: Ոչ ֆինանսական ակտիվների օտարումից մուտքերի ստացում | G36: ='Հավելված 3'!E26 -> 0 | H36: ='Հավելված 3'!F26 -> -759.2 | I36: ='Հավելված 3'!G26 -> -11085.9

Sheet Հավելված 5
F1: Հավելված N 5
F2: ՀՀ կառավարության 2020 թվականի
F3: ___________ ___-ի N _______ -Ն որոշման
A4: ՀԱՅԱՍՏԱՆԻ ՀԱՆՐԱՊԵՏՈՒԹՅԱՆ ԿԱՌԱՎԱՐՈՒԹՅԱՆ 2019 ԹՎԱԿԱՆԻ ԴԵԿՏԵՄԲԵՐԻ 26-Ի N 1919-Ն ՈՐՈՇՄԱՆ N 5 ՀԱՎԵԼՎԱԾԻ N7 ԱՂՅՈՒՍԱԿՈՒՄ ԿԱՏԱՐՎՈՂ ԼՐԱՑՈՒՄՆԵՐԸ
G5: (հազար դրամ)
A6: Ծրագրային դասիչը | C6: Բյուջետային հատկացումների գլխավոր կարգադրիչների, ծրագրերի, միջոցառումների, ծախսային ուղղությունների անվանումները | F6: Միջոցառումները կատարող պետական մարմինների և դրամաշնորհ ստացող տնտեսվարող սուբյեկտների անվանումները | G6: Ցուցանիշների փոփոխությունը (ավելացումները նշված են դրական նշանով)
A7: Ծրագիր | B7: Միջոցա ռում | G7: Տարի
A8: ՀՀ տարածքային կառավարման և ենթակառուցվածքների նախարարություն
A9: 1079 | B9: Պետական գույքի կառավարում | G9: =G11 -> 30980
B10: 11015 | C10: Շարժական գույքի պահառության կազմակերպում | F10: Պետական գույքի կառավարման կոմիտե | G10: =G11 -> 30980
F11: «Գույքի գնահատման և աճուրդի կենտրոն» ՊՈԱԿ | G11: 30980

Sheet Հավելված 6
E1: Հավելված N 6
C2: ՀՀ կառավարության 2020 թվականի
C3: ___________ ___-ի N _______ -Ն որոշման
A5: ՀԱՅԱՍՏԱՆԻ ՀԱՆՐԱՊԵՏՈՒԹՅԱՆ ԿԱՌԱՎԱՐՈՒԹՅԱՆ 2019 ԹՎԱԿԱՆԻ ԴԵԿՏԵՄԲԵՐԻ 26-Ի N 1919-Ն ՈՐՈՇՄԱՆ N 6 ՀԱՎԵԼՎԱԾՈՒՄ ԿԱՏԱՐՎՈՂ ՓՈՓՈԽՈՒԹՅՈՒՆՆԵՐԸ
A7: NN | B7: Եկամտատեսակը | C7: Գանձման համար պատասխանատո պետական կառավարման մարմինը (մարմինները) | D7: Ցուցանիշների փոփոխությունը
A8: ը/կ | D8: (ավելացումները նշված են դրական նշանով)
D9: առաջին կիսամյակ | E9: ինն ամիս | F9: տարի
A10: Այլ եկամուտներ, ընդամենը | D10: =D14 -> 12908.3 | E10: =E14 -> 19894.1 | F10: =F14 -> 19894.1
B11: այդ թվում`
A12: 6 | B12: Օրենքով և այլ իրավական ակտերով սահմանված պետական բյուջե մուտքագրվող այլ եկամուտներ | D12: =D14 -> 12908.3 | E12: =E14 -> 19894.1 | F12: =F14 -> 19894.1
A13: 6.5. | B13: Այլ եկամուտներ | D13: =D14 -> 12908.3 | E13: =E14 -> 19894.1 | F13: =F14 -> 19894.1
A14: 6.5.4. | C14: ='Հավելված 3'!D11 -> ՀՀ տարածքային կառավարման և ենթակառուցվածքների նախարարություն | D14: ='Հավելված 2 '!C12 -> 12908.3 | E14: ='Հավելված 2 '!D12 -> 19894.1 | F14: ='Հավելված 2 '!E12 -> 19894.1

Sheet Հավելված 7
C1: Հավելված 7
C2: ՀՀ կառավարության 2020 թվականի
C3: ______________ ի ___Ն որոշման
A8: ՀԱՅԱՍՏԱՆԻ ՀԱՆՐԱՊԵՏՈՒԹՅԱՆ ԿԱՌԱՎԱՐՈՒԹՅԱՆ 2019 ԹՎԱԿԱՆԻ ԴԵԿՏԵՄԲԵՐԻ 26-Ի ԹԻՎ 1919-Ն ՈՐՈՇՄԱՆ N9 ՀԱՎԵԼՎԱԾԻ 9.8 ԱՂՅՈՒՍԱԿՈՒՄ ԿԱՏԱՐՎՈՂ ԼՐԱՑՈՒՄԸ
A10: ՀՀ տարածքային կառավարման և ենթակառուցվածքների նախարարություն
A12: ՄԱՍ 2. ՊԵՏԱԿԱՆ ՄԱՐՄՆԻ ԳԾՈՎ ԱՐԴՅՈՒՆՔԱՅԻՆ (ԿԱՏԱՐՈՂԱԿԱՆ) ՑՈՒՑԱՆԻՇՆԵՐԸ
A15: Ծրագրի դասիչը | B15: Ծրագրի անվանումը
A16: 1079 | B16: ='Հավելված 3'!D13 -> Պետական գույքի կառավարում
A18: Ծրագրի միջոցառումները
A20: Ծրագրի դասիչը՝ | B20: 1079 | C20: Ցուցանիշների փոփոխությունը (ավելացումները նշված են դրական նշանով)
A21: Միջոցառման դասիչը՝ | B21: 11015 | C21: Առաջին կիսամյակ | D21: Ինն ամիս | E21: Տարի
A22: Միջոցառման անվանումը՝ | B22: Շարժական գույքի պահառության կազմակերպում
A23: Նկարագրությունը՝ | B23: Պետական սեփականություն հանդիսացող, մինչև 5 մլն դրամ գնահատված արժեքով շարժական գույքի օտարման գործընթացում գտնվելու ժամանակահատվածում պահառության կազմակերպում
A24: Միջոցառման տեսակը՝ | B24: Ծառայությունների մատուցում
A25: Միջոցառումն իրականացնողի անվանումը | B25: Պետական գույքի կառավարման կոմիտե
B26: Արդյունքի չափորոշիչներ
A27: Պահառության ենթակա գույքի քանակ հատ | C27: 350 | D27: 350 | E27: 350
A28: Միջոցառման վրա կատարվող ծախսը (հազար դրամ) | C28: ='Հավելված 4'!G27 -> 12908.3 | D28: ='Հավելված 4'!H27 -> 20653.3 | E28: ='Հավելված 4'!I27 -> 30980
A29: Ծրագրի դասիչը՝ | B29: 1079 | C29: Ցուցանիշների փոփոխությունը (նվազեցումները նշված են փակագծերում)
A30: Միջոցառման դասիչը՝ | B30: 31002
A31: Միջոցառման անվանումը՝ | B31: Ոչ ֆինանսական ակտիվների օտարումից մուտքեր
A32: Նկարագրությունը՝ | B32: Ոչ ֆինանսական ակտիվների օտարումից մուտքերի ապահովում
A33: Միջոցառման տեսակը՝ | B33: Ծառայությունների մատուցում
A34: Միջոցառումն իրականացնողի անվանումը | B34: Պետական գույքի կառավարման կոմիտե
B35: Արդյունքի չափորոշիչներ
A36: Միջոցառման վրա կատարվող ծախսը (հազար դրամ) | C36: ='Հավելված 4'!G36 -> 0 | D36: ='Հավելված 4'!H36 -> -759.2 | E36: ='Հավելված 4'!I36 -> -11085.9

Sheet Հավելված 8
C1: Հավելված 8
C2: ՀՀ կառավարության 2020 թվականի
C3: ______________ ի ___Ն որոշման
A8: ՀԱՅԱՍՏԱՆԻ ՀԱՆՐԱՊԵՏՈՒԹՅԱՆ ԿԱՌԱՎԱՐՈՒԹՅԱՆ 2019 ԹՎԱԿԱՆԻ ԴԵԿՏԵՄԲԵՐԻ 26-Ի ԹԻՎ 1919-Ն ՈՐՈՇՄԱՆ N9.1 ՀԱՎԵԼՎԱԾԻ 9.1.34 ԱՂՅՈՒՍԱԿՈՒՄ ԿԱՏԱՐՎՈՂ ԼՐԱՑՈՒՄԸ
A10: ՀՀ տարածքային կառավարման և ենթակառուցվածքների նախարարության պետական գույքի կառավարման կոմիտե
A12: ՄԱՍ 1. ՊԵՏԱԿԱՆ ՄԱՐՄՆԻ ԳԾՈՎ ԱՐԴՅՈՒՆՔԱՅԻՆ (ԿԱՏԱՐՈՂԱԿԱՆ) ՑՈՒՑԱՆԻՇՆԵՐԸ
A15: Ծրագրի դասիչը | B15: Ծրագրի անվանումը
A16: ='Հավելված 7'!A16 -> 1079 | B16: ='Հավելված 7'!B16 -> Պետական գույքի կառավարում
A18: Ծրագրի միջոցառումները
A20: Ծրագրի դասիչը՝ | B20: 1079 | C20: Ցուցանիշների փոփոխությունը (ավելացումները նշված են դրական նշանով)
A21: Միջոցառման դասիչը՝ | B21: 11015 | C21: Առաջին կիսամյակ | D21: Ինն ամիս | E21: Տարի
A22: Միջոցառման անվանումը՝ | B22: Շարժական գույքի պահառության կազմակերպում
A23: Նկարագրությունը՝ | B23: Պետական սեփականություն հանդիսացող, մինչև 5 մլն դրամ գնահատված արժեքով շարժական գույքի օտարման գործընթացում գտնվելու ժամանակահատվածում պահառության կազմակերպում
A24: Միջոցառման տեսակը՝ | B24: Ծառայությունների մատուցում
A25: Միջոցառումն իրականացնողի անվանումը | B25: Պետական գույքի կառավարման կոմիտե
B26: Արդյունքի չափորոշիչներ
A27: Պահառության ենթակա գույքի քանակ հատ | C27: 350 | D27: 350 | E27: 350
A28: Միջոցառման վրա կատարվող ծախսը (հազար դրամ) | C28: ='Հավելված 7'!C28 -> 12908.3 | D28: ='Հավելված 7'!D28 -> 20653.3 | E28: ='Հավելված 7'!E28 -> 30980
A29: Ծրագրի դասիչը՝ | B29: 1079 | C29: Ցուցանիշների փոփոխությունը (նվազեցումները նշված են փակագծերում)
A30: Միջոցառման դասիչը՝ | B30: 31002
A31: Միջոցառման անվանումը՝ | B31: Ոչ ֆինանսական ակտիվների օտարումից մուտքեր
A32: Նկարագրությունը՝ | B32: Ոչ ֆինանսական ակտիվների օտարումից մուտքերի ապահովում
A33: Միջոցառման տեսակը՝ | B33: Ծառայությունների մատուցում
A34: Միջոցառումն իրականացնողի անվանումը | B34: Պետական գույքի կառավարման կոմիտե
B35: Արդյունքի չափորոշիչներ
A36: Միջոցառման վրա կատարվող ծախսը (հազար դրամ) | C36: ='Հավելված 7'!C36 -> 0 | D36: ='Հավելված 7'!D36 -> -759.2 | E36: ='Հավելված 7'!E36 -> -11085.9
