Workbook

Sheet Հավելված 1
E1: Հավելված N 1
A2: ՀՀ կառավարության 2020 թվականի
C3: ___________ ___-ի N _______ -Ն որոշման
A6: «ՀԱՅԱՍՏԱՆԻ ՀԱՆՐԱՊԵՏՈՒԹՅԱՆ 2020 ԹՎԱԿԱՆԻ ՊԵՏԱԿԱՆ ԲՅՈՒՋԵԻ ՄԱՍԻՆ» ՀԱՅԱՍՏԱՆԻ ՀԱՆՐԱՊԵՏՈՒԹՅԱՆ ՕՐԵՆՔԻ N 1 ՀԱՎԵԼՎԱԾԻ N 2 ԱՂՅՈՒՍԱԿՈՒՄ ԿԱՏԱՐՎՈՂ ՎԵՐԱԲԱՇԽՈՒՄԸ ԵՎ ՀԱՅԱՍՏԱՆԻ ՀԱՆՐԱՊԵՏՈՒԹՅԱՆ ԿԱՌԱՎԱՐՈՒԹՅԱՆ 2019 ԹՎԱԿԱՆԻ ԴԵԿՏԵՄԲԵՐԻ 26-Ի N 1919-Ն ՈՐՈՇՄԱՆ N 5 ՀԱՎԵԼՎԱԾԻ N 1 ԱՂՅՈՒՍԱԿՈՒՄ ԿԱՏԱՐՎՈՂ ՓՈՓՈԽՈՒԹՅՈՒՆԸ ԵՎ ԼՐԱՑՈՒՄԸ
F7: հազար դրամ
A8: Ծրագրային դասիչը | C8: Բյուջետային հատկացումների գլխավոր կարգադրիչների, ծրագրերի և միջոցառումների անվանումները | D8: Ցուցանիշների փոփոխությունը(ավելացումները նշված են դրական նշանով,նվազեցումները` փակագծերում)
A9: Ծրագիր | B9: Միջոցառում | D9: Առաջին կիսամյակ | E9: Ինն ամիս | F9: Տարի
C10: Ընդամենը
C11: ՀՀ տարածքային կառավարման և ենթակառուցվածքների նախարարություն | D11: =$D$20 -> 74972.4 | E11: =$D$20 -> 74972.4 | F11: =$D$20 -> 74972.4
A12: 1079 | C12: Ծրագրի անվանումը՝ | D12: =$D$20 -> 74972.4 | E12: =$D$20 -> 74972.4 | F12: =$D$20 -> 74972.4
C13: Պետական գույքի կառավարում
C14: Ծրագրի նպատակը՝
C15: Պետական գույքի համալիր և արդյունավետ կառավարման ապահովում
C16: Վերջնական արդյունքի նկարագրությունը՝
C17: Պետական գույքի կառավարման արդյունավետության բարձրացում
A18: Ծրագրի միջոցառումներ
B19: 12001 | C19: Միջոցառման անվանումը՝
C20: Ֆինանսական աջակցություն մասնավորեցման ծրագրում ընդգրկված առևտրային կազմակերպությանը | D20: 74972.4 | E20: =$D$20 -> 74972.4 | F20: =$D$20 -> 74972.4
C21: Միջոցառման նկարագրությունը՝
C22: «Ռադիոիզոտոպների արտադրության կենտրոն ՓԲ ընկերության 2020 թվականի պահպանման ծախսերի ֆինանսավորում
C23: Միջոցառման տեսակը
C24: Տրանսֆերտների տրամադրում
C25: ՀՀ կառավարություն | D25: =D27 -> -74972.4 | E25: =E27 -> -74972.4 | F25: =F27 -> -74972.4
A26: 1139 | C26: Ծրագրի անվանումը`
C27: ՀՀ կառավարության պահուստային ֆոնդ | D27: =D34 -> -74972.4 | E27: =E34 -> -74972.4 | F27: =F34 -> -74972.4
C28: Ծրագրի նպատակը`
C29: Պետական բյուջեում չկանխատեսված՝ ինչպես նաեւ բյուջետային երաշխիքների ապահովման ծախսերի ֆինանսավորման ապահովում
C30: Վերջնական արդյունքի նկարագրությունը`
C31: Պահուստային ֆոնդի կառավարման արդյունավետության և թափանցիկության
B33: 11001 | C33: Միջոցառման անվանումը`
C34: ՀՀ կառավարության պահուստային ֆոնդ | D34: =-$D$20 -> -74972.4 | E34: =-$D$20 -> -74972.4 | F34: =-$D$20 -> -74972.4
C35: Միջոցառման նկարագրությունը`
C36: ՀՀ պետական բյուջեում նախատեսված ելքերի լրացուցիչ ֆինանսավորման՝ պետական բյուջեում չկանխատեսված ելքերի՝ ինչպես նաև բյուջետային երաշխիքների ապահովման ելքերի ֆինանսավորման ապահովում
C37: Միջոցառման տեսակը
C38: Ծառայությունների մատուցում

Sheet Հավելված 2
F1: Հավելված N 2
D2: ՀՀ կառավարության 2020 թվականի
D3: ___________ ___-ի N _______ -Ն որոշման
A6: ՀԱՅԱՍՏԱՆԻ ՀԱՆՐԱՊԵՏՈՒԹՅԱՆ ԿԱՌԱՎԱՐՈՒԹՅԱՆ 2019 ԹՎԱԿԱՆԻ ԴԵԿՏԵՄԲԵՐԻ 26-Ի N 1919-Ն ՈՐՈՇՄԱՆ N 3 ԵՎ 4 ՀԱՎԵԼՎԱԾՆԵՐՈՒՄ ԿԱՏԱՐՎՈՂ ՓՈՓՈԽՈՒԹՅՈՒՆՆԵՐԸ ԵՎ ԼՐԱՑՈՒՄՆԵՐԸ
I8: հազար դրամ
A9: Գործառական դասիչը | D9: Ծրագրային դասիչը | F9: Բյուջետային ծախսերի գործառական դասակարգման բաժինների, խմբերի և դասերի, բյուջետային ծրագրերի միջոցառումների, բյուջետային հատկացումների գլխավոր կարգադրիչների անվանումները | G9: Ցուցանիշների փոփոխությունը(ավելացումները նշված են դրական նշանով,նվազեցումները` փակագծերում)
A10: Բաժին | B10: Խումբ | C10: Դաս | D10: Ծրագիր | E10: Միջոցառում | G10: Առաջին կիսամյակ | H10: Ինն ամիս | I10: Տարի
F11: ԸՆԴԱՄԵՆԸ ԾԱԽՍԵՐ այդ թվում` | G11: =+G12+G30 -> 0 | H11: =+H12+H30 -> 0 | I11: =+I12+I30 -> 0
A12: 01 | F12: ԸՆԴՀԱՆՈՒՐ ԲՆՈՒՅԹԻ ՀԱՆՐԱՅԻՆ ԾԱՌԱՅՈՒԹՅՈՒՆՆԵՐ | G12: =G14 -> 74972.4 | H12: =H14 -> 74972.4 | I12: =I14 -> 74972.4
F13: այդ թվում`
B14: 03 | F14: Ընդհանուր բնույթի ծառայություններ | G14: =G16 -> 74972.4 | H14: =H16 -> 74972.4 | I14: =I16 -> 74972.4
F15: այդ թվում`
C16: 03 | F16: Ընդհանուր բնույթի այլ ծառայություններ այդ թվում` | G16: =G19 -> 74972.4 | H16: =H19 -> 74972.4 | I16: =I19 -> 74972.4
F17: ՀՀ տարածքային կառավարման և ենթակառուցվածքների նախարարություն
F18: այդ թվում`
D19: 1079 | E19: 12001 | F19: Պետական գույքի կառավարում | G19: =G20 -> 74972.4 | H19: =H20 -> 74972.4 | I19: =I20 -> 74972.4
F20: ='Հավելված 1'!C20 -> Ֆինանսական աջակցություն մասնավորեցման ծրագրում ընդգրկված առևտրային կազմակերպությանը | G20: =G22 -> 74972.4 | H20: =H22 -> 74972.4 | I20: =I22 -> 74972.4
F21: այդ թվում` ըստ կատարողների
F22: ՀՀ տարածքային կառավարման և ենթակառուցվածքների նախարարության պետական գույքի կառավարման կոմիտե | G22: =G24 -> 74972.4 | H22: =H24 -> 74972.4 | I22: =I24 -> 74972.4
F23: այդ թվում` բյուջետային ծախսերի տնտեսագիտական դասակարգման հոդվածներ
F24: ԸՆԴԱՄԵՆԸ ԾԱԽՍԵՐ | G24: =G25 -> 74972.4 | H24: =H25 -> 74972.4 | I24: =I25 -> 74972.4
F25: ԸՆԹԱՑԻԿ ԾԱԽՍԵՐ | G25: =G26 -> 74972.4 | H25: =H26 -> 74972.4 | I25: =I26 -> 74972.4
F26: ԴՐԱՄԱՇՆՈՐՀՆԵՐ | G26: =G27 -> 74972.4 | H26: =H27 -> 74972.4 | I26: =I27 -> 74972.4
F27: Ընթացիկ դրամաշնորհներ պետական և համայքնային առևտրային կազմակերպություններին | G27: ='Հավելված 1'!D20 -> 74972.4 | H27: ='Հավելված 1'!E20 -> 74972.4 | I27: ='Հավելված 1'!F20 -> 74972.4
A30: 11 | F30: ՀԻՄՆԱԿԱՆ ԲԱԺԻՆՆԵՐԻՆ ՉԴԱՍՎՈՂ ՊԱՀՈՒՍՏԱՅԻՆ ՖՈՆԴԵՐ | G30: =G32 -> -74972.4 | H30: =H32 -> -74972.4 | I30: =I32 -> -74972.4
F31: այդ թվում`
B32: 01 | F32: ՀՀ կառավարության և համայնքների պահուստային ֆոնդ | G32: =G34 -> -74972.4 | H32: =H34 -> -74972.4 | I32: =I34 -> -74972.4
F33: այդ թվում`
C34: 01 | F34: ՀՀ կառավարության պահուստային ֆոնդ | G34: =G36 -> -74972.4 | H34: =H36 -> -74972.4 | I34: =I36 -> -74972.4
F35: այդ թվում`
D36: 1139 | E36: 11001 | F36: ՀՀ կառավարության պահուստային ֆոնդ | G36: =G39 -> -74972.4 | H36: =H39 -> -74972.4 | I36: =I39 -> -74972.4
F37: ՀՀ կառավարություն
F38: այդ թվում` ըստ կատարողների
F39: ՀՀ կառավարություն | G39: =G41 -> -74972.4 | H39: =H41 -> -74972.4 | I39: =I41 -> -74972.4
F40: այդ թվում` բյուջետային ծախսերի տնտեսագիտական դասակարգման հոդվածներ
F41: ԸՆԴԱՄԵՆԸ ԾԱԽՍԵՐ | G41: =G42 -> -74972.4 | H41: =H42 -> -74972.4 | I41: =I42 -> -74972.4
F42: ԸՆԹԱՑԻԿ ԾԱԽՍԵՐ | G42: =G43 -> -74972.4 | H42: =H43 -> -74972.4 | I42: =I43 -> -74972.4
F43: ԱՅԼ ԾԱԽՍԵՐ | G43: =G44 -> -74972.4 | H43: =H44 -> -74972.4 | I43: =I44 -> -74972.4
F44: Պահուստային միջոցներ | G44: ='Հավելված 1'!D34 -> -74972.4 | H44: ='Հավելված 1'!E34 -> -74972.4 | I44: ='Հավելված 1'!F34 -> -74972.4

Sheet Հավելված 3
E1: Հավելված N3
E2: ՀՀ կառավարության 2020 թվականի
E3: __________-ի N____-Ն որոշման
A5: ՀԱՅԱՍՏԱՆԻ ՀԱՆՐԱՊԵՏՈՒԹՅԱՆ ԿԱՌԱՎԱՐՈՒԹՅԱՆ 2019 ԹՎԱԿԱՆԻ ԴԵԿՏԵՄԲԵՐԻ 26-Ի N 1919-Ն ՈՐՈՇՄԱՆ
A6: N 5 ՀԱՎԵԼՎԱԾԻ N 7 ԱՂՅՈՒՍԱԿՈՒՄ ԿԱՏԱՐՎՈՂ ԼՐԱՑՈՒՄՆԵՐԸ
E8: (հազ. դրամ)
A9: Ծրագրային դասիչը | C9: Բյուջետային հատկացումների գլխավոր կարգադրիչների, ծրագրերի, միջոցառումների, ծախսային ուղղությունների անվանումները | D9: Միջոցառումները կատարող պետական մարմինների և դրամաշնորհ ստացող տնտեսավարող սուբյեկտների անվանումները | E9: Ցուցանիշների փոփոխությունը (ավելացումները նշված են դրական նշանով)
A10: ծրագիրը | B10: միջոցառումը | E10: տարի
A11: ՀՀ տարածքային կառավարման և ենթակառուցվածքների նախարարություն | E11: =E12 -> 74972.4
A12: 1079 | B12: Պետական գույքի կառավարում | E12: =E13 -> 74972.4
B13: 12001 | C13: Ֆինանսական աջակցություն մասնավորեցման ծրագրում ընդգրկված առևտրային կազմակերպությանը | D13: ՀՀ տարածքային կառավարման և ենթակառուցվածքների նախարարության պետական գույքի կառավարման կոմիտե | E13: =E14 -> 74972.4
D14: «Ռադիոիզոտոպների արտադրության կենտրոն ՓԲԸ | E14: ='Հավելված 2'!G27 -> 74972.4

Sheet Հավելված  4
E1: Հավելված N 4
B2: ՀՀ կառավարության 2020 թվականի
B3: ___________ ___-ի N _______ -Ն
A8: ՀԱՅԱՍՏԱՆԻ ՀԱՆՐԱՊԵՏՈՒԹՅԱՆ ԿԱՌԱՎԱՐՈՒԹՅԱՆ 2019 ԹՎԱԿԱՆԻ ԴԵԿՏԵՄԲԵՐԻ 26-Ի ԹԻՎ 1919-Ն ՈՐՈՇՄԱՆ N9 ՀԱՎԵԼՎԱԾԻ 9.8 ԱՂՅՈՒՍԱԿՈՒՄ ԿԱՏԱՐՎՈՂ ԼՐԱՑՈՒՄԸ
A10: ՀՀ տարածքային կառավարման և ենթակառուցվածքների նախարարություն
A12: ՄԱՍ 2. ՊԵՏԱԿԱՆ ՄԱՐՄՆԻ ԳԾՈՎ ԱՐԴՅՈՒՆՔԱՅԻՆ (ԿԱՏԱՐՈՂԱԿԱՆ) ՑՈՒՑԱՆԻՇՆԵՐԸ
A15: Ծրագրի դասիչը | B15: Ծրագրի անվանումը
A16: 1079 | B16: Պետական գույքի կառավարում
A18: Ծրագրի միջոցառումները
A20: Ծրագրի դասիչը՝ | B20: 1079 | C20: Ցուցանիշների փոփոխությունը (ավելացումները նշված են դրական նշանով)
A21: Միջոցառման դասիչը՝ | B21: ='Հավելված 2'!E19 -> 12001 | C21: Առաջին կիսամյակ | D21: Ինն ամիս | E21: Տարի
A22: Միջոցառման անվանումը՝ | B22: ='Հավելված 1'!C20 -> Ֆինանսական աջակցություն մասնավորեցման ծրագրում ընդգրկված առևտրային կազմակերպությանը
A23: Նկարագրությունը՝ | B23: ='Հավելված 1'!C22 -> «Ռադիոիզոտոպների արտադրության կենտրոն ՓԲ ընկերության 2020 թվականի պահպանման ծախսերի ֆինանսավորում
A24: Միջոցառման տեսակը՝ | B24: ='Հավելված 1'!C24 -> Տրանսֆերտների տրամադրում
A25: Միջոցառումն իրականացնողի անվանումը | B25: ՀՀ տարածքային կառավարման և ենթակառուցվածքների նախարարության պետական գույքի կառավարման կոմիտե
B26: Արդյունքի չափորոշիչներ
A27: Միջոցառման վրա կատարվող ծախսը (հազար դրամ) | C27: ='Հավելված 1'!D20 -> 74972.4 | D27: ='Հավելված 1'!E20 -> 74972.4 | E27: ='Հավելված 1'!F20 -> 74972.4
A29: ՀԱՅԱՍՏԱՆԻ ՀԱՆՐԱՊԵՏՈՒԹՅԱՆ ԿԱՌԱՎԱՐՈՒԹՅԱՆ 2019 ԹՎԱԿԱՆԻ ԴԵԿՏԵՄԲԵՐԻ 26-Ի ԹԻՎ 1919-Ն ՈՐՈՇՄԱՆ N9 ՀԱՎԵԼՎԱԾԻ 9.47 ԱՂՅՈՒՍԱԿՈՒՄ ԿԱՏԱՐՎՈՂ ՓՈՓՈԽՈՒԹՅՈՒՆԸ
A33: ՀՀ կառավարություն
A35: ՄԱՍ 2. ՊԵՏԱԿԱՆ ՄԱՐՄՆԻ ԳԾՈՎ ԱՐԴՅՈՒՆՔԱՅԻՆ (ԿԱՏԱՐՈՂԱԿԱՆ) ՑՈՒՑԱՆԻՇՆԵՐԸ
A38: Ծրագրի դասիչը | B38: Ծրագրի անվանումը
A39: 1139 | B39: ՀՀ կառավարության պահուստային ֆոնդ
A41: Ծրագրի միջոցառումները
A43: Ծրագրի դասիչը՝ | B43: 1139 | C43: Ցուցանիշների փոփոխությունը (նվազեցումները նշված են փակագծերում)
A44: Միջոցառման դասիչը՝ | B44: 11001 | C44: Առաջին կիսամյակ | D44: Ինն ամիս | E44: Տարի
A45: Միջոցառման անվանումը՝ | B45: ՀՀ կառավարության պահուստային ֆոնդ
A46: Նկարագրությունը՝ | B46: ՀՀ պետական բյուջեում նախատեսված ելքերի լրացուցիչ ֆինանսավորման՝ պետական բյուջեում չկանխատեսված ելքերի՝ ինչպես նաև բյուջետային երաշխիքների ապահովման ելքերի ֆինանսավորման ապահովում
A47: Միջոցառման տեսակը՝ | B47: Ծառայությունների մատուցում
A48: Միջոցառումն իրականացնողի անվանումը | B48: ՀՀ կառավարություն
B49: Արդյունքի չափորոշիչներ
A50: Միջոցառման վրա կատարվող ծախսը (հազար դրամ) | C50: ='Հավելված 2'!G44 -> -74972.4 | D50: ='Հավելված 2'!H44 -> -74972.4 | E50: ='Հավելված 2'!I44 -> -74972.4

Sheet Հավելված 5
E1: Հավելված N5
B2: ՀՀ կառավարության 2020 թվականի
B3: ___________ ___-ի N _______ -Ն
A8: ՀԱՅԱՍՏԱՆԻ ՀԱՆՐԱՊԵՏՈՒԹՅԱՆ ԿԱՌԱՎԱՐՈՒԹՅԱՆ 2019 ԹՎԱԿԱՆԻ ԴԵԿՏԵՄԲԵՐԻ 26-Ի ԹԻՎ 1919-Ն ՈՐՈՇՄԱՆ N9.1 ՀԱՎԵԼՎԱԾԻ 9.1.34 ԱՂՅՈՒՍԱԿՈՒՄ ԿԱՏԱՐՎՈՂ ԼՐԱՑՈՒՄԸ
A10: ՀՀ տարածքային կառավարման և ենթակառուցվածքների նախարարության պետական գույքի կառավարման կոմիտե
A12: ՄԱՍ 1. ՊԵՏԱԿԱՆ ՄԱՐՄՆԻ ԳԾՈՎ ԱՐԴՅՈՒՆՔԱՅԻՆ (ԿԱՏԱՐՈՂԱԿԱՆ) ՑՈՒՑԱՆԻՇՆԵՐԸ
A15: Ծրագրի դասիչը | B15: Ծրագրի անվանումը
A16: 1079 | B16: Պետական գույքի կառավարում
A18: Ծրագրի միջոցառումները
A20: Ծրագրի դասիչը՝ | B20: 1079 | C20: Ցուցանիշների փոփոխությունը (ավելացումները նշված են դրական նշանով)
A21: Միջոցառման դասիչը՝ | B21: ='Հավելված 4'!B21 -> 12001 | C21: Առաջին կիսամյակ | D21: Ինն ամիս | E21: Տարի
A22: Միջոցառման անվանումը՝ | B22: ='Հավելված 4'!B22 -> Ֆինանսական աջակցություն մասնավորեցման ծրագրում ընդգրկված առևտրային կազմակերպությանը
A23: Նկարագրությունը՝ | B23: ='Հավելված 1'!C22 -> «Ռադիոիզոտոպների արտադրության կենտրոն ՓԲ ընկերության 2020 թվականի պահպանման ծախսերի ֆինանսավորում
A24: Միջոցառման տեսակը՝ | B24: Պետական մարմինների կողմից օգտագործվող ոչ ֆինանսական ակտիվների հետ գործառնություններ
A25: Միջոցառումն իրականացնողի անվանումը | B25: ՀՀ տարածքային կառավարման և ենթակառուցվածքների նախարարության պետական գույքի կառավարման կոմիտե
B26: Արդյունքի չափորոշիչներ
A27: Միջոցառման վրա կատարվող ծախսը (հազար դրամ) | C27: ='Հավելված 1'!D20 -> 74972.4 | D27: ='Հավելված 1'!E20 -> 74972.4 | E27: ='Հավելված 1'!F20 -> 74972.4
A29: ՀԱՅԱՍՏԱՆԻ ՀԱՆՐԱՊԵՏՈՒԹՅԱՆ ԿԱՌԱՎԱՐՈՒԹՅԱՆ 2019 ԹՎԱԿԱՆԻ ԴԵԿՏԵՄԲԵՐԻ 26-Ի ԹԻՎ 1919-Ն ՈՐՈՇՄԱՆ N9.1 ՀԱՎԵԼՎԱԾԻ 9.1.58 ԱՂՅՈՒՍԱԿՈՒՄ ԿԱՏԱՐՎՈՂ ՓՈՓՈԽՈՒԹՅՈՒՆԸ
A31: ՀՀ կառավարություն
A33: ՄԱՍ 2. ՊԵՏԱԿԱՆ ՄԱՐՄՆԻ ԳԾՈՎ ԱՐԴՅՈՒՆՔԱՅԻՆ (ԿԱՏԱՐՈՂԱԿԱՆ) ՑՈՒՑԱՆԻՇՆԵՐԸ
A36: Ծրագրի դասիչը | B36: Ծրագրի անվանումը
A37: 1139 | B37: ՀՀ կառավարության պահուստային ֆոնդ
A39: Ծրագրի միջոցառումները
A41: Ծրագրի դասիչը՝ | B41: 1139 | C41: Ցուցանիշների փոփոխությունը (նվազեցումները նշված են փակագծերում)
A42: Միջոցառման դասիչը՝ | B42: 11001 | C42: Առաջին կիսամյակ | D42: Ինն ամիս | E42: Տարի
A43: Միջոցառման անվանումը՝ | B43: ՀՀ կառավարության պահուստային ֆոնդ
A44: Նկարագրությունը՝ | B44: ՀՀ պետական բյուջեում նախատեսված ելքերի լրացուցիչ ֆինանսավորման՝ պետական բյուջեում չկանխատեսված ելքերի՝ ինչպես նաև բյուջետային երաշխիքների ապահովման ելքերի ֆինանսավորման ապահովում
A45: Միջոցառման տեսակը՝ | B45: Ծառայությունների մատուցում
A46: Միջոցառումն իրականացնողի անվանումը | B46: ՀՀ կառավարություն
B47: Արդյունքի չափորոշիչներ
A48: Միջոցառման վրա կատարվող ծախսը (հազար դրամ) | C48: ='Հավելված 4'!C50 -> -74972.4 | D48: ='Հավելված 4'!D50 -> -74972.4 | E48: ='Հավելված 4'!E50 -> -74972.4
