Workbook
Name _ftnref1: Police!$A$5

Sheet Police
A1: Ոստիկանության բարեփոխումների ռազմավարության ԳՈՐԾՈՂՈՒԹՅՈՒՆՆԵՐԻ ԾՐԱԳԻՐ (2020-2022թթ.)
A2: Ուղղություն՝ Նոր ոստիկանության նկարագիրը
A3: Խնդիր՝ Պետության հարկադրանք կիրառող, օրվա իշխանությանը ծառայող մարմնի իմիջի փոխություն հանրությանը ծառայող, վստահելի և հարգանքի արժանի հանրային ծառայության տեսակի
A4: Թիրախ՝ Ոստիկանության ծառայության հանդեպ վստահության բարձրացում
A6: Հանրային կարծիքի հարցում. ելակետային 2019թ.՝ 4.4, ըստ Համաշխարհային բանկի Գլոբալ մրցունակության ցուցիչի,թիրախ 2023թ – առնվազն՝ 6
A7: N | C7: Գործողություն | D7: Թիրախն ըստ ժամկետի | G7: Համակատարող | H7: Արդյունք/Վերստուգիչ ցուցանիշ | I7: Ֆինանսավորման աղբյուր
D8: 2020 | E8: 2021 | F8: 2022
A9: 1 | B9: 1 | C9: Ոստիկանության կրթահամալիրի ուսումնական ծրագրերի աուդիտ | D9: ='Cost estimates'!E11 -> 12500 | G9: ՀՀ արդարադատության նախարարություն | H9: Աուդիտի եզրակացությունը՝ հետագա միջոցառումների առաջարկություններով ներկայացվել է Վարչապետի աշխատակազմ Հիմքային՝ 0, 2022թ.՝ 1 | I9: Oրենքով չարգելված միջոցներ | J9: St
A10: 1 | B10: 2 | C10: Նոր կրթական ծրագրերի մշակում, գործողների՝ վերանայում | D10: ='Cost estimates'!E13 -> 15000 | E10: ='Cost estimates'!E13 -> 15000 | G10: ՀՀ արդարադատության նախարարություն | H10: Պարեկային ծառայության կրթա կան ծրագիրը հաստատվել է Հիմքային՝ 0, 2022թ.՝ 1 Ոստիկանության այլ ծառայությունների փոփոխված կրթական ծրագրերը հաստատվել են Հիմքային՝ XX, 2022թ.՝ YY Ենթաօրենսդրական ակտերը փոփոխվել են ու հաստատվել | I10: Տարեկան բյուջեով նախատեսված, ինչպես նաև օրենքով չարգելված միջոցներ | J10: St
A11: 1 | B11: 3 | C11: Կրթական միջավայրի բարեփոխում | D11: 40000 | E11: ='Cost estimates'!D79 -> 350000 | G11: ՀՀ արդարադատության նախարարություն | H11: Կրթահամալիրի միջավայրը համապատասխանեցվել է նոր ոստիկանության գաղափարախոսական ուղղություններին ՝ համալիրի կրթական և մյուս տարածքների ձևավորման եղանակով | I11: Տարեկան բյուջեով նախատեսված, ինչպես նաև օրենքով չարգելված միջոցներ | J11: Tr
A12: 1 | B12: 4 | C12: Նոր կրթական ծրագրերը ժամանակակից մեթոդաբանությամբ դասավանդող դասախոսական կազմի համալրում (գումարնը ներառված է ՊԾ աշխատակիցների կրթության գործողության ծախսերի մեջ) | G12: ՀՀ արդարադատության նախարարություն | H12: Դասախոսական կազմի համալրման գործընթացը հաստատվել է Հիմքային՝ 0, 2022թ.՝ 1 XX դասախոսներն ընտրվել են և իրականացնում են 6-ամսյա կրթական ծրագրի ուսուցումը Հիմքային՝ 0, 2022թ.՝ 1 | I12: Տարեկան բյուջեով նախատեսված, ինչպես նաև օրենքով չարգելված միջոցներ
A13: 1 | B13: 5 | C13: Ոստիկանության ղեկավար կազմի վերապատրաստումների իրականացում | D13: =50*150000/1000 -> 7500 | G13: ՀՀ արդարադատության նախարարություն | H13: Վերապատրաստման ծրագիրը հաստատված է Վերապատրաստումներ իրականացվել են Հիմքային՝ 0, 2022թ.՝ 1 | J13: Tr
A14: 1 | B14: 6 | C14: Ոստիկանության ծառայողների վարձատրության և սոցիալական երաշխիքների բարելավում | E14: ='Cost estimates'!E11 -> 12500 | G14: - | H14: Ոստիկանության ծառայողների վարձատրության և սոցիալական երաշխիքների համադրված իրավիճակային վերլուծությունը ներկայացվել է Վարչապետի աշխատակազմ Ուսումնասիրության արդյունքներով առաջարկություններ են ներկայացվել Ոստիկանության տարեկան բյուջետային հայտերի շրջանակներում | I14: Տարեկան բյուջեով նախատեսված միջոցներ | J14: St
B15: Ընդամենը | D15: =SUM(D9:D14) -> 75000 | E15: =SUM(E9:E14) -> 377500 | F15: =SUM(F9:F14) -> 0
A16: Ուղղություն՝ Ոստիկանության կառուցվածքային մոդել
A17: Խնդիր՝ Ցածր արդյունավետություն ապահովող կառուցվածք
A18: Թիրախ՝ Քաղաքական պատասխանատվությամբ և ոլորտի քաղաքականության մշակման ու իրականացման գործառույթներով օժտված հաշվետու մարմին
A19: 2 | B19: 1 | C19: Ուսումնասիրությունների անցկացում ոստիկանության կառուցվածքային ստորաբաժանումների արդյունավետությունը պարզելու նպատակով | D19: ='Cost estimates'!E11 -> 12500 | G19: ՀՀ արդարադատության նախարարություն | H19: Ուսումնասիրությունը կատարվել է, առաջարկությունները ներկայացվել են Վարչապետի աշխատակազմ | J19: St
A20: 2 | B20: 2 | C20: Ոստիկանության ընթացիկ գործառույթների աուդիտ | D20: ='Cost estimates'!E11 -> 12500 | G20: ՀՀ արդարադատության նախարարություն | H20: Աուդիտի եզրակացությամբ տարանջատվել են ոստիկանության հիմնական և աջակցող գործառույթները | J20: St
A21: 2 | B21: 3 | C21: Նոր նախարարության ձևավորում՝ Ոստիկանության և Միգրացիայի ծառայությունների հիմքով | D21: 0 | G21: ՀՀ արդարադատության նախարարություն | H21: Ապահովվել է նոր նախարարության ստեղծման օրենսդրական հիմքը Հաստատվել է Նախարարության կանոնադրությունն ու կառուցվածքը Ձևավորվել և գործում է ներքին գործերի նախարարությունը Հիմքային՝ 0, 2022թ.՝ 1
B22: Ընդամենը | D22: =SUM(D19:D21) -> 25000 | E22: =SUM(E19:E21) -> 0 | F22: =SUM(F19:F21) -> 0
A23: Ուղղություն՝ Պարեկային ոստիկանության ծառայության և Օպերատիվ կառավարման կենտրոնի ներդրում
A24: Խնդիր՝ Ոստիկանության արտաքին ծառայության և ռեսուրսների օգտագործման անարդյունավետություն
A25: Թիրախ՝ Հարգանքի արժանի ոստիկանության արտաքին ծառայության՝ պարեկային ոստիակնության ստեղծում
A27: Ելակետ՝ չկա նման ծառայություն
A28: Թիրախ՝ 2021 1-ին կիսամյակ՝ Երևանում
A29: 2022 թ. 1-ին կիսամյակ՝ ամբողջ հանրապետությունում
A30: 3 | B30: 1 | C30: «Ոստիկանության մասին» և «Ոստիկանությունում ծառայության մասին» օրենքների փոփոխություն | D30: 0 | E30: 0 | F30: 0 | G30: ՀՀ արդարադատության նախարարություն | H30: Պարեկային ոստիկանություն ծառայության կազմավորման իրավական հիմքերը ստեղծվել են, նախագիծը ներկայացվել է Վարչապետի աշխատակազմ | I30: Տարեկան բյուջեով նախատեսված, ինչպես նաև օրենքով չարգելված միջոցներ
A31: 3 | B31: 2 | C31: Պարեկային ծառայության կանոնադրությունն ու կառուցվածքը հաստատելու և ծառայության գործարկման նպատակով այլ ենթաօրենսդրական ակտերի փոփոխություն, ներառյալ նոր ծառայություն ընդունելության կարգի հաստատում | D31: 0 | E31: 0 | F31: 0 | G31: ՀՀ արդարադատության նախարարություն | H31: Պարեկային ծառայության կանոնադրությունն ու կառուցվածքը հաստատվել է, Ընդունվել են անհրաժեշտ ենթաօրենսդրական ակտերը Հիմքային՝ 0, 2022թ.՝ 1 | I31: Ֆինանսավորում չի պահանջվում
A32: 3 | B32: 3 | C32: Պարեկային ծառայության կրթական չափորոշիչի հաստատում | D32: 0 | E32: 0 | F32: 0 | G32: ՀՀ արդարադատության նախարարություն ՀՀ կրթության, գիտության, սպորտի և երիտասարդության հարցերի նախարություն | H32: Կրթական չափորոշիչը հաստատվել է Հիմքային՝ 0, 2022թ.՝ 1 | I32: Տարեկան բյուջեով նախատեսված, ինչպես նաև օրենքով չարգելված միջոցներ
A33: 3 | B33: 4 | C33: Պարեկային ծառայողների կրթության իրականացում | E33: ='Cost estimates'!F72 -> 720000 | F33: ='Cost estimates'!F73 -> 1440000 | G33: ՀՀ արդարադատության նախարարություն | H33: 600 ծառայող պատրաստվել է- 2021թ. 1-ին կիսամյակ 1200 ծառայող պատրաստվել է- 2022թ. 1-ին կիսամյակ 1800 ծառայող պատրաստվել է- 2022թ. 2-րդ կիսամյակ | I33: Տարեկան բյուջեով նախատեսված, ինչպես նաև օրենքով չարգելված միջոցներ | J33: Tr
A34: 3 | B34: 5 | C34: Պարեկային ծառայության փուլային գործարկում, այդ թվում՝ | D34: =SUM(D35:D40) -> 3384900 | E34: =SUM(E35:E40) -> 5845706.3 | F34: =SUM(F35:F40) -> 174812.7 | G34: ՀՀ արդարադատության նախարարություն | H34: Երևան – 2021թ. 1-ին կիսամյակ Լոռի և Շիրակ – 2021թ. 2-րդ կիսամյակ Ամբողջ հանրապետություն – 2022թ. 1-ին կիսամյակ | I34: Տարեկան բյուջեով նախատեսված, ինչպես նաև օրենքով չարգելված միջոցներ | J34: PT
C35: Շենքերի և շինությունների հիմնանորոգում (360 ԱՄՆ դոլար 1 ք․ մ․ հաշվով) | D35: ='Cost estimates'!F16 -> 351000
C36: Աշխատակազմի վրա կատարվող լրացուցիչծախսեր | E36: ='Cost estimates'!F42/2 -> -551093.65 | F36: ='Cost estimates'!F42 -> -1102187.3
C37: Մեքենաների ձեռքբերում, ձևավորում և սարքավորումներվ կահավորում, | D37: ='Cost estimates'!F54 -> 2162940 | E37: ='Cost estimates'!F55 -> 4325880
C38: Պարեկների սպառազինություն և անհատական սարքավորումներ | D38: ='Cost estimates'!F58 -> 570960 | E38: ='Cost estimates'!F59 -> 1141920
C39: Համազգեստի և հանդերձանքի ձեռքբերում | D39: =600*'Cost estimates'!F69/1500 -> 300000 | E39: ='Cost estimates'!F69-Police!D39 -> 450000
C40: ՕԿԿ և սարքավորումների տարեկան սպասարկման ծախսեր | E40: ='Cost estimates'!F64+'Cost estimates'!F65*'Cost estimates'!C54/'Cost estimates'!C53 -> 479000 | F40: ='Cost estimates'!F63 -> 1277000
A41: 3 | B41: 6 | C41: Առկա ՏՏ համակարգերի ու անհրաժեշտ ցանցերի աուդիտ | D41: ='Cost estimates'!E11 -> 12500 | H41: Առկա ՏՏ համակարգերի ու անհրաժեշտ ցանցերի աուդիտն իրականացվել է, արդյունքները տրամադրվել են ՀՀ Վարչապետի գրասենյակ | I41: Տարեկան բյուջեով նախատեսված, ինչպես նաև օրենքով չարգելված միջոցներ | J41: St
A42: 3 | B42: 7 | C42: Օպերատիվ կառավարման կենտրոնի փուլային ներդրում | D42: =377000+150000 -> 527000 | E42: =2524476-D42 -> 1997476 | H42: Երևանի (հանրապետական) ՕԿԿ-ն գործարկվել է՝ ներառյալ տեխնիկական ու ծրագրային ապահովումն ու մասնագետների վերապատրաստումը: Կատարվել են փոփոխություններ «Ոստիկանության մասին» և «Ոստիկանությունում ծառայության մասին» օրենքներում։ Փոփոխվել է ոստիկանության կանոնադրությունը՝ կառուցվածքի մասով, ինչպես նաև ընդունվել է պարեկային ոստիկանության կանոնադրությունը։ Գերատեսչական ակտերը համապատասխանեցվել են Հիմքային՝ 0, 2022թ.՝ 1 | I42: Տարեկան բյուջեով նախատեսված, ինչպես նաև օրենքով չարգելված միջոցներ | J42: PT
...

Sheet Patrol
A1: Պարեկային ծառայության և Օպերատիվ կառավարման կենտրոնի ստեղծման գործողությունների ծրագիր
A2: N | B2: Գործողություն | C2: Ժամկետ 2020-ին[1] | D2: Նշում/Կարիք
A3: Պարեկային ծառայողների ընդունելություն և պատրաստում
B4: ՊԾ գործառույթների վերջնականացում | C4: Փետրվար 2-րդ շաբաթ | D4: Հասարակական կարգի ու հավաքների ընթացքում հստակեցնել ներգրավման աստիճանը, ինչ քրեական բնույթի արարքների ինչ խմբի հայտնաբերման դեպքում որոնք են իրավասության սահմանները, | E4: Ոստիկանություն | F4: Ոստիկանություն
B5: Ոստիկանությունում ծառայության մասին օրենքի և հարակից օրենսդրության փոփոխություն | C5: Փետրվար 3-րդ շաբաթ | D5: Կրթության մասին օրենսդրության փոփոխություն, ըստ որի ոստիկանությունը մասնագիտություն կսահմանվի | E5: ԱՆ, Ոստիկանություն | F5: ԱՆ, Ոստիկանություն
B6: Ստանդարտ օպերացիոն ընթացակարգի (SOP) նախագծում՝ ըստ որոշված ֆունկցիաների | C6: Փետրվար 4-րդ-մարտ 1 շաբաթ | D6: Ուկրաինական SOP-ների օրինակ | E6: ԱՆ, Ոստիկանության կրթահամալիր | F6: ԱՆ, Ոստիկանության կրթահամալիր
B7: Հաղորդակցության ռազմավարական մեսիջների, թիրախային խմբերի ու փոփոխությունների հիմնական դեմքերի որոշում | C7: Փետրվար 3-րդ շաբաթ | D7: Մեդիա և հաղորդակցության թիմ, սոցմեդիայի (SMM) մասնագետներ | E7: ԱՆ | F7: ԱՆ
B8: Պարեկների թվի որոշում՝ ըստ տարածքների, բնակչության թվի, առևտրային օբյեկտների խտության և հանցավորության ռիսկերի | C8: Փետրվար 3-րդ շաբաթ | D8: Ըստ փորձագետի 150 ավտո (2 պարեկով) Երևան, | E8: Ոստիկանություն | F8: Ոստիկանություն
B14: Ընդունելության պատրաստում | C14: Փետրվար 3-րդ շաբաթ – մարտի 1-ին շաբաթ
B16: - Ընդունելության չափանիշների հստակեցում | C16: Փետրվար 3-րդ շաբաթ | D16: Օր. Հասակի հետ կապված խտրական մոտեցում է մեր չափանիշները ըստ փորձագետի | F16: Ոստիկանություն
B17: - Ֆիզիկական պատրաստվածության ստուգման չափանիշների որոշում | C17: Փետրվար 3-րդ շաբաթ | F17: Ոստիկանության կրթահամալիր
B18: - Առողջության ստուգման խիստ ընթացակարգ ու վերահսկողության մեխանիզմ | C18: Փետրվար 3-րդ շաբաթ | D18: Ամենամեծ հովանավորչությունը այս փուլում կարող է լինել | F18: Ոստիկանության կրթահամալիր
B19: - Հիմնական հարցաշարերի պատրաստում (տեսական ու տակտիկական հարցեր) | C19: Փետրվար 3-մարտ 1-ին շաբաթ | D19: Տեսական հարցերի մեջ օրենսդրության հարցերը կարող են լինել 10 %-ից ոչ ավել | F19: Ոստիկանության կրթահամալիր, ԱՆ
B20: - Ընդհանուր հմտությունների տեստի մշակում (հաղորդակցության և այլ հմտություններ) | C20: Փետրվար 3-մարտ 1-ին շաբաթ | D20: Ուկրաինական և վրացական օրինակները | F20: Ոստիկանության կրթահամալիր, ԱՆ
B21: - Հոգեբանական տեստերի ձևավորում | C21: Փետրվար 3-մարտ 1-ին շաբաթ | D21: MMPI- ի տեստեր, INL-ը կարող է գնել, հեղինակային իրավունքի օբյեկտ է, կարող ենք ընտրել ինչ տևողության, ավտոմատ հարցաշար է, համակարգչով իրականացվող, նաև հաջորդ փուլի համար տեղեկատվություն կտա (բարեվարքության, առաջնորդության, պատասխանատվության հարցերին դիմորդի վերաբերմունքի մասին) | F21: ԱՆ, Ոստիկանության կրթահամալիր
B22: - Հարցազրույցի հարցերի ձևավորում և պատասխանների հնարավոր տարբերակների ձևավորում ու աստիճանավորում Առավելագույն տևողության որոշում | C22: Փետրվար 3-մարտ 1-ին շաբաթ | D22: Հարցազրուցավարները պետք է սահմանված ձևաթղթի մեջ պատասխանների հնարավոր տարբերակների խմբի համար նախատեսված գնահատականը ընտրեն | F22: ԱՆ, Ոստիկանության կրթահամալիր
B23: - Հարցազրուցավարների պանելների (կախված թե քանի պարեկ ենք թիրախավորում և ժամկետները) ձևավորում | C23: Մարտ 2-րդ շաբաթ | D23: Ոստիկանություն, ԱՆ, հոգեբան կամ հոգեբույժ, ՔՀԿ-ներ, որպես դիտորդ ոստիկանության ընտրված ցածր ու միջին մակարդակի ծառայողների ներգրավում, ովքեր կարող են հարցեր տալ, սակայն չեն գնահատում | F23: Ոստիկանության կրթահամալիր, ԱՆ
B24: - Բողոքարկման հանձնաժողովի ձևավորում | C24: Մարտ 2-րդ շաբաթ
B25: - Դիմումների հայտարարության ու ձևաթղթերի մշակում | C25: Մարտ 3-րդ շաբաթ
B26: - Ընդունելության պայմանների ապահովում (շենք, կահավորում, նվազագույն պայմաններ) | C26: Մարտ 3-րդ շաբաթ
B27: - Փոքրիկ աջակցող կամավորների թիմի ձևավորում դիմումների ընդունելության վայրում | C27: Մարտ 3-րդ շաբաթ
B28: - Հարցերի ու բողոքների հեռախոսագծի ապահովում, կամավորների ներգրավմամբ փոքրիկ թիմի պատրաստում, FAQ-ի ապահովում | C28: Մարտ 4-րդ շաբաթ
B29: - Դասախոսների ընտրություն | C29: Փետրվար 4-րդ շաբաթ | D29: Ցանկալի է մրցույթի ձևով անել – կուրիկուլաները գրելու առաջադրանքով
B30: - Ընտրված դասախոսների կողմից ուսումնական նյութերի մշակում՝ հիմք ընդունելով ՊԾ հիմնական գործառույթները և մշակված SOP-ները | C30: Մարտ 3-4-րդ շաբաթ
B31: - Դիմորդների հոսքերի մաքսիմալ թվին համապատասխան շենքային ու կեցության պայմանների ապահովման հարց | C31: Մարտ-Ապրիլ
B32: Ընդունելություն | C32: Ապրիլ - մայիս
B33: - Հայտարարություն դիմումների համար Դիմումների ընդունելության ժամկետ | C33: Ապրիլ 1-3-րդ շաբաթ | F33: Ոստիկանության կրթահամալիր, ԱՆ
B34: - Դիմումների ֆորմալ (փաստաթղթային) ստուգում | C34: Ապրիլ 3-4-րդ շաբաթ | D34: Ըստ ընդունելության պահանջների
B35: - Քննությունների կազմակերպում (տեսական, թեստ, հմտությունների թեստ, հոգեբանական թեստ, հարցազրույց) | C35: Մայիս 1-4-րդ շաբաթ
B36: Կրթության իրականացում (5 ամիսով) | C36: Հունիս-հոկտեմբեր
B37: - Անհրաժեշտ պարագաների ձեռքբերում - Ֆինանսական գնահատում և ձեռքբերման գործընթաց | D37: Պարեկի ամբողջական հանդերձանքի մի քանի օրինակ, ավտոմեքենաներ, տեխնիկական սարքեր պրակտիկ վարժությունների կազմակերպման նաև PR արշավի համար Ծրագրում նաև նախատեսել իրենց տրամադրվող սարքերից, որոնք բազաներին հասանելիություն ունեն օգտագործման պրակտիկ դասընթաց։ | F37: Ոստիկանություն, ԱՆ Ֆինանսավորման հարցի լուծում (ԵՄ ֆինանսավորումը հասանելի է լինելու 2020-ի վերջին միայն)
B38: - Կրթության ծրագրի, դասացուցակների ձևավորում ըստ ֆունկցիաների, SOP-ների և մշակված ուսումնական ծրագրերի | D38: Կրթության կազմակերպումը պետք է ենթադրի շաբաթական quiz-երի և ամսական թեստերի իրականացմամաբ՝ ամապոհվելով ինտերակտիվությունը Ավարտական թեստ կամ քննություն պետք չի լինի, եթե ամսեկան թեստերն ապահովենք | F38: Ոստիկանության կրթահամալիր, ԱՆ
B39: - Նախատեսել առաջնորդության դասախոսություններ առնվազն մեկ-երկու շաբաթը մեկ | D39: Նախարար, ոստիկանության պետ, քաղաքական ղեկավարներ, ովքեր կոգևորեն ու կխոսեն արժեքներից, փոփոխության մեծ կոնցեպտից | F39: Ոստիկանություն, ԱՆ
B40: - Նախատեսել ՊԾ ցածր ու միջին մակարդակի մենեջերների համար լրացուցիչ 2 շաբաթ թրեյնինգ | D40: Ընտրել պահանջվող թվից 20% ավել, Կենտրոնանալ ղեկավարաման հմտությունների վրա | F40: Ոստիկանության կրթահամալիր
B41: Կրթության իրականացմանը զուգահեռ մշակել SOP-իների դետալացված պարտադիր գործողությունների ցանկ՝ checklist | C41: Հունիս-հուլիս | F41: Ոստիկանության կրթահամալիր, ԱՆ
B42: Նշանակում և ծառայության գործարկում | C42: Նոյեմբերի 2-րդ շաբաթ | D42: Կրթությունից հետո անմիջապես պետք է գործարկել. Խուսափել ամենապիկ ամիսներին գործարկելուց (օրինակ՝ սեպտեմբերին կամ դեկտեմբերին) | F42: Ոստիկանություն, ԱՆ
B43: Երևան +Շիրակ ? ամբողջ երկիր?
B44: Կառուցվածքի իրավական ֆորմալացում՝ նկատի ուենալով ներքին մոնիտորինգի բաժնի ստեղծման հանգամանքը | C44: Հուլիս-Օգոստոս | F44: Ոստիկանություն, ԱՆ
B45: Մենթորների կցում յուրաքանչյուր թիմի | C45: Գործարկման առաջին շաբաթ | D45: Կարող են լինել դասախոսներից կամ օտարերկրյա պրակտիկներ | F45: Ոստիկանություն, ԱՆ
A47: Ավտոմեքենաների, սարքավորումների ու հանդերձանքի ձեռքբերում
...

Sheet Cost estimates
A1: USD/AMD | C1: 500
A2: EUR/AMD | C2: 550
C4: Min | D4: Max | E4: Average
B5: Հաղորդակցության միջոցառումներ, ԱՄՆ դոլար | C5: 25000 | D5: 50000 | E5: =(D5+C5)/2 -> 37500
B6: Հաղորդակցության միջոցառումներ, հազար դրամ | C6: =C5*$C$1/1000 -> 12500 | D6: =D5*$C$1/1000 -> 25000 | E6: =(D6+C6)/2 -> 18750
C9: Min | D9: Max | E9: Average
B10: Ուսւոմնասիրություն, ԱՄՆ դոլար | C10: 20000 | D10: 30000 | E10: =(D10+C10)/2 -> 25000
B11: Ուսումնասիրություն, հազար դրամ | C11: =C10*$C$1/1000 -> 10000 | D11: =D10*$C$1/1000 -> 15000 | E11: =(D11+C11)/2 -> 12500
B13: Կրթական ծրագրերի մշակում, հազար դրամ | E13: 15000
C15: Մակերես, ք․ մ․ | D15: Գինը, ԱՄՆ դոլար | E15: Գինը, դրամ | F15: Ընդամենը, հազար դրամ
B16: ՊԾ վարչական շենքի հիմնանորոգում | C16: =3*650 -> 1950 | D16: 360 | E16: =D16*C1 -> 180000 | F16: =E16*C16/1000 -> 351000
B21: ՊԾ աշխատակիցների քանակ
B22: Երևան | C22: 650
B23: ՀՀ մարզեր | C23: =1500-C22 -> 850
B25: ՊԾ համախառն միջին աշխատավարձ, ՀՀ դրամ, ամսական, | F25: 340000
B27: Տարեկան աշխատավարձի գումար, հազար դրամ | F27: =F28+F29 -> 6120000
B28: Երևան | F28: =F25*12*C22/1000 -> 2652000
B29: ՀՀ մարզեր | F29: =F25*12*C23/1000 -> 3468000
B30: Ընդամենը Աշխատավարձին հատկացվող գումարներ (10% չնախատեսված) | F30: =F27*1.1 -> 6732000
B33: 2020թ․ պետբյուջեով ՃՈ հատկացումը, հազար դրամ | F33: 12955642
B34: այդ թվում՝ աշխատավարձի գծով | F34: 5169656.4
B36: 2020թ․ պետբյուջեով ՊՊԾ հատկացումը, հազար դրամ | F36: 3882419.6
B37: այդ թվում՝ աշխատավարձի գծով | F37: 2664530.9
B39: 2020թ․ պետբյուջեով ՃՈ+ՊՊԾ հատկացումը, հազար դրամ | F39: =F36+F33 -> 16838062
B40: այդ թվում՝ աշխատավարձի գծով | F40: =F37+F34 -> 7834187.3
B42: Տարեկան խնայողությունը աշխատավարձի գծով, հազար դրամ | F42: =F30-F40 -> -1102187.3
B45: Մեքենաներ
C46: Քանակ | D46: Գին, ԱՄՆ դոլար | E46: Գին, ՀՀ դրամ | F46: Ընդամենը, հազար դրամ
B47: Մեքենաների ձեռքբերում | C47: 450 | D47: 17500 | E47: =D47*C1 -> 8750000 | F47: =C47*E47/1000 -> 3937500
B48: Ձևավորում | C48: =C47 -> 450 | E48: 30000 | F48: =E48*C48/1000 -> 13500
B49: Անվադողեր | C49: =C48 -> 450 | E49: 120000 | F49: =E49*C49/1000 -> 54000
B50: Ապահովագրություն և տեխզննում | C50: =C49 -> 450 | E50: 40000 | F50: =E50*C50/1000 -> 18000
B51: Տեխնիկական կահավորում | C51: =C50 -> 450 | E51: =3726128000/680 -> 5479600 | F51: =E51*C51/1000 -> 2465820
B53: Ընդամենը | C53: =C54+C55 -> 450 | F53: =SUM(F47:F51) -> 6488820
B54: Երևան | C54: 150 | F54: =F53*C54/C53 -> 2162940
B55: Մարզեր | C55: 300 | F55: =F53*C55/C53 -> 4325880
B57: Ծառայողների սպառազինություն, այդ թվում՝ | C57: 1800 | E57: =2518885200/2647 -> 951600 | F57: =E57*C57/1000 -> 1712880
B58: Երևան | C58: 600 | F58: =E57*C58/1000 -> 570960
B59: Մարզեր | C59: 1200 | F59: =E57*C59/1000 -> 1141920
B60: Ծառայողների սպառազինության գծով ակնկալվող օժանդակություն | E60: =E57-425000 -> 526600 | F60: =E60*C57/1000 -> 947880
...
