Workbook
Name AgencyCode: #REF!
Name AgencyCode: #REF!
Name AgencyCode: #REF!
Name AgencyName: #REF!
Name AgencyName: #REF!
Name AgencyName: #REF!
Name Functional1: #REF!
Name Functional1: #REF!
Name Functional1: #REF!
Name PANature: #REF!
Name PANature: #REF!
Name PANature: #REF!
Name PAType: #REF!
Name PAType: #REF!
Name PAType: #REF!
Name Performance2: #REF!
Name Performance2: #REF!
Name Performance2: #REF!
Name PerformanceType: #REF!
Name PerformanceType: #REF!
Name PerformanceType: #REF!

Sheet հավելված 1
E1: Հավելված 1
D2: ՀՀ կառավարության 2020 թվականի
D3: ______________ ի ___Ն որոշման
A6: «ՀԱՅԱUՏԱՆԻ ՀԱՆՐԱՊԵՏՈՒԹՅԱՆ 2020 ԹՎԱԿԱՆԻ ՊԵՏԱԿԱՆ ԲՅՈՒՋԵԻ ՄԱUԻՆ» ՀԱՅԱUՏԱՆԻ ՀԱՆՐԱՊԵՏՈՒԹՅԱՆ OՐԵՆՔԻ N 1 ՀԱՎԵԼՎԱԾԻ N 2 ԱՂՅՈՒՍԱԿՈՒՄ ԿԱՏԱՐՎՈՂ ՎԵՐԱԲԱՇԽՈՒՄԸ ԵՎ ՀԱՅԱՍՏԱՆԻ ՀԱՆՐԱՊԵՏՈՒԹՅԱՆ ԿԱՌԱՎԱՐՈՒԹՅԱՆ 2019 ԹՎԱԿԱՆԻ ԴԵԿՏԵՄԲԵՐԻ 26-Ի N 1919-Ն ՈՐՈՇՄԱՆ N 5 ՀԱՎԵԼՎԱԾԻ N 1 ԱՂՅՈՒՍԱԿՈՒՄ ԿԱՏԱՐՎՈՂ ՓՈՓՈԽՈՒԹՅՈՒՆՆԵՐԸ ԵՎ ԼՐԱՑՈՒՄՆԵՐԸ
E8: հազ. դրամներով
A9: Ծրագրային դասիչը | C9: Բյուջետային հատկացումների գլխավոր կարգադրիչների, ծրագրերի և միջոցառումների անվանումները | D9: Ցուցանիշների փոփոխությունը (ավելացումները նշված են դրական նշանով, իսկ նվազեցումները` փակագծերում)
A10: Ծրագիր | B10: Միջոցառում | D10: Առաջին կիսամյակ | E10: Ինն ամիս | F10: Տարի
A11: 1225 | C11: ԸՆԴԱՄԵՆԸ | D11: =D22+D29 -> 0 | E11: =E22+E29 -> 0 | F11: =F22+F29 -> 0
C12: այդ թվում
B13: ՀՀ Աշխատանքի և սոցիալական հարցերի նախարարություն | D13: =D15 -> 0 | E13: =E15 -> 0 | F13: =F15 -> 0
C14: Ծրագրի անվանումը`
C15: Ճգնաժամերի հակազդման և արտակարգ իրավիճակների հետևանքների նվազեցման և վերացման նպատակով՝ առանձին սոցիալական խմբերին տրվող սոցիալական աջակցություն | D15: =D22+D29 -> 0 | E15: =E22+E29 -> 0 | F15: =F22+F29 -> 0
C16: Ծրագրի նպատակը`
C17: Օժանդակել ճգնաժամերի հակազդման և արտակարգ իրավիճակների հետևանքներով ընտանիքների առջև ծառացած սոցիալական խնդիրների բացասական հետևանքների մեղմմանը
C18: Վերջնական արդյունքի նկարագրությունը`
C19: Ճգնաժամերի հակազդման և արտակարգ իրավիճակների առաջացած սոցիալական խնդիրների բացասական հետևանքները մեղմելու նպատակով ընտանիքներին դրամական աջակցության տրամադրում
C20: Ծրագրի միջոցառումներ
B21: 12002 | C21: Միջոցառման անվանումը`
C22: Կորոնավիրուսի (COVID-19)հետևանքով ճգնաժամերի հակազդման և արտակարգ իրավիճակների հետևանքների նվազեցման և վերացման նպատակով՝ առանձին սոցիալական խմբերին տրվող սոցիալական աջակցություն | D22: -801443.4 | E22: -854001.7 | F22: -914068.4
C23: Միջոցառման նկարագրությունը`
C24: Կորոնավիրուսի (COVID-19) հետևանքով օժանդակել ճգնաժամերի հակազդման և արտակարգ իրավիճակների հետևանքներով ընտա-նիքների առջև ծառացած սոցիալական խնդիրների բացասական հետևանքների մեղմմանը
C25: Միջոցառման տեսակը
C26: Տրանսֆերտների տրամադրում
C27: Ծրագրի միջոցառումներ
B28: 12005 | C28: Միջոցառման անվանումը`
C29: Կորոնավիրուսի (COVID-19) տնտեսական հետևանքների չեղոքացման տասնչորսերորդ միջոցառման շրջանակներում աջակցության տրամադրում | D29: 801443.4 | E29: 854001.7 | F29: 914068.4
C30: Միջոցառման նկարագրությունը`
C31: Օժանդակություն կորոնավիրուսի տարածման հետևանքով ՀՀ բարձրագույն և հետբուհական ուսումնական հաստատություններում սովորող ՀՀ քաղաքացիներին
C32: Միջոցառման տեսակը
C33: Տրանսֆերտների տրամադրում
B34: ՀՀ կառավարության պահուստային ֆոնդ
C35: ՀՀ կառավարություն | D35: =D37 -> 0 | E35: =E37 -> 0 | F35: =F37 -> 0
A36: 1139 | C36: Ծրագրի անվանումը`
C37: ՀՀ կառավարության պահուստային ֆոնդ | D37: =D44+D50 -> 0 | E37: =E44+E50 -> 0 | F37: =F44+F50 -> 0
C38: Ծրագրի նպատակը`
C39: Պետական բյուջեում չկանխատեսված, ինչպես նաեւ բյուջետային երաշխիքների ապահովման ծախսերի ֆինանսավորման ապահովում
C40: Վերջնական արդյունքի նկարագրությունը`
C41: Պահուստային ֆոնդի կառավարման արդյունավետության և թափանցիկության ապահովում
C42: Ծրագրի միջոցառումներ
B43: 11001 | C43: Միջոցառման անվանումը`
...

Sheet հավելված 2
H1: Հավելված 2
G2: ՀՀ կառավարության 2020 թվականի
G3: ______________ ի ___Ն որոշման
A6: ՀԱՅԱՍՏԱՆԻ ՀԱՆՐԱՊԵՏՈՒԹՅԱՆ ԿԱՌԱՎԱՐՈՒԹՅԱՆ 2019 ԹՎԱԿԱՆԻ ԴԵԿՏԵՄԲԵՐԻ 26-Ի N 1919-Ն ՈՐՈՇՄԱՆ N 3 ԵՎ N 4 ՀԱՎԵԼՎԱԾՆԵՐՈՒՄ ԿԱՏԱՐՎՈՂ ՓՈՓՈԽՈՒԹՅՈՒՆՆԵՐԸ ԵՎ ԼՐԱՑՈՒՄՆԵՐԸ
H8: հազ. դրամներով
A9: Գործառական դասիչը | D9: Ծրագրային դասիչը | F9: Բյուջետային հատկացումների գլխավոր կարգադրիչների, ծրագրերի, միջոցառումների և միջոցառումները կատարող պետական մարմինների անվանումները | G9: Ցուցանիշների փոփոխությունը (ավելացումները նշված են դրական նշանով, իսկ նվազեցումները` փակագծերում)
A10: Բաժին | B10: Խումբ | C10: Դաս | D10: Ծրագիր | E10: Միջոցառում | G10: Առաջին կիսամյակ | H10: Ինն ամիս | I10: Տարի
F11: ԸՆԴԱՄԵՆԸ | G11: =G13 -> 0 | H11: =H13 -> 0 | I11: =I13 -> 0
F12: այդ թվում
A13: 10 | E13: 11010 | F13: ՍՈՑԻԱԼԱԿԱՆ ՊԱՇՏՊԱՆՈՒԹՅՈՒՆ | G13: =G15 -> 0 | H13: =H15 -> 0 | I13: =I15 -> 0
F14: այդ թվում`
B15: 09 | F15: Սոցիալական պաշտպանություն (այլ դասերին չպատկանող) | G15: =G17 -> 0 | H15: =H17 -> 0 | I15: =I17 -> 0
F16: այդ թվում`
C17: 02 | F17: Սոցիալական պաշտպանությանը տրամադրվող օժանդակ ծառայություններ (այլ դասերին չպատկանող) | G17: =G20 -> 0 | H17: =H20 -> 0 | I17: =I20 -> 0
F18: այդ թվում`
F19: ՀՀ աշխատանքի և սոցիալական հարցերի նախարարություն
D20: 1225 | F20: Ճգնաժամերի հակազդման և արտակարգ իրավիճակների հետևանքների նվազեցման և վերացման նպատակով՝ առանձին սոցիալական խմբերին տրվող սոցիալական աջակցություն | G20: =G22+G30 -> 0 | H20: =H22+H30 -> 0 | I20: =I22+I30 -> 0
F21: այդ թվում`
E22: 12002 | F22: Կորոնավիրուսի (COVID-19)հետևանքով ճգնաժամերի հակազդման և արտակարգ իրավիճակների հետևանքների նվազեցման և վերացման նպատակով՝ առանձին սոցիալական խմբերին տրվող սոցիալական աջակցություն | G22: =G24 -> -801443.4 | H22: =H24 -> -854001.7 | I22: =I24 -> -914068.4
F23: այդ թվում` ըստ կատարողների
F24: ՀՀ աշխատանքի և սոցիալական հարցերի նախարարության սոցիալական ապահովության ծառայություն | G24: =G26 -> -801443.4 | H24: =H26 -> -854001.7 | I24: =I26 -> -914068.4
F25: այդ թվում՝ բյուջետային ծախսերի տնտեսագիտական դասակարգման հոդվածներ
F26: ԸՆԴԱՄԵՆԸ ԾԱԽՍԵՐ | G26: =G27 -> -801443.4 | H26: =H27 -> -854001.7 | I26: =I27 -> -914068.4
F27: ԸՆԹԱՑԻԿ ԾԱԽՍԵՐ | G27: =G28 -> -801443.4 | H27: =H28 -> -854001.7 | I27: =I28 -> -914068.4
F28: ՍՈՑԻԱԼԱԿԱՆ ՆՊԱՍՏՆԵՐ ԵՎ ԿԵՆՍԱԹՈՇԱԿՆԵՐ | G28: =G29 -> -801443.4 | H28: =H29 -> -854001.7 | I28: =I29 -> -914068.4
F29: - Այլ նպաստներ բյուջեից | G29: ='հավելված 1'!D22 -> -801443.4 | H29: ='հավելված 1'!E22 -> -854001.7 | I29: ='հավելված 1'!F22 -> -914068.4
E30: 12005 | F30: Կորոնավիրուսի (COVID-19) տնտեսական հետևանքների չեղոքացման տասնչորսերորդ միջոցառման շրջանակներում աջակցության տրամադրում | G30: =G32 -> 801443.4 | H30: =H32 -> 854001.7 | I30: =I32 -> 914068.4
F31: այդ թվում` ըստ կատարողների
F32: ՀՀ կրթության, գիտության․ մշակույթի և սպորտի նախարարություն | G32: =G37+G40 -> 801443.4 | H32: =H37+H40 -> 854001.7 | I32: =I37+I40 -> 914068.4
F33: այդ թվում՝ բյուջետային ծախսերի տնտեսագիտական դասակարգման հոդվածներ
F34: ԸՆԴԱՄԵՆԸ ԾԱԽՍԵՐ | G34: =G35 -> 801443.4 | H34: =H35 -> 854001.7 | I34: =I35 -> 914068.4
F35: ԸՆԹԱՑԻԿ ԾԱԽՍԵՐ | G35: =G37+G40 -> 801443.4 | H35: =H37+H40 -> 854001.7 | I35: =I37+I40 -> 914068.4
F36: ՍՈՑԻԱԼԱԿԱՆ ՆՊԱՍՏՆԵՐ ԵՎ ԿԵՆՍԱԹՈՇԱԿՆԵՐ | G36: =G37 -> 763901.7 | H36: =H37 -> 763901.7 | I36: =I37 -> 763901.7
F37: - Այլ նպաստներ բյուջեից | G37: 763901.7 | H37: 763901.7 | I37: 763901.7
F38: ԴՐԱՄԱՇՆՈՐՀՆԵՐ | G38: =G39 -> 37541.7 | H38: =H39 -> 90100 | I38: =I39 -> 150166.7
F39: Ընթացիկ դրամաշնորհներ պետական հատվածի այլ մակարդակներին | G39: =G40 -> 37541.7 | H39: =H40 -> 90100 | I39: =I40 -> 150166.7
F40: - Այլ ընթացիկ դրամաշնորհներ | G40: 37541.7 | H40: 90100 | I40: 150166.7
A41: 11 | F41: ՀԻՄՆԱԿԱՆ ԲԱԺԻՆՆԵՐԻՆ ՉԴԱՍՎՈՂ ՊԱՀՈՒՍՏԱՅԻՆ ՖՈՆԴԵՐ | G41: =G43 -> 0 | H41: =H43 -> 0 | I41: =I43 -> 0
F42: այդ թվում`
B43: 01 | F43: ՀՀ կառավարության և համայնքների պահուստային ֆոնդ | G43: =G45 -> 0 | H43: =H45 -> 0 | I43: =I45 -> 0
...

Sheet հավելված 3
D2: Հավելված 3
C3: ՀՀ կառավարության 2020 թվականի
C4: ______________ ի ___Ն որոշման
A6: ՀԱՅԱՍՏԱՆԻ ՀԱՆՐԱՊԵՏՈՒԹՅԱՆ ԿԱՌԱՎԱՐՈՒԹՅԱՆ 2019 ԹՎԱԿԱՆԻ ԴԵԿՏԵՄԲԵՐԻ 26-Ի N 1919-Ն ՈՐՈՇՄԱՆ N 9 ՀԱՎԵԼՎԱԾԻ N 9.16 ԱՂՅՈՒՍԱԿՈՒՄ ԿԱՏԱՐՎՈՂ ՓՈՓՈԽՈՒԹՅՈՒՆՆԵՐԸ ԵՎ ԼՐԱՑՈՒՄՆԵՐԸ
A8: ՀՀ աշխատանքի և սոցիալական հարցերի նախարարություն
A10: ՄԱՍ 2. ՊԵՏԱԿԱՆ ՄԱՐՄՆԻ ԳԾՈՎ ԱՐԴՅՈՒՆՔԱՅԻՆ (ԿԱՏԱՐՈՂԱԿԱՆ) ՑՈՒՑԱՆԻՇՆԵՐԸ
A12: Ծրագրի դասիչը | B12: Ծրագրի անվանումը
A13: 1225 | B13: Ճգնաժամերի հակազդման և արտակարգ իրավիճակների հետևանքների նվազեցման և վերացման նպատակով՝ առանձին սոցիալական խմբերին տրվող սոցիալական աջակցություն
A14: Ծրագրի միջոցառումները
A15: Ծրագրի դասիչը՝ | B15: 1225 | C15: Ցուցանիշների փոփոխությունը (նվազեցումները նշված են փակագծերում)
A16: Միջոցառման դասիչը՝ | B16: 12002 | C16: Առաջին կիսամյակ | D16: Ինն ամիս | E16: Տարի
A17: Միջոցառման անվանումը՝ | B17: Կորոնավիրուսի (COVID-19)հետևանքով ճգնաժամերի հակազդման և արտակարգ իրավիճակների հետևանքների նվազեցման և վերացման նպատակով՝ առանձին սոցիալական խմբերին տրվող սոցիալական աջակցություն
A18: Նկարագրությունը՝ | B18: Կորոնավիրուսի (COVID-19) հետևանքով օժանդակել ճգնաժամերի հակազդման և արտակարգ իրավիճակների հետևանքներով ընտանիքների առջև ծառացած սոցիալական խնդիրների բացասական հետևանքների մեղմմանը
A19: Միջոցառման տեսակը՝ | B19: Տրանսֆերտների տրամադրում
A20: Շահառուների ընտրու-թյան չափանիշները | B20: ՀՀ կառավարության որոշումներով հաստատված Կորոնավիրուսի (COVID-19) տնտեսական հետևանքների չեզոքացման միջոցառման պահանջներին համապատասխան
B21: Արդյունքի չափորոշիչներ
A22: Միջոցառման վրա կատարվող ծախսը (հազար դրամ) | C22: ='հավելված 2'!G29 -> -801443.4 | D22: ='հավելված 2'!H29 -> -854001.7 | E22: ='հավելված 2'!I29 -> -914068.4
A24: Ծրագրի դասիչը՝ | B24: 1225 | C24: Ցուցանիշների փոփոխությունը (ավելացումները նշված են դրական նշանով)
A25: Միջոցառման դասիչը՝ | B25: 12005 | C25: Առաջին կիսամյակ | D25: Ինն ամիս | E25: Տարի
A26: Միջոցառման անվանումը՝ | B26: Կորոնավիրուսի (COVID-19) տնտեսական հետևանքների չեղոքացման տասնչորսերորդ միջոցառման շրջանակներում աջակցության տրամադրում
A27: Նկարագրությունը՝ | B27: Օժանդակություն կորոնավիրուսի տարածման հետևանքով ՀՀ բարձրագույն և հետբուհական ուսումնական հաստատություններում սովորող ՀՀ քաղաքացիներին
A28: Միջոցառման տեսակը՝ | B28: Տրասֆերտների տրամադրում
A29: Շահառուների ընտրու-թյան չափանիշները | B29: ՀՀ կառավարության 23.04.2020թ-ի N596-Լ որոշման համապատասխան
A30: Արդյունքի չափորոշիչներ
A31: Նպաստներ ստացող ուսանողների թիվ, մարդ | C31: 3092 | D31: 3092 | E31: 3092
A32: Ուսանողական նպաստներ ստացող սովորողների թիվ, մարդ | C32: 424 | D32: 424 | E32: 424
A33: Ուսանողների թիվ, մարդ | C33: 4037 | D33: 9690 | E33: 16150
A34: Միջոցառման վրա կատարվող ծախսը (հազար դրամ) | C34: ='հավելված 2'!G30 -> 801443.4 | D34: ='հավելված 2'!H30 -> 854001.7 | E34: ='հավելված 2'!I30 -> 914068.4
A36: ՀԱՅԱՍՏԱՆԻ ՀԱՆՐԱՊԵՏՈՒԹՅԱՆ ԿԱՌԱՎԱՐՈՒԹՅԱՆ 2019 ԹՎԱԿԱՆԻ ԴԵԿՏԵՄԲԵՐԻ 26-Ի N 1919-Ն ՈՐՈՇՄԱՆ N 9 ՀԱՎԵԼՎԱԾԻ N 9.47 ԱՂՅՈՒՍԱԿՈՒՄ ԿԱՏԱՐՎՈՂ ՓՈՓՈԽՈՒԹՅՈՒՆՆԵՐԸ ԵՎ ԼՐԱՑՈՒՄՆԵՐԸ
A37: ՀՀ կառավարություն
A39: Ծրագրի դասիչը | B39: Ծրագրի անվանումը
A40: 1139 | B40: ՀՀ կառավարության պահուստային ֆոնդ
A41: Ծրագրի միջոցառումները
A42: Ծրագրի դասիչը՝ | B42: 1139 | C42: Ցուցանիշների փոփոխությունը (ավելացումները նշված են դրական նշանով)
A43: Միջոցառման դասիչը՝ | B43: 11001 | C43: Առաջին կիսամյակ | D43: Ինն ամիս | E43: Տարի
A44: Միջոցառման անվանումը՝ | B44: ՀՀ կառավարության պահուստային ֆոնդ
A45: Նկարագրությունը՝ | B45: ՀՀ պետական բյուջեում նախատեսված ելքերի լրացուցիչ ֆինանսավորման՝ պետական բյուջեում չկանխատեսված ելքերի, ինչպես նաև բյուջետային երաշխիքների ապահովման ելքերի ֆինանսավորման ապահովում
A46: Միջոցառման տեսակը՝ | B46: Ծառայությունների մատուցում
A47: Միջոցառումն իրականացնողի անվանումը | B47: ՀՀ կառավարություն
B48: Արդյունքի չափորոշիչներ
...

Sheet հավելված 4
D2: Հավելված 4
C3: ՀՀ կառավարության 2020 թվականի
C4: ______________ ի ___Ն որոշման
A7: ՀԱՅԱՍՏԱՆԻ ՀԱՆՐԱՊԵՏՈՒԹՅԱՆ ԿԱՌԱՎԱՐՈՒԹՅԱՆ 2019 ԹՎԱԿԱՆԻ ԴԵԿՏԵՄԲԵՐԻ 26-Ի N 1919-Ն ՈՐՈՇՄԱՆ N 9.1 ՀԱՎԵԼՎԱԾԻ N 9.1.20 ԱՂՅՈՒՍԱԿՈՒՄ ԿԱՏԱՐՎՈՂ ՓՈՓՈԽՈՒԹՅՈՒՆՆԵՐԸ ԵՎ ԼՐԱՑՈՒՄՆԵՐԸ
A9: ՀՀ աշխատանքի և սոցիալական հարցերի նախարարության սոցիալական ապահովության ծառայության
A11: ՄԱՍ 1. ՊԵՏԱԿԱՆ ՄԱՐՄՆԻ ԳԾՈՎ ԱՐԴՅՈՒՆՔԱՅԻՆ (ԿԱՏԱՐՈՂԱԿԱՆ) ՑՈՒՑԱՆԻՇՆԵՐԸ
A13: Ծրագրի դասիչը | B13: Ծրագրի անվանումը
A14: 1225 | B14: Ճգնաժամերի հակազդման և արտակարգ իրավիճակների հետևանքների նվազեցման և վերացման նպատակով՝ առանձին սոցիալական խմբերին տրվող սոցիալական աջակցություն
A16: Ծրագրի միջոցառումները
A17: Ծրագրի դասիչը՝ | B17: 1225 | C17: Ցուցանիշների փոփոխությունը (նվազեցումները նշված են փակագծերում)
A18: Միջոցառման դասիչը՝ | B18: 12002 | C18: Առաջին կիսամյակ | D18: Ինն ամիս | E18: Տարի
A19: Միջոցառման անվանումը՝ | B19: Կորոնավիրուսի (COVID-19)հետևանքով ճգնաժամերի հակազդման և արտակարգ իրավիճակների հետևանքների նվազեցման և վերացման նպատակով՝ առանձին սոցիալական խմբերին տրվող սոցիալական աջակցություն
A20: Նկարագրությունը՝ | B20: Կորոնավիրուսի (COVID-19) հետևանքով օժանդակել ճգնաժամերի հակազդման և արտակարգ իրավիճակների հետևանքներով ընտանիքների առջև ծառացած սոցիալական խնդիրների բացասական հետևանքների մեղմմանը
A21: Միջոցառման տեսակը՝ | B21: Տրանսֆերտների տրամադրում
A22: Շահառուների ընտրության չափանիշները | B22: ՀՀ կառավարության որոշումներով հաստատված Կորոնավիրուսի (COVID-19) տնտեսական հետևանքների չեզոքացման միջոցառման պահանջներին համապատասխան
B23: Արդյունքի չափորոշիչներ
A24: Միջոցառման վրա կատարվող ծախսը (հազար դրամ) | C24: ='հավելված 2'!G29 -> -801443.4 | D24: ='հավելված 2'!H29 -> -854001.7 | E24: ='հավելված 2'!I29 -> -914068.4
A27: ՀԱՅԱՍՏԱՆԻ ՀԱՆՐԱՊԵՏՈՒԹՅԱՆ ԿԱՌԱՎԱՐՈՒԹՅԱՆ 2019 ԹՎԱԿԱՆԻ ԴԵԿՏԵՄԲԵՐԻ 26-Ի N 1919-Ն ՈՐՈՇՄԱՆ N 9.1 ՀԱՎԵԼՎԱԾԻ N 9.1.14 ԱՂՅՈՒՍԱԿՈՒՄ ԿԱՏԱՐՎՈՂ ՓՈՓՈԽՈՒԹՅՈՒՆՆԵՐԸ ԵՎ ԼՐԱՑՈՒՄՆԵՐԸ
A28: ՀՀ Կրթության, գիտության, մշակույթի և սպորտի նախարարություն
A30: ՄԱՍ 1. ՊԵՏԱԿԱՆ ՄԱՐՄՆԻ ԳԾՈՎ ԱՐԴՅՈՒՆՔԱՅԻՆ (ԿԱՏԱՐՈՂԱԿԱՆ) ՑՈՒՑԱՆԻՇՆԵՐԸ
A32: Ծրագրի դասիչը | B32: Ծրագրի անվանումը
A33: 1225 | B33: Ճգնաժամերի հակազդման և արտակարգ իրավիճակների հետևանքների նվազեցման և վերացման նպատակով՝ առանձին սոցիալական խմբերին տրվող սոցիալական աջակցություն
A35: Ծրագրի դասիչը՝ | B35: 1225 | C35: Ցուցանիշների փոփոխությունը (ավելացումները նշված են դրական նշանով)
A36: Միջոցառման դասիչը՝ | B36: 12005 | C36: Առաջին կիսամյակ | D36: Ինն ամիս | E36: Տարի
A37: Միջոցառման անվանումը՝ | B37: Կորոնավիրուսի (COVID-19) տնտեսական հետևանքների չեղոքացման տասնչորսերորդ միջոցառման շրջանակներում աջակցության տրամադրում
A38: Նկարագրությունը՝ | B38: Օժանդակություն կորոնավիրուսի տարածման հետևանքով ՀՀ բարձրագույն և հետբուհական ուսումնական հաստատություններում սովորող ՀՀ քաղաքացիներին
A39: Միջոցառման տեսակը՝ | B39: Տրասֆերտների տրամադրում
A40: Շահառուների ընտրու-թյան չափանիշները | B40: ՀՀ կառավարության 23.04.2020թ-ի N596-Լ որոշման համապատասխան
A41: Արդյունքի չափորոշիչներ
A42: Նպաստներ ստացող ուսանողների թիվ, մարդ | C42: 3092 | D42: 3092 | E42: 3092
A43: Ուսանողական նպաստներ ստացող սովորողների թիվ, մարդ | C43: 424 | D43: 424 | E43: 424
A44: Ուսանողների թիվ, մարդ | C44: 4037 | D44: 9690 | E44: 16150
A45: Միջոցառման վրա կատարվող ծախսը (հազար դրամ) | C45: ='հավելված 3'!C34 -> 801443.4 | D45: ='հավելված 3'!D34 -> 854001.7 | E45: ='հավելված 3'!E34 -> 914068.4
A47: ՀԱՅԱՍՏԱՆԻ ՀԱՆՐԱՊԵՏՈՒԹՅԱՆ ԿԱՌԱՎԱՐՈՒԹՅԱՆ 2019 ԹՎԱԿԱՆԻ ԴԵԿՏԵՄԲԵՐԻ 26-Ի N 1919-Ն ՈՐՈՇՄԱՆ N 9.1 ՀԱՎԵԼՎԱԾԻ N 9.1.58 ԱՂՅՈՒՍԱԿՈՒՄ ԿԱՏԱՐՎՈՂ ՓՈՓՈԽՈՒԹՅՈՒՆՆԵՐԸ ԵՎ ԼՐԱՑՈՒՄՆԵՐԸ
A49: ՀՀ կառավարություն
A51: Ծրագրի դասիչը | B51: Ծրագրի անվանումը
A52: 1139 | B52: ՀՀ կառավարության պահուստային ֆոնդ
A53: Ծրագրի միջոցառումները
A54: Ծրագրի դասիչը՝ | B54: 1139 | C54: Ցուցանիշների փոփոխությունը (ավելացումները նշված են դրական նշանով)
A55: Միջոցառման դասիչը՝ | B55: 11001 | C55: Առաջին կիսամյակ | D55: Ինն ամիս | E55: Տարի
...
