Workbook

Sheet բակալավր
B1: 2019-2020 ուսումական տարվա երկրորդ կիսամյակ
B2: Առկա ուսուցմամբ բակալավրի կրթական աստիճանում վճարովի համակարգում ուսումնառող 90 և ավել տոկոս հանրագումարային ՄՈԳ ունեցող (ուսումնառության սկզբից մինչև 2019-2020 ուսումնական տարվա 1-ին կիսամյակի ավարտը) ՀՀ քաղաքացի հանդիսացող ուսանողների վերաբերյալ տեղեկատվություն
A3: Կուրսը | B3: Ուսանողների ընդհանուր թիվը | C3: Ուսանողների թիվը, որոնք պետության կողմից ՀՀ օրենսդրության համաձայն ստացել են փոխհատուցում | D3: Ուսանողների ուսման վարձի գծով կիսամյակի վճարման ենթակա գումարի ընդհանուր չափը՝ չնվազեցնելով բուհի կողմից տրված կիսամյակի զեղչերի գումարը /հազար դրամ/ | E3: Պետության կողմից ՀՀ օրենսդրության համաձայն ուսման վարձի փոխհատուցում ստացող ուսանողների գծով (սյունակ N3-ում նշված) հատկացված գումարի չափը կիսամյակի հաշվարկով /հազար դրամ/ | F3: Պետության կողմից ՀՀ օրենսդրության համաձայն փոխհատուցում ստացած ուսանողների համար ակնակալվող լրացուցիչ աջակցության գումարը /հազար դրամ/ | G3: Պետության կողմից ակնկալվող աջակցության գումարը՝ նվազեցնելով պետության կողմից ՀՀ օրենսդրության համաձայն փոխհատուցում ստացած ուսանողների համար ակնակալվող լրացուցիչ աջակցության գումարը /հազար դրամ/ (4-6)
A4: 1 | B4: 2 | C4: 3 | D4: 4 | E4: 5 | F4: 6 | G4: 7
A5: Երևանի պետական համալսարան
A6: I | B6: =195+8 -> 203 | C6: 23 | D6: =58785000+1080000 -> 59865000 | E6: 3960500 | F6: 2789500 | G6: =+(D6-E6-F6)*0.75+F6 -> 42625750
A7: II | B7: =57+2 -> 59 | C7: 7 | D7: =17740000+350000 -> 18090000 | E7: 1353500 | F7: 621500 | G7: =+(D7-E7-F7)*0.75+F7 -> 12707750
A8: III | B8: =114+1 -> 115 | C8: 12 | D8: =33090000+175000 -> 33265000 | E8: 2102000 | F8: 1203000 | G8: =+(D8-E8-F8)*0.75+F8 -> 23673000
A9: Ընդամենը | B9: =SUM(B6:B8) -> 377 | C9: =SUM(C6:C8) -> 42 | D9: =SUM(D6:D8) -> 111220000 | E9: =SUM(E6:E8) -> 7416000 | F9: =SUM(F6:F8) -> 4614000 | G9: =SUM(G6:G8) -> 79006500
A10: Ավարտական | B10: =190+14 -> 204 | C10: 17 | D10: =58000000+2446000 -> 60446000 | E10: 3181000 | F10: 1894000 | G10: =D10-E10 -> 57265000
A11: Ընդամենը | B11: =SUM(B10,B9) -> 581 | C11: =SUM(C9,C10) -> 59 | D11: =SUM(D9,D10) -> 171666000 | E11: =SUM(E9,E10) -> 10597000 | F11: =SUM(F9,F10) -> 6508000 | G11: =G9+G10 -> 136271500
A12: Երևանի Մ.Հերացու անվան պետական բժշկական համալսարան
A13: I | B13: 8 | C13: 1 | D13: 4000000 | E13: 300000 | F13: 200000 | G13: =+(D13-E13-F13)*0.75+F13 -> 2825000
A14: II | B14: 0 | C14: 0 | D14: 0 | E14: 0 | F14: 0 | G14: =+(D14-E14-F14)*0.75+F14 -> 0
A15: III,IV,V | B15: 3 | C15: 0 | D15: 1200000 | E15: 0 | F15: 0 | G15: =+(D15-E15-F15)*0.75+F15 -> 900000
A16: Ընդամենը | B16: =SUM(B13:B15) -> 11 | C16: =SUM(C13:C15) -> 1 | D16: =SUM(D13:D15) -> 5200000 | E16: =SUM(E13:E15) -> 300000 | F16: =SUM(F13:F15) -> 200000 | G16: =SUM(G13:G15) -> 3725000
A17: Ավարտական | B17: 2 | C17: 0 | D17: 650000 | E17: 0 | F17: 0 | G17: =D17-E17 -> 650000
A18: Ընդամենը | B18: =B16+B17 -> 13 | C18: =C16+C17 -> 1 | D18: =D16+D17 -> 5850000 | E18: =E16+E17 -> 300000 | F18: =F16+F17 -> 200000 | G18: =G16+G17 -> 4375000
A19: Երևանի Վ.Բրյուսովի անվան պետական համալսարան
A20: I | B20: 49 | C20: 3 | D20: =B20*225000 -> 11025000 | E20: =382500 -> 382500 | F20: =+C20*225000-E20 -> 292500 | G20: =+(D20-E20-F20)*0.75+F20 -> 8055000 | H20: =+#REF!*0.75 -> #REF! | I20: =+H20+F20 -> #REF!
A21: II | B21: 13 | C21: 2 | D21: =B21*200000 -> 2600000 | E21: =195000 -> 195000 | F21: =+C21*200000-E21 -> 205000 | G21: =+(D21-E21-F21)*0.75+F21 -> 1855000 | H21: =+#REF!*0.75 -> #REF! | I21: =+H21+F21 -> #REF!
A22: III | B22: 44 | C22: 4 | D22: =B22*200000 -> 8800000 | E22: =440000 -> 440000 | F22: =+C22*200000-E22 -> 360000 | G22: =+(D22-E22-F22)*0.75+F22 -> 6360000 | H22: =+#REF!*0.75 -> #REF! | I22: =+H22+F22 -> #REF!
A23: Ընդամենը | B23: =SUM(B20:B22) -> 106 | C23: =SUM(C20:C22) -> 9 | D23: =SUM(D20:D22) -> 22425000 | E23: =SUM(E20:E22) -> 1017500 | F23: =SUM(F20:F22) -> 857500 | G23: =SUM(G20:G22) -> 16270000 | I23: =+I20+I21+I22 -> #REF!
A24: Ավարտական | B24: 31 | C24: 1 | D24: =B24*200000 -> 6200000 | E24: =120000 -> 120000 | F24: =+C24*200000-E24 -> 80000 | G24: =D24-E24 -> 6080000 | I24: =+#REF!+F24 -> #REF!
A25: Ընդամենը | B25: =B23+B24 -> 137 | C25: =C23+C24 -> 10 | D25: =D23+D24 -> 28625000 | E25: =E23+E24 -> 1137500 | F25: =F23+F24 -> 937500 | G25: =G23+G24 -> 22350000 | I25: =+I23+I24 -> #REF!
A26: Հայաստանի պետական տնտեսագիտական համալսարան | I26: u
A27: I | B27: 56 | C27: 9 | D27: 15050000 | E27: 1177500 | F27: 1297500 | G27: =+(D27-E27-F27)*0.75+F27 -> 10728750
A28: II | B28: 2 | C28: 0 | D28: 600000 | E28: 0 | F28: 0 | G28: =+(D28-E28-F28)*0.75+F28 -> 450000
A29: III | B29: 44 | C29: 4 | D29: 12900000 | E29: 677500 | F29: 497500 | G29: =+(D29-E29-F29)*0.75+F29 -> 9291250
A30: Ընդամենը | B30: =SUM(B27:B29) -> 102 | C30: =SUM(C27:C29) -> 13 | D30: =SUM(D27:D29) -> 28550000 | E30: =SUM(E27:E29) -> 1855000 | F30: =SUM(F27:F29) -> 1795000 | G30: =SUM(G27:G29) -> 20470000
A31: Ավարտական | B31: 66 | C31: 1 | D31: 15975000 | E31: 180000 | F31: 120000 | G31: =D31-E31 -> 15795000
A32: Ընդամենը | B32: =B30+B31 -> 168 | C32: =C30+C31 -> 14 | D32: =D30+D31 -> 44525000 | E32: =E30+E31 -> 2035000 | F32: =F30+F31 -> 1915000 | G32: =G30+G31 -> 36265000
A33: Ճարտարապետության և շինարարության Հայաստանի ազգային համալսարան
A34: I | B34: 9 | C34: 1 | D34: 2466000 | E34: 168000 | F34: 72000 | G34: =+(D34-E34-F34)*0.75+F34 -> 1741500
A35: II | B35: 0 | C35: 0 | D35: 0 | E35: 0 | F35: 0 | G35: =+(D35-E35-F35)*0.75+F35 -> 0
A36: III | B36: 7 | C36: 0 | D36: 1778000 | E36: 0 | F36: 0 | G36: =+(D36-E36-F36)*0.75+F36 -> 1333500
A37: Ընդամենը | B37: =SUM(B34:B36) -> 16 | C37: =SUM(C34:C36) -> 1 | D37: =SUM(D34:D36) -> 4244000 | E37: =SUM(E34:E36) -> 168000 | F37: =SUM(F34:F36) -> 72000 | G37: =SUM(G34:G36) -> 3075000
A38: Ավարտական | B38: 17 | C38: 1 | D38: 4800000 | E38: 52000 | F38: 208000 | G38: =D38-E38 -> 4748000
A39: Ընդամենը | B39: =B37+B38 -> 33 | C39: =C37+C38 -> 2 | D39: =D37+D38 -> 9044000 | E39: =E37+E38 -> 220000 | F39: =F37+F38 -> 280000 | G39: =G37+G38 -> 7823000
A40: Հայաստանի ազգային ագրարային համալսարան
...

Sheet Մագիստր
B6: 2019-2020 ուսումական տարվա երկրորդ կիսամյակ
B7: Առկա ուսուցմամբ մագիստրոսի կրթական աստիճանում վճարովի համակարգում ուսումնառող 90 և ավել տոկոս հանրագումարային ՄՈԳ ունեցող (ուսումնառության սկզբից մինչև 2019-2020 ուսումնական տարվա 1-ին կիսամյակի ավարտը) ՀՀ քաղաքացի հանդիսացող ուսանողների վերաբերյալ տեղեկատվություն
A9: Կուրսը | B9: Ուսանողների ընդհանուր թիվը | C9: Ուսանողների թիվը, որոնք պետության կողմից ՀՀ օրենսդրության համաձայն ստացել են փոխհատուցում | D9: Ուսանողների ուսման վարձի գծով կիսամյակի վճարման ենթակա գումարի ընդհանուր չափը՝ չնվազեցնելով բուհի կողմից տրված կիսամյակի զեղչերի գումարը /հազար դրամ/ | E9: Պետության կողմից ՀՀ օրենսդրության համաձայն ուսման վարձի փոխհատուցում ստացող ուսանողների գծով (սյունակ N4-ում նշված) հատկացված գումարի չափը կիսամյակի հաշվարկով /հազար դրամ/ | F9: Պետության կողմից ՀՀ օրենսդրության համաձայն փոխհատուցում ստացած ուսանողների համար ակնակալվող լրացուցիչ աջակցության գումարը /հազար դրամ/ | G9: Պետության կողմից ակնկալվող աջակցության գումարը՝ նվազեցնելով պետության կողմից ՀՀ օրենսդրության համաձայն փոխհատուցում ստացած ուսանողների համար ակնակալվող լրացուցիչ աջակցության գումարը /հազար դրամ/
G10: (4) - (5) - (6)*
A11: 1 | B11: 2 | C11: 3 | D11: 4 | E11: 5 | F11: 6 | G11: 7
A12: Երևանի պետական համալսարան
A13: I | B13: =255+11 -> 266 | C13: 14 | D13: =71794000+2840000 -> 74634000 | E13: 2368500 | F13: 1471500 | G13: =+(D13-E13-F13)*0.75+F13 -> 54567000 | H13: =SUM(H10:H12) -> 0
A14: Ավարտական | B14: 151 | C14: 3 | D14: 39755000 | E14: 399000 | F14: 356000 | G14: =D14-E14 -> 39356000 | H14: =+G14 -> 39356000
A15: Ընդամենը | B15: =SUM(B13:B14) -> 417 | C15: =SUM(C13:C14) -> 17 | D15: =SUM(D13:D14) -> 114389000 | E15: =SUM(E13:E14) -> 2767500 | F15: =SUM(F13:F14) -> 1827500 | G15: =SUM(G13:G14) -> 93923000 | H15: =+H13+H14 -> 39356000
A16: Երևանի Վ.Բրյուսովի անվան պետական համալսարան
A17: I | B17: 30 | C17: 0 | D17: 7500000 | E17: 0 | F17: 0 | G17: =+(D17-E17-F17)*0.75+F17 -> 5625000 | H17: =G17*0.75 -> 4218750
A18: Ավարտական | B18: 11 | C18: 0 | D18: 2475000 | E18: 0 | F18: 0 | G18: =D18-E18 -> 2475000 | H18: =+G18 -> 2475000
A19: Ընդամենը | B19: =SUM(B17:B18) -> 41 | C19: =SUM(C17:C18) -> 0 | D19: =SUM(D17:D18) -> 9975000 | E19: =SUM(E17:E18) -> 0 | F19: =SUM(F17:F18) -> 0 | G19: =SUM(G17:G18) -> 8100000 | H19: =+H17+H18 -> 6693750
A20: Հայաստանի պետական տնտեսագիտական համալսարան
A21: I | B21: 100 | C21: 4 | D21: 30675000 | E21: 487500 | F21: 573000 | G21: =+(D21-E21-F21)*0.75+F21 -> 22783875 | H21: =G21*0.75 -> 17087906
A22: Ավարտական | B22: 66 | C22: 3 | D22: 18640000 | E22: 354000 | F22: 366500 | G22: =D22-E22 -> 18286000 | H22: =+G22 -> 18286000
A23: Ընդամենը | B23: =SUM(B21:B22) -> 166 | C23: =SUM(C21:C22) -> 7 | D23: =SUM(D21:D22) -> 49315000 | E23: =SUM(E21:E22) -> 841500 | F23: =SUM(F21:F22) -> 939500 | G23: =SUM(G21:G22) -> 41069875 | H23: =+H21+H22 -> 35373906
A24: Ճարտարապետության և շինարարության Հայաստանի ազգային համալսարան
A25: I | B25: 14 | D25: 5064000 | G25: =+(D25-E25-F25)*0.75+F25 -> 3798000 | H25: =G25*0.75 -> 2848500
A26: Ավարտական | B26: 9 | D26: 3498000 | G26: =D26-E26 -> 3498000 | H26: =+G26 -> 3498000
A27: Ընդամենը | B27: =SUM(B25:B26) -> 23 | C27: =SUM(C25:C26) -> 0 | D27: =SUM(D25:D26) -> 8562000 | E27: =SUM(E25:E26) -> 0 | F27: =SUM(F25:F26) -> 0 | G27: =SUM(G25:G26) -> 7296000 | H27: =+H25+H26 -> 6346500
A28: Հայաստանի ազգային ագրարային համալսարան
A29: I | B29: 1 | D29: 250000 | G29: =+(D29-E29-F29)*0.75+F29 -> 187500 | H29: =G29*0.75 -> 140625
A30: Ավարտական | B30: 7 | D30: 1581143 | G30: =D30-E30 -> 1581143 | H30: =+G30 -> 1581143
A31: Ընդամենը | B31: 8 | D31: 1831143 | G31: =SUM(G29:G30) -> 1768643 | H31: =+H29+H30 -> 1721768
A32: Հայաստանի ֆիզիկական կուլտուրայի և սպորտի պետական ինստիտուտ
A33: I | B33: 22 | C33: 1 | D33: =+B33*225000 -> 4950000 | E33: 67500 | F33: 157500 | G33: =+(D33-E33-F33)*0.75+F33 -> 3701250 | H33: =G33*0.75 -> 2775937.5
A34: Ավարտական | G34: =D34-E34 -> 0 | H34: =+G34 -> 0
A35: Ընդամենը | B35: =SUM(B33:B34) -> 22 | C35: =SUM(C33:C34) -> 1 | D35: =SUM(D33:D34) -> 4950000 | E35: =SUM(E33:E34) -> 67500 | F35: =SUM(F33:F34) -> 157500 | G35: =SUM(G33:G34) -> 3701250 | H35: =+H33+H34 -> 2775937.5
A36: Շիրակի Մ.Նալբանդյանի անվան պետական համալսարան
A37: I | B37: 46 | C37: 10 | D37: 7630000 | E37: 727500 | F37: 727500 | G37: =+(D37-E37-F37)*0.75+F37 -> 5358750 | H37: =G37*0.75 -> 4019062.5
A38: Ավարտական | B38: 41 | C38: 3 | D38: 5715000 | E38: 252500 | F38: 50000 | G38: =D38-E38 -> 5462500 | H38: =+G38 -> 5462500
A39: Ընդամենը | B39: =SUM(B37:B38) -> 87 | C39: =SUM(C37:C38) -> 13 | D39: =SUM(D37:D38) -> 13345000 | E39: =SUM(E37:E38) -> 980000 | F39: =SUM(F37:F38) -> 777500 | G39: =SUM(G37:G38) -> 10821250 | H39: =+H37+H38 -> 9481562.5
A40: Գավառի պետական համալսարան
A41: I | B41: 18 | C41: 2 | D41: 3665000 | E41: 175000 | F41: 175000 | G41: =+(D41-E41-F41)*0.75+F41 -> 2661250 | H41: =G41*0.75 -> 1995937.5
A42: Ավարտական | B42: 24 | C42: 1 | D42: 4960000 | E42: 119000 | F42: 51000 | G42: =D42-E42 -> 4841000 | H42: =+G42 -> 4841000
A43: Ընդամենը | B43: =SUM(B41:B42) -> 42 | C43: =SUM(C41:C42) -> 3 | D43: =SUM(D41:D42) -> 8625000 | E43: =SUM(E41:E42) -> 294000 | F43: =SUM(F41:F42) -> 226000 | G43: =SUM(G41:G42) -> 7502250 | H43: =+H41+H42 -> 6836937.5
A44: Վանաձորի Հ.Թումանյանի անվան պետական համալսարան
A45: I | B45: 21 | C45: 1 | D45: 3900000 | E45: 125000 | F45: 0 | G45: =+(D45-E45-F45)*0.75+F45 -> 2831250 | H45: =G45*0.75 -> 2123437.5
A46: Ավարտական | B46: 31 | C46: 1 | D46: 5575000 | E46: 87500 | F46: 0 | G46: =D46-E46 -> 5487500 | H46: =+G46 -> 5487500
...

Sheet Sheet1
B4: Ուսանողների քանակը | C4: հատկացվող գումար
A5: ԲՈՒՀ | B5: =+B6+B9 -> 3092 | C5: =+C6+C9 -> 615642268
A6: բակալավր | B6: =+B7+B8 -> 1905 | C6: =+C7+C8 -> 371060875
A7: ընդ որում, ավարտական | B7: =+բակալավր!B136 -> 685 | C7: =+բակալավր!G136 -> 159253250
A8: ընդ որում, բակալավր 1-3 | B8: =+բակալավր!B135 -> 1220 | C8: =+բակալավր!G135 -> 211807625
A9: մագիստր | B9: =+B10+B11 -> 1187 | C9: =+C10+C11 -> 244581393
A10: ընդ որում՝ 1-ին կուրս | B10: =+Մագիստր!B81 -> 690 | C10: =+Մագիստր!G81 -> 133243250
A11: ավարտական | B11: =+Մագիստր!B82 -> 497 | C11: =+Մագիստր!G82 -> 111338143
A13: կլինիկական օրդինատուրա | B13: =+օրդինատուրա!B12 -> 424 | C13: =+օրդինատուրա!D12 -> 148259375
A15: Ընդամենը | B15: =B5+B13 -> 3516 | C15: =C5+C13 -> 763901643
A19: վարկերի սուբսիդավորում | B19: Ուսանողների քանակը | C19: հատկացվող գումար
A20: գոյություն ունեցող վարկերի մասով | B20: 11150 | C20: 71000000
A21: նոր վարկերի մասով /կանխատեսում/ | B21: 5000 | C21: 79166667 | F21: 15833.333
A22: Ընդամենը | B22: =+B20+B21 -> 16150 | C22: =+C20+C21 -> 1.5016667e+08
A25: ԸՆԴԱՄԵՆԸ 14-րդ միջոցառում | B25: =+B22+B15 -> 19666 | C25: =+C22+C15 -> 9.1406831e+08

Sheet օրդինատուրա
A1: Կուրսը | B1: գերազանց առաջադիմություն ունեցող օրդինատորների ընդհանուր թիվը | C1: օրդինատորների ուսման վարձի գծով կիսամյակի վճարման ենթակա գումարի ընդհանուր չափը՝ չնվազեցնելով բուհի կողմից տրված կիսամյակի զեղչերի գումարը /հազար դրամ/
A2: 1 | B2: 2 | C2: 3
A4: Երևանի Հերացու անվան պետական բժշկական համալսարան
A5: ոչ ավարտական | B5: 185 | C5: 73812500 | D5: =+C5*0.75 -> 55359375
A6: ավարտական | B6: 193 | C6: 76925000 | D6: =+C6 -> 76925000
A7: Ընդամենը | B7: =SUM(B5:B6) -> 378 | C7: =SUM(C5:C6) -> 150737500 | D7: =SUM(D5:D6) -> 132284375
A8: Ակադեմիկոս Ս. Ավդալբեկյանի անվան առողջապահության ազգային ինստիտուտ
A9: ոչ ավարտական | B9: 33 | C9: 14900000 | D9: =+C9*0.75 -> 11175000
A10: ավարտական | B10: 13 | C10: 4800000 | D10: =+C10 -> 4800000
A11: Ընդամենը | B11: =SUM(B9:B10) -> 46 | C11: =SUM(C9:C10) -> 19700000 | D11: =SUM(D9:D10) -> 15975000
A12: Ընդամենը | B12: =SUM(B11,B7) -> 424 | C12: =SUM(C11,C7) -> 170437500 | D12: =SUM(D11,D7) -> 148259375
