Workbook

Sheet բակալավր
B1: 2019-2020 ուսումական տարվա երկրորդ կիսամյակ
B2: Առկա ուսուցմամբ բակալավրի կրթական աստիճանում վճարովի համակարգում ուսումնառող 90 և ավել տոկոս հանրագումարային ՄՈԳ ունեցող (ուսումնառության սկզբից մինչև 2019-2020 ուսումնական տարվա 1-ին կիսամյակի ավարտը) ՀՀ քաղաքացի հանդիսացող ուսանողների վերաբերյալ տեղեկատվություն
A3: Կուրսը | B3: Ուսանողների ընդհանուր թիվը | C3: Ուսանողների թիվը, որոնք պետության կողմից ՀՀ օրենսդրության համաձայն ստացել են փոխհատուցում | D3: Ուսանողների ուսման վարձի գծով կիսամյակի վճարման ենթակա գումարի ընդհանուր չափը՝ չնվազեցնելով բուհի կողմից տրված կիսամյակի զեղչերի գումարը /հազար դրամ/ | E3: Պետության կողմից ՀՀ օրենսդրության համաձայն ուսման վարձի փոխհատուցում ստացող ուսանողների գծով (սյունակ N3-ում նշված) հատկացված գումարի չափը կիսամյակի հաշվարկով /հազար դրամ/ | F3: Պետության կողմից ՀՀ օրենսդրության համաձայն փոխհատուցում ստացած ուսանողների համար ակնակալվող լրացուցիչ աջակցության գումարը /հազար դրամ/ | G3: Պետության կողմից ակնկալվող աջակցության գումարը՝ նվազեցնելով պետության կողմից ՀՀ օրենսդրության համաձայն փոխհատուցում ստացած ուսանողների համար ակնակալվող լրացուցիչ աջակցության գումարը /հազար դրամ/ (4-6)
A4: 1 | B4: 2 | C4: 3 | D4: 4 | E4: 5 | F4: 6 | G4: 7
A5: Երևանի պետական համալսարան
A6: I | B6: =195+8 -> 203 | C6: 23 | D6: =58785000+1080000 -> 59865000 | E6: 3960500 | F6: 2789500 | G6: =+(D6-E6-F6)*0.75+F6 -> 42625750
A7: II | B7: =57+2 -> 59 | C7: 7 | D7: =17740000+350000 -> 18090000 | E7: 1353500 | F7: 621500 | G7: =+(D7-E7-F7)*0.75+F7 -> 12707750
A8: III | B8: =114+1 -> 115 | C8: 12 | D8: =33090000+175000 -> 33265000 | E8: 2102000 | F8: 1203000 | G8: =+(D8-E8-F8)*0.75+F8 -> 23673000
A9: Ընդամենը | B9: =SUM(B6:B8) -> 377 | C9: =SUM(C6:C8) -> 42 | D9: =SUM(D6:D8) -> 111220000 | E9: =SUM(E6:E8) -> 7416000 | F9: =SUM(F6:F8) -> 4614000 | G9: =SUM(G6:G8) -> 79006500
A10: Ավարտական | B10: =190+14 -> 204 | C10: 17 | D10: =58000000+2446000 -> 60446000 | E10: 3181000 | F10: 1894000 | G10: =D10-E10 -> 57265000
A11: Ընդամենը | B11: =SUM(B10,B9) -> 581 | C11: =SUM(C9,C10) -> 59 | D11: =SUM(D9,D10) -> 171666000 | E11: =SUM(E9,E10) -> 10597000 | F11: =SUM(F9,F10) -> 6508000 | G11: =G9+G10 -> 136271500
A12: Երևանի Մ.Հերացու անվան պետական բժշկական համալսարան
A13: I | B13: 8 | C13: 1 | D13: 4000000 | E13: 300000 | F13: 200000 | G13: =+(D13-E13-F13)*0.75+F13 -> 2825000
A14: II | B14: 0 | C14: 0 | D14: 0 | E14: 0 | F14: 0 | G14: =+(D14-E14-F14)*0.75+F14 -> 0
A15: III,IV,V | B15: 3 | C15: 0 | D15: 1200000 | E15: 0 | F15: 0 | G15: =+(D15-E15-F15)*0.75+F15 -> 900000
A16: Ընդամենը | B16: =SUM(B13:B15) -> 11 | C16: =SUM(C13:C15) -> 1 | D16: =SUM(D13:D15) -> 5200000 | E16: =SUM(E13:E15) -> 300000 | F16: =SUM(F13:F15) -> 200000 | G16: =SUM(G13:G15) -> 3725000
A17: Ավարտական | B17: 2 | C17: 0 | D17: 650000 | E17: 0 | F17: 0 | G17: =D17-E17 -> 650000
A18: Ընդամենը | B18: =B16+B17 -> 13 | C18: =C16+C17 -> 1 | D18: =D16+D17 -> 5850000 | E18: =E16+E17 -> 300000 | F18: =F16+F17 -> 200000 | G18: =G16+G17 -> 4375000
A19: Երևանի Վ.Բրյուսովի անվան պետական համալսարան
A20: I | B20: 49 | C20: 3 | D20: =B20*225000 -> 11025000 | E20: =382500 -> 382500 | F20: =+C20*225000-E20 -> 292500 | G20: =+(D20-E20-F20)*0.75+F20 -> 8055000 | H20: =+#REF!*0.75 -> #REF! | I20: =+H20+F20 -> #REF!
A21: II | B21: 13 | C21: 2 | D21: =B21*200000 -> 2600000 | E21: =195000 -> 195000 | F21: =+C21*200000-E21 -> 205000 | G21: =+(D21-E21-F21)*0.75+F21 -> 1855000 | H21: =+#REF!*0.75 -> #REF! | I21: =+H21+F21 -> #REF!
A22: III | B22: 44 | C22: 4 | D22: =B22*200000 -> 8800000 | E22: =440000 -> 440000 | F22: =+C22*200000-E22 -> 360000 | G22: =+(D22-E22-F22)*0.75+F22 -> 6360000 | H22: =+#REF!*0.75 -> #REF! | I22: =+H22+F22 -> #REF!
A23: Ընդամենը | B23: =SUM(B20:B22) -> 106 | C23: =SUM(C20:C22) -> 9 | D23: =SUM(D20:D22) -> 22425000 | E23: =SUM(E20:E22) -> 1017500 | F23: =SUM(F20:F22) -> 857500 | G23: =SUM(G20:G22) -> 16270000 | I23: =+I20+I21+I22 -> #REF!
A24: Ավարտական | B24: 31 | C24: 1 | D24: =B24*200000 -> 6200000 | E24: =120000 -> 120000 | F24: =+C24*200000-E24 -> 80000 | G24: =D24-E24 -> 6080000 | I24: =+#REF!+F24 -> #REF!
A25: Ընդամենը | B25: =B23+B24 -> 137 | C25: =C23+C24 -> 10 | D25: =D23+D24 -> 28625000 | E25: =E23+E24 -> 1137500 | F25: =F23+F24 -> 937500 | G25: =G23+G24 -> 22350000 | I25: =+I23+I24 -> #REF!
A26: Հայաստանի պետական տնտեսագիտական համալսարան | I26: u
A27: I | B27: 56 | C27: 9 | D27: 15050000 | E27: 1177500 | F27: 1297500 | G27: =+(D27-E27-F27)*0.75+F27 -> 10728750
A28: II | B28: 2 | C28: 0 | D28: 600000 | E28: 0 | F28: 0 | G28: =+(D28-E28-F28)*0.75+F28 -> 450000
A29: III | B29: 44 | C29: 4 | D29: 12900000 | E29: 677500 | F29: 497500 | G29: =+(D29-E29-F29)*0.75+F29 -> 9291250
A30: Ընդամենը | B30: =SUM(B27:B29) -> 102 | C30: =SUM(C27:C29) -> 13 | D30: =SUM(D27:D29) -> 28550000 | E30: =SUM(E27:E29) -> 1855000 | F30: =SUM(F27:F29) -> 1795000 | G30: =SUM(G27:G29) -> 20470000
A31: Ավարտական | B31: 66 | C31: 1 | D31: 15975000 | E31: 180000 | F31: 120000 | G31: =D31-E31 -> 15795000
A32: Ընդամենը | B32: =B30+B31 -> 168 | C32: =C30+C31 -> 14 | D32: =D30+D31 -> 44525000 | E32: =E30+E31 -> 2035000 | F32: =F30+F31 -> 1915000 | G32: =G30+G31 -> 36265000
A33: Ճարտարապետության և շինարարության Հայաստանի ազգային համալսարան
A34: I | B34: 9 | C34: 1 | D34: 2466000 | E34: 168000 | F34: 72000 | G34: =+(D34-E34-F34)*0.75+F34 -> 1741500
A35: II | B35: 0 | C35: 0 | D35: 0 | E35: 0 | F35: 0 | G35: =+(D35-E35-F35)*0.75+F35 -> 0
A36: III | B36: 7 | C36: 0 | D36: 1778000 | E36: 0 | F36: 0 | G36: =+(D36-E36-F36)*0.75+F36 -> 1333500
A37: Ընդամենը | B37: =SUM(B34:B36) -> 16 | C37: =SUM(C34:C36) -> 1 | D37: =SUM(D34:D36) -> 4244000 | E37: =SUM(E34:E36) -> 168000 | F37: =SUM(F34:F36) -> 72000 | G37: =SUM(G34:G36) -> 3075000
A38: Ավարտական | B38: 17 | C38: 1 | D38: 4800000 | E38: 52000 | F38: 208000 | G38: =D38-E38 -> 4748000
A39: Ընդամենը | B39: =B37+B38 -> 33 | C39: =C37+C38 -> 2 | D39: =D37+D38 -> 9044000 | E39: =E37+E38 -> 220000 | F39: =F37+F38 -> 280000 | G39: =G37+G38 -> 7823000
A40: Հայաստանի ազգային ագրարային համալսարան
A41: I | G41: =+(D41-E41-F41)*0.75+F41 -> 0
A42: II | G42: =+(D42-E42-F42)*0.75+F42 -> 0
A43: III,IV | B43: 8 | D43: 2150000 | G43: =+(D43-E43-F43)*0.75+F43 -> 1612500
A44: Ընդամենը | B44: =SUM(B43:B43) -> 8 | C44: =SUM(C43:C43) -> 0 | D44: =SUM(D43:D43) -> 2150000 | E44: =SUM(E43:E43) -> 0 | F44: =SUM(F43:F43) -> 0 | G44: =SUM(G41:G43) -> 1612500
A45: Ավարտական | B45: 14 | C45: 1 | D45: 2935000 | E45: 120000 | F45: 80000 | G45: =D45-E45 -> 2815000
A46: Ընդամենը | B46: =B44+B45 -> 22 | C46: =C44+C45 -> 1 | D46: =D43+D45 -> 5085000 | E46: =E43+E45 -> 120000 | F46: =F43+F45 -> 80000 | G46: =G44+G45 -> 4427500
A47: Հայաստանի ֆիզիկական կուլտուրայի և սպորտի պետական ինստիտուտ
A48: I | B48: 15 | C48: 4 | D48: =+B48*180000 -> 2700000 | E48: 522000 | F48: 198000 | G48: =+(D48-E48-F48)*0.75+F48 -> 1683000
A49: II | B49: 17 | C49: 0 | D49: =+B49*180000 -> 3060000 | G49: =+(D49-E49-F49)*0.75+F49 -> 2295000
A50: III | B50: 27 | C50: 0 | D50: =+B50*180000 -> 4860000 | G50: =+(D50-E50-F50)*0.75+F50 -> 3645000
A51: Ընդամենը | B51: =SUM(B48:B50) -> 59 | C51: =SUM(C48:C50) -> 4 | D51: =SUM(D48:D50) -> 10620000 | E51: =SUM(E48:E50) -> 522000 | F51: =SUM(F48:F50) -> 198000 | G51: =SUM(G48:G50) -> 7623000
A52: Ավարտական | B52: 34 | C52: 2 | D52: =+B52*180000 -> 6120000 | E52: 126000 | F52: 234000 | G52: =D52-E52 -> 5994000
A53: Ընդամենը | B53: =B51+B52 -> 93 | C53: =C51+C52 -> 6 | D53: =D51+D52 -> 16740000 | E53: =E51+E52 -> 648000 | F53: =F51+F52 -> 432000 | G53: =G51+G52 -> 13617000
A54: Շիրակի Մ.Նալբանդյանի անվան պետական համալսարան
A55: I | B55: 38 | C55: 7 | D55: 6175000 | E55: 577500 | F55: 547500 | G55: =+(D55-E55-F55)*0.75+F55 -> 4335000
A56: II | B56: 4 | C56: 2 | D56: 650000 | E56: 150000 | F56: 150000 | G56: =+(D56-E56-F56)*0.75+F56 -> 412500
A57: III | B57: 13 | C57: 3 | D57: 1875000 | E57: 250000 | F57: 175000 | G57: =+(D57-E57-F57)*0.75+F57 -> 1262500
A58: Ընդամենը | B58: =SUM(B55:B57) -> 55 | C58: =SUM(C55:C57) -> 12 | D58: =SUM(D55:D57) -> 8700000 | E58: =SUM(E55:E57) -> 977500 | F58: =SUM(F55:F57) -> 872500 | G58: =SUM(G55:G57) -> 6010000
A59: Ավարտական | B59: 8 | C59: 1 | D59: 1090000 | E59: 62500 | F59: 62500 | G59: =D59-E59 -> 1027500
A60: Ընդամենը | B60: =B58+B59 -> 63 | C60: =C58+C59 -> 13 | D60: =D58+D59 -> 9790000 | E60: =E58+E59 -> 1040000 | F60: =F58+F59 -> 935000 | G60: =G58+G59 -> 7037500
A61: Գավառի պետական համալսարան
A62: I | B62: 9 | C62: 6 | D62: 1685000 | E62: 564000 | F62: 491000 | G62: =+(D62-E62-F62)*0.75+F62 -> 963500
A63: II | B63: 6 | C63: 1 | D63: 1255000 | E63: 97500 | F63: 97500 | G63: =+(D63-E63-F63)*0.75+F63 -> 892500
A64: III | B64: 13 | C64: 2 | D64: 2330000 | E64: 175000 | F64: 175000 | G64: =+(D64-E64-F64)*0.75+F64 -> 1660000
A65: Ընդամենը | B65: =SUM(B62:B64) -> 28 | C65: =SUM(C62:C64) -> 9 | D65: =SUM(D62:D64) -> 5270000 | E65: =SUM(E62:E64) -> 836500 | F65: =SUM(F62:F64) -> 763500 | G65: =SUM(G62:G64) -> 3516000
A66: Ավարտական | B66: 13 | C66: 3 | D66: 2590000 | E66: 378500 | F66: 326500 | G66: =D66-E66 -> 2211500
A67: Ընդամենը | B67: =B65+B66 -> 41 | C67: =C65+C66 -> 12 | D67: =D65+D66 -> 7860000 | E67: =E65+E66 -> 1215000 | F67: =F65+F66 -> 1090000 | G67: =G65+G66 -> 5727500
A68: Ճգնաժամային կառավարման պետական ակադեմիա
A69: I | B69: 2 | C69: 1 | D69: 272000 | E69: 48000 | F69: 112000 | G69: =+(D69-E69-F69)*0.75+F69 -> 196000
A70: II | B70: 3 | C70: 0 | D70: 480000 | E70: 0 | F70: 0 | G70: =+(D70-E70-F70)*0.75+F70 -> 360000
A71: III | B71: 12 | C71: 2 | D71: 1668000 | E71: 192000 | F71: 128000 | G71: =+(D71-E71-F71)*0.75+F71 -> 1139000
A72: Ընդամենը | B72: =SUM(B69:B71) -> 17 | C72: =SUM(C69:C71) -> 3 | D72: =SUM(D69:D71) -> 2420000 | E72: =SUM(E69:E71) -> 240000 | F72: =SUM(F69:F71) -> 240000 | G72: =SUM(G69:G71) -> 1695000
A73: Ավարտական | B73: 5 | C73: 0 | D73: 780000 | E73: 0 | F73: 0 | G73: =D73-E73 -> 780000
A74: Ընդամենը | B74: =B72+B73 -> 22 | C74: =C72+C73 -> 3 | D74: =D72+D73 -> 3200000 | E74: =E72+E73 -> 240000 | F74: =F72+F73 -> 240000 | G74: =G72+G73 -> 2475000
A75: Վանաձորի Հ.Թումանյանի անվան պետական համալսարան
A76: I | B76: 69 | C76: 18 | D76: 13725000 | E76: 2107500 | F76: 0 | G76: =+(D76-E76-F76)*0.75+F76 -> 8713125
A77: II | B77: 25 | C77: 2 | D77: 5225000 | E77: 280000 | F77: 0 | G77: =+(D77-E77-F77)*0.75+F77 -> 3708750
A78: III | B78: 67 | C78: 21 | D78: 12750000 | E78: 2090000 | F78: 0 | G78: =+(D78-E78-F78)*0.75+F78 -> 7995000
A79: Ընդամենը | B79: =SUM(B76:B78) -> 161 | C79: =SUM(C76:C78) -> 41 | D79: =SUM(D76:D78) -> 31700000 | E79: =SUM(E76:E78) -> 4477500 | F79: =SUM(F76:F78) -> 0 | G79: =SUM(G76:G78) -> 20416875
A80: Ավարտական | B80: 96 | C80: 17 | D80: 18650000 | E80: 1747500 | F80: 0 | G80: =D80-E80 -> 16902500
A81: Ընդամենը | B81: =B79+B80 -> 257 | C81: =C79+C80 -> 58 | D81: =D79+D80 -> 50350000 | E81: =E79+E80 -> 6225000 | F81: =F79+F80 -> 0 | G81: =G79+G80 -> 37319375
A82: Գորիսի պետական համալսարան
A83: I | B83: 1 | D83: 120000 | G83: =+(D83-E83-F83)*0.75+F83 -> 90000
A84: II | B84: 6 | C84: 3 | D84: 1045000 | E84: 271000 | F84: 198000 | G84: =+(D84-E84-F84)*0.75+F84 -> 630000
A85: III | B85: 2 | D85: 345000 | G85: =+(D85-E85-F85)*0.75+F85 -> 258750
A86: Ընդամենը | B86: =SUM(B83:B85) -> 9 | C86: =SUM(C83:C85) -> 3 | D86: =SUM(D83:D85) -> 1510000 | E86: =SUM(E83:E85) -> 271000 | F86: =SUM(F83:F85) -> 198000 | G86: =SUM(G83:G85) -> 978750
A87: Ավարտական | B87: 2 | D87: 295000 | G87: =D87-E87 -> 295000
A88: Ընդամենը | B88: =B86+B87 -> 11 | C88: =C86+C87 -> 3 | D88: =D86+D87 -> 1805000 | E88: =E86+E87 -> 271000 | F88: =F86+F87 -> 198000 | G88: =G86+G87 -> 1273750
A89: ՀՀ ոստիկանության կրթահամալիրի ակադեմիա
A90: I | B90: 2 | C90: 1 | D90: 500000 | E90: 100000 | F90: 150000 | G90: =+(D90-E90-F90)*0.75+F90 -> 337500
A91: II | B91: 6 | C91: 1 | D91: 1500000 | E91: 100000 | F91: 150000 | G91: =+(D91-E91-F91)*0.75+F91 -> 1087500
A92: III | B92: 0 | C92: 0 | D92: 0 | E92: 0.0 | F92: 0.0 | G92: =+(D92-E92-F92)*0.75+F92 -> 0
A93: Ընդամենը | B93: =SUM(B90:B92) -> 8 | C93: =SUM(C90:C92) -> 2 | D93: =SUM(D90:D92) -> 2000000 | E93: =SUM(E90:E92) -> 200000 | F93: =SUM(F90:F92) -> 300000 | G93: =SUM(G90:G92) -> 1425000
A94: Ավարտական | B94: 11 | C94: 5 | D94: 2750000 | E94: 1075000 | F94: 175000 | G94: =D94-E94 -> 1675000
A95: Ընդամենը | B95: =B93+B94 -> 19 | C95: =C93+C94 -> 7 | D95: =D93+D94 -> 4750000 | E95: =E93+E94 -> 1275000 | F95: =F93+F94 -> 475000 | G95: =G93+G94 -> 3100000
A96: Հայաստանի գեղարվեստի պետական ակադեմիա
A97: I | B97: =16+3+19+4 -> 42 | C97: =2+5 -> 7 | D97: 10275000 | E97: 738500 | F97: =+E97 -> 738500 | G97: =+(D97-E97-F97)*0.75+F97 -> 7337000
A98: II | B98: =18+8+2+1 -> 29 | C98: 2 | D98: 8320000 | E98: 378000 | F98: =+E98 -> 378000 | G98: =+(D98-E98-F98)*0.75+F98 -> 6051000
A99: III | B99: =22+6+5+3 -> 36 | C99: 0 | D99: 10330000 | E99: 0 | F99: 0 | G99: =+(D99-E99-F99)*0.75+F99 -> 7747500
A100: Ընդամենը | B100: =SUM(B97:B99) -> 107 | C100: =SUM(C97:C99) -> 9 | D100: =SUM(D97:D99) -> 28925000 | E100: =SUM(E97:E99) -> 1116500 | F100: =SUM(F97:F99) -> 1116500 | G100: =SUM(G97:G99) -> 21135500
...

Sheet Մագիստր
B6: 2019-2020 ուսումական տարվա երկրորդ կիսամյակ
B7: Առկա ուսուցմամբ մագիստրոսի կրթական աստիճանում վճարովի համակարգում ուսումնառող 90 և ավել տոկոս հանրագումարային ՄՈԳ ունեցող (ուսումնառության սկզբից մինչև 2019-2020 ուսումնական տարվա 1-ին կիսամյակի ավարտը) ՀՀ քաղաքացի հանդիսացող ուսանողների վերաբերյալ տեղեկատվություն
A9: Կուրսը | B9: Ուսանողների ընդհանուր թիվը | C9: Ուսանողների թիվը, որոնք պետության կողմից ՀՀ օրենսդրության համաձայն ստացել են փոխհատուցում | D9: Ուսանողների ուսման վարձի գծով կիսամյակի վճարման ենթակա գումարի ընդհանուր չափը՝ չնվազեցնելով բուհի կողմից տրված կիսամյակի զեղչերի գումարը /հազար դրամ/ | E9: Պետության կողմից ՀՀ օրենսդրության համաձայն ուսման վարձի փոխհատուցում ստացող ուսանողների գծով (սյունակ N4-ում նշված) հատկացված գումարի չափը կիսամյակի հաշվարկով /հազար դրամ/ | F9: Պետության կողմից ՀՀ օրենսդրության համաձայն փոխհատուցում ստացած ուսանողների համար ակնակալվող լրացուցիչ աջակցության գումարը /հազար դրամ/ | G9: Պետության կողմից ակնկալվող աջակցության գումարը՝ նվազեցնելով պետության կողմից ՀՀ օրենսդրության համաձայն փոխհատուցում ստացած ուսանողների համար ակնակալվող լրացուցիչ աջակցության գումարը /հազար դրամ/
G10: (4) - (5) - (6)*
A11: 1 | B11: 2 | C11: 3 | D11: 4 | E11: 5 | F11: 6 | G11: 7
A12: Երևանի պետական համալսարան
A13: I | B13: =255+11 -> 266 | C13: 14 | D13: =71794000+2840000 -> 74634000 | E13: 2368500 | F13: 1471500 | G13: =+(D13-E13-F13)*0.75+F13 -> 54567000 | H13: =SUM(H10:H12) -> 0
A14: Ավարտական | B14: 151 | C14: 3 | D14: 39755000 | E14: 399000 | F14: 356000 | G14: =D14-E14 -> 39356000 | H14: =+G14 -> 39356000
A15: Ընդամենը | B15: =SUM(B13:B14) -> 417 | C15: =SUM(C13:C14) -> 17 | D15: =SUM(D13:D14) -> 114389000 | E15: =SUM(E13:E14) -> 2767500 | F15: =SUM(F13:F14) -> 1827500 | G15: =SUM(G13:G14) -> 93923000 | H15: =+H13+H14 -> 39356000
A16: Երևանի Վ.Բրյուսովի անվան պետական համալսարան
A17: I | B17: 30 | C17: 0 | D17: 7500000 | E17: 0 | F17: 0 | G17: =+(D17-E17-F17)*0.75+F17 -> 5625000 | H17: =G17*0.75 -> 4218750
A18: Ավարտական | B18: 11 | C18: 0 | D18: 2475000 | E18: 0 | F18: 0 | G18: =D18-E18 -> 2475000 | H18: =+G18 -> 2475000
A19: Ընդամենը | B19: =SUM(B17:B18) -> 41 | C19: =SUM(C17:C18) -> 0 | D19: =SUM(D17:D18) -> 9975000 | E19: =SUM(E17:E18) -> 0 | F19: =SUM(F17:F18) -> 0 | G19: =SUM(G17:G18) -> 8100000 | H19: =+H17+H18 -> 6693750
A20: Հայաստանի պետական տնտեսագիտական համալսարան
A21: I | B21: 100 | C21: 4 | D21: 30675000 | E21: 487500 | F21: 573000 | G21: =+(D21-E21-F21)*0.75+F21 -> 22783875 | H21: =G21*0.75 -> 17087906
A22: Ավարտական | B22: 66 | C22: 3 | D22: 18640000 | E22: 354000 | F22: 366500 | G22: =D22-E22 -> 18286000 | H22: =+G22 -> 18286000
A23: Ընդամենը | B23: =SUM(B21:B22) -> 166 | C23: =SUM(C21:C22) -> 7 | D23: =SUM(D21:D22) -> 49315000 | E23: =SUM(E21:E22) -> 841500 | F23: =SUM(F21:F22) -> 939500 | G23: =SUM(G21:G22) -> 41069875 | H23: =+H21+H22 -> 35373906
A24: Ճարտարապետության և շինարարության Հայաստանի ազգային համալսարան
A25: I | B25: 14 | D25: 5064000 | G25: =+(D25-E25-F25)*0.75+F25 -> 3798000 | H25: =G25*0.75 -> 2848500
A26: Ավարտական | B26: 9 | D26: 3498000 | G26: =D26-E26 -> 3498000 | H26: =+G26 -> 3498000
A27: Ընդամենը | B27: =SUM(B25:B26) -> 23 | C27: =SUM(C25:C26) -> 0 | D27: =SUM(D25:D26) -> 8562000 | E27: =SUM(E25:E26) -> 0 | F27: =SUM(F25:F26) -> 0 | G27: =SUM(G25:G26) -> 7296000 | H27: =+H25+H26 -> 6346500
A28: Հայաստանի ազգային ագրարային համալսարան
A29: I | B29: 1 | D29: 250000 | G29: =+(D29-E29-F29)*0.75+F29 -> 187500 | H29: =G29*0.75 -> 140625
A30: Ավարտական | B30: 7 | D30: 1581143 | G30: =D30-E30 -> 1581143 | H30: =+G30 -> 1581143
A31: Ընդամենը | B31: 8 | D31: 1831143 | G31: =SUM(G29:G30) -> 1768643 | H31: =+H29+H30 -> 1721768
A32: Հայաստանի ֆիզիկական կուլտուրայի և սպորտի պետական ինստիտուտ
A33: I | B33: 22 | C33: 1 | D33: =+B33*225000 -> 4950000 | E33: 67500 | F33: 157500 | G33: =+(D33-E33-F33)*0.75+F33 -> 3701250 | H33: =G33*0.75 -> 2775937.5
A34: Ավարտական | G34: =D34-E34 -> 0 | H34: =+G34 -> 0
A35: Ընդամենը | B35: =SUM(B33:B34) -> 22 | C35: =SUM(C33:C34) -> 1 | D35: =SUM(D33:D34) -> 4950000 | E35: =SUM(E33:E34) -> 67500 | F35: =SUM(F33:F34) -> 157500 | G35: =SUM(G33:G34) -> 3701250 | H35: =+H33+H34 -> 2775937.5
A36: Շիրակի Մ.Նալբանդյանի անվան պետական համալսարան
A37: I | B37: 46 | C37: 10 | D37: 7630000 | E37: 727500 | F37: 727500 | G37: =+(D37-E37-F37)*0.75+F37 -> 5358750 | H37: =G37*0.75 -> 4019062.5
A38: Ավարտական | B38: 41 | C38: 3 | D38: 5715000 | E38: 252500 | F38: 50000 | G38: =D38-E38 -> 5462500 | H38: =+G38 -> 5462500
A39: Ընդամենը | B39: =SUM(B37:B38) -> 87 | C39: =SUM(C37:C38) -> 13 | D39: =SUM(D37:D38) -> 13345000 | E39: =SUM(E37:E38) -> 980000 | F39: =SUM(F37:F38) -> 777500 | G39: =SUM(G37:G38) -> 10821250 | H39: =+H37+H38 -> 9481562.5
A40: Գավառի պետական համալսարան
A41: I | B41: 18 | C41: 2 | D41: 3665000 | E41: 175000 | F41: 175000 | G41: =+(D41-E41-F41)*0.75+F41 -> 2661250 | H41: =G41*0.75 -> 1995937.5
A42: Ավարտական | B42: 24 | C42: 1 | D42: 4960000 | E42: 119000 | F42: 51000 | G42: =D42-E42 -> 4841000 | H42: =+G42 -> 4841000
A43: Ընդամենը | B43: =SUM(B41:B42) -> 42 | C43: =SUM(C41:C42) -> 3 | D43: =SUM(D41:D42) -> 8625000 | E43: =SUM(E41:E42) -> 294000 | F43: =SUM(F41:F42) -> 226000 | G43: =SUM(G41:G42) -> 7502250 | H43: =+H41+H42 -> 6836937.5
A44: Վանաձորի Հ.Թումանյանի անվան պետական համալսարան
A45: I | B45: 21 | C45: 1 | D45: 3900000 | E45: 125000 | F45: 0 | G45: =+(D45-E45-F45)*0.75+F45 -> 2831250 | H45: =G45*0.75 -> 2123437.5
A46: Ավարտական | B46: 31 | C46: 1 | D46: 5575000 | E46: 87500 | F46: 0 | G46: =D46-E46 -> 5487500 | H46: =+G46 -> 5487500
A47: Ընդամենը | B47: =SUM(B45:B46) -> 52 | C47: =SUM(C45:C46) -> 2 | D47: =SUM(D45:D46) -> 9475000 | E47: =SUM(E45:E46) -> 212500 | F47: =SUM(F45:F46) -> 0 | G47: =SUM(G45:G46) -> 8318750 | H47: =+H45+H46 -> 7610937.5
A48: Գորիսի պետական համալսարան
A49: I | B49: 6 | D49: 980000 | G49: =+(D49-E49-F49)*0.75+F49 -> 735000 | H49: =G49*0.75 -> 551250
A50: Ավարտական | B50: 8 | D50: 1145000 | G50: =D50-E50 -> 1145000 | H50: =+G50 -> 1145000
A51: Ընդամենը | B51: =SUM(B49:B50) -> 14 | C51: =SUM(C49:C50) -> 0 | D51: =SUM(D49:D50) -> 2125000 | E51: =SUM(E49:E50) -> 0 | F51: =SUM(F49:F50) -> 0 | G51: =SUM(G49:G50) -> 1880000 | H51: =+H49+H50 -> 1696250
A52: Հայաստանի գեղարվեստի պետական ակադեմիա
A53: I | B53: 18 | C53: 2 | D53: 3665000 | E53: 175000 | F53: 175000 | G53: =+(D53-E53-F53)*0.75+F53 -> 2661250 | H53: =G53*0.75 -> 1995937.5
A54: Ավարտական | B54: 24 | C54: 1 | D54: 4960000 | E54: 119000 | F54: 51000 | G54: =D54-E54 -> 4841000 | H54: =+G54 -> 4841000
A55: Ընդամենը | B55: =SUM(B53:B54) -> 42 | C55: =SUM(C53:C54) -> 3 | D55: =SUM(D53:D54) -> 8625000 | E55: =SUM(E53:E54) -> 294000 | F55: =SUM(F53:F54) -> 226000 | G55: =SUM(G53:G54) -> 7502250 | H55: =+H53+H54 -> 6836937.5
A56: Հայաստանի ազգային պոլիտեխնիկական համալսարան
A57: I | B57: 14 | D57: 3915000 | G57: =+(D57-E57-F57)*0.75+F57 -> 2936250 | H57: =G57*0.75 -> 2202187.5
A58: Ավարտական | B58: 10 | D58: 2685000 | G58: =D58-E58 -> 2685000 | H58: =+G58 -> 2685000
A59: Ընդամենը | B59: =SUM(B57:B58) -> 24 | C59: =SUM(C57:C58) -> 0 | D59: =SUM(D57:D58) -> 6600000 | E59: =SUM(E57:E58) -> 0 | F59: =SUM(F57:F58) -> 0 | G59: =SUM(G57:G58) -> 5621250 | H59: =+H57+H58 -> 4887187.5
A60: Երևանի թատրոնի և կինոյի պետական ինստիտուտ
A61: I | B61: 2 | C61: 0 | D61: 600000 | E61: 0 | F61: 0 | G61: =+(D61-E61-F61)*0.75+F61 -> 450000 | H61: =G61*0.75 -> 337500
A62: Ավարտական | B62: 1 | C62: 0 | D62: 300000 | E62: 0 | F62: 0 | G62: =D62-E62 -> 300000 | H62: =+G62 -> 300000
A63: Ընդամենը | B63: =SUM(B61:B62) -> 3 | C63: =SUM(C61:C62) -> 0 | D63: =SUM(D61:D62) -> 900000 | E63: =SUM(E61:E62) -> 0 | F63: =SUM(F61:F62) -> 0 | G63: =SUM(G61:G62) -> 750000 | H63: =+H61+H62 -> 637500
A64: Խ.Աբովյանի անվան հայկական պետական մանկավարժական համալսարան
A65: I | B65: 60 | C65: 0 | D65: 12195000 | E65: 0 | F65: 0 | G65: =+(D65-E65-F65)*0.75+F65 -> 9146250 | H65: =G65*0.75 -> 6859687.5
A66: Ավարտական | B66: 70 | C66: 2 | D66: 10920000 | E66: 280000 | F66: 90000 | G66: =D66-E66 -> 10640000 | H66: =+G66 -> 10640000
A67: Ընդամենը | B67: =SUM(B65:B66) -> 130 | C67: =SUM(C65:C66) -> 2 | D67: =SUM(D65:D66) -> 23115000 | E67: =SUM(E65:E66) -> 280000 | F67: =SUM(F65:F66) -> 90000 | G67: =SUM(G65:G66) -> 19786250 | H67: =+H65+H66 -> 17499688
A68: Երևանի Կոմիտասի անվան պետական կոնսերվատորիա
A69: I | B69: 25 | D69: 7950000 | G69: =+(D69-E69-F69)*0.75+F69 -> 5962500 | H69: =G69*0.75 -> 4471875
A70: Ավարտական | B70: 5 | D70: 1890000 | G70: =D70-E70 -> 1890000 | H70: =+G70 -> 1890000
A71: Ընդամենը | B71: =SUM(B69:B70) -> 30 | C71: =SUM(C69:C70) -> 0 | D71: =SUM(D69:D70) -> 9840000 | E71: =SUM(E69:E70) -> 0 | F71: =SUM(F69:F70) -> 0 | G71: =SUM(G69:G70) -> 7852500 | H71: =+H69+H70 -> 6361875
A72: Պետական կառավարման ակադեմիա
A73: I | B73: 32 | C73: 1 | D73: 9375000 | E73: 300000 | F73: 0 | G73: =+(D73-E73-F73)*0.75+F73 -> 6806250 | H73: =G73*0.75 -> 5104687.5
A74: Ավարտական | B74: 25 | C74: 0 | D74: 6400000 | E74: 0 | F74: 0 | G74: =D74-E74 -> 6400000 | H74: =+G74 -> 6400000
A75: Ընդամենը | B75: =SUM(B73:B74) -> 57 | C75: =SUM(C73:C74) -> 1 | D75: =SUM(D73:D74) -> 15775000 | E75: =SUM(E73:E74) -> 300000 | F75: =SUM(F73:F74) -> 0 | G75: =SUM(G73:G74) -> 13206250 | H75: =+H73+H74 -> 11504688
A76: ՀՀ ԳԱԱ գիտակրթական միջազգային կենտրոն
A77: I | B77: 15 | C77: 1 | D77: 4147500 | E77: 122500 | F77: 52500 | G77: =+(D77-E77-F77)*0.75+F77 -> 3031875 | H77: =G77*0.75 -> 2273906.2
A78: Ավարտական | B78: 14 | D78: 2450000 | F78: 0 | G78: =D78-E78 -> 2450000 | H78: =D78-E78-F78 -> 2450000
A79: Ընդամենը | B79: =SUM(B77:B78) -> 29 | C79: =SUM(C77:C78) -> 1 | D79: =SUM(D77:D78) -> 6597500 | E79: =SUM(E77:E78) -> 122500 | F79: =SUM(F77:F78) -> 52500 | G79: =SUM(G77:G78) -> 5481875 | H79: =SUM(H77:H78)+F79 -> 4776406.2
A80: ԸՆԴԱՄԵՆԸ
A81: I | B81: =SUM(B77,B73,B69,B65,B61,B57,B53,B49,B45,B41,B37,B33,B29,B25,B21,B17,B13) -> 690 | C81: =SUM(C77,C73,C69,C65,C61,C57,C53,C49,C45,C41,C37,C33,C29,C25,C21,C17,C13) -> 36 | D81: =SUM(D77,D73,D69,D65,D61,D57,D53,D49,D45,D41,D37,D33,D29,D25,D21,D17,D13) -> 181095500 | E81: =SUM(E77,E73,E69,E65,E61,E57,E53,E49,E45,E41,E37,E33,E29,E25,E21,E17,E13) -> 4548500 | F81: =SUM(F77,F73,F69,F65,F61,F57,F53,F49,F45,F41,F37,F33,F29,F25,F21,F17,F13) -> 3332000 | G81: =SUM(G77,G73,G69,G65,G61,G57,G53,G49,G45,G41,G37,G33,G29,G25,G21,G17,G13) -> 133243250 | H81: =SUM(H77,H73,H69,H65,H61,H57,H53,H49,H45,H41,H37,H33,H29,H25,H21,H17,H13) -> 59007188
A82: Ավարտական | B82: =SUM(B78,B74,B70,B66,B62,B58,B54,B50,B46,B42,B38,B34,B30,B26,B22,B18,B14) -> 497 | C82: =SUM(C78,C74,C70,C66,C62,C58,C54,C50,C46,C42,C38,C34,C30,C26,C22,C18,C14) -> 14 | D82: =SUM(D78,D74,D70,D66,D62,D58,D54,D50,D46,D42,D38,D34,D30,D26,D22,D18,D14) -> 112949143 | E82: =SUM(E78,E74,E70,E66,E62,E58,E54,E50,E46,E42,E38,E34,E30,E26,E22,E18,E14) -> 1611000 | F82: =SUM(F78,F74,F70,F66,F62,F58,F54,F50,F46,F42,F38,F34,F30,F26,F22,F18,F14) -> 964500 | G82: =SUM(G78,G74,G70,G66,G62,G58,G54,G50,G46,G42,G38,G34,G30,G26,G22,G18,G14) -> 111338143 | H82: =SUM(H78,H74,H70,H66,H62,H58,H54,H50,H46,H42,H38,H34,H30,H26,H22,H18,H14) -> 111338143
A83: Ընդամենը | B83: =SUM(B81:B82) -> 1187 | C83: =SUM(C81:C82) -> 50 | D83: =SUM(D81:D82) -> 294044643 | E83: =SUM(E81:E82) -> 6159500 | F83: =SUM(F81:F82) -> 4296500 | G83: =SUM(G81:G82) -> 244581393 | H83: =SUM(H81:H82) -> 1.7034533e+08

Sheet Sheet1
B4: Ուսանողների քանակը | C4: հատկացվող գումար
A5: ԲՈՒՀ | B5: =+B6+B9 -> 3092 | C5: =+C6+C9 -> 615642268
A6: բակալավր | B6: =+B7+B8 -> 1905 | C6: =+C7+C8 -> 371060875
A7: ընդ որում, ավարտական | B7: =+բակալավր!B136 -> 685 | C7: =+բակալավր!G136 -> 159253250
A8: ընդ որում, բակալավր 1-3 | B8: =+բակալավր!B135 -> 1220 | C8: =+բակալավր!G135 -> 211807625
A9: մագիստր | B9: =+B10+B11 -> 1187 | C9: =+C10+C11 -> 244581393
A10: ընդ որում՝ 1-ին կուրս | B10: =+Մագիստր!B81 -> 690 | C10: =+Մագիստր!G81 -> 133243250
A11: ավարտական | B11: =+Մագիստր!B82 -> 497 | C11: =+Մագիստր!G82 -> 111338143
A13: կլինիկական օրդինատուրա | B13: =+օրդինատուրա!B12 -> 424 | C13: =+օրդինատուրա!D12 -> 148259375
A15: Ընդամենը | B15: =B5+B13 -> 3516 | C15: =C5+C13 -> 763901643
A19: վարկերի սուբսիդավորում | B19: Ուսանողների քանակը | C19: հատկացվող գումար
A20: գոյություն ունեցող վարկերի մասով | B20: 11150 | C20: 71000000
A21: նոր վարկերի մասով /կանխատեսում/ | B21: 5000 | C21: 79166667 | F21: 15833.333
A22: Ընդամենը | B22: =+B20+B21 -> 16150 | C22: =+C20+C21 -> 1.5016667e+08
A25: ԸՆԴԱՄԵՆԸ 14-րդ միջոցառում | B25: =+B22+B15 -> 19666 | C25: =+C22+C15 -> 9.1406831e+08

Sheet օրդինատուրա
A1: Կուրսը | B1: գերազանց առաջադիմություն ունեցող օրդինատորների ընդհանուր թիվը | C1: օրդինատորների ուսման վարձի գծով կիսամյակի վճարման ենթակա գումարի ընդհանուր չափը՝ չնվազեցնելով բուհի կողմից տրված կիսամյակի զեղչերի գումարը /հազար դրամ/
A2: 1 | B2: 2 | C2: 3
A4: Երևանի Հերացու անվան պետական բժշկական համալսարան
A5: ոչ ավարտական | B5: 185 | C5: 73812500 | D5: =+C5*0.75 -> 55359375
A6: ավարտական | B6: 193 | C6: 76925000 | D6: =+C6 -> 76925000
A7: Ընդամենը | B7: =SUM(B5:B6) -> 378 | C7: =SUM(C5:C6) -> 150737500 | D7: =SUM(D5:D6) -> 132284375
A8: Ակադեմիկոս Ս. Ավդալբեկյանի անվան առողջապահության ազգային ինստիտուտ
A9: ոչ ավարտական | B9: 33 | C9: 14900000 | D9: =+C9*0.75 -> 11175000
A10: ավարտական | B10: 13 | C10: 4800000 | D10: =+C10 -> 4800000
A11: Ընդամենը | B11: =SUM(B9:B10) -> 46 | C11: =SUM(C9:C10) -> 19700000 | D11: =SUM(D9:D10) -> 15975000
A12: Ընդամենը | B12: =SUM(B11,B7) -> 424 | C12: =SUM(C11,C7) -> 170437500 | D12: =SUM(D11,D7) -> 148259375
