Workbook

Sheet 1
F1: Հավելված N 1
F2: ՀՀ կառավարության 2020 թվականի
F3: -ի N -Ն որոշման
A4: «ՀԱՅԱՍՏԱՆԻ ՀԱՆՐԱՊԵՏՈՒԹՅԱՆ 2020 ԹՎԱԿԱՆԻ ՊԵՏԱԿԱՆ ԲՅՈՒՋԵԻ ՄԱՍԻՆ» ՀԱՅԱՍՏԱՆԻ ՀԱՆՐԱՊԵՏՈՒԹՅԱՆ ՕՐԵՆՔԻ N 1 ՀԱՎԵԼՎԱԾԻ N 2 ԱՂՅՈՒՍԱԿՈՒՄ ԵՎ ՀԱՅԱՍՏԱՆԻ ՀԱՆՐԱՊԵՏՈՒԹՅԱՆ ԿԱՌԱՎԱՐՈՒԹՅԱՆ 2019 ԹՎԱԿԱՆԻ ԴԵԿՏԵՄԲԵՐԻ 26-Ի N 1919-Ն ՈՐՈՇՄԱՆ N 5 ՀԱՎԵԼՎԱԾԻ N 1 ԱՂՅՈՒՍԱԿՈՒՄ ԿԱՏԱՐՎՈՂ ՓՈՓՈԽՈՒԹՅՈՒՆՆԵՐԸ ԵՎ ԼՐԱՑՈՒՄՆԵՐԸ
E6: հազար դրամներով
A7: Ծրագրային դասիչը | C7: Բյուջետային գլխավոր կարգադրիչների, ծրագրերի և միջոցառումների անվանումները | D7: Ցուցանիշների փոփոխությունը (ավելացումները նշված են դրական նշանով)
A8: Ծրագիր | B8: Միջոցառում | D8: Առաջին կիսամյակ | E8: Ինն ամիս | F8: Տարի
C9: ՀՀ տարածքային կառավարման և ենթակառուցվածքների նախարարություն | D9: =D23+D10 -> 0 | E9: =E23+E10 -> 0 | F9: =F23+F10 -> 0
A10: 1004 | C10: Ծրագրի անվանումը` | D10: =D17 -> -127065 | E10: =E17 -> -183226.3 | F10: =F17 -> -183226.3
C11: Ոռոգման համակարգի առողջացում
C12: Ծրագրի նպատակը`
C13: Ոռոգման ծառայությունների հասանելիության և մատչելիության ապահովում
C14: Վերջնական արդյունքի նկարագրությունը`
C15: Ոռոգման ջրի մատակարարման արդյունավետության և հասանելիության բարելավում, կորուստների կրճատում
A16: Ծրագրի միջոցառումներ
B17: 31007 | C17: Միջոցառման անվանումը` | D17: -127065 | E17: -183226.3 | F17: =E17 -> -183226.3
C18: Ջրային տնտեսության հիդրոտեխնիկական սարքավորումների տեղադրման աշխատանքներ
C19: Միջոցառման նկարագրությունը`
C20: Ոռոգման համակարգերի ջրանցքների բաժանարար կետերը SCADA համակարգով հագեցած ջրաչափական սարքավորումներով կահավորում_x000D_
C21: Միջոցառման տեսակը
C22: Պետական մարմինների կողմից օգտագործվող ոչ ֆինանսական ակտիվների հետ գործառնություններ
A23: 1072 | C23: Ծրագրի անվանումը` | D23: =D30 -> 127065 | E23: =E30 -> 183226.3 | F23: =F30 -> 183226.3
C24: Ջրամատակարարաման և ջրահեռացման բարելավում
C25: Ծրագրի նպատակը`
C26: Ջրամատակարարման ծառայությունների հասանելիության և մատչելիության ապահովում
C27: Վերջնական արդյունքի նկարագրությունը`
C28: Խմելու ջրի մատակարարման և ջրահեռացման համակարգի բարելավում՝ կորուստների կրճատում
A29: Ծրագրի միջոցառումներ
B30: 31008 | C30: Միջոցառման անվանումը` | D30: 127065 | E30: 183226.3 | F30: 183226.3
C31: Պարտադիր կապիտալ աշխատանքների ծրագրի շրջանակներում ջրամատակարարման և ջրահեռացման ենթակառուցվածքների հիմնանորոգում
C32: Միջոցառման նկարագրությունը`
C33: Մի շարք համայնքներում ջրամատակարարման և ջրահեռացման համակարգերի կառուցման և վերականգնման աշխատանքներ
C34: Միջոցառման տեսակը
C35: Պետական մարմինների կողմից օգտագործվող ոչ ֆինանսական ակտիվների հետ գործառնություններ
C36: ՀՀ կառավարություն | D36: =D37 -> 0 | E36: =E37 -> 0 | F36: =F37 -> 0
A37: 1139 | C37: Ծրագրի անվանումը` | D37: =D44+D50 -> 0 | E37: =E44+E50 -> 0 | F37: =F44+F50 -> 0
C38: ՀՀ կառավարության պահուստային ֆոնդ
C39: Ծրագրի նպատակը`
C40: Պետական բյուջեում չկանխատեսված՝ ինչպես նաեւ բյուջետային երաշխիքների ապահովման ծախսերի ֆինանսավորման ապահովում
C41: Վերջնական արդյունքի նկարագրությունը`
C42: Պահուստային ֆոնդի կառավարման արդյունավետության և թափանցիկության ապահովում
A43: Ծրագրի միջոցառումներ
B44: 11001 | C44: Միջոցառման անվանումը` | D44: =-D50 -> -127065 | E44: =-E50 -> -183226.3 | F44: =-F50 -> -183226.3
C45: ՀՀ կառավարության պահուստային ֆոնդ
C46: Միջոցառման նկարագրությունը`
C47: ՀՀ պետական բյուջեում նախատեսված ելքերի լրացուցիչ ֆինանսավորման՝ պետական բյուջեում չկանխատեսված ելքերի՝ ինչպես նաև բյուջետային երաշխիքների ապահովման ելքերի ֆինանսավորման ապահովում
C48: Միջոցառման տեսակը
C49: Ծառայությունների մատուցում
B50: 11001 | C50: Միջոցառման անվանումը` | D50: 127065 | E50: 183226.3 | F50: =E50 -> 183226.3
C51: ՀՀ կառավարության պահուստային ֆոնդ
C52: Միջոցառման նկարագրությունը`
C53: ՀՀ պետական բյուջեում նախատեսված ելքերի լրացուցիչ ֆինանսավորման՝ պետական բյուջեում չկանխատեսված ելքերի՝ ինչպես նաև բյուջետային երաշխիքների ապահովման ելքերի ֆինանսավորման ապահովում
C54: Միջոցառման տեսակը
C55: Ծառայությունների մատուցում

Sheet 2
A1: Հավելված N 2
A2: ՀՀ կառավարության 2020 թվականի
A3: -ի N -Ն որոշման
A4: «ՀԱՅԱՍՏԱՆԻ ՀԱՆՐԱՊԵՏՈՒԹՅԱՆ 2020 ԹՎԱԿԱՆԻ ՊԵՏԱԿԱՆ ԲՅՈՒՋԵԻ ՄԱՍԻՆ» ՀՀ ՕՐԵՆՔԻ N 1 ՀԱՎԵԼՎԱԾԻ N 3 ԱՂՅՈՒՍԱԿՈՒՄ ԿԱՏԱՐՎՈՂ ՓՈՓՈԽՈՒԹՅՈՒՆՆԵՐԸ
G5: հազար դրամներով
A6: Ծրագրային դասիչ | C6: Բյուջետային գլխավոր կարգադրիչների, ծրագրերի, միջոցառումների և ուղղությունների անվանումները | D6: Ցուցանիշների փոփոխությունը (ավելացումները նշված են դրական նշանով, նվազեցումները՝ փակագծերում)
D7: Ընդամենը | E7: այդ թվում՝
A8: Ծրագիր | B8: Միջոցառում | E8: Կառուցման աշխատանքներ | F8: Վերակառուցման, վերանորոգման և վերականգնման աշխատանքներ | G8: Նախագծահե- տազոտական, գեոդեզիա- քարտեզագրա- կան աշխա- տանքներ | H8: Ոչ ֆինանսական այլ ակտիվների ձեռքբերում
C9: ԸՆԴԱՄԵՆԸ | D9: =SUM(E9:H9) -> -0.042 | E9: =E11 -> -158528 | F9: =F11 -> 158527.95 | G9: =G11 -> 0 | H9: =H11 -> 0
C10: այդ թվում՝
C11: ՀՀ ՏԱՐԱԾՔԱՅԻՆ ԿԱՌԱՎԱՐՄԱՆ ԵՎ ԵՆԹԱԿԱՌՈՒՑՎԱԾՔՆԵՐԻ ՆԱԽԱՐԱՐՈՒԹՅՈՒՆ | D11: =SUM(E11:H11) -> -0.042 | E11: =E13+E14 -> -158528 | F11: =F13+F14 -> 158527.95 | G11: =G13+G14 -> 0 | H11: =H13+H14 -> 0
C12: այդ թվում`
A13: 1004 | B13: 31007 | C13: Ջրային տնտեսության հիդրոտեխնիկական սարքավորումների տեղադրում | D13: =SUM(E13:H13) -> -183226.3 | E13: -183226.3
A14: 1072 | B14: 31008 | C14: Պարտադիր կապիտալ աշխատանքների ծրագրի շրջանակներում ջրամատակարարման և ջրահեռացման ենթակառուցվածքների հիմնանորոգում | D14: =SUM(E14:H14) -> 183226.26 | E14: =SUM(E16:E17) -> 24698.304 | F14: =SUM(F18:F23) -> 158527.95
C15: այդ թվում`
C16: Շիրակի մարզի Սարագյուղի ՕԿՋ-ի տարածքում նոր քլորակայանի կառուցում | E16: 15577.56
C17: Շիրակի մարզի Վարդաղբյուր գյուղի ՕԿՋ-ի տարածքում նոր քլորակայանի կառուցում | E17: 9120.744
C18: ՀՀ Արմավիրի մարզի Մերձավան գյուղի հին ՕԿՋ-ի սնուցող ջրագծի վերակառուցում՝ Հաղթանակ գյուղի հանգույցից մինչև Մերձավանի հին ՕԿՋ | F18: 7939.825
C19: Ջրաշեն և Մուշավան համայնքների ջրամատակարարման համակարգի վերակառուցում | F19: 45647.85
C20: Մուշավան 2-րդ փողոցի ջրամատակարարման համակարգի վերակառուցում | F20: 11429.429
C21: Մուշավան 1-ին և 3-րդ փողոցների ջրամատակարարման համակարգի վերակառուցում | F21: 8824.6
C22: Նոր Խարբերդ գյուղի3,4,5,6,13,14,15,16,17,18,19,20 փողոցների ջրագծերի վերակառուցում | F22: 59509.35
C23: Մարմարաշեն գյուղի ջրատարի վերակառուցում | F23: 25176.9

Sheet 3
H1: Հավելված N3
A2: ՀՀ կառավարության 2020 թվականի
A3: -ի N -Ն որոշման
A4: ՀԱՅԱՍՏԱՆԻ ՀԱՆՐԱՊԵՏՈՒԹՅԱՆ ԿԱՌԱՎԱՐՈՒԹՅԱՆ 2019 ԹՎԱԿԱՆԻ ԴԵԿՏԵՄԲԵՐԻ 26-Ի N 1919-Ն ՈՐՈՇՄԱՆ N 3 ԵՎ N 4 ՀԱՎԵԼՎԱԾՆԵՐՈՒՄ ԿԱՏԱՐՎՈՂ ՓՈՓՈԽՈՒԹՅՈՒՆՆԵՐԸ ԵՎ ԼՐԱՑՈՒՄՆԵՐԸ
I6: հազար դրամներով
A7: Գործառական դասիչը | D7: Ծրագրային դասիչը | F7: Բյուջետային ծախսերի գործառական դասակարգման բաժինների, խմբերի և դասերի, բյուջետային ծրագրերի միջոցառումների, բյուջետային հատկացումների գլխավոր կարգադրիչների անվանումները | G7: Ցուցանիշների փոփոխությունը (ավելացումները նշված են դրական նշանով)
G8: Առաջին կիսամյակ | H8: Ինն ամիս | I8: Տարի
A9: Բաժին | B9: Խումբ | C9: Դաս | D9: Ծրագիր | E9: Միջոցա ռում
F10: ԸՆԴԱՄԵՆԸ ԾԱԽՍԵՐ | G10: =G12+G31 -> 0 | H10: =H12+H31 -> 0 | I10: =I12+I31 -> 0
F11: այդ թվում`
A12: 04 | F12: ՏՆՏԵՍԱԿԱՆ ՀԱՐԱԲԵՐՈՒԹՅՈՒՆՆԵՐ | G12: =G14 -> -127065 | H12: =H14 -> -183226.3 | I12: =I14 -> -183226.3
F13: այդ թվում`
B14: 02 | F14: Գյուղատնտեսություն, անտառային տնտեսություն, ձկնորսություն և որսորդություն | G14: =G16 -> -127065 | H14: =H16 -> -183226.3 | I14: =I16 -> -183226.3
F15: այդ թվում`
C16: 04 | F16: Ոռոգում | G16: =G18 -> -127065 | H16: =H18 -> -183226.3 | I16: =I18 -> -183226.3
F17: այդ թվում`
F18: ՀՀ տարածքային կառավարման և ենթակառուցվածքների նախարարություն | G18: =G20 -> -127065 | H18: =H20 -> -183226.3 | I18: =I20 -> -183226.3
F19: այդ թվում`
D20: 1004 | F20: Ոռոգման համակարգի առողջացում | G20: =G22 -> -127065 | H20: =H22 -> -183226.3 | I20: =I22 -> -183226.3
F21: այդ թվում`
E22: 31007 | F22: Ջրային տնտեսության հիդրոտեխնիկական սարքավորումների տեղադրման աշխատանքներ | G22: =G26 -> -127065 | H22: =H26 -> -183226.3 | I22: =I26 -> -183226.3
F23: այդ թվում` ըստ կատարողների
F24: ՀՀ տարածքային կառավարման և ենթակառուցվածքների նախարարության ջրային կոմիտե | G24: =G26 -> -127065 | H24: =H26 -> -183226.3 | I24: =I26 -> -183226.3
F25: այդ թվում` բյուջետային ծախսերի տնտեսագիտական դասակարգման հոդվածներ
F26: ԸՆԴԱՄԵՆԸ ԾԱԽՍԵՐ | G26: =G27 -> -127065 | H26: =H27 -> -183226.3 | I26: =I27 -> -183226.3
F27: ՈՉ ՖԻՆԱՆՍԱԿԱՆ ԱԿՏԻՎՆԵՐԻ ԳԾՈՎ ԾԱԽՍԵՐ | G27: =G28 -> -127065 | H27: =H28 -> -183226.3 | I27: =I28 -> -183226.3
F28: ՀԻՄՆԱԿԱՆ ՄԻՋՈՑՆԵՐ | G28: =G29 -> -127065 | H28: =H29 -> -183226.3 | I28: =I29 -> -183226.3
F29: ՇԵՆՔԵՐ ԵՎ ՇԻՆՈՒԹՅՈՒՆՆԵՐ | G29: =G30 -> -127065 | H29: =H30 -> -183226.3 | I29: =I30 -> -183226.3
F30: - Շենքերի և շինությունների շինարարություն | G30: -127065 | H30: -183226.3 | I30: -183226.3
A31: 06 | F31: ԲՆԱԿԱՐԱՆԱՅԻՆ ՇԻՆԱՐԱՐՈՒԹՅՈՒՆ ԵՎ ԿՈՄՈՒՆԱԼ ԾԱՌԱՅՈՒԹՅՈՒՆՆԵՐ | G31: =G33 -> 127065 | H31: =H33 -> 183226.3 | I31: =I33 -> 183226.3
F32: այդ թվում`
B33: 03 | F33: Ջրամատակարարում | G33: =G35 -> 127065 | H33: =H35 -> 183226.3 | I33: =I35 -> 183226.3
F34: այդ թվում`
C35: 01 | F35: Ջրամատակարարում | G35: =G37 -> 127065 | H35: =H37 -> 183226.3 | I35: =I37 -> 183226.3
F36: այդ թվում`
F37: ՀՀ տարածքային կառավարման և ենթակառուցվածքների նախարարություն | G37: =G39 -> 127065 | H37: =H39 -> 183226.3 | I37: =I39 -> 183226.3
F38: այդ թվում`
D39: 1072 | F39: Ջրամատակարարաման և ջրահեռացման բարելավում | G39: =+G41 -> 127065 | H39: =+H41 -> 183226.3 | I39: =+I41 -> 183226.3
F40: այդ թվում`
E41: 31008 | F41: Պարտադիր կապիտալ աշխատանքների ծրագրի շրջանակներում ջրամատակարարման և ջրահեռացման ենթակառուցվածքների հիմնանորոգում | G41: =G43 -> 127065 | H41: =H43 -> 183226.3 | I41: =I43 -> 183226.3
F42: այդ թվում` ըստ կատարողների
F43: ՀՀ տարածքային կառավարման և ենթակառուցվածքների նախարարության ջրային կոմիտե | G43: =G45 -> 127065 | H43: =H45 -> 183226.3 | I43: =I45 -> 183226.3
F44: այդ թվում` բյուջետային ծախսերի տնտեսագիտական դասակարգման հոդվածներ
F45: ԸՆԴԱՄԵՆԸ ԾԱԽՍԵՐ | G45: =G46 -> 127065 | H45: =H46 -> 183226.3 | I45: =I46 -> 183226.3
F46: ՈՉ ՖԻՆԱՆՍԱԿԱՆ ԱԿՏԻՎՆԵՐԻ ԳԾՈՎ ԾԱԽՍԵՐ | G46: =G47 -> 127065 | H46: =H47 -> 183226.3 | I46: =I47 -> 183226.3
F47: ՀԻՄՆԱԿԱՆ ՄԻՋՈՑՆԵՐ | G47: =G48 -> 127065 | H47: =H48 -> 183226.3 | I47: =I48 -> 183226.3
F48: ՇԵՆՔԵՐ ԵՎ ՇԻՆՈՒԹՅՈՒՆՆԵՐ | G48: =G49+G50 -> 127065 | H48: =H49+H50 -> 183226.3 | I48: =I49+I50 -> 183226.3
F49: - Շենքերի և շինությունների շինարարություն | G49: 0 | H49: 24698.3 | I49: =H49 -> 24698.3
F50: - Շենքերի և շինությունների կապիտալ վերանորոգում | G50: 127065 | H50: 158528 | I50: =H50 -> 158528
A51: 11 | F51: ՀԻՄՆԱԿԱՆ ԲԱԺԻՆՆԵՐԻՆ ՉԴԱՍՎՈՂ ՊԱՀՈՒՍՏԱՅԻՆ ՖՈՆԴԵՐ | G51: =G53 -> 0 | H51: =H53 -> 0
F52: այդ թվում`
B53: 01 | F53: ՀՀ կառավարության և համայնքների պահուստային ֆոնդ | G53: =G55 -> 0 | H53: =H55 -> 0
F54: այդ թվում`
C55: 01 | F55: ՀՀ կառավարության պահուստային ֆոնդ | G55: =G59 -> 0 | H55: =H59 -> 0
F56: այդ թվում`
F57: ՀՀ կառավարություն
F58: այդ թվում`
D59: 1139 | F59: ՀՀ կառավարության պահուստային ֆոնդ | G59: =G61+G69 -> 0 | H59: =H61+H69 -> 0
F60: այդ թվում`
E61: 11001 | F61: ՀՀ կառավարության պահուստային ֆոնդ | G61: =G63 -> -127065 | H61: =H63 -> -183226.3 | I61: =I63 -> -183226.3
F62: այդ թվում` ըստ կատարողների
F63: ՀՀ կառավարություն | G63: =G68 -> -127065 | H63: =H68 -> -183226.3 | I63: =I68 -> -183226.3
F64: այդ թվում` բյուջետային ծախսերի տնտեսագիտական դասակարգման հոդվածներ | G64: =G65 -> -127065 | H64: =H65 -> -183226.3 | I64: =I65 -> -183226.3
F65: ԸՆԴԱՄԵՆԸ ԾԱԽՍԵՐ | G65: =G66 -> -127065 | H65: =H66 -> -183226.3 | I65: =I66 -> -183226.3
F66: ԸՆԹԱՑԻԿ ԾԱԽՍԵՐ | G66: =G67 -> -127065 | H66: =H67 -> -183226.3 | I66: =I67 -> -183226.3
F67: ԱՅԼ ԾԱԽՍԵՐ | G67: =G68 -> -127065 | H67: =H68 -> -183226.3 | I67: =I68 -> -183226.3
F68: Պահուստային միջոցներ | G68: -127065 | H68: -183226.3 | I68: -183226.3
E69: 11001 | F69: ՀՀ կառավարության պահուստային ֆոնդ | G69: =G71 -> 127065 | H69: =H71 -> 183226.3 | I69: =I71 -> 183226.3
F70: այդ թվում` ըստ կատարողների
F71: ՀՀ կառավարություն | G71: =G76 -> 127065 | H71: =H76 -> 183226.3 | I71: =H71 -> 183226.3
F72: այդ թվում` բյուջետային ծախսերի տնտեսագիտական դասակարգման հոդվածներ | G72: =G73 -> 127065 | H72: =H73 -> 183226.3 | I72: =H72 -> 183226.3
F73: ԸՆԴԱՄԵՆԸ ԾԱԽՍԵՐ | G73: =G74 -> 127065 | H73: =H74 -> 183226.3 | I73: =H73 -> 183226.3
F74: ԸՆԹԱՑԻԿ ԾԱԽՍԵՐ | G74: =G75 -> 127065 | H74: =H75 -> 183226.3 | I74: =H74 -> 183226.3
F75: ԱՅԼ ԾԱԽՍԵՐ | G75: =G76 -> 127065 | H75: =H76 -> 183226.3 | I75: =H75 -> 183226.3
F76: Պահուստային միջոցներ | G76: 127065 | H76: 183226.3 | I76: 183226.3

Sheet 4
A1: Հավելված N 4
A3: ՀՀ կառավարության 2020 թվականի
A4: -ի N -Ն որոշման
A5: ԿԱՌԱՎԱՐՈՒԹՅԱՆ 2019 ԹՎԱԿԱՆԻ ԴԵԿՏԵՄԲԵՐԻ 26-Ի N 1919-Ն ՈՐՈՇՄԱՆ N 5 ՀԱՎԵԼՎԱԾԻ N 2 ԱՂՅՈՒՍԱԿՈՒՄ ԿԱՏԱՐՎՈՂ ԼՐԱՑՈՒՄՆԵՐԸ
E6: հազար դրամներով
A7: Ծրագրային դասիչ | C7: Բյուջետային գլխավոր կարգադրիչների, ծրագրերի, միջոցառումների, միջոցառումները կատարող պետական մարմինների և ուղղությունների անվանումները | D7: Ցուցանիշների փոփոխությունը (ավելացումները նշված են դրական նշանով)
D8: Առաջին կիսամյակ | E8: Ինն ամիս | F8: Տարի
A9: Ծրագիր | B9: Միջոցառում
C10: ԸՆԴԱՄԵՆԸ | D10: =D12 -> 0.025 | E10: =E12 -> 0 | F10: =F12 -> 0
C11: այդ թվում՝
C12: ՀՀ ՏԱՐԱԾՔԱՅԻՆ ԿԱՌԱՎԱՐՄԱՆ ԵՎ ԵՆԹԱԿԱՌՈՒՑՎԱԾՔՆԵՐԻ ՆԱԽԱՐԱՐՈՒԹՅՈՒՆ | D12: =D14+D26 -> 0.025 | E12: =E14+E26 -> 0 | F12: =F14+F26 -> 0
C13: այդ թվում`
A14: 1072 | B14: 31008 | C14: Պարտադիր կապիտալ աշխատանքների ծրագրի շրջանակներում ջրամատակարարման և ջրահեռացման ենթակառուցվածքների հիմնանորոգում | D14: =D16 -> 127065.02 | E14: =E16 -> 183226.3 | F14: =F16 -> 183226.3
C15: այդ թվում` ըստ կատարողների
C16: ՀՀ տարածքային կառավարման և ենթակառուցվածքների նախարարության ջրային կոմիտե | D16: =SUM(D18:D25) -> 127065.02 | E16: =SUM(E18:E25) -> 183226.3 | F16: =SUM(F18:F25) -> 183226.3
C17: այդ թվում` ըստ ուղղությունների
C18: Շիրակի մարզի Սարագյուղի ՕԿՋ-ի տարածքում նոր քլորակայանի կառուցում | E18: 15577.6 | F18: =E18 -> 15577.6
C19: Շիրակի մարզի Վարդաղբյուր գյուղի ՕԿՋ-ի տարածքում նոր քլորակայանի կառուցում | E19: 9120.7 | F19: =E19 -> 9120.7
C20: ՀՀ Արմավիրի մարզի Մերձավան գյուղի հին ՕԿՋ-ի սնուցող ջրագծի վերակառուցում՝ Հաղթանակ գյուղի հանգույցից մինչև Մերձավանի հին ՕԿՋ | D20: 7939.825 | E20: 7939.8 | F20: =E20 -> 7939.8
C21: Ջրաշեն և Մուշավան համայնքների ջրամատակարարման համակարգի վերակառուցում | D21: 45647.9 | E21: 45647.9 | F21: =E21 -> 45647.9
C22: Մուշավան 2-րդ փողոցի ջրամատակարարման համակարգի վերակառուցում | D22: 11429.4 | E22: 11429.4 | F22: =E22 -> 11429.4
C23: Մուշավան 1-ին և 3-րդ փողոցների ջրամատակարարման համակարգի վերակառուցում | D23: 8824.6 | E23: 8824.6 | F23: =E23 -> 8824.6
C24: Նոր Խարբերդ գյուղի3,4,5,6,13,14,15,16,17,18,19,20 փողոցների ջրագծերի վերակառուցում | D24: 28046.4 | E24: 59509.4 | F24: =E24 -> 59509.4
C25: Մարմարաշեն գյուղի ջրատարի վերակառուցում | D25: 25176.9 | E25: 25176.9 | F25: =E25 -> 25176.9
A26: 1004 | B26: 31007 | C26: Ջրային տնտեսության հիդրոտեխնիկական սարքավորումների տեղադրում | D26: =D28 -> -127065 | E26: =E28 -> -183226.3 | F26: =F28 -> -183226.3
C27: այդ թվում` ըստ կատարողների
C28: ՀՀ տարածքային կառավարման և ենթակառուցվածքների նախարարության ջրային կոմիտե | D28: ='1'!D17 -> -127065 | E28: ='1'!E17 -> -183226.3 | F28: ='1'!F17 -> -183226.3

Sheet 5-1
E1: Հավելված N 5
D2: Աղյուսակ 1
E3: ՀՀ կառավարության 2020 թվականի
E4: -ի N -Ն որոշման
A6: ՀԱՅԱՍՏԱՆԻ ՀԱՆՐԱՊԵՏՈՒԹՅԱՆ ԿԱՌԱՎԱՐՈՒԹՅԱՆ 2019 ԹՎԱԿԱՆԻ ԴԵԿՏԵՄԲԵՐԻ 26-Ի N 1919-Ն ՈՐՈՇՄԱՆ N 9 ՀԱՎԵԼՎԱԾԻ N 9.8 ԵՎ 9.47 ԱՂՅՈՒՍԱԿՆԵՐՈՒՄ ԿԱՏԱՐՎՈՂ ՓՈՓՈԽՈՒԹՅՈՒՆՆԵՐԸ ԵՎ ԼՐԱՑՈՒՄՆԵՐԸ
E8: Աղյուսակ 9.8
A9: ՀՀ տարածքային կառավարման և ենթակառուցվածքների նախարարություն
A10: ՄԱՍ 2. ՊԵՏԱԿԱՆ ՄԱՐՄՆԻ ԳԾՈՎ ԱՐԴՅՈՒՆՔԱՅԻՆ (ԿԱՏԱՐՈՂԱԿԱՆ) ՑՈՒՑԱՆԻՇՆԵՐԸ
A11: Ծրագրի դասիչը | B11: Ծրագրի անվանումը
A12: Ծրագրի դասիչը` | B12: 1004 | C12: Ցուցանիշներ
C13: Ցուցանիշների փոփոխությունը (ավելացումները նշված են դրական նշանով, իսկ նվազեցումները` փակագծերում)
A14: Միջոցառման դասիչը` | B14: 31007 | C14: Առաջին կիսամյակ | D14: Ինն ամիս | E14: Տարի
A15: Միջոցառման անվանումը` | B15: Ջրային տնտեսության հիդրոտեխնիկական սարքավորումների տեղադրման աշխատանքներ
A16: Նկարագրությունը` | B16: Ոռոգման համակարգերի ջրանցքներիբաժանարար կետերը SCADA համակարգով հագեցած ջրաչափական սարքավորումներով կահավորում
A17: Միջոցառման տեսակը` | B17: Պետական մարմինների կողմից օգտագործվող ոչ ֆինանսական ակտիվների հետ գործառնություններ
A18: Ակտիվն օգտագործող կազմակերպության(ների) անվանում(ները)՛ | B18: ՀՀ ՏԿԵՆ ջրային կոմիտե
A19: Արդյունքի չափորոշիչներ
A20: Ջրաչափական սարքավորումների քանակը, հատ | C20: -203 | D20: -203 | E20: -203
A21: Միջոցառման վրա կատարվող ծախսը (հազար դրամ) | C21: ='1'!D17 -> -127065 | D21: ='1'!E17 -> -183226.3 | E21: ='1'!F17 -> -183226.3
A23: Ծրագրի դասիչը | B23: Ծրագրի անվանումը
A25: 1072 | B25: Ջրամատակարարման և ջրահեռացման բարելավում
A26: Ծրագրի դասիչը` | B26: 1072 | C26: Ցուցանիշների փոփոխությունը (ավելացումները նշված են դրական նշանով, իսկ նվազեցումները` փակագծերում)
A27: Միջոցառման դասիչը` | B27: 31008 | C27: Առաջին կիսամյակ | D27: Ինն ամիս | E27: Տարի
A28: Միջոցառման անվանումը` | B28: Պարտադիր կապիտալ աշխատանքների ծրագրի շրջանակներում ջրամատակարարման և ջրահեռացման ենթակառուցվածքների հիմնանորոգում
A29: Նկարագրությունը` | B29: Մի շարք համայնքներում ջրամատակարարման և ջրահեռացման համակարգերի կառուցման և վերականգնման աշխատանքներ
A30: Միջոցառման տեսակը` | B30: Պետական մարմինների կողմից օգտագործվող ոչ ֆինանսական ակտիվների հետ գործառնություններ
A31: Միջոցառումն իրականացնողի անվանումը | B31: Ջրային կոմիտե
A32: Արդյունքի չափորոշիչներ
A33: Ջրագծի կառուցում, մ | C33: 1178.5 | D33: =C33 -> 1178.5 | E33: =D33 -> 1178.5
A34: Տնային միացումներ, մ | C34: 5264 | D34: =C34 -> 5264 | E34: =D34 -> 5264
A35: Անհատական ջրաչափական դիտահորեր, հատ | C35: 565 | D35: =C35 -> 565 | E35: =D35 -> 565
A36: Նոր քլորակայանի կառուցում, հատ | C36: 0 | D36: 2 | E36: =D36 -> 2
A37: Միջոցառման վրա կատարվող ծախսը (հազար դրամ) | C37: ='1'!D30 -> 127065 | D37: ='1'!E30 -> 183226.3 | E37: ='1'!F30 -> 183226.3
E40: Աղյուսակ 9.47
A41: ՀՀ կառավարություն
A42: ՄԱՍ 2. ՊԵՏԱԿԱՆ ՄԱՐՄՆԻ ԳԾՈՎ ԱՐԴՅՈՒՆՔԱՅԻՆ (ԿԱՏԱՐՈՂԱԿԱՆ) ՑՈՒՑԱՆԻՇՆԵՐԸ
A44: Ծրագրի դասիչը | B44: Ծրագրի անվանումը
A45: 1139 | B45: ՀՀ կառավարության պահուստային ֆոնդ
A47: Ծրագրի միջոցառումները
C48: Ցուցանիշներ
A49: Ծրագրի դասիչը` | B49: 1139 | C49: Ցուցանիշների փոփոխությունը (ավելացումները նշված են դրական նշանով, իսկ նվազեցումները` փակագծերում)
A50: Միջոցառման դասիչը` | B50: 11001 | C50: Առաջին կիսամյակ | D50: Ինն ամիս | E50: Տարի
A51: Միջոցառման անվանումը` | B51: ՀՀ կառավարության պահուստային ֆոնդ
A52: Նկարագրությունը` | B52: ՀՀ պետական բյուջեում նախատեսված ելքերի լրացուցիչ ֆինանսավորման՝ պետական բյուջեում չկանխատեսված ելքերի՝ ինչպես նաև բյուջետային երաշխիքների ապահովման ելքերի ֆինանսավորման ապահովում
A53: Միջոցառման տեսակը` | B53: Ծառայությունների մատուցում
A54: Միջոցառումն իրականացնողի անվանումը | B54: ՀՀ կառավարություն
A55: Արդյունքի չափորոշիչներ
A56: Միջոցառման վրա կատարվող ծախսը (հազար դրամ) | C56: ='1'!D44 -> -127065 | D56: ='1'!E44 -> -183226.3 | E56: ='1'!F44 -> -183226.3
A59: Ծրագրի դասիչը | B59: Ծրագրի անվանումը
A60: 1139 | B60: ՀՀ կառավարության պահուստային ֆոնդ
A62: Ծրագրի միջոցառումները
C63: Ցուցանիշներ
A64: Ծրագրի դասիչը` | B64: 1139 | C64: Ցուցանիշների փոփոխությունը (ավելացումները նշված են դրական նշանով, իսկ նվազեցումները` փակագծերում)
A65: Միջոցառման դասիչը` | B65: 11001 | C65: Առաջին կիսամյակ | D65: Ինն ամիս | E65: Տարի
A66: Միջոցառման անվանումը` | B66: ՀՀ կառավարության պահուստային ֆոնդ
A67: Նկարագրությունը` | B67: ՀՀ պետական բյուջեում նախատեսված ելքերի լրացուցիչ ֆինանսավորման՝ պետական բյուջեում չկանխատեսված ելքերի՝ ինչպես նաև բյուջետային երաշխիքների ապահովման ելքերի ֆինանսավորման ապահովում
A68: Միջոցառման տեսակը` | B68: Ծառայությունների մատուցում
A69: Միջոցառումն իրականացնողի անվանումը | B69: ՀՀ կառավարություն
A70: Արդյունքի չափորոշիչներ
A71: Միջոցառման վրա կատարվող ծախսը (հազար դրամ) | C71: ='1'!D50 -> 127065 | D71: ='1'!E50 -> 183226.3 | E71: ='1'!F50 -> 183226.3

Sheet 5-2
E1: Հավելված N 5
D2: Աղյուսակ 2
E3: ՀՀ կառավարության 2020 թվականի
E4: -ի N -Ն որոշման
A5: ՀԱՅԱՍՏԱՆԻ ՀԱՆՐԱՊԵՏՈՒԹՅԱՆ ԿԱՌԱՎԱՐՈՒԹՅԱՆ 2019 ԹՎԱԿԱՆԻ ԴԵԿՏԵՄԲԵՐԻ 26-Ի N 1919-Ն ՈՐՈՇՄԱՆ N 9.1 ՀԱՎԵԼՎԱԾԻ N 9.1.26 ԵՎ 9.1.58 ԱՂՅՈՒՍԱԿՆԵՐՈՒՄ ԿԱՏԱՐՎՈՂ ՓՈՓՈԽՈՒԹՅՈՒՆՆԵՐԸ ԵՎ ԼՐԱՑՈՒՄՆԵՐԸ
D6: Աղյուսակ 9.1.26
A7: ՀՀ տարածքային կառավարման և ենթակառուցվածքների նախարարության ջրային կոմիտե
A8: ՄԱՍ 2. ՊԵՏԱԿԱՆ ՄԱՐՄՆԻ ԳԾՈՎ ԱՐԴՅՈՒՆՔԱՅԻՆ (ԿԱՏԱՐՈՂԱԿԱՆ) ՑՈՒՑԱՆԻՇՆԵՐԸ
A9: Ծրագրի դասիչը | B9: Ծրագրի անվանումը
A10: 1004 | B10: Ոռոգման համակարգի առողջացում
A11: Ծրագրի միջոցառումները | C11: Ցուցանիշներ
A12: Ծրագրի դասիչը` | B12: 1004 | C12: Ցուցանիշների փոփոխությունը (ավելացումները նշված են դրական նշանով, իսկ նվազեցումները` փակագծերում)
A13: Միջոցառման դասիչը` | B13: 31007 | C13: Առաջին կիսամյակ | D13: Ինն ամիս | E13: Տարի
A14: Միջոցառման անվանումը` | B14: Ջրային տնտեսության հիդրոտեխնիկական սարքավորումների տեղադրման աշխատանքներ
A15: Նկարագրությունը` | B15: Ոռոգման համակարգերի ջրանցքներիբաժանարար կետերը SCADA համակարգով հագեցած ջրաչափական սարքավորումներով կահավորում
A16: Միջոցառման տեսակը` | B16: Պետական մարմինների կողմից օգտագործվող ոչ ֆինանսական ակտիվների հետ գործառնություններ
A17: Ակտիվն օգտագործող կազմակերպության(ների) անվանում(ները)՛ | B17: ՀՀ ՏԿԵՆ ջրային կոմիտե
A18: Արդյունքի չափորոշիչներ
A19: Ջրաչափական սարքավորումների քանակը, հատ | C19: -203 | D19: -203 | E19: -203
A20: Միջոցառման վրա կատարվող ծախսը (հազար դրամ) | C20: ='5-1'!C21 -> -127065 | D20: ='5-1'!D21 -> -183226.3 | E20: ='5-1'!E21 -> -183226.3
A22: Ծրագրի դասիչը` | B22: 1072 | C22: Ցուցանիշների փոփոխությունը (ավելացումները նշված են դրական նշանով, իսկ նվազեցումները` փակագծերում)
A23: Միջոցառման դասիչը` | B23: 31008 | C23: Առաջին կիսամյակ | D23: Ինն ամիս | E23: Տարի
A24: Միջոցառման անվանումը` | B24: Պարտադիր կապիտալ աշխատանքների ծրագրի շրջանակներում ջրամատակարարման և ջրահեռացման ենթակառուցվածքների հիմնանորոգում
A25: Նկարագրությունը` | B25: Մի շարք համայնքներում ջրամատակարարման և ջրահեռացման համակարգերի կառուցման և վերականգնման աշխատանքներ
A26: Միջոցառման տեսակը` | B26: Պետական մարմինների կողմից օգտագործվող ոչ ֆինանսական ակտիվների հետ գործառնություններ
A27: Միջոցառումն իրականացնողի անվանումը | B27: Ջրային կոմիտե
A28: Արդյունքի չափորոշիչներ
A29: Ջրագծի կառուցում, մ | C29: 1178.5 | D29: =C29 -> 1178.5 | E29: =D29 -> 1178.5
A30: Տնային միացումներ, մ | C30: 5264 | D30: =C30 -> 5264 | E30: =D30 -> 5264
A31: Անհատական ջրաչափական դիտահորեր, հատ | C31: 565 | D31: =C31 -> 565 | E31: =D31 -> 565
A32: Նոր քլորակայանի կառուցում, հատ | C32: 0 | D32: 2 | E32: =D32 -> 2
A33: Միջոցառման վրա կատարվող ծախսը (հազար դրամ) | C33: ='5-1'!C37 -> 127065 | D33: ='5-1'!D37 -> 183226.3 | E33: ='5-1'!E37 -> 183226.3
E36: Աղյուսակ 9.1.58
A37: ՀՀ կառավարություն
A38: ՄԱՍ 2. ՊԵՏԱԿԱՆ ՄԱՐՄՆԻ ԳԾՈՎ ԱՐԴՅՈՒՆՔԱՅԻՆ (ԿԱՏԱՐՈՂԱԿԱՆ) ՑՈՒՑԱՆԻՇՆԵՐԸ
A40: Ծրագրի դասիչը | B40: Ծրագրի անվանումը
A41: 1139 | B41: ՀՀ կառավարության պահուստային ֆոնդ
A43: Ծրագրի միջոցառումները
C44: Ցուցանիշներ
A45: Ծրագրի դասիչը` | B45: 1139 | C45: Ցուցանիշների փոփոխությունը (ավելացումները նշված են դրական նշանով, իսկ նվազեցումները` փակագծերում)
A46: Միջոցառման դասիչը` | B46: 11001 | C46: Առաջին կիսամյակ | D46: Ինն ամիս | E46: Տարի
A47: Միջոցառման անվանումը` | B47: ՀՀ կառավարության պահուստային ֆոնդ
A48: Նկարագրությունը` | B48: ՀՀ պետական բյուջեում նախատեսված ելքերի լրացուցիչ ֆինանսավորման՝ պետական բյուջեում չկանխատեսված ելքերի՝ ինչպես նաև բյուջետային երաշխիքների ապահովման ելքերի ֆինանսավորման ապահովում
A49: Միջոցառման տեսակը` | B49: Ծառայությունների մատուցում
A50: Միջոցառումն իրականացնողի անվանումը | B50: ՀՀ կառավարություն
A51: Արդյունքի չափորոշիչներ
A52: Միջոցառման վրա կատարվող ծախսը (հազար դրամ) | C52: ='5-1'!C56 -> -127065 | D52: ='5-1'!D56 -> -183226.3 | E52: ='5-1'!E56 -> -183226.3
A55: Ծրագրի դասիչը | B55: Ծրագրի անվանումը
A56: 1139 | B56: ՀՀ կառավարության պահուստային ֆոնդ
A58: Ծրագրի միջոցառումները
C59: Ցուցանիշներ
A60: Ծրագրի դասիչը` | B60: 1139 | C60: Ցուցանիշների փոփոխությունը (ավելացումները նշված են դրական նշանով, իսկ նվազեցումները` փակագծերում)
A61: Միջոցառման դասիչը` | B61: 11001 | C61: Առաջին կիսամյակ | D61: Ինն ամիս | E61: Տարի
A62: Միջոցառման անվանումը` | B62: ՀՀ կառավարության պահուստային ֆոնդ
A63: Նկարագրությունը` | B63: ՀՀ պետական բյուջեում նախատեսված ելքերի լրացուցիչ ֆինանսավորման՝ պետական բյուջեում չկանխատեսված ելքերի՝ ինչպես նաև բյուջետային երաշխիքների ապահովման ելքերի ֆինանսավորման ապահովում
A64: Միջոցառման տեսակը` | B64: Ծառայությունների մատուցում
A65: Միջոցառումն իրականացնողի անվանումը | B65: ՀՀ կառավարություն
A66: Արդյունքի չափորոշիչներ
A67: Միջոցառման վրա կատարվող ծախսը (հազար դրամ) | C67: ='5-1'!C71 -> 127065 | D67: ='5-1'!D71 -> 183226.3 | E67: ='5-1'!E71 -> 183226.3

Sheet 6
A2: Հավելված N 6
A3: ՀՀ կառավարության 2020 թվականի
A4: -ի N -Ն որոշման
A6: ԿԱՌԱՎԱՐՈՒԹՅԱՆ 2019 ԹՎԱԿԱՆԻ ԴԵԿՏԵՄԲԵՐԻ 26-Ի N 1919-Ն ՈՐՈՇՄԱՆ N 10 ՀԱՎԵԼՎԱԾՈՒՄ ԿԱՏԱՐՎՈՂ ԼՐԱՑՈՒՄՆԵՐԸ
A8: Կոդը | B8: Անվանումը | C8: Գնման ձևը | D8: Չափի միավորը | E8: Միավորի գինը | F8: Ցուցանիշների փոփոխությունը (ավելացումները նշված են դրական նշանով)
F9: քանակը | G9: գումարը (հազ. դրամ)
A10: ՀՀ տարածքային կառավարման և ենթակառուցվածքների նախարարության ջրային կոմիտե | G10: =G14+G15 -> -0.011
A11: Ծրագիր <<Ոռոգման համակարգի առողջացում>> Միջոցառում <<Ջրային տնտեսության հիդրոտեխնիկական սարքավորումների տեղադրման աշխատանքներ>>
A12: Բաժին N04, Խումբ 02, Դաս 04 Ծրագիր 1004 Միջոցառում 31007
B13: ՄԱՍ II ԱՇԽԱՏԱՆՔՆԵՐ
A14: 45241152/1 | B14: Շինարարական աշխատանքներ հիդրոմեխանիկական կառույցների համար | C14: ԲՄ | D14: դրամ | G14: -183226.3
A15: Ծրագիր <<Ջրամատակարարման և ջրահեռացման բարելավում>> Միջոցառում <<Պարտադիր կապիտալ աշխատանքների ծրագրի շրջանակներում ջրամատակարարման և ջրահեռացման ենթակառուցվածքների հիմնանորոգում>> Բաժին N 06 , Խումբ 03 , Դաս 01 Ծրագիր 1072 Միջոցառում 31008 | G15: =G16 -> 183226.29
B16: ՄԱՍ II ԱՇԽԱՏԱՆՔՆԵՐ | G16: =SUM(G17:G40) -> 183226.29
A17: 45231131/1 | B17: Ջրամատակարարման խողովակաշարերի հետ կապված աշխատանքներ | C17: ԳՀ | D17: դրամ | E17: 7573000 | F17: 1 | G17: =E17*F17/1000 -> 7573
A18: 45231131/2 | B18: Ջրամատակարարման խողովակաշարերի հետ կապված աշխատանքներ | C18: ՀԲՄ | D18: դրամ | E18: 44950000 | F18: 1 | G18: =E18*F18/1000 -> 44950
A19: 45231131/3 | B19: Ջրամատակարարման խողովակաշարերի հետ կապված աշխատանքներ | C19: ԳՀ | D19: դրամ | E19: 11162829 | F19: 1 | G19: =E19*F19/1000 -> 11162.829
A20: 45231131/4 | B20: Ջրամատակարարման խողովակաշարերի հետ կապված աշխատանքներ | C20: ԳՀ | D20: դրամ | E20: 8602100 | F20: 1 | G20: =E20*F20/1000 -> 8602.1
A21: 45231131/5 | B21: Ջրամատակարարման խողովակաշարերի հետ կապված աշխատանքներ | C21: ՀԲՄ | D21: դրամ | E21: 58654200 | F21: 1 | G21: =E21*F21/1000 -> 58654.2
A22: 45231131/6 | B22: Ջրամատակարարման խողովակաշարերի հետ կապված աշխատանքներ | C22: ԳՀ | D22: դրամ | E22: 24635600 | F22: 1 | G22: =E22*F22/1000 -> 24635.6
A23: 45251135/1 | B23: Ջրի զտման կայանների կառուցման աշխատանքներ | C23: ԳՀ | D23: դրամ | E23: 15193960 | F23: 1 | G23: =E23*F23/1000 -> 15193.96
A24: 45251135/2 | B24: Ջրի զտման կայանների կառուցման աշխատանքներ | C24: ԳՀ | D24: դրամ | E24: 8883300 | F24: 1 | G24: =E24*F24/1000 -> 8883.3
A25: 71351540/1 | B25: Տեխնիկական հսկողության ծառայություններ | C25: ԳՀ | D25: դրամ | E25: 40200 | F25: 1 | G25: =E25*F25/1000 -> 40.2
A26: 71351540/2 | B26: Տեխնիկական հսկողության ծառայություններ | C26: ԳՀ | D26: դրամ | E26: 245500 | F26: 1 | G26: =E26*F26/1000 -> 245.5
A27: 71351540/3 | B27: Տեխնիկական հսկողության ծառայություններ | C27: ԳՀ | D27: դրամ | E27: 169400 | F27: 1 | G27: =E27*F27/1000 -> 169.4
A28: 71351540/4 | B28: Տեխնիկական հսկողության ծառայություններ | C28: ԳՀ | D28: դրամ | E28: 149500 | F28: 1 | G28: =E28*F28/1000 -> 149.5
... A40: 98111140/8 | B40: Հեղինակային հսկողության ծառայություններ | C40: ՄԱ | D40: դրամ | E40: 59100 | F40: 1 | G40: =E40*F40/1000 -> 59.1

Sheet 7
A1: Հավելված N 7
A2: ՀՀ կառավարության 2020 թվականի -ի N -Ն որոշման
A3: ՀԱՅԱՍՏԱՆԻ ՀԱՆՐԱՊԵՏՈՒԹՅԱՆ ՏԱՐԱԾՔԱՅԻՆ ԿԱՌԱՎԱՐՄԱՆ ԵՎ ԵՆԹԱԿԱՌՈՒՑՎԱԾՔՆԵՐԻ ՆԱԽԱՐԱՐՈՒԹՅԱՆ ՋՐԱՅԻՆ ԿՈՄԻՏԵԻՆ ՀԱՏԿԱՑՎԱԾ ԳՈՒՄԱՐԻ ԲԱՇԽՈՒՄԸ
A4: հազար դրամներով
A5: Հ/Հ | B5: Բյուջետային ծախսերի տնտեսագիտական դասակարգման հոդվածների և աշխատանքների անվանումները | C5: Ընդամենը գումարը | D5: այդ թվում
D6: Աշխատանքների արժեքը | E6: Տեխնիկական հսկողության արժեքը | F6: Հեղինակային հսկողության արժեքը
B7: ԸՆԴԱՄԵՆԸ | C7: =C9+C13 -> 183226.26 | D7: =D9+D13 -> 179654.88 | E7: =E9+E13 -> 1707.47 | F7: =F9+F13 -> 1863.909
B8: այդ թվում՝
A9: 1 | B9: Շենքերի և շինությունների շինարարություն, | C9: =SUM(C11:C12) -> 24698.304 | D9: =SUM(D11:D12) -> 24077.27 | E9: =SUM(E11:E12) -> 468.325 | F9: =SUM(F11:F12) -> 152.709
B10: որից`
A11: 1.1 | B11: Շիրակի մարզի Սարագյուղի ՕԿՋ-ի տարածքում նոր քլորակայանի կառուցում | C11: =SUM(D11:F11) -> 15577.56 | D11: 15193.96 | E11: 290 | F11: 93.6
A12: 1.2 | B12: Շիրակի մարզի Վարդաղբյուր գյուղի ՕԿՋ-ի տարածքում նոր քլորակայանի կառուցում | C12: =SUM(D12:F12) -> 9120.744 | D12: 8883.31 | E12: 178.325 | F12: 59.109
A13: 2 | B13: Շենքերի և շինությունների կապիտալ վերանորոգում, | C13: =SUM(C15:C20) -> 158527.95 | D13: =SUM(D15:D20) -> 155577.61 | E13: =SUM(E15:E20) -> 1239.145 | F13: =SUM(F15:F20) -> 1711.2
B14: որից`
A15: 2.1 | B15: ՀՀ Արմավիրի մարզի Մերձավան գյուղի հին ՕԿՋ-ի սնուցող ջրագծի վերակառուցում՝ Հաղթանակ գյուղի հանգույցից մինչև Մերձավանի հին ՕԿՋ | C15: =SUM(D15:F15) -> 7939.825 | D15: 7572.98 | E15: 40.245 | F15: 326.6
A16: 2.2 | B16: Ջրաշեն և Մուշավան համայնքների ջրամատակարարման համակարգի վերակառուցում | C16: =SUM(D16:F16) -> 45647.85 | D16: 44949.95 | E16: 245.5 | F16: 452.4
A17: 2.3 | B17: Մուշական 2-րդ փողոցի ջրամատակարարման համակարգի վերակառուցում | C17: =SUM(D17:F17) -> 11429.429 | D17: 11162.829 | E17: 169.4 | F17: 97.2
A18: 2.4 | B18: Մուշական 1-ին և 3-րդ փողոցների ջրամատակարարման համակարգի վերակառուցում | C18: =SUM(D18:F18) -> 8824.6 | D18: 8602.1 | E18: 149.5 | F18: 73
A19: 2.5 | B19: Նոր Խարբերդ գյուղի3,4,5,6,13,14,15,16,17,18,19,20 փողոցների ջրագծերի վերակառուցում | C19: =SUM(D19:F19) -> 59509.35 | D19: 58654.15 | E19: 319.2 | F19: 536
A20: 2.6 | B20: Մարմարաշեն գյուղի ջրատարի վերակառուցում | C20: =SUM(D20:F20) -> 25176.9 | D20: 24635.6 | E20: 315.3 | F20: 226
