Workbook

Sheet 1
C1: Հավելված N 1
A2: ՀՀ կառավարության 2020 թվականի
A3: -ի N -Ն որոշման
A5: «ՀԱՅԱՍՏԱՆԻ ՀԱՆՐԱՊԵՏՈՒԹՅԱՆ 2020 ԹՎԱԿԱՆԻ ՊԵՏԱԿԱՆ ԲՅՈՒՋԵԻ ՄԱՍԻՆ» ՀՀ ՕՐԵՆՔԻ N 1 ՀԱՎԵԼՎԱԾԻ N 2 ԱՂՅՈՒՍԱԿՈՒՄ ԿԱՏԱՐՎՈՂ ՎԵՐԱԲԱՇԽՈՒՄԸ ԵՎ ՀԱՅԱՍՏԱՆԻ ՀԱՆՐԱՊԵՏՈՒԹՅԱՆ ԿԱՌԱՎԱՐՈՒԹՅԱՆ 2019 ԹՎԱԿԱՆԻ ԴԵԿՏԵՄԲԵՐԻ 26-Ի N 1919-Ն ՈՐՈՇՄԱՆ N 5 ՀԱՎԵԼՎԱԾԻ N 1 ԱՂՅՈՒՍԱԿՈՒՄ ԿԱՏԱՐՎՈՂ ՓՈՓՈԽՈՒԹՅՈՒՆՆԵՐԸ ԵՎ ԼՐԱՑՈՒՄՆԵՐԸ
F6: հազ.դրամ
A7: Ծրագրային դասիչը | C7: Բյուջետային գլխավոր կարգադրիչների, ծրագրերի և միջոցառումների անվանումները | D7: Ցուցանիշների փոփոխությունը (ավելացումները նշված են դրական նշանով, իսկ նվազեցումները` փակագծերում)
D9: Առաջին կիսամյակ | E9: Ինն ամիս | F9: Տարի
C10: ԸՆԴԱՄԵՆԸ | D10: =D11 -> 0 | E10: =E11 -> 0 | F10: =F11 -> 0
C11: ՀՀ տարածքային կառավարման և ենթակառուցվածքների նախարարություն | D11: =D12+D31 -> 0 | E11: =E12+E31 -> 0 | F11: =F12+F31 -> 0
A12: 1004 | C12: Ծրագրի անվանումը` | D12: =D19+D25 -> 24598.7 | E12: =E19+E25 -> 24598.7 | F12: =F19+F25 -> 24598.7
C13: Ոռոգման համակարգի առողջացում
C14: Ծրագրի նպատակը`
C15: Ոռոգման ծառայությունների հասանելիության և մատչելիության ապահովում
C16: Վերջնական արդյունքի նկարագրությունը`
C17: Ոռոգման ջրի մատակարարման արդյունավետության և հասանելիության բարելավում՝ կորուստների կրճատում
A18: Ծրագրի միջոցառումներ
B19: 31014 | C19: Միջոցառման անվանումը` | D19: 34940 | E19: =D19 -> 34940 | F19: =E19 -> 34940
C20: Ջրամբարների վերականգնման և վերազինման աշխատանքներ
C21: Միջոցառման նկարագրությունը`
C22: Ջրամբարների վերականգնման և վերազինման համար նախագծերի և աշխատանքների ձեռքբերում
C23: Միջոցառման տեսակը
C24: Պետական մարմինների կողմից օգտագործվող ոչ ֆինանսական ակտիվների հետ գործառնություններ
B25: 31010 | C25: Միջոցառման անվանումը` | D25: -10341.3 | E25: =D25 -> -10341.3 | F25: =E25 -> -10341.3
C26: Հեր-Հերի ջրամբարից ինքնահոս ջրատարի կառուցում_x000D_
C27: Միջոցառման նկարագրությունը`
C28: Հեր-Հերի ջրամբարից ինքնահոս ջրատարի կառուցման համար նախագծերի և աշխատանքների ձեռքբերում
C29: Միջոցառման տեսակը
C30: Պետական մարմինների կողմից օգտագործվող ոչ ֆինանսական ակտիվների հետ գործառնություններ
A31: 1072 | C31: Ծրագրի անվանումը` | D31: =D38 -> -24598.7 | E31: =E38 -> -24598.7 | F31: =F38 -> -24598.7
C32: Ջրամատակարարաման և ջրահեռացման բարելավում
C33: Ծրագրի նպատակը`
C34: Ջրամատակարարման ծառայությունների հասանելիության և մատչելիության ապահովում
C35: Վերջնական արդյունքի նկարագրությունը`
C36: Խմելու ջրի մատակարարման և ջրահեռացման համակարգի բարելավում, կորուստների կրճատում
A37: Ծրագրի միջոցառումներ
B38: 11001 | C38: Միջոցառման անվանումը` | D38: -24598.7 | E38: =D38 -> -24598.7 | F38: =E38 -> -24598.7
C39: Խմելու ջրի մատակարարման և ջրահեռացման ծառայությունների սուբսիդավորում
C40: Միջոցառման նկարագրությունը`
C41: Խմելու ջուր մատակարարող ընկերության սուբսիդավորում՛ հաստատված սակագնի և նվազագույն շահավետ գնի տարբերության չափով
C42: Միջոցառման տեսակը
C43: Ծառայությունների մատուցում

Sheet 2
A1: Հավելված N 2
A2: ՀՀ կառավարության 2020 թվականի
A3: -ի N -Ն որոշման
A4: «ՀԱՅԱՍՏԱՆԻ ՀԱՆՐԱՊԵՏՈՒԹՅԱՆ 2020 ԹՎԱԿԱՆԻ ՊԵՏԱԿԱՆ ԲՅՈՒՋԵԻ ՄԱՍԻՆ» ՀՀ ՕՐԵՆՔԻ N 1 ՀԱՎԵԼՎԱԾԻ N 3 ԱՂՅՈՒՍԱԿՈՒՄ ԿԱՏԱՐՎՈՂ ՓՈՓՈԽՈՒԹՅՈՒՆՆԵՐԸ ԵՎ ԼՐԱՑՈՒՄՆԵՐԸ
G5: հազար դրամներով
A6: Ծրագրային դասիչ | C6: Բյուջետային գլխավոր կարգադրիչների, ծրագրերի, միջոցառումների և ուղղությունների անվանումները | D6: Ցուցանիշների փոփոխությունը (ավելացումները նշված են դրական նշանով, իսկ նվազեցումները՝ փակագծերում)
D7: Ընդամենը, | E7: այդ թվում՝
A8: Ծրագիր | B8: Միջոցառում | E8: Կառուցման աշխատանքներ | F8: Վերակառուցման, վերանորոգման և վերականգնման աշխատանքներ | G8: Նախագծահե- տազոտական, գեոդեզիա- քարտեզագրա- կան աշխա- տանքներ | H8: Ոչ ֆինանսական այլ ակտիվների ձեռքբերում
C9: ԸՆԴԱՄԵՆԸ | D9: =D11 -> 24598.7 | E9: =E11 -> -10341.3 | F9: =F11 -> 0 | G9: =G11 -> 34940 | H9: =H11 -> 0
C10: այդ թվում՝
C11: ՀՀ տարածքային կառավարման և ենթակառուցվածքների նախարարություն | D11: =SUM(E11:H11) -> 24598.7 | E11: =E13+E16 -> -10341.3 | F11: =F13 -> 0 | G11: =G13 -> 34940 | H11: =H13 -> 0
C12: այդ թվում`
A13: 1004 | B13: 31014 | C13: Ջրամբարների վերականգնման և վերազինման աշխատանքներ | D13: =SUM(E13:H13) -> 34940 | G13: =SUM(G15:G15) -> 34940
C14: այդ թվում`
C15: ՀՀՇիրակի մարզի Արփի լճի ջրամբարի վերականգնման և վերազինման նախագծանախահաշվային փաստաթղթերի ձեռքբերում | D15: =SUM(E15:H15) -> 34940 | G15: 34940
A16: 1004 | B16: 31010 | C16: Հեր-Հերի ջրամբարից ինքնահոս ջրատարի կառուցում | D16: =SUM(E16:H16) -> -10341.3 | E16: -10341.3

Sheet 3
H1: Հավելված N 3
A2: ՀՀ կառավարության 2020 թվականի
A3: -ի N -Ն որոշման
A4: ՀԱՅԱՍՏԱՆԻ ՀԱՆՐԱՊԵՏՈՒԹՅԱՆ ԿԱՌԱՎԱՐՈՒԹՅԱՆ 2019 ԹՎԱԿԱՆԻ ԴԵԿՏԵՄԲԵՐԻ 26-Ի N 1919-Ն ՈՐՈՇՄԱՆ N 3 և N 4 ՀԱՎԵԼՎԱԾՆԵՐՈՒՄ ԿԱՏԱՐՎՈՂ ՓՈՓՈԽՈՒԹՅՈՒՆՆԵՐԸ ԵՎ ԼՐԱՑՈՒՄՆԵՐԸ
I6: հազար դրամներով
A7: Գործառական դասիչը | D7: Ծրագրային դասիչը | F7: Բյուջետային ծախսերի գործառական դասակարգման բաժինների, խմբերի և դասերի, բյուջետային ծրագրերի միջոցառումների, բյուջետային հատկացումների գլխավոր կարգադրիչների անվանումները | G7: Ցուցանիշների փոփոխությունը (ավելացումները նշված են դրական նշանով, իսկ նվազեցումները` փակագծերում)
A9: Բաժին | B9: Խումբ | C9: Դաս | D9: Ծրագիր | E9: Միջոցառում | G9: Առաջին կիսամյակ | H9: Ինն ամիս | I9: Տարի
F10: ԸՆԴԱՄԵՆԸ ԾԱԽՍԵՐ | G10: =G12+G40 -> 0 | H10: =H12+H40 -> 0 | I10: =I12+I40 -> 0
F11: այդ թվում`
A12: 04 | F12: ՏՆՏԵՍԱԿԱՆ ՀԱՐԱԲԵՐՈՒԹՅՈՒՆՆԵՐ | G12: =G14 -> 24598.7 | H12: =H14 -> 24598.7 | I12: =I14 -> 24598.7
F13: այդ թվում`
B14: 02 | F14: Գյուղատնտեսություն, անտառային տնտեսություն, ձկնորսություն և որսորդություն | G14: =G16 -> 24598.7 | H14: =H16 -> 24598.7 | I14: =I16 -> 24598.7
F15: այդ թվում`
C16: 04 | F16: Ոռոգում | G16: =G20 -> 24598.7 | H16: =H20 -> 24598.7 | I16: =I20 -> 24598.7
F17: այդ թվում`
F18: ՀՀ տարածքային կառավարման և ենթակառուցվածքների նախարարություն
F19: այդ թվում`
D20: 1004 | F20: Ոռոգման համակարգի առողջացում | G20: =G22+G31 -> 24598.7 | H20: =H22+H31 -> 24598.7 | I20: =I22+I31 -> 24598.7
F21: այդ թվում`
E22: 31014 | F22: ='1'!C20 -> Ջրամբարների վերականգնման և վերազինման աշխատանքներ | G22: =G24 -> 34940 | H22: =H24 -> 34940 | I22: =I24 -> 34940
F23: այդ թվում` ըստ կատարողների
F24: ՀՀ տարածքային կառավարման և ենթակառուցվածքների նախարարության ջրային կոմիտե | G24: =G30 -> 34940 | H24: =H30 -> 34940 | I24: =I30 -> 34940
F25: այդ թվում` բյուջետային ծախսերի տնտեսագիտական դասակարգման հոդվածներ
F26: ԸՆԴԱՄԵՆԸ ԾԱԽՍԵՐ | G26: =G27 -> 34940 | H26: =H27 -> 34940 | I26: =I27 -> 34940
F27: ՈՉ ՖԻՆԱՆՍԱԿԱՆ ԱԿՏԻՎՆԵՐԻ ԳԾՈՎ ԾԱԽՍԵՐ | G27: =G28 -> 34940 | H27: =H28 -> 34940 | I27: =I28 -> 34940
F28: ՀԻՄՆԱԿԱՆ ՄԻՋՈՑՆԵՐ | G28: =G29 -> 34940 | H28: =H29 -> 34940 | I28: =I29 -> 34940
F29: ԱՅԼ ՀԻՄՆԱԿԱՆ ՄԻՋՈՑՆԵՐ | G29: =+G30 -> 34940 | H29: =+H30 -> 34940 | I29: =+I30 -> 34940
F30: - Նախագծահետազոտական ծախսեր | G30: ='1'!D19 -> 34940 | H30: ='1'!E19 -> 34940 | I30: ='1'!F19 -> 34940
E31: 31010 | F31: ՀԵր-Հերի ջրամբարից ինքնահոս ջրատարի կառուցում | G31: =G33 -> -10341.3 | H31: =H33 -> -10341.3 | I31: =I33 -> -10341.3
F32: այդ թվում` ըստ կատարողների
F33: ՀՀ կառավարություն | G33: =G35 -> -10341.3 | H33: =H35 -> -10341.3 | I33: =I35 -> -10341.3
F34: այդ թվում` բյուջետային ծախսերի տնտեսագիտական դասակարգման հոդվածներ
F35: ԸՆԴԱՄԵՆԸ ԾԱԽՍԵՐ | G35: =G36 -> -10341.3 | H35: =H36 -> -10341.3 | I35: =I36 -> -10341.3
F36: ՈՉ ՖԻՆԱՆՍԱԿԱՆ ԱԿՏԻՎՆԵՐԻ ԳԾՈՎ ԾԱԽՍԵՐ | G36: =G37 -> -10341.3 | H36: =H37 -> -10341.3 | I36: =I37 -> -10341.3
F37: ՀԻՄՆԱԿԱՆ ՄԻՋՈՑՆԵՐ | G37: =G39 -> -10341.3 | H37: =H39 -> -10341.3 | I37: =I39 -> -10341.3
F38: ՇԵՆՔԵՐ ԵՎ ՇԻՆՈՒԹՅՈՒՆՆԵՐ | G38: =G39 -> -10341.3 | H38: =H39 -> -10341.3 | I38: =I39 -> -10341.3
F39: - Շենքերի և շինությունների շինարարություն | G39: -10341.3 | H39: =G39 -> -10341.3 | I39: =H39 -> -10341.3
A40: 06 | F40: ԲՆԱԿԱՐԱՆԱՅԻՆ ՇԻՆԱՐԱՐՈՒԹՅՈՒՆ ԵՎ ԿՈՄՈՒՆԱԼ ԾԱՌԱՅՈՒԹՅՈՒՆՆԵՐ | G40: =G42 -> -24598.7 | H40: =H42 -> -24598.7 | I40: =I42 -> -24598.7
F41: այդ թվում`
B42: 03 | F42: Ջրամատակարարում | G42: =G44 -> -24598.7 | H42: =H44 -> -24598.7 | I42: =I44 -> -24598.7
F43: այդ թվում`
C44: 01 | F44: Ջրամատակարարում | G44: =G46 -> -24598.7 | H44: =H46 -> -24598.7 | I44: =I46 -> -24598.7
F45: այդ թվում`
D46: 1072 | F46: Ջրամատակարարաման և ջրահեռացման բարելավում | G46: =G48 -> -24598.7 | H46: =H48 -> -24598.7 | I46: =I48 -> -24598.7
F47: այդ թվում`
E48: 11001 | F48: Խմելու ջրի մատակարարման և ջրահեռացման ծառայությունների սուբսիդավորում | G48: =G50 -> -24598.7 | H48: =H50 -> -24598.7 | I48: =I50 -> -24598.7
F49: այդ թվում` ըստ կատարողների
F50: ՀՀ տարածքային կառավարման և ենթակառուցվածքների նախարարության ջրային կոմիտե | G50: =G56 -> -24598.7 | H50: =H56 -> -24598.7 | I50: =I56 -> -24598.7
F51: այդ թվում` բյուջետային ծախսերի տնտեսագիտական դասակարգման հոդվածներ
F52: ԸՆԴԱՄԵՆԸ ԾԱԽՍԵՐ | G52: =G53 -> -24598.7 | H52: =H53 -> -24598.7 | I52: =I53 -> -24598.7
F53: ԸՆԹԱՑԻԿ ԾԱԽՍԵՐ | G53: =G54 -> -24598.7 | H53: =H54 -> -24598.7 | I53: =I54 -> -24598.7
F54: ՍՈՒԲՍԻԴԻԱՆԵՐ | G54: =G55 -> -24598.7 | H54: =H55 -> -24598.7 | I54: =I55 -> -24598.7
F55: Սուբսիդիաներ ոչ պետական կազմակերպություններին | G55: =+G56 -> -24598.7 | H55: =+H56 -> -24598.7 | I55: =+I56 -> -24598.7
F56: - Սուբսիդիաներ ոչ պետական ոչ ֆինանսական կազմակերպություններին | G56: ='1'!D38 -> -24598.7 | H56: ='1'!E38 -> -24598.7 | I56: ='1'!F38 -> -24598.7

Sheet 4
A1: Հավելված N 4
A2: ՀՀ կառավարության 2020 թվականի
A3: -ի N -Ն որոշման
A4: ԿԱՌԱՎԱՐՈՒԹՅԱՆ 2019 ԹՎԱԿԱՆԻ ԴԵԿՏԵՄԲԵՐԻ 26-Ի N 1919-Ն ՈՐՈՇՄԱՆ N 5 ՀԱՎԵԼՎԱԾԻ N 2 ԱՂՅՈՒՍԱԿՈՒՄ ԿԱՏԱՐՎՈՂ ԼՐԱՑՈՒՄՆԵՐԸ
E5: հազար դրամներով
A6: Ծրագրային դասիչ | C6: Բյուջետային գլխավոր կարգադրիչների, ծրագրերի, միջոցառումների, միջոցառումները կատարող պետական մարմինների և ուղղությունների անվանումները | D6: Ցուցանիշների փոփոխությունը (ավելացումները նշված են դրական նշանով, իսկ նվազեցումները՝ փակագծերում)
D7: Առաջին կիսամյակ | E7: Ինն ամիս | F7: Տարի
A8: Ծրագիր | B8: Միջոցառում
C9: ԸՆԴԱՄԵՆԸ | D9: =D11 -> 24598.7 | E9: =E11 -> 24598.7 | F9: =F11 -> 24598.7
C10: այդ թվում՝
C11: ՀՀ ՏԱՐԱԾՔԱՅԻՆ ԿԱՌԱՎԱՐՄԱՆ ԵՎ ԵՆԹԱԿԱՌՈՒՑՎԱԾՔՆԵՐԻ ՆԱԽԱՐԱՐՈՒԹՅՈՒՆ | D11: =D13+D18 -> 24598.7 | E11: =E13+E18 -> 24598.7 | F11: =F13+F18 -> 24598.7
C12: այդ թվում`
A13: 1004 | B13: 31014 | C13: Ջրամբարների վերականգնման և վերազինման աշխատանքներ | D13: =D15 -> 34940 | E13: =E15 -> 34940 | F13: =F15 -> 34940
C14: այդ թվում` ըստ կատարողների
C15: ՀՀ տարածքային կառավարման և ենթակառուցվածքների նախարարության ջրային կոմիտե | D15: =SUM(D17:D17) -> 34940 | E15: =SUM(E17:E17) -> 34940 | F15: =SUM(F17:F17) -> 34940
C16: այդ թվում` ըստ ուղղությունների
C17: ՀՀ Շիրակի մարզի Արփի լճի ջրամբարի վերականգնման և վերազինման նախագծանախահաշվային փաստաթղթերի ձեռքբերում | D17: 34940 | E17: 34940 | F17: 34940
A18: 1004 | B18: 31010 | C18: ='2'!C16 -> Հեր-Հերի ջրամբարից ինքնահոս ջրատարի կառուցում | D18: =D20+D21 -> -10341.3 | E18: =E20+E21 -> -10341.3 | F18: =F20+F21 -> -10341.3
C19: այդ թվում` ըստ կատարողների
C20: ՀՀ կառավարություն | D20: ='2'!E16 -> -10341.3 | E20: =D20 -> -10341.3 | F20: =E20 -> -10341.3

Sheet 5
A1: Հավելված N 5
A2: ՀՀ կառավարության 2020 թվականի
A3: -ի N -Ն որոշման
A4: ԿԱՌԱՎԱՐՈՒԹՅԱՆ 2019 ԹՎԱԿԱՆԻ ԴԵԿՏԵՄԲԵՐԻ 26-Ի N 1919-Ն ՈՐՈՇՄԱՆ N 5 ՀԱՎԵԼՎԱԾԻ N 8 ԱՂՅՈՒՍԱԿՈՒՄ ԿԱՏԱՐՎՈՂ ՓՈՓՈԽՈՒԹՅՈՒՆԸ
G5: հազար դրամներով
A6: Ծրագրային դասիչը | C6: Բյուջետային հատկացումների գլխավոր կարգադրիչների, ծրագրերի, միջոցառումների, ծախսային ուղղությունների և միջոցները ստացող իրավաբանական անձ հանդիսացող սուբյեկտների անվանումները | F6: Միջոցառումները կատարող պետական մարմինների և տնտեսվարող սուբյեկտների անվանումները | G6: Ցուցանիշների փոփոխությունը (նվազեցումները նշված են փակագծերում)
A7: Ծրագիր | B7: Միջոցառում | G7: Տարի
C8: ԸՆԴԱՄԵՆԸ | G8: =G21 -> -24598.7
C9: ՀՀ աշխատանքի և սոցիալական հարցերի նախարարություն | G9: =G10+G15 -> 77345.8
A10: 1102 | C10: Կենսաթոշակային ապահովություն | G10: =G11 -> 72400
B11: 11001 | C11: Կենսաթոշակների և այլ դրամական վճարների տրամադրման տեղեկատվական միասնական համակարգերի սպասարկում և շահագործում | F11: ՀՀ աշխատանքի և սոցիալական հարցերի նախարարության սոցիալական ապահովության ծառայություն | G11: =G13+G14 -> 72400
D12: այդ թվում՝ ըստ ուղղությունների
E13: Կենսաթոշակառուների հաշվառման միասնական տեղեկատվական համակարգի սպասարկման ծառայություններ | G13: 50400
E14: Սոցիալական ապահովության ծառայության տեղեկատվական ներքին պորտալի սպասարկում | G14: 22000
A15: 1205 | C15: Սոցիալական ապահովություն | G15: =G16 -> 4945.8
B16: 12006 | C16: Վնասի փոխհատուցում կերակրողը կորցրած անձանց | F16: ՀՀ ֆինանսների նախարարություն | G16: =G18+G19+G20 -> 4945.8
D17: այդ թվում՝ ըստ ուղղությունների
E18: ՀՀ քաղաքացիական գործերով վերաքննիչ դատարանի 05-1680 գործով 15.07.2005թ.վճռի համաձայն Հայաստանի Հանրապետության կողմից կերակրողը կորցնելու կապակցությամբ կրած վնասի փոխհատուցում | G18: 1096.3
E19: ՀՀ քաղաքացիական գործերով վերաքննիչ դատարանի 07-3832 գործով 03.11.2007թ. վճռի համաձայն Հայաստանի Հանրապետության կողմից կերակրողը կորցնելու կապակցությամբ կրած վնասի հատուցում | G19: 3480.2
E20: Երևան քաղաքի Կենտրոն և Նորք Մարաշ վարչական շրջանների ընդհանուր իրավասության 1-ին ատյանի դատարանի 08.06.2012 թ Գործ N ԵԴԿ /1247/02/10/ վճռի համաձայն Հայաստանի Հանրապետության կողմից կերակրողը կորցնելու կապակցությամբ կրած վնասի փոխհատուցում | G20: 369.3
A21: ՀՀ տարածքային կառավարման և ենթակառուցվածքների նախարարություն | G21: =G22 -> -24598.7
A22: 1072 | C22: Ջրամատակարարման և ջրահեռացման բարելավում | G22: =+G23 -> -24598.7
B23: 11001 | C23: Խմելու ջրի մատակարարման և ջրահեռացման ծառայությունների սուբսիդավորում | F23: ՀՀ տարածքային կառավարման և ենթակառուցվածքների նախարարության ջրային կոմիտե | G23: =+G25 -> -24598.7
C24: այդ թվում՝ ըստ տնտեսվարող սուբյեկտների
F25: «Վեոլիա Ջուր» ՓԲԸ | G25: ='1'!D31 -> -24598.7

Sheet 6-1
A1: Հավելված N 6
A2: Աղյուսակ N 1
A3: ՀՀ կառավարության 2020 թվականի
A4: -ի N -Ն որոշման
A5: ՀԱՅԱՍՏԱՆԻ ՀԱՆՐԱՊԵՏՈՒԹՅԱՆ ԿԱՌԱՎԱՐՈՒԹՅԱՆ 2019 ԹՎԱԿԱՆԻ ԴԵԿՏԵՄԲԵՐԻ 26-Ի N 1919-Ն ՈՐՈՇՄԱՆ N 9 ՀԱՎԵԼՎԱԾԻ N 9.8 ԱՂՅՈՒՍԱԿՈՒՄ ԿԱՏԱՐՎՈՂ ՓՈՓՈԽՈՒԹՅՈՒՆՆԵՐԸ ԵՎ ԼՐԱՑՈՒՄՆԵՐԸ
A8: ՀՀ տարածքային կառավարման և ենթակառուցվածքների նախարարություն
A9: ՄԱՍ 2. ՊԵՏԱԿԱՆ ՄԱՐՄՆԻ ԳԾՈՎ ԱՐԴՅՈՒՆՔԱՅԻՆ (ԿԱՏԱՐՈՂԱԿԱՆ) ՑՈՒՑԱՆԻՇՆԵՐԸ
A11: Ծրագրի դասիչը | B11: Ծրագրի անվանումը
A12: 1004 | B12: Ոռոգման համակարգի առողջացում
A14: Ծրագրի միջոցառումները
A15: Ծրագրի դասիչը` | B15: 1004 | C15: Ցուցանիշների փոփոխությունը (ավելացումները նշված են դրական նշանով)
A17: Միջոցառման դասիչը` | B17: 31014 | C17: Առաջին կիսամյակ | D17: Ինն ամիս | E17: Տարի
A18: Միջոցառման անվանումը` | B18: ='1'!C20 -> Ջրամբարների վերականգնման և վերազինման աշխատանքներ
A19: Նկարագրությունը` | B19: ='1'!C22 -> Ջրամբարների վերականգնման և վերազինման համար նախագծերի և աշխատանքների ձեռքբերում
A20: Միջոցառման տեսակը` | B20: Պետական մարմինների կողմից օգտագործվող ոչ ֆինանսական ակտիվների հետ գործառնություններ
A21: Ակտիվն օգտագործող կազմակերպության(ների) անվանում(ները)՛ | B21: ՀՀ ՏԿԵՆ ջրային կոմիտե
A22: Արդյունքի չափորոշիչներ
A23: Նախագծերի քանակը, հատ | C23: 1 | D23: 1 | E23: 1
A24: Միջոցառման վրա կատարվող ծախսը (հազար դրամ) | C24: ='1'!D19 -> 34940 | D24: ='1'!E19 -> 34940 | E24: ='1'!F19 -> 34940
A26: Ծրագրի դասիչը` | B26: 1004 | C26: Ցուցանիշների փոփոխությունը (նվազեցումները նշված են փակագծերում)
A28: Միջոցառման դասիչը` | B28: 31010 | C28: Առաջին կիսամյակ | D28: Ինն ամիս | E28: Տարի
A29: Միջոցառման անվանումը` | B29: Հեր-Հերի ջրամբարից ինքնահոս ջրատարի կառուցում_x000D_
A30: Նկարագրությունը` | B30: Հեր-Հերի ջրամբարից ինքնահոս ջրատարի կառուցման համար նախագծերի և աշխատանքների ձեռքբերում
A31: Միջոցառման տեսակը` | B31: Պետական մարմինների կողմից օգտագործվող ոչ ֆինանսական ակտիվների հետ գործառնություններ
A32: Ակտիվն օգտագործող կազմակերպության անվանումը | B32: ՀՀ ՏԿԵՆ ջրային կոմիտե
A33: Արդյունքի չափորոշիչներ
A34: Ինքնահոս ջրատարի կառուցում, հատ | C34: -1 | D34: -1 | E34: -1
A35: Միջոցառման վրա կատարվող ծախսը (հազար դրամ) | C35: ='3'!G39 -> -10341.3 | D35: ='3'!H39 -> -10341.3 | E35: ='3'!I39 -> -10341.3
A36: Ծրագրի դասիչը | B36: Ծրագրի անվանումը
A37: 1072 | B37: Ջրամատակարարաման և ջրահեռացման բարելավում
A39: Ծրագրի միջոցառումները
A40: Ծրագրի դասիչը` | B40: 1072 | C40: Ցուցանիշների փոփոխությունը (նվազեցումները նշված են փակագծերում)
A42: Միջոցառման դասիչը` | B42: 11001 | C42: Առաջին կիսամյակ | D42: Ինն ամիս | E42: Տարի
A43: Միջոցառման անվանումը` | B43: Խմելու ջրի մատակարարման և ջրահեռացման ծառայությունների սուբսիդավորում
A44: Նկարագրությունը` | B44: Խմելու ջուր մատակարարող ընկերության սուբսիդավորում՛ հաստատված սակագնի և նվազագույն շահավետ գնի տարբերության չափով
A45: Միջոցառման տեսակը` | B45: Ծառայությունների մատուցում
A46: Միջոցառումն իրականացնողի անվանումը | B46: Ջրամատակարարման և ջրահեռացման ծառայություններ մատուցող ընկերություն
A47: Արդյունքի չափորոշիչներ
A48: Շահառու բաժանորդների թիվ
A49: Բաժանորդներին մատակարարվող ջրի ծավալ, մլն խ մ
A50: Հեռացվող կեղտաջրերի ծավալ, մլն խ մ
A51: 1 խմ ջրի մատակարարման սուբսիդավորվող մաս, դրամ
A52: 1 խմ ջրի ջրահեռացման սուբսիդավորվող մաս, դրամ
A53: Միջոցառման վրա կատարվող ծախսը (հազար դրամ) | C53: ='3'!G56 -> -24598.7 | D53: ='3'!H56 -> -24598.7 | E53: ='3'!I56 -> -24598.7

Sheet 6-2
A1: Հավելված N 6
A2: Աղյուսակ N 2
A3: ՀՀ կառավարության 2020 թվականի
A4: -ի N -Ն որոշման
A5: ՀԱՅԱՍՏԱՆԻ ՀԱՆՐԱՊԵՏՈՒԹՅԱՆ ԿԱՌԱՎԱՐՈՒԹՅԱՆ 2019 ԹՎԱԿԱՆԻ ԴԵԿՏԵՄԲԵՐԻ 26-Ի N 1919-Ն ՈՐՈՇՄԱՆ N 9.1 ՀԱՎԵԼՎԱԾԻ N 9.1.26 և N 9.1.58 ԱՂՅՈՒՍԱԿՈՒՄ ԿԱՏԱՐՎՈՂ ՓՈՓՈԽՈՒԹՅՈՒՆՆԵՐԸ ԵՎ ԼՐԱՑՈՒՄՆԵՐԸ
E8: Աղյուսակ 9.1.26
A9: ՀՀ տարածքային կառավարման և ենթակառուցվածքների նախարարության ջրային կոմիտե
A10: ՄԱՍ 1. ՊԵՏԱԿԱՆ ՄԱՐՄՆԻ ԳԾՈՎ ԱՐԴՅՈՒՆՔԱՅԻՆ (ԿԱՏԱՐՈՂԱԿԱՆ) ՑՈՒՑԱՆԻՇՆԵՐԸ
A11: Ծրագրի դասիչը | B11: Ծրագրի անվանումը
A12: 1004 | B12: Ոռոգման համակարգի առողջացում
A14: Ծրագրի միջոցառումները
A16: Ծրագրի դասիչը | B16: Ծրագրի անվանումը
A17: 1004 | B17: Ոռոգման համակարգի առողջացում
A19: Ծրագրի միջոցառումները
A20: Ծրագրի դասիչը` | B20: 1004 | C20: Ցուցանիշների փոփոխությունը (ավելացումները նշված են դրական նշանով)
A22: Միջոցառման դասիչը` | B22: 31014 | C22: Առաջին կիսամյակ | D22: Ինն ամիս | E22: Տարի
A23: Միջոցառման անվանումը` | B23: ='1'!C20 -> Ջրամբարների վերականգնման և վերազինման աշխատանքներ
A24: Նկարագրությունը` | B24: ='1'!C22 -> Ջրամբարների վերականգնման և վերազինման համար նախագծերի և աշխատանքների ձեռքբերում
A25: Միջոցառման տեսակը` | B25: Պետական մարմինների կողմից օգտագործվող ոչ ֆինանսական ակտիվների հետ գործառնություններ
A26: Ակտիվն օգտագործող կազմակերպության(ների) անվանում(ները)՛ | B26: ՀՀ ՏԿԵՆ ջրային կոմիտե
A27: Արդյունքի չափորոշիչներ
A28: Նախագծերի քանակը, հատ | C28: ='6-1'!C23 -> 1 | D28: ='6-1'!D23 -> 1 | E28: ='6-1'!E23 -> 1
A29: Միջոցառման վրա կատարվող ծախսը (հազար դրամ) | C29: ='6-1'!C24 -> 34940 | D29: ='6-1'!D24 -> 34940 | E29: ='6-1'!E24 -> 34940
A33: Ծրագրի դասիչը | B33: Ծրագրի անվանումը
A34: 1072 | B34: Ջրամատակարարաման և ջրահեռացման բարելավում
A36: Ծրագրի միջոցառումները
C37: Ցուցանիշների փոփոխությունը (նվազեցումները նշված են փակագծերում)
A38: Ծրագրի դասիչը` | B38: 1072
A39: Միջոցառման դասիչը` | B39: 11001 | C39: Առաջին կիսամյակ | D39: Ինն ամիս | E39: Տարի
A40: Միջոցառման անվանումը` | B40: Խմելու ջրի մատակարարման և ջրահեռացման ծառայությունների սուբսիդավորում
A41: Նկարագրությունը` | B41: Խմելու ջուր մատակարարող ընկերության սուբսիդավորում՛ հաստատված սակագնի և նվազագույն շահավետ գնի տարբերության չափով
A42: Միջոցառման տեսակը` | B42: Ծառայությունների մատուցում
A43: Միջոցառումն իրականացնողի անվանումը | B43: Ջրամատակարարման և ջրահեռացման ծառայություններ մատուցող ընկերություն
A44: Արդյունքի չափորոշիչներ
A45: Շահառու բաժանորդների թիվ
A46: Բաժանորդներին մատակարարվող ջրի ծավալ, մլն խ մ
A47: Հեռացվող կեղտաջրերի ծավալ, մլն խ մ
A48: 1 խմ ջրի մատակարարման սուբսիդավորվող մաս, դրամ
A49: 1 խմ ջրի ջրահեռացման սուբսիդավորվող մաս, դրամ
A50: Միջոցառման վրա կատարվող ծախսը (հազար դրամ) | C50: ='6-1'!C53 -> -24598.7 | D50: ='6-1'!D53 -> -24598.7 | E50: ='6-1'!E53 -> -24598.7
E52: Աղյուսակ 9.1.58
A53: ՀՀ կառավարություն
A55: ՄԱՍ 2. ՊԵՏԱԿԱՆ ՄԱՐՄՆԻ ԳԾՈՎ ԱՐԴՅՈՒՆՔԱՅԻՆ (ԿԱՏԱՐՈՂԱԿԱՆ) ՑՈՒՑԱՆԻՇՆԵՐԸ
A56: Ծրագրի դասիչը` | B56: 1004 | C56: Ցուցանիշների փոփոխությունը (նվազեցումները նշված են փակագծերում)
A58: Միջոցառման դասիչը` | B58: 31010 | C58: Առաջին կիսամյակ | D58: Ինն ամիս | E58: Տարի
A59: Միջոցառման անվանումը` | B59: Հեր-Հերի ջրամբարից ինքնահոս ջրատարի կառուցում_x000D_
A60: Նկարագրությունը` | B60: Հեր-Հերի ջրամբարից ինքնահոս ջրատարի կառուցման համար նախագծերի և աշխատանքների ձեռքբերում
A61: Միջոցառման տեսակը` | B61: Պետական մարմինների կողմից օգտագործվող ոչ ֆինանսական ակտիվների հետ գործառնություններ
A62: Ակտիվն օգտագործող կազմակերպության անվանումը | B62: ՀՀ ՏԿԵՆ ջրային կոմիտե
A63: Արդյունքի չափորոշիչներ
A64: Ինքնահոս ջրատարի կառուցում, հատ | C64: -1 | D64: -1 | E64: -1
A65: Միջոցառման վրա կատարվող ծախսը (հազար դրամ) | C65: ='6-1'!C35 -> -10341.3 | D65: ='6-1'!D35 -> -10341.3 | E65: ='6-1'!E35 -> -10341.3

Sheet 7
A2: Հավելված N 7
A3: ՀՀ կառավարության 2020 թվականի
A4: -ի N -Ն որոշման
A6: ՀԱՅԱՍՏԱՆԻ ՀԱՆՐԱՊԵՏՈՒԹՅԱՆ ԿԱՌԱՎԱՐՈՒԹՅԱՆ 2019 ԹՎԱԿԱՆԻ ԴԵԿՏԵՄԲԵՐԻ 26-Ի N 1919-Ն ՈՐՈՇՄԱՆ N 10 ՀԱՎԵԼՎԱԾՈՒՄ ԿԱՏԱՐՎՈՂ ԼՐԱՑՈՒՄՆԵՐԸ
A8: Կոդը | B8: Անվանումը | C8: Գնման ձևը | D8: Չափի միավորը | E8: Միավորի գինը | F8: Ցուցանիշների փոփոխությունը (ավելացումները նշված են դրական նշանով)
F9: քանակը | G9: գումարը (հազ. դրամ)
A10: ՀՀ տարածքային կառավարման և ենթակառուցվածքների նախարարության ջրային կոմիտե | G10: =G12 -> 34940
A11: Ծրագիր <<Ոռոգման համակարգի առողջացում>> Միջոցառում <<Ջրամբարների վերականգնման և վերազինման աշխատանքներ>>
A12: Բաժին N 04, Խումբ 02, Դաս 04 Ոռոգման համակարգի առողջացում Ծրագիր 1004 Միջոցառում 31014 | G12: =G13 -> 34940
B13: ՄԱՍ II ԱՇԽԱՏԱՆՔՆԵՐ | G13: =SUM(G14:G14) -> 34940
A14: 71241200/505 | B14: Նախագծերի պատրաստում, ծախսերի գնահատում | C14: ԳՀ | D14: դրամ | E14: 34940000 | F14: 1 | G14: =E14*F14/1000 -> 34940
