Workbook
Name AgencyCode: #REF!
Name AgencyCode: #REF!
Name AgencyCode: #REF!
Name AgencyName: #REF!
Name AgencyName: #REF!
Name AgencyName: #REF!
Name Functional1: #REF!
Name Functional1: #REF!
Name Functional1: #REF!
Name havelvac: #REF!
Name havelvac: #REF!
Name PANature: #REF!
Name PANature: #REF!
Name PANature: #REF!
Name PAType: #REF!
Name PAType: #REF!
Name PAType: #REF!
Name Performance2: #REF!
Name Performance2: #REF!
Name Performance2: #REF!
Name PerformanceType: #REF!
Name PerformanceType: #REF!
Name PerformanceType: #REF!

Sheet 1
F1: Հավելված 1
F2: ՀՀ կառավարության 2020 թվականի
F3: ___________ ___-ի N _______ -Ն որոշման
A6: «ՀԱՅԱUՏԱՆԻ ՀԱՆՐԱՊԵՏՈՒԹՅԱՆ 2020 ԹՎԱԿԱՆԻ ՊԵՏԱԿԱՆ ԲՅՈՒՋԵԻ ՄԱUԻՆ» ՀԱՅԱUՏԱՆԻ ՀԱՆՐԱՊԵՏՈՒԹՅԱՆ OՐԵՆՔԻ N 1 ՀԱՎԵԼՎԱԾԻ N 2 ԱՂՅՈՒՍԱԿՈՒՄ ԿԱՏԱՐՎՈՂ ՎԵՐԱԲԱՇԽՈՒՄԸ ԵՎ ՀԱՅԱՍՏԱՆԻ ՀԱՆՐԱՊԵՏՈՒԹՅԱՆ ԿԱՌԱՎԱՐՈՒԹՅԱՆ 2019 ԹՎԱԿԱՆԻ ԴԵԿՏԵՄԲԵՐԻ 26-Ի N 1919-Ն ՈՐՈՇՄԱՆ N5 ՀԱՎԵԼՎԱԾԻ N1 ԱՂՅՈՒՍԱԿՈՒՄ ԿԱՏԱՐՎՈՂ ՓՈՓՈԽՈՒԹՅՈՒՆՆԵՐԸ ԵՎ ԼՐԱՑՈՒՄՆԵՐԸ
F8: հազ. դրամներով
A9: Ծրագրային դասիչը | C9: Բյուջետային հատկացումների գլխավոր կարգադրիչների, ծրագրերի և միջոցառումների անվանումները | D9: Ցուցանիշների փոփոխությունները (Ավելացումները նշված են դրական նշանով,իսկ նվազեցումները՝ փակագծերում)
A10: Ծրագիր | B10: Միջոցառում | D10: Առաջին կիսամյակ | E10: Ինն ամիս | F10: Տարի
C11: ԸՆԴԱՄԵՆԸ | D11: =+D12+D31 -> 0 | E11: =+E12+E31 -> 0 | F11: =+F12+F31 -> 0
B12: ՀՀ արտակարգ իրավիճակների նախարարություն | D12: =+D13 -> 0 | E12: =+E13 -> 0 | F12: =+F13 -> 0
A13: 1090 | C13: Ծրագրի անվանումը` | D13: =+D19+D25 -> 0 | E13: =+E19+E25 -> 0 | F13: =+F19+F25 -> 0
C14: Փրկարարական ծառայություններ
C15: Ծրագրի նպատակը`
C16: Արտակարգ իրավիճակների արդյունավետ արձագանք
C17: Վերջնական արդյունքի նկարագրությունը`
C18: Արտակարգ իրավիճակների հնարավոր դեպքերի կանխում՝ դրանց ժամանակին արձագանքում՝ հետևանքների նվազեցում և բնակչության պաշտպանություն
B19: 11001 | C19: Միջոցառման անվանումը՝ | D19: -6393.7 | E19: -11850.7 | F19: -18972.8
C20: Փրկարարական ծառայություններ
C21: Միջոցառման նկարագրությունը՝
C22: Հրդեհաշիջման, հակահրդեհային քարոզչության, բնական և տեխնածին աղետների ժամանակ բնակչության և կառույցների պաշտպանություն
C23: Միջոցառման տեսակը՝
C24: Ծառայությունների մատուցում
B25: 11001 | C25: Միջոցառման անվանումը՝ | D25: 6393.7 | E25: 11850.7 | F25: 18972.8
C26: Փրկարարական ծառայություններ
C27: Միջոցառման նկարագրությունը՝
C28: Հրդեհաշիջման, հակահրդեհային քարոզչության, բնական և տեխնածին աղետների ժամանակ բնակչության և կառույցների պաշտպանություն
C29: Միջոցառման տեսակը՝
C30: Ծառայությունների մատուցում
C31: ՀՀ կառավարություն | D31: 0 | E31: 0 | F31: 0
A32: 1139 | C32: Ծրագրի անվանումը` | D32: =D39+D45 -> 0 | E32: =E39+E45 -> 0 | F32: =F39+F45 -> 0
C33: ՀՀ կառավարության պահուստային ֆոնդ
C34: Ծրագրի նպատակը`
C35: Պետական բյուջեում չկանխատեսված, ինչպես նաև բյուջետային երաշխիքների ապահովման ծախսերի ֆինանսավորման ապահովում
C36: Վերջնական արդյունքի նկարագրությունը`
C37: Պահուստային ֆոնդի կառավարման արդյունավետության և թափանցիկության ապահովում
A38: Ծրագրի միջոցառումներ
B39: 11001 | C39: Միջոցառման անվանումը` | D39: =+D25 -> 6393.7 | E39: =+E25 -> 11850.7 | F39: =+F25 -> 18972.8
C40: ՀՀ կառավարության պահուստային ֆոնդ
C41: Միջոցառման նկարագրությունը`
C42: ՀՀ պետական բյուջեում նախատեսված ելքերի լրացուցիչ ֆինանսավորման՝ պետական բյուջեում չկանխատեսված ելքերի, ինչպես նաև բյուջետային երաշխիքների ապահովման ելքերի ֆինանսավորման ապահովում
C43: Միջոցառման տեսակը
...

Sheet 2
D2: ՀՀ կառավարության 2020 թվականի
D3: ___________ ___-ի N _______ -Ն որոշման
A5: ՀԱՅԱՍՏԱՆԻ ՀԱՆՐԱՊԵՏՈՒԹՅԱՆ ԿԱՌԱՎԱՐՈՒԹՅԱՆ 2019 ԹՎԱԿԱՆԻ ԴԵԿՏԵՄԲԵՐԻ 26-Ի N 1919-Ն ՈՐՈՇՄԱՆ N 3 ԵՎ N 4 ՀԱՎԵԼՎԱԾՆԵՐՈՒՄ ԿԱՏԱՐՎՈՂ ՓՈՓՈԽՈՒԹՅՈՒՆՆԵՐԸ
A7: Գործառական դասիչը | D7: Ծրագրային դասիչը | F7: Բյուջետային ծախսերի գործառական դասակարգման բաժինների, խմբերի և դասերի, բյուջետային հատկացումների գլխավոր կարգադրիչների, ծրագրերի, միջոցառումների և միջոցառումները կատարող պետական մարմինների անվանումները | G7: Ցուցանիշների փոփոխությունը (ավելացումները նշված են դրական նշանով)
A8: Բաժին | B8: Խումբ | C8: Դաս | D8: Ծրագիր | E8: Միջոցառում | G8: Առաջին կիսամյակ | H8: Ինն ամիս | I8: Տարի
A9: 03 | F9: ՀԱՍԱՐԱԿԱԿԱՆ ԿԱՐԳ, ԱՆՎՏԱՆԳՈՒԹՅՈՒՆ ԵՎ ԴԱՏԱԿԱՆ ԳՈՐԾՈՒՆԵՈՒԹՅՈՒՆ | G9: =+G11 -> 0 | H9: =+H11 -> 0 | I9: =+I11 -> 0
F10: այդ թվում`
B11: 02 | F11: Փրկարար ծառայություն | G11: =+G13 -> 0 | H11: =+H13 -> 0 | I11: =+I13 -> 0
F12: այդ թվում`
C13: 01 | F13: Փրկարար ծառայություն | G13: =+G15 -> 0 | H13: =+H15 -> 0 | I13: =+I15 -> 0
F14: այդ թվում
D15: 1090 | F15: Փրկարարական ծառայություններ | G15: =+G30+G17 -> 0 | H15: =+H30+H17 -> 0 | I15: =+I30+I17 -> 0
F16: այդ թվում`
E17: 11001 | F17: Փրկարարական ծառայություններ | G17: =+G19 -> -6393.7 | H17: =+H19 -> -11850.7 | I17: =+I19 -> -18972.8
F18: այդ թվում` ըստ կատարողների
F19: ՀՀ արտակարգ իրավիճակների նախարարություն | G19: =+G21 -> -6393.7 | H19: =+H21 -> -11850.7 | I19: =+I21 -> -18972.8
F20: այդ թվում` բյուջետային ծախսերի տնտեսագիտական դասակարգման հոդվածներ
F21: ԸՆԴԱՄԵՆԸ ԾԱԽՍԵՐ | G21: =+G22 -> -6393.7 | H21: =+H22 -> -11850.7 | I21: =+I22 -> -18972.8
F22: ԸՆԹԱՑԻԿ ԾԱԽՍԵՐ | G22: =+G23 -> -6393.7 | H22: =+H23 -> -11850.7 | I22: =+I23 -> -18972.8
F23: ԾԱՌԱՅՈՒԹՅՈՒՆՆԵՐԻ ԵՎ ԱՊՐԱՆՔՆԵՐԻ ՁԵՌՔԲԵՐՈՒՄ | G23: =+G24+G26 -> -6393.7 | H23: =+H24+H26 -> -11850.7 | I23: =+I24+I26 -> -18972.8
F24: Շարունակական ծախսեր | G24: =+G25 -> -320 | H24: =+H25 -> -510 | I24: =+I25 -> -640
F25: -Կոմունալ ծառայություններ | G25: -320 | H25: -510 | I25: -640
F26: Նյութեր (Ապրանքներ) | G26: =+G27+G28+G29 -> -6073.7 | H26: =+H27+H28+H29 -> -11340.7 | I26: =+I27+I28+I29 -> -18332.8
F27: -Գրասենյակային նյութեր և հագուստ | G27: -3294.8 | H27: -6364.8 | I27: -9864.8
F28: -Գյուղատնտեսական ապրանքներ | G28: -715.5 | H28: -1193 | I28: -1590
F29: -Հատուկ նպատակային այլ նյութեր | G29: -2063.4 | H29: -3782.9 | I29: -6878
E30: 11001 | F30: Փրկարարական ծառայություններ | G30: =+G32 -> 6393.7 | H30: =+H32 -> 11850.7 | I30: =+I32 -> 18972.8
F31: այդ թվում` ըստ կատարողների
F32: ՀՀ արտակարգ իրավիճակների նախարարություն | G32: =+G34 -> 6393.7 | H32: =+H34 -> 11850.7 | I32: =+I34 -> 18972.8
F33: այդ թվում` բյուջետային ծախսերի տնտեսագիտական դասակարգման հոդվածներ
F34: ԸՆԴԱՄԵՆԸ ԾԱԽՍԵՐ | G34: =+G35 -> 6393.7 | H34: =+H35 -> 11850.7 | I34: =+I35 -> 18972.8
F35: ԸՆԹԱՑԻԿ ԾԱԽՍԵՐ | G35: =+G36 -> 6393.7 | H35: =+H36 -> 11850.7 | I35: =+I36 -> 18972.8
F36: ԾԱՌԱՅՈՒԹՅՈՒՆՆԵՐԻ ԵՎ ԱՊՐԱՆՔՆԵՐԻ ՁԵՌՔԲԵՐՈՒՄ | G36: =+G37 -> 6393.7 | H36: =+H37 -> 11850.7 | I36: =+I37 -> 18972.8
F37: Նյութեր (Ապրանքներ) | G37: =+G38 -> 6393.7 | H37: =+H38 -> 11850.7 | I37: =+I38 -> 18972.8
F38: -Հատուկ նպատակային այլ նյութեր | G38: 6393.7 | H38: 11850.7 | I38: 18972.8
A39: 11 | F39: ՀԻՄՆԱԿԱՆ ԲԱԺԻՆՆԵՐԻՆ ՉԴԱՍՎՈՂ ՊԱՀՈՒՍՏԱՅԻՆ ՖՈՆԴԵՐ | G39: =G41 -> 0 | H39: =H41 -> 0 | I39: =I41 -> 0
F40: այդ թվում`
B41: 01 | F41: ՀՀ կառավարության և համայնքների պահուստային ֆոնդ | G41: =G43 -> 0 | H41: =H43 -> 0 | I41: =I43 -> 0
F42: այդ թվում`
C43: 01 | F43: ՀՀ կառավարության պահուստային ֆոնդ | G43: =G45 -> 0 | H43: =H45 -> 0 | I43: =I45 -> 0
...

Sheet 3
C1: Հավելված N3
D2: ՀՀ կառավարության 2020 թվականի
C3: ___________ ___-ի N _______ -Ն որոշման
A5: ՀԱՅԱՍՏԱՆԻ ՀԱՆՐԱՊԵՏՈՒԹՅԱՆ ԿԱՌԱՎԱՐՈՒԹՅԱՆ 2019ԹՎԱԿԱՆԻ ԴԵԿՏԵՄԲԵՐԻ 26-Ի ԹԻՎ 1919-Ն ՈՐՈՇՄԱՆ N9 ՀԱՎԵԼՎԱԾԻ 9.19 ԵՎ 9.47 ԱՂՅՈՒՍԱԿՆԵՐՈՒՄ ԿԱՏԱՐՎՈՂ ՓՈՓՈԽՈՒԹՅՈՒՆՆԵՐԸ ԵՎ ԼՐԱՑՈՒՄՆԵՐԸ
A7: ՀՀ արտակարգ իրավիճակների նախարարություն
A9: ՄԱՍ 2. ՊԵՏԱԿԱՆ ՄԱՐՄՆԻ ԳԾՈՎ ԱՐԴՅՈՒՆՔԱՅԻՆ (ԿԱՏԱՐՈՂԱԿԱՆ) ՑՈՒՑԱՆԻՇՆԵՐԸ
A10: Ծրագրի դասիչը | B10: Ծրագրի անվանումը
A11: 1090 | B11: Փրկարարական ծառայություններ
A12: Ծրագրի միջոցառումները
A13: Ծրագրի դասիչը՝ | B13: 1090 | C13: Ցուցանիշների փոփոխությունը (նվազեցումները նշված են փակագծերում)
A14: Միջոցառման դասիչը՝ | B14: 11001 | C14: Առաջին կիսամյակ | D14: Ինն ամիս | E14: Տարի
A15: Միջոցառման անվանումը՝ | B15: Փրկարարական ծառայություններ
A16: Նկարագրությունը՝ | B16: Հրդեհաշիջման, հակահրդեհային քարոզչության, բնական և տեխնածին աղետների ժամանակ բնակչության և կառույցների պաշտպանություն
A17: Միջոցառման տեսակը՝ | B17: Ծառայությունների մատուցում
A18: Միջոցառումն իրականացնողի անվանումը` | B18: ԱԻՆ Փրկարար ծառայություն
A19: Արդյունքի չափորոշիչներ
A20: Øß³ÏíáÕ ÝáñÙ³ïÇí Çñ³í³Ï³Ý ³Ïï»ñÇ Ý³Ë³·Í»ñÇ ù³Ý³Ï, Ñ³ï
A21: Ð³Ù³Ï³ñ·íáÕ, Çñ³Ï³Ý³óíáÕ ¨ í»ñ³ÑëÏÙ³Ý »ÝÃ³ñÏíáÕ ÙÇçáó³éáõÙÝ»ñÇ ù³Ý³Ï, Ñ³ï
A22: Միջոցառման վրա կատարվող ծախսը (հազար դրամ) | C22: =+'2'!G17 -> -6393.7 | D22: =+'2'!H17 -> -11850.7 | E22: =+'2'!I17 -> -18972.8
A23: Ծրագրի դասիչը՝ | B23: 1090 | C23: Ցուցանիշների փոփոխությունը (ավելացումները նշված են դրական նշանով)
A24: Միջոցառման դասիչը՝ | B24: 11001 | C24: Առաջին կիսամյակ | D24: Ինն ամիս | E24: Տարի
A25: Միջոցառման անվանումը՝ | B25: Փրկարարական ծառայություններ
A26: Նկարագրությունը՝ | B26: Հրդեհաշիջման, հակահրդեհային քարոզչության, բնական և տեխնածին աղետների ժամանակ բնակչության և կառույցների պաշտպանություն
A27: Միջոցառման տեսակը՝ | B27: Ծառայությունների մատուցում
A28: Միջոցառումն իրականացնողի անվանումը` | B28: ԱԻՆ Փրկարար ծառայություն
A29: Արդյունքի չափորոշիչներ
A30: Øß³ÏíáÕ ÝáñÙ³ïÇí Çñ³í³Ï³Ý ³Ïï»ñÇ Ý³Ë³·Í»ñÇ ù³Ý³Ï, Ñ³ï
A31: Ð³Ù³Ï³ñ·íáÕ, Çñ³Ï³Ý³óíáÕ ¨ í»ñ³ÑëÏÙ³Ý »ÝÃ³ñÏíáÕ ÙÇçáó³éáõÙÝ»ñÇ ù³Ý³Ï, Ñ³ï
A32: Միջոցառման վրա կատարվող ծախսը (հազար դրամ) | C32: =+'2'!G32 -> 6393.7 | D32: =+'2'!H32 -> 11850.7 | E32: =+'2'!I32 -> 18972.8
A34: ՀՀ կառավարություն
A35: ՄԱՍ 2. ՊԵՏԱԿԱՆ ՄԱՐՄՆԻ ԳԾՈՎ ԱՐԴՅՈՒՆՔԱՅԻՆ (ԿԱՏԱՐՈՂԱԿԱՆ) ՑՈՒՑԱՆԻՇՆԵՐԸ
A37: Ծրագրի դասիչը | B37: Ծրագրի անվանումը
A38: 1139 | B38: ՀՀ կառավարության պահուստային ֆոնդ
A40: Ծրագրի միջոցառումները
A41: Ծրագրի դասիչը` | B41: 1139 | C41: Ցուցանիշների փոփոխությունը (ավելացումները նշված են դրական նշանով)
A42: Միջոցառման դասիչը` | B42: 11001 | C42: Առաջին կիսամյակ | D42: Ինն ամիս | E42: Տարի
A43: Միջոցառման անվանումը` | B43: ՀՀ կառավարության պահուստային ֆոնդ
A44: Նկարագրությունը` | B44: ՀՀ պետական բյուջեում նախատեսված ելքերի լրացուցիչ ֆինանսավորման՝ պետական բյուջեում չկանխատեսված ելքերի՝ ինչպես նաև բյուջետային երաշխիքների ապահովման ելքերի ֆինանսավորման ապահովում
A45: Միջոցառման տեսակը` | B45: Ծառայությունների մատուցում
A46: Միջոցառումն իրականացնողի անվանումը | B46: ՀՀ կառավարություն
...

Sheet 4
B1: Հավելված N 4 ՀՀ կառավարության 2020 թվականի __________-ի ____-ի N _____-Ն որոշման
A2: ՀԱՅԱՍՏԱՆԻ ՀԱՆՐԱՊԵՏՈՒԹՅԱՆ ԿԱՌԱՎԱՐՈՒԹՅԱՆ 2019ԹՎԱԿԱՆԻ ԴԵԿՏԵՄԲԵՐԻ 26-Ի ԹԻՎ 1919-Ն ՈՐՈՇՄԱՆ N9 ՀԱՎԵԼՎԱԾԻ 9.1.19 ԵՎ 9.1.58 ԱՂՅՈՒՍԱԿՆԵՐՈՒՄ ԿԱՏԱՐՎՈՂ ՓՈՓՈԽՈՒԹՅՈՒՆՆԵՐԸ
A3: ՀՀ արտակարգ իրավիճակների նախարարություն
A5: ՄԱՍ 1 ՊԵՏԱԿԱՆ ՄԱՐՄՆԻ ԳԾՈՎ ԱՐԴՅՈՒՆՔԱՅԻՆ (ԿԱՏԱՐՈՂԱԿԱՆ) ՑՈՒՑԱՆԻՇՆԵՐԸ
A7: Ծրագրի դասիչը | B7: Ծրագրի անվանումը
A8: 1090 | B8: Փրկարարական ծառայություններ
A9: Ծրագրի միջոցառումները
A10: Ծրագրի դասիչը՝ | B10: 1090 | C10: Ցուցանիշների փոփոխությունը (նվազեցումները նշված են փակագծերում)
A11: Միջոցառման դասիչը՝ | B11: 11001 | C11: Առաջին կիսամյակ | D11: Ինն ամիս | E11: Տարի
A12: Միջոցառման անվանումը՝ | B12: Փրկարարական ծառայություններ
A13: Նկարագրությունը՝ | B13: Հրդեհաշիջման, հակահրդեհային քարոզչության, բնական և տեխնածին աղետների ժամանակ բնակչության և կառույցների պաշտպանություն
A14: Միջոցառման տեսակը՝ | B14: Ծառայությունների մատուցում
A15: Միջոցառումն իրականացնողի անվանումը` | B15: ԱԻՆ Փրկարար ծառայություն
A16: Արդյունքի չափորոշիչներ
A17: Øß³ÏíáÕ ÝáñÙ³ïÇí Çñ³í³Ï³Ý ³Ïï»ñÇ Ý³Ë³·Í»ñÇ ù³Ý³Ï, Ñ³ï
A18: Ð³Ù³Ï³ñ·íáÕ, Çñ³Ï³Ý³óíáÕ ¨ í»ñ³ÑëÏÙ³Ý »ÝÃ³ñÏíáÕ ÙÇçáó³éáõÙÝ»ñÇ ù³Ý³Ï, Ñ³ï
A19: Միջոցառման վրա կատարվող ծախսը (հազար դրամ) | C19: =+'3'!C22 -> -6393.7 | D19: =+'3'!D22 -> -11850.7 | E19: =+'3'!E22 -> -18972.8
A20: Ծրագրի դասիչը՝ | B20: 1090 | C20: Ցուցանիշների փոփոխությունը (ավելացումները նշված են դրական նշանով)
A21: Միջոցառման դասիչը՝ | B21: 11001 | C21: Առաջին կիսամյակ | D21: Ինն ամիս | E21: Տարի
A22: Միջոցառման անվանումը՝ | B22: Փրկարարական ծառայություններ
A23: Նկարագրությունը՝ | B23: Հրդեհաշիջման, հակահրդեհային քարոզչության, բնական և տեխնածին աղետների ժամանակ բնակչության և կառույցների պաշտպանություն
A24: Միջոցառման տեսակը՝ | B24: Ծառայությունների մատուցում
A25: Միջոցառումն իրականացնողի անվանումը` | B25: ԱԻՆ Փրկարար ծառայություն
A26: Արդյունքի չափորոշիչներ
A27: Øß³ÏíáÕ ÝáñÙ³ïÇí Çñ³í³Ï³Ý ³Ïï»ñÇ Ý³Ë³·Í»ñÇ ù³Ý³Ï, Ñ³ï
A28: Ð³Ù³Ï³ñ·íáÕ, Çñ³Ï³Ý³óíáÕ ¨ í»ñ³ÑëÏÙ³Ý »ÝÃ³ñÏíáÕ ÙÇçáó³éáõÙÝ»ñÇ ù³Ý³Ï, Ñ³ï
A29: Միջոցառման վրա կատարվող ծախսը (հազար դրամ) | C29: =+'2'!G30 -> 6393.7 | D29: =+'2'!H30 -> 11850.7 | E29: =+'2'!I30 -> 18972.8
A31: ՀՀ կառավարություն
A32: ՄԱՍ 2. ՊԵՏԱԿԱՆ ՄԱՐՄՆԻ ԳԾՈՎ ԱՐԴՅՈՒՆՔԱՅԻՆ (ԿԱՏԱՐՈՂԱԿԱՆ) ՑՈՒՑԱՆԻՇՆԵՐԸ
A34: Ծրագրի դասիչը | B34: Ծրագրի անվանումը
A35: 1139 | B35: ՀՀ կառավարության պահուստային ֆոնդ
A37: Ծրագրի միջոցառումները
A38: Ծրագրի դասիչը` | B38: 1139 | C38: Ցուցանիշների փոփոխությունը (ավելացումները նշված են դրական նշանով)
A39: Միջոցառման դասիչը` | B39: 11001 | C39: Առաջին կիսամյակ | D39: Ինն ամիս | E39: Տարի
A40: Միջոցառման անվանումը` | B40: ՀՀ կառավարության պահուստային ֆոնդ
A41: Նկարագրությունը` | B41: ՀՀ պետական բյուջեում նախատեսված ելքերի լրացուցիչ ֆինանսավորման՝ պետական բյուջեում չկանխատեսված ելքերի՝ ինչպես նաև բյուջետային երաշխիքների ապահովման ելքերի ֆինանսավորման ապահովում
A42: Միջոցառման տեսակը` | B42: Ծառայությունների մատուցում
A43: Միջոցառումն իրականացնողի անվանումը | B43: ՀՀ կառավարություն
A44: Արդյունքի չափորոշիչներ
A45: Միջոցառման վրա կատարվող ծախսը (հազար դրամ) | C45: =+'3'!C48 -> 6393.7 | D45: =+'3'!D48 -> 11850.7 | E45: =+'3'!E48 -> 18972.8
...

Sheet 5
F1: Հավելված N 5
E2: ՀՀ կառավարության 2020 թվականի
E3: ______________ ի ___Ն որոշման
A4: ՀԱՅԱՍՏԱՆԻ ՀԱՆՐԱՊԵՏՈՒԹՅԱՆ ԿԱՌԱՎԱՐՈՒԹՅԱՆ 2019 ԹՎԱԿԱՆԻ ԴԵԿՏԵՄԲԵՐԻ 26-Ի N 1919-Ն ՈՐՈՇՄԱՆ N 10 ՀԱՎԵԼՎԱԾՈՒՄ ԿԱՏԱՐՎՈՂ ՓՈՓՈԽՈՒԹՅՈՒՆՆԵՐԸ
A5: Գնման առարկայի | G5: Գումարը (հազար դրամով) Ցուցանիշների փոփոխությունը (ավելացումները նշված են դրական նշանով, իսկ վազեցումները նշված են փակագծերում)
A6: Կոդը | B6: Անվանումը | C6: Գնման ձև | D6: Չափման միավորը | E6: Միավորի գինը | F6: Քանակը
A8: ՀՀ արտակարգ իրավիճակների նախարարություն | G8: =+G9 -> 0
A9: Բաժին N 03 | B9: Խումբ N 02 | C9: Դաս N 01 | D9: Փրկարար ծառայություն | G9: =+G10 -> 0
A10: 1090 11001 | B10: Փրկարարական ծառայություններ | G10: =+G11 -> 0
A11: ՄԱՍI. ԱՊՐԱՆՔՆԵՐ | G11: =SUM(G12:G52) -> 0
A12: 39541110/503 | B12: Պարաններ | C12: ԳՀ | D12: մետր | G12: -832
A13: 35111200/502 | B13: Փրկարարական և արտակարգ իրավիճակներում կիրառվող սարքեր | C13: ԳՀ | D13: հատ | G13: -82
A14: 44163300/510 | B14: Ռետինափողրակներ | C14: ԳՀ | D14: մետր | G14: -1920
A15: 44163300/512 | B15: Ռետինափողրակներ | C15: ԳՀ | D15: մետր | G15: -1080
A16: 35111140/504 | B16: Կրակմարիչների փրփուր | C16: ԳՀ | D16: լիտր | G16: -799
A17: 35111130/503 | B17: Կրակմարիչներ | C17: ԳՀ | D17: հատ | G17: -380
A18: 35111130/504 | B18: Կրակմարիչներ | C18: ԳՀ | D18: հատ | G18: -350
A19: 35111130/505 | B19: Կրակմարիչներ | C19: ԳՀ | D19: հատ | G19: -245
A20: 35111130/506 | B20: Կրակմարիչներ | C20: ԳՀ | D20: հատ | G20: -370
A21: 37411330/2 | B21: դիմակներ, լաստեր կամ շնչառական խողովակներ | C21: ԳՀ | D21: հատ | G21: -410
A22: 37411330/3 | B22: դիմակներ, լաստեր կամ շնչառական խողովակներ | C22: ԳՀ | D22: հատ | G22: -410
A23: 35811180/501 | B23: Հատուկ հանդերձանք և պարագաներ | C23: ԳՀ | D23: հատ | G23: -924.6
... A48: 90921100/1 | B48: Ախտահանման և մակաբույծների ոչնչացման ծառայություններ | C48: ԳՀ | D48: դրամ | G48: -640
A49: 35111140/503 | B49: Կրակմարիչների փրփուր | C49: ԳՀ | D49: լիտր | E49: 955 | F49: 5500 | G49: =+E49*F49/1000 -> 5252.5
A50: 44163300/508 | B50: Ռետինափողրակներ | C50: ԳՀ | D50: մետր | E50: 4685 | F50: 180 | G50: =+E50*F50/1000 -> 843.3
A51: 44163300/513 | B51: Ռետինափողրակներ | C51: ԳՀ | D51: մետր | E51: 3307 | F51: 1000 | G51: =+E51*F51/1000 -> 3307
A52: 44163300/514 | B52: Ռետինափողրակներ | C52: ԳՀ | D52: մետր | E52: 3300 | F52: 2900 | G52: =+E52*F52/1000 -> 9570
A55: ՀԱՅԱՍՏԱՆԻ ՀԱՆՐԱՊԵՏՈՒԹՅԱՆ ՎԱՐՉԱՊԵՏԻ ԱՇԽԱՏԱԿԱԶՄԻ
A56: ՂԵԿԱՎԱՐ Է. ԱՂԱՋԱՆՅԱՆ
