Workbook
Name _ftn1: 'Հավելված 1'!#REF!
Name _ftn1: 'Հավելված 2'!#REF!
Name _ftn10: 'Հավելված 1'!#REF!
Name _ftn10: 'Հավելված 2'!#REF!
Name _ftn11: 'Հավելված 1'!#REF!
Name _ftn11: 'Հավելված 2'!#REF!
Name _ftn12: 'Հավելված 1'!#REF!
Name _ftn12: 'Հավելված 2'!#REF!
Name _ftn13: 'Հավելված 1'!#REF!
Name _ftn13: 'Հավելված 2'!#REF!
Name _ftn14: 'Հավելված 1'!#REF!
Name _ftn14: 'Հավելված 2'!#REF!
Name _ftn15: 'Հավելված 1'!#REF!
Name _ftn15: 'Հավելված 2'!#REF!
Name _ftn16: 'Հավելված 1'!#REF!
Name _ftn16: 'Հավելված 2'!#REF!
Name _ftn17: 'Հավելված 1'!#REF!
Name _ftn17: 'Հավելված 2'!#REF!
Name _ftn18: 'Հավելված 1'!#REF!
Name _ftn18: 'Հավելված 2'!#REF!
Name _ftn19: 'Հավելված 1'!#REF!
Name _ftn19: 'Հավելված 2'!#REF!
Name _ftn2: 'Հավելված 1'!#REF!
Name _ftn2: 'Հավելված 2'!#REF!
Name _ftn20: 'Հավելված 1'!#REF!
Name _ftn20: 'Հավելված 2'!#REF!
Name _ftn21: 'Հավելված 1'!#REF!
Name _ftn21: 'Հավելված 2'!#REF!
Name _ftn22: 'Հավելված 1'!#REF!
Name _ftn22: 'Հավելված 2'!#REF!
Name _ftn3: 'Հավելված 1'!#REF!
Name _ftn3: 'Հավելված 2'!#REF!
Name _ftn4: 'Հավելված 1'!#REF!
Name _ftn4: 'Հավելված 2'!#REF!
Name _ftn5: 'Հավելված 1'!#REF!
Name _ftn5: 'Հավելված 2'!#REF!
Name _ftn6: 'Հավելված 1'!#REF!
Name _ftn6: 'Հավելված 2'!#REF!
Name _ftn7: 'Հավելված 1'!#REF!
Name _ftn7: 'Հավելված 2'!#REF!
Name _ftn8: 'Հավելված 1'!#REF!
Name _ftn8: 'Հավելված 2'!#REF!
Name _ftn9: 'Հավելված 1'!#REF!
Name _ftn9: 'Հավելված 2'!#REF!
Name _ftnref1: 'Հավելված 1'!#REF!
Name _ftnref1: 'Հավելված 2'!#REF!
Name _ftnref10: 'Հավելված 1'!#REF!
Name _ftnref10: 'Հավելված 2'!#REF!
Name _ftnref11: 'Հավելված 1'!#REF!
Name _ftnref11: 'Հավելված 2'!#REF!
Name _ftnref12: 'Հավելված 1'!#REF!
Name _ftnref12: 'Հավելված 2'!#REF!
Name _ftnref13: 'Հավելված 1'!#REF!
Name _ftnref13: 'Հավելված 2'!#REF!
Name _ftnref14: 'Հավելված 1'!#REF!
Name _ftnref14: 'Հավելված 2'!#REF!
Name _ftnref15: 'Հավելված 1'!#REF!
Name _ftnref15: 'Հավելված 2'!#REF!
Name _ftnref16: 'Հավելված 1'!#REF!
Name _ftnref16: 'Հավելված 2'!#REF!

Sheet Հավելված 1
F1: ՀԱՎԵԼՎԱԾ N 1
E2: ՀՀ կառավարության 2020 թվականի
E3: N որոշման
A4: «ՀԱՅԱՍՏԱՆԻ ՀԱՆՐԱՊԵՏՈՒԹՅԱՆ 2020 ԹՎԱԿԱՆԻ ՊԵՏԱԿԱՆ ԲՅՈՒՋԵԻ ՄԱՍԻՆ» ՀԱՅԱՍՏԱՆԻ ՀԱՆՐԱՊԵՏՈՒԹՅԱՆ ՕՐԵՆՔԻ N 1 ՀԱՎԵԼՎԱԾԻ N 2 ԱՂՅՈՒՍԱԿՈՒՄ ԿԱՏԱՐՎՈՂ ՎԵՐԱԲԱՇԽՈՒՄԸ ԵՎ ՀԱՅԱՍՏԱՆԻ ՀԱՆՐԱՊԵՏՈՒԹՅԱՆ ԿԱՌԱՎԱՐՈՒԹՅԱՆ 2019 ԹՎԱԿԱՆԻ ԴԵԿՏԵՄԲԵՐԻ 26-Ի N 1919-Ն ՈՐՈՇՄԱՆ N 5 ՀԱՎԵԼՎԱԾԻ N 1 ԱՂՅՈՒՍԱԿՈՒՄ ԿԱՏԱՐՎՈՂ ՓՈՓՈԽՈՒԹՅՈՒՆՆԵՐԸ
F6: (հազար դրամ)
A7: Ծրագրային դասիչը | C7: Բյուջետային հատկացումների գլխավոր կարգադրիչների, ծրագրերի և միջոցառումների անվանումները | D7: Ցուցանիշների փոփոխությունը (ավելացումները նշված են դրական նշանով, իսկ նվազեցումները՝ փակագծերում)
D8: առաջին կիսամյակ | E8: ինն ամիս | F8: տարի
A9: ծրագիր | B9: միջոցառում
C10: Ընդամենը | D10: =D11 -> 0 | E10: =E11 -> 0 | F10: =F11 -> 0
C11: ՀՀ կառավարություն | D11: =D12+D25 -> 0 | E11: =E12+E25 -> 0 | F11: =F12+F25 -> 0
A12: 1139 | C12: Ծրագրի անվանումը` | D12: =+D20 -> 70942 | E12: =+E20 -> 70942 | F12: =+F20 -> 70942
C13: ՀՀ կառավարության պահուստային ֆոնդ
C14: Ծրագրի նպատակը`
C15: Պետական բյուջեում չկանխատեսված, ինչպես նաեւ բյուջետային երաշխիքների ապահովման ծախսերի ֆինանսավորման ապահովում_x000D_
C16: Վերջնական արդյունքի նկարագրությունը`
C17: Պահուստային ֆոնդի կառավարման արդյունավետության և թափանցիկության ապահովում_x000D_
A18: Ծրագրի միջոցառումներ
B19: 11001 | C19: Միջոցառման անվանումը`
C20: ՀՀ կառավարության պահուստային ֆոնդ | D20: 70942 | E20: =D20 -> 70942 | F20: =D20 -> 70942
C21: Միջոցառման նկարագրությունը`
C22: ՀՀ պետական բյուջեում նախատեսված ելքերի լրացուցիչ ֆինանսավորման, պետական բյուջեում չկանխատեսված ելքերի, ինչպես նաև բյուջետային երաշխիքների ապահովման ելքերի ֆինանսավորման ապահովում
C23: Միջոցառման տեսակը
C24: Ծառայությունների մատուցում
A25: 1185 | C25: Ծրագրի անվանումը` | D25: =D31 -> -70942 | E25: =E31 -> -70942 | F25: =F31 -> -70942
C26: Արտասահմանյան պատվիրակությունների ընդունելությունների և պաշտոնական գործուղումների կազմակերպում
C27: Ծրագրի նպատակը`
C28: ՀՀ միջազգային համագործակցության և միջազգային ներկայացուցչականության ապահովում
C29: Վերջնական արդյունքի նկարագրությունը`
C30: Արտասահմանյան պաշտոնական գործուղումների և արտասահմանյան պատվիրակությունների ընդունելությունների կազմակերպման ապահովում
B31: 11001 | C31: Միջոցառման անվանումը` | D31: -70942 | E31: =D31 -> -70942 | F31: =D31 -> -70942
C32: Արտասահմանյան պատվիրակությունների ընդունելություններ
C33: Միջոցառման նկարագրությունը`
C34: Արտասահմանյան պատվիրակությունների ընդունելություններ
C35: Միջոցառման տեսակը
C36: Ծառայությունների մատուցում
A39: ՀԱՅԱՍՏԱՆԻ ՀԱՆՐԱՊԵՏՈՒԹՅԱՆ ՎԱՐՉԱՊԵՏԻ ԱՇԽԱՏԱԿԱԶՄԻ ՂԵԿԱՎԱՐ | E39: Է. ԱՂԱՋԱՆՅԱՆ

Sheet Հավելված 2
H2: ՀԱՎԵԼՎԱԾ N 2
G3: ՀՀ կառավարության 2020 թվականի
G4: N որոշման
A5: ՀԱՅԱՍՏԱՆԻ ՀԱՆՐԱՊԵՏՈՒԹՅԱՆ ԿԱՌԱՎԱՐՈՒԹՅԱՆ 2019 ԹՎԱԿԱՆԻ ԴԵԿՏԵՄԲԵՐԻ 26-Ի N 1919-Ն ՈՐՈՇՄԱՆ N3 ԵՎ N4 ՀԱՎԵԼՎԱԾՆԵՐՈՒՄ ԿԱՏԱՐՎՈՂ ՓՈՓՈԽՈՒԹՅՈՒՆՆԵՐԸ
I7: (հազար դրամ)
A8: Գործառական դասիչը | D8: Ծրագրային դասիչը | F8: Բյուջետային ծախսերի գործառական դասակարգման բաժինների, խմբերի և դասերի, բյուջետային ծրագրերի միջոցառումների, բյուջետային հատկացումների գլխավոր կարգադրիչների անվանումները | G8: Ցուցանիշների փոփոխությունը (ավելացումները նշված են դրական նշանով, իսկ նվազեցումները՝ փակագծերում)
A9: Բաժին | B9: Խումբ | C9: Դաս | D9: Ծրագիր | E9: Միջոցա ռում | G9: առաջին կիսամյակ | H9: ինն ամիս | I9: տարի
F10: ԸՆԴԱՄԵՆԸ ԾԱԽՍԵՐ | G10: =G12+G29 -> 0 | H10: =H12+H29 -> 0 | I10: =I12+I29 -> 0
F11: այդ թվում`
A12: 01 | F12: ԸՆԴՀԱՆՈՒՐ ԲՆՈՒՅԹԻ ՀԱՆՐԱՅԻՆ ԾԱՌԱՅՈՒԹՅՈՒՆՆԵՐ | G12: =G14 -> -70942 | H12: =H14 -> -70942 | I12: =I14 -> -70942
F13: այդ թվում`
B14: 01 | F14: Օրենսդիր և գործադիր մարմիններ, պետական կառավարում, ֆինանսական և հարկաբյուջետային հարաբերություններ, արտաքին հարաբերություններ | G14: =+G16 -> -70942 | H14: =+H16 -> -70942 | I14: =+I16 -> -70942
F15: այդ թվում`
C16: 03 | F16: Արտաքին հարաբերություններ | G16: =+G18 -> -70942 | H16: =+H18 -> -70942 | I16: =+I18 -> -70942
F17: այդ թվում`
D18: 1185 | F18: Արտասահմանյան պատվիրակությունների ընդունելությունների և պաշտոնական գործուղումների կազմակերպում | G18: =G20 -> -70942 | H18: =H20 -> -70942 | I18: =I20 -> -70942
F19: այդ թվում`
E20: 11001 | F20: Արտասահմանյան պատվիրակությունների ընդունելություններ | G20: =+G22 -> -70942 | H20: =+H22 -> -70942 | I20: =+I22 -> -70942
F21: այդ թվում` ըստ կատարողների
F22: ՀՀ կառավարություն | G22: =+G24 -> -70942 | H22: =+H24 -> -70942 | I22: =+I24 -> -70942
F23: այդ թվում` բյուջետային ծախսերի տնտեսագիտական դասակարգման հոդվածներ
F24: ԸՆԴԱՄԵՆԸ ԾԱԽՍԵՐ | G24: =+G25 -> -70942 | H24: =+H25 -> -70942 | I24: =+I25 -> -70942
F25: ԸՆԹԱՑԻԿ ԾԱԽՍԵՐ | G25: =G26 -> -70942 | H25: =H26 -> -70942 | I25: =I26 -> -70942
F26: ԾԱՌԱՅՈՒԹՅՈՒՆՆԵՐԻ ԵՎ ԱՊՐԱՆՔՆԵՐԻ ՁԵՌՔԲԵՐՈՒՄ | G26: =G28 -> -70942 | H26: =H28 -> -70942 | I26: =I28 -> -70942
F27: ԱՅԼ ԾԱԽՍԵՐ | G27: =G28 -> -70942 | H27: =H28 -> -70942 | I27: =I28 -> -70942
F28: - Այլ ծախսեր | G28: ='Հավելված 1'!D31 -> -70942 | H28: ='Հավելված 1'!E31 -> -70942 | I28: ='Հավելված 1'!F31 -> -70942
A29: 11 | F29: ՀԻՄՆԱԿԱՆ ԲԱԺԻՆՆԵՐԻՆ ՉԴԱՍՎՈՂ ՊԱՀՈՒՍՏԱՅԻՆ ՖՈՆԴԵՐ | G29: =+G31 -> 70942 | H29: =+H31 -> 70942 | I29: =+I31 -> 70942
F30: այդ թվում`
B31: 01 | F31: ՀՀ կառավարության և համայնքների պահուստային ֆոնդ | G31: =+G33 -> 70942 | H31: =+H33 -> 70942 | I31: =+I33 -> 70942
F32: այդ թվում`
C33: 01 | F33: ՀՀ կառավարության պահուստային ֆոնդ | G33: =+G35 -> 70942 | H33: =+H35 -> 70942 | I33: =+I35 -> 70942
F34: այդ թվում`
F35: ՀՀ կառավարություն | G35: =+G36 -> 70942 | H35: =+H36 -> 70942 | I35: =+I36 -> 70942
D36: 1139 | E36: 11001 | F36: ՀՀ կառավարության պահուստային ֆոնդ | G36: =+G38 -> 70942 | H36: =+H38 -> 70942 | I36: =+I38 -> 70942
F37: այդ թվում` ըստ կատարողների
F38: ՀՀ կառավարություն | G38: =+G40 -> 70942 | H38: =+H40 -> 70942 | I38: =+I40 -> 70942
F39: այդ թվում` բյուջետային ծախսերի տնտեսագիտական դասակարգման հոդվածներ
F40: ԸՆԴԱՄԵՆԸ ԾԱԽՍԵՐ | G40: =+G41 -> 70942 | H40: =+H41 -> 70942 | I40: =+I41 -> 70942
F41: ԸՆԹԱՑԻԿ ԾԱԽՍԵՐ | G41: =+G42 -> 70942 | H41: =+H42 -> 70942 | I41: =+I42 -> 70942
F42: ԱՅԼ ԾԱԽՍԵՐ | G42: =+G43 -> 70942 | H42: =+H43 -> 70942 | I42: =+I43 -> 70942
F43: Պահուստային միջոցներ | G43: ='Հավելված 1'!D20 -> 70942 | H43: ='Հավելված 1'!E20 -> 70942 | I43: ='Հավելված 1'!F20 -> 70942
A45: ՀԱՅԱՍՏԱՆԻ ՀԱՆՐԱՊԵՏՈՒԹՅԱՆ ՎԱՐՉԱՊԵՏԻ ԱՇԽԱՏԱԿԱԶՄԻ ՂԵԿԱՎԱՐ | H45: Է. ԱՂԱՋԱՆՅԱՆ

Sheet Հավելված 3.1
E2: ՀԱՎԵԼՎԱԾ N 3
D3: ՀՀ կառավարության 2020 թվականի
E4: N որոշման
E6: Աղյուսակ N 1
A8: ՀԱՅԱՍՏԱՆԻ ՀԱՆՐԱՊԵՏՈՒԹՅԱՆ ԿԱՌԱՎԱՐՈՒԹՅԱՆ 2019 ԹՎԱԿԱՆԻ ԴԵԿՏԵՄԲԵՐԻ 26-Ի N 1919-Ն ՈՐՈՇՄԱՆ N 9 ՀԱՎԵԼՎԱԾԻ 9.47 ԱՂՅՈՒՍԱԿՈՒՄ ԿԱՏԱՐՎՈՂ ՓՈՓՈԽՈՒԹՅՈՒՆՆԵՐԸ
B11: ՀՀ կառավարություն
B12: ՄԱՍ 2. ՊԵՏԱԿԱՆ ՄԱՐՄՆԻ ԳԾՈՎ ԱՐԴՅՈՒՆՔԱՅԻՆ (ԿԱՏԱՐՈՂԱԿԱՆ) ՑՈՒՑԱՆԻՇՆԵՐԸ
A14: Ծրագրի դասիչը | B14: Ծրագրի անվանումը
A15: 1139 | B15: ՀՀ կառավարության պահուստային ֆոնդ
A18: Ծրագրի դասիչը՝ | B18: 1139 | C18: Ցուցանիշների փոփոխությունը (ավելացումները նշված են դրական նշանով)
A19: Միջոցառման դասիչը՝ | B19: 11001 | C19: առաջին կիսամյակ | D19: ինն ամիս | E19: տարի
A20: Միջոցառման անվանումը՝ | B20: ՀՀ կառավարության պահուստային ֆոնդ
A21: Նկարագրությունը՝ | B21: ՀՀ պետական բյուջեում նախատեսված ելքերի լրացուցիչ ֆինանսավորման, ՀՀ պետական բյուջեում չկանխատեսված ելքերի, ինչպես նաև բյուջետային երաշխիքների ապահովման ելքերի ֆինանսավորման ապահովում
A22: Միջոցառման տեսակը՝ | B22: Ծառայությունների մատուցում
A23: Միջոցառումն իրականացնողի անվանումը՝ | B23: ՀՀ կառավարություն
B24: Արդյունքի չափորոշիչներ
A25: Միջոցառման վրա կատարվող ծախսը (հազար դրամ) | C25: ='Հավելված 1'!D20 -> 70942 | D25: ='Հավելված 1'!E20 -> 70942 | E25: ='Հավելված 1'!F20 -> 70942
A27: Ծրագրի դասիչը | B27: Ծրագրի անվանումը
A28: 1185 | B28: Արտասահմանյան պատվիրակությունների ընդունելությունների և պաշտոնական գործուղումների կազմակերպում
A30: Ծրագրի դասիչը` | B30: 1185 | C30: Ցուցանիշների փոփոխությունը (նվազեցումները նշված են փակագծերում)
A31: Միջոցառման դասիչը` | B31: 11001 | C31: Առաջին կիսամյակ | D31: Ինն ամիս | E31: Տարի
A32: Միջոցառման անվանումը` | B32: Արտասահմանյան պատվիրակությունների ընդունելություններ
A33: Նկարագրությունը` | B33: Արտասահմանյան պատվիրակությունների ընդունելություններ
A34: Միջոցառման տեսակը` | B34: Ծառայությունների մատուցում
A35: Միջոցառումն իրականացնողի անվանումը | B35: ՀՀ կառավարություն
A36: Արդյունքի չափորոշիչներ
A37: Միջոցառման վրա կատարվող ծախսը (հազար դրամ) | C37: ='Հավելված 1'!D31 -> -70942 | D37: ='Հավելված 1'!E31 -> -70942 | E37: ='Հավելված 1'!F31 -> -70942
A40: ՀԱՅԱՍՏԱՆԻ ՀԱՆՐԱՊԵՏՈՒԹՅԱՆ ՎԱՐՉԱՊԵՏԻ ԱՇԽԱՏԱԿԱԶՄԻ ՂԵԿԱՎԱՐ | D40: Է. ԱՂԱՋԱՆՅԱՆ

Sheet Հավելված 3.2
E2: ՀԱՎԵԼՎԱԾ N 3
D3: ՀՀ կառավարության 2020 թվականի
E4: N որոշման
E5: Աղյուսակ N 2
A7: ՀԱՅԱՍՏԱՆԻ ՀԱՆՐԱՊԵՏՈՒԹՅԱՆ ԿԱՌԱՎԱՐՈՒԹՅԱՆ 2019 ԹՎԱԿԱՆԻ ԴԵԿՏԵՄԲԵՐԻ 26-Ի N 1919-Ն ՈՐՈՇՄԱՆ N 9.1 ՀԱՎԵԼՎԱԾԻ NN 9.1.58 ԱՂՅՈՒՍԱԿՆՈՒՄ ԿԱՏԱՐՎՈՂ ՓՈՓՈԽՈՒԹՅՈՒՆՆԵՐԸ
B9: ՀՀ կառավարություն
B10: ՄԱՍ 1. ՊԵՏԱԿԱՆ ՄԱՐՄՆԻ ԳԾՈՎ ԱՐԴՅՈՒՆՔԱՅԻՆ (ԿԱՏԱՐՈՂԱԿԱՆ) ՑՈՒՑԱՆԻՇՆԵՐԸ
A12: Ծրագրի դասիչը | B12: Ծրագրի անվանումը
A13: 1139 | B13: ՀՀ կառավարության պահուստային ֆոնդ
A16: Ծրագրի դասիչը՝ | B16: 1139 | C16: Ցուցանիշների փոփոխությունը (ավելացումները նշված են դրական նշանով)
A17: Միջոցառման դասիչը՝ | B17: 11001 | C17: առաջին կիսամյակ | D17: ինն ամիս | E17: տարի
A18: Միջոցառման անվանումը՝ | B18: ՀՀ կառավարության պահուստային ֆոնդ
A19: Նկարագրությունը՝ | B19: ՀՀ պետական բյուջեում նախատեսված ելքերի լրացուցիչ ֆինանսավորման, ՀՀ պետական բյուջեում չկանխատեսված ելքերի, ինչպես նաև բյուջետային երաշխիքների ապահովման ելքերի ֆինանսավորման ապահովում
A20: Միջոցառման տեսակը՝ | B20: Ծառայությունների մատուցում
A21: Միջոցառումն իրականացնողի անվանումը՝ | B21: ՀՀ կառավարություն
A22: Արդյունքի չափորոշիչներ
A23: Միջոցառման վրա կատարվող ծախսը (հազար դրամ) | C23: ='Հավելված 3.1'!C25 -> 70942 | D23: ='Հավելված 3.1'!D25 -> 70942 | E23: ='Հավելված 3.1'!E25 -> 70942
A24: Ծրագրի դասիչը | B24: Ծրագրի անվանումը
A25: 1185 | B25: Արտասահմանյան պատվիրակությունների ընդունելությունների և պաշտոնական գործուղումների կազմակերպում
A27: Ծրագրի դասիչը` | B27: 1185 | C27: Ցուցանիշների փոփոխությունը (նվազեցումները նշված են փակագծերում)
A28: Միջոցառման դասիչը` | B28: 11001 | C28: Առաջին կիսամյակ | D28: Ինն ամիս | E28: Տարի
A29: Միջոցառման անվանումը` | B29: Արտասահմանյան պատվիրակությունների ընդունելություններ
A30: Նկարագրությունը` | B30: Արտասահմանյան պատվիրակությունների ընդունելություններ
A31: Միջոցառման տեսակը` | B31: Ծառայությունների մատուցում
A32: Միջոցառումն իրականացնողի անվանումը | B32: ՀՀ կառավարություն
A33: Արդյունքի չափորոշիչներ
A34: Միջոցառման վրա կատարվող ծախսը (հազար դրամ) | C34: ='Հավելված 1'!D31 -> -70942 | D34: ='Հավելված 1'!E31 -> -70942 | E34: ='Հավելված 1'!F31 -> -70942
A37: ՀԱՅԱՍՏԱՆԻ ՀԱՆՐԱՊԵՏՈՒԹՅԱՆ ՎԱՐՉԱՊԵՏԻ ԱՇԽԱՏԱԿԱԶՄԻ ՂԵԿԱՎԱՐ | D37: Է. ԱՂԱՋԱՆՅԱՆ
