Workbook
Name AgencyCode: #REF!
Name AgencyCode: #REF!
Name AgencyName: #REF!
Name AgencyName: #REF!
Name davit: #REF!
Name davit: #REF!
Name Functional1: #REF!
Name Functional1: #REF!
Name ggg: #REF!
Name ggg: #REF!
Name PANature: #REF!
Name PANature: #REF!
Name PAType: #REF!
Name PAType: #REF!
Name Performance2: #REF!
Name Performance2: #REF!
Name PerformanceType: #REF!
Name PerformanceType: #REF!
Name Հավելված: #REF!
Name Հավելված: #REF!
Name Մաս: #REF!
Name Մաս: #REF!
Name շախմատիստ: #REF!
Name շախմատիստ: #REF!

Sheet 1
A1: Հավելված N 1
A2: ՀՀ կառավարության 2020 թվականի
A3: ______________ ի ___Ն որոշման
A5: «ՀԱՅԱՍՏԱՆԻ ՀԱՆՐԱՊԵՏՈՒԹՅԱՆ 2020 ԹՎԱԿԱՆԻ ՊԵՏԱԿԱՆ ԲՅՈՒՋԵԻ ՄԱՍԻՆ» ՀՀ ՕՐԵՆՔԻ 2-ՐԴ ՀՈԴՎԱԾԻ ԱՂՅՈՒՍԱԿԻ ՑՈՒՑԱՆԻՇՆԵՐՈՒՄ ԿԱՏԱՐՎՈՂ ՓՈՓՈԽՈՒԹՅՈՒՆՆԵՐԸ
B7: (հազար դրամներով)
B8: Ցուցանիշների փոփոխությունը (ավելացումները նշված են դրական նշանով)
A9: 1. Եկամուտների գծով | B9: ='3'!C10 -> 3107000
A10: 2. Ծախսերի գծով | B10: ='4'!E10 -> 3107000
A11: 3. Դեֆիցիտը (պակասուրդը) | B11: =B10-B9 -> 0

Sheet 2
A1: Հավելված N 2
A2: ՀՀ կառավարության 2020 թվականի
A3: ______________ ի ___Ն որոշման
A5: ՀԱՅԱՍՏԱՆԻ ՀԱՆՐԱՊԵՏՈՒԹՅԱՆ ԿԱՌԱՎԱՐՈՒԹՅԱՆ 2019 ԹՎԱԿԱՆԻ ԴԵԿՏԵՄԲԵՐԻ 26-Ի N 1919-Ն ՈՐՈՇՄԱՆ N 1 ՀԱՎԵԼՎԱԾԻ N 1 ԱՂՅՈՒՍԱԿՈՒՄ ԿԱՏԱՐՎՈՂ ՓՈՓՈԽՈՒԹՅՈՒՆԸ
B7: (հազար դրամներով)
A8: Պետական բյուջեի դեֆիցիտի ֆինանսավորման աղբյուրներն ու դրանց տարրերի անվանումները | B8: Ցուցանիշների փոփոխությունը (ավելացումները նշված են դրական նշանով)
B9: Ինն ամիս | C9: Տարի
A10: ԸՆԴԱՄԵՆԸ | B10: =B12 -> 3107000 | C10: =C12 -> 0
A11: այդ թվում՝
A12: Ա.Ներքին աղբյուրներ-ընդամենը | B12: =B14 -> 3107000 | C12: =C14 -> 0
A13: այդ թվում՝
A14: 2. Ֆինանսական զուտ ակտիվներ | B14: =B16 -> 3107000 | C14: =C16 -> 0
A15: այդ թվում՝
A16: 2.6.Այլ | B16: =B17 -> 3107000 | C16: =C17 -> 0
A17: ժամանակավորապես ազատ միջոցներ | B17: 3107000 | C17: 0

Sheet 3
A1: Հավելված N 3
A2: ՀՀ կառավարության 2020 թվականի
A3: ______________ ի ___Ն որոշման
A5: «ՀԱՅԱՍՏԱՆԻ ՀԱՆՐԱՊԵՏՈՒԹՅԱՆ 2020 ԹՎԱԿԱՆԻ ՊԵՏԱԿԱՆ ԲՅՈՒՋԵԻ ՄԱՍԻՆ» ՀԱՅԱՍՏԱՆԻ ՀԱՆՐԱՊԵՏՈՒԹՅԱՆ ՕՐԵՆՔԻ 6-ՐԴ ՀՈԴՎԱԾՈՒՄ ԵՎ ՀԱՅԱՍՏԱՆԻ ՀԱՆՐԱՊԵՏՈՒԹՅԱՆ ԿԱՌԱՎԱՐՈՒԹՅԱՆ 2019 ԹՎԱԿԱՆԻ ԴԵԿՏԵՄԲԵՐԻ 26-Ի N 1919-Ն ՈՐՈՇՄԱՆ N 2 ՀԱՎԵԼՎԱԾԻ ԱՂՅՈՒՍԱԿՆԵՐՈՒՄ ԿԱՏԱՐՎՈՂ ՓՈՓՈԽՈՒԹՅՈՒՆՆԵՐԸ
B7: (հազար դրամներով)
A8: Պետական բյուջեի եկամուտները | B8: Ցուցանիշների փոփոխությունը (ավելացումները նշված են դրական նշանով)
B9: Ինն ամիս | C9: Տարի
A10: ԸՆԴԱՄԵՆԸ | B10: =B12 -> 0 | C10: =C12 -> 3107000
A11: այդ թվում
A12: Այլ եկամուտներ | B12: ='6'!D11 -> 0 | C12: ='6'!E11 -> 3107000

Sheet 4
A1: Հավելված N 4
A2: ՀՀ կառավարության 2020 թվականի
A3: ______________ ի ___Ն որոշման
A5: «ՀԱՅԱUՏԱՆԻ ՀԱՆՐԱՊԵՏՈՒԹՅԱՆ 2020 ԹՎԱԿԱՆԻ ՊԵՏԱԿԱՆ ԲՅՈՒՋԵԻ ՄԱUԻՆ» ՀԱՅԱUՏԱՆԻ ՀԱՆՐԱՊԵՏՈՒԹՅԱՆ OՐԵՆՔԻ N 1 ՀԱՎԵԼՎԱԾԻ N 2 ԱՂՅՈՒՍԱԿՈՒՄ ԵՎ ՀԱՅԱՍՏԱՆԻ ՀԱՆՐԱՊԵՏՈՒԹՅԱՆ ԿԱՌԱՎԱՐՈՒԹՅԱՆ 2019 ԹՎԱԿԱՆԻ ԴԵԿՏԵՄԲԵՐԻ 26-Ի N 1919-Ն ՈՐՈՇՄԱՆ N 5 ՀԱՎԵԼՎԱԾԻ N 1 ԱՂՅՈՒՍԱԿՈՒՄ ԿԱՏԱՐՎՈՂ ՓՈՓՈԽՈՒԹՅՈՒՆՆԵՐԸ
D7: (հազար դրամներով)
A8: Ծրագրային դասիչը | C8: Բյուջետային հատկացումների գլխավոր կարգադրիչների, ծրագրերի և միջոցառումների անվանումները | D8: Ցուցանիշների փոփոխությունը (ավելացումները նշված են դրական նշանով, իսկ նվազեցումները՝ փակագծերում)
A9: Ծրագիր | B9: Միջոցառում | D9: Ինն ամիս | E9: Տարի
C10: ԸՆԴԱՄԵՆԸ | D10: =D12 -> 3107000 | E10: =E12 -> 3107000
C11: այդ թվում՝
C12: ՀՀ աշխատանքի և սոցիալական հարցերի նախարարություն | D12: =D14 -> 3107000 | E12: =E14 -> 3107000
C13: այդ թվում՝
A14: 1225 | C14: Ծրագրի անվանումը` | D14: =D21+D27+D33 -> 3107000 | E14: =E21+E27+E33 -> 3107000
C15: Ճգնաժամերի հակազդման և արտակարգ իրավիճակների հետևանքների նվազեցման և վերացման նպատակով՝ առանձին սոցիալական խմբերին տրվող սոցիալական աջակցություն
C16: Ծրագրի նպատակը՝
C17: Օժանդակել ճգնաժամերի հակազդման և արտակարգ իրավիճակների հետևանքներով ընտանիքների առջև ծառացած սոցիալական խնդիրների բացասական հետևանքների մեղմմանը
C18: Վերջնական արդյունքի նկարագրությունը
C19: Ճգնաժամերի հակազդման և արտակարգ իրավիճակների առաջացած սոցիալական խնդիրների բացասական հետևանքները մեղմելու նպատակով ընտանիքներին դրամական աջակցության տրամադրում
C20: Ծրագրի միջոցառումներ
B21: 12002 | C21: Միջոցառման անվանումը` | D21: =3107000-93024+585000 -> 3598976 | E21: =3107000-93024+585000 -> 3598976
C22: Կորոնավիրուսի (COVID-19)հետևանքով ճգնաժամերի հակազդման և արտակարգ իրավիճակների հետևանքների նվազեցման և վերացման նպատակով՝ առանձին սոցիալական խմբերին տրվող սոցիալական աջակցություն
C23: Միջոցառման նկարագրությունը`
C24: Կորոնավիրուսի (COVID-19) հետևանքով օժանդակել ճգնաժամերի հակազդման և արտակարգ իրավիճակների հետևանքներով ընտանիքների առջև ծառացած սոցիալական խնդիրների բացասական հետևանքների մեղմմանը
C25: Միջոցառման տեսակը
C26: Տրանսֆերտների տրամադրում
B27: 12003 | C27: Միջոցառման անվանումը` | D27: 93024 | E27: 93024
C28: Կորոնավիրուսի (COVID-19) հետևանքով աշխատանքից ազատված անձանց միանվագ աջակցություն (Կորոնավիրուսի տնտեսական հետևանքների չեզոքացման վեցերորդ միջոցառում)
C29: Միջոցառման նկարագրությունը`
C30: Կորոնավիրուսի տարածման հետևանքով աշխատանքի շուկայում գոյացած դժվարությունների արդյունքում սոցիալական խնդիրների առջև կանգնած ՀՀ քաղաքացիներին օժանդակություն
C31: Միջոցառման տեսակը
C32: Տրանսֆերտների տրամադրում
B33: 12004 | C33: Միջոցառման անվանումը` | D33: -585000 | E33: -585000
C34: Աջակցություն կորոնավիրուսի (COVID-19) տարածման հետևանքով աշխատանքի շուկայում գոյացած դժվարությունների արդյունքում սոցիալական խնդիրների առջև կանգնած հղի կանանց (Կորոնավիրուսի տնտեսական հետևանքների չեզոքացման յոթերորդ միջոցառում)
C35: Միջոցառման նկարագրությունը`
C36: Կորոնավիրուսի տարածման հետևանքով աշխատանքի շուկայում գոյացած դժվարությունների արդյունքում սոցիալական խնդիրների առջև կանգնած հղի կանանց միանվագ դրամական օժանդակության տրամադրում
C37: Միջոցառման տեսակը
C38: Տրանսֆերտների տրամադրում

Sheet 5
A1: Հավելված N 5
A2: ՀՀ կառավարության 2020 թվականի
A3: ______________ ի ___Ն որոշման
A5: ՀԱՅԱՍՏԱՆԻ ՀԱՆՐԱՊԵՏՈՒԹՅԱՆ ԿԱՌԱՎԱՐՈՒԹՅԱՆ 2019 ԹՎԱԿԱՆԻ ԴԵԿՏԵՄԲԵՐԻ 26-Ի N 1919-Ն ՈՐՈՇՄԱՆ N 3 ԵՎ N 4 ՀԱՎԵԼՎԱԾՆԵՐՈՒՄ ԿԱՏԱՐՎՈՂ ՓՈՓՈԽՈՒԹՅՈՒՆՆԵՐԸ
G7: (հազար դրամներով)
A8: Գործառական դասիչը | D8: Ծրագրային դասիչը | F8: Բյուջետային ծախսերի գործառական դասակարգման բաժինների, խմբերի և դասերի, տնտեսագիտական դասակարգման հոդվածների, բյուջետային հատկացումների գլխավոր կարգադրիչների, բյուջետային ծրագրերի, միջոցառումների և միջոցառումները կատարող պետական մարմինների անվանումները | G8: Ցուցանիշների փոփոխությունը (ավելացումները նշված են դրական նշանով, իսկ նվազեցումները՝ փակագծերում)
A9: Բաժին | B9: Խումբ | C9: Դաս | D9: Ծրագիր | E9: Միջոցառում | G9: Ինն ամիս | H9: Տարի
F10: ԸՆԴԱՄԵՆԸ ԾԱԽՍԵՐ | G10: =G12 -> 3107000 | H10: =H12 -> 3107000
F11: այդ թվում`
A12: 10 | F12: ՍՈՑԻԱԼԱԿԱՆ ՊԱՇՏՊԱՆՈՒԹՅՈՒՆ | G12: =G14 -> 3107000 | H12: =H14 -> 3107000
F13: այդ թվում`
B14: 09 | F14: Սոցիալական պաշտպանություն (այլ դասերին չպատկանող) | G14: =+G16 -> 3107000 | H14: =+H16 -> 3107000
F15: այդ թվում՝
C16: 02 | F16: Սոցիալական պաշտպանությանը տրամադրվող օժանդակ ծառայություններ (այլ դասերին չպատկանող) | G16: =+G18 -> 3107000 | H16: =+H18 -> 3107000
F17: այդ թվում`
F18: ՀՀ աշխատանքի և սոցիալական հարցերի նախարարություն | G18: =+G20 -> 3107000 | H18: =+H20 -> 3107000
F19: այդ թվում`
D20: 1225 | F20: Ճգնաժամերի հակազդման և արտակարգ իրավիճակների հետևանքների նվազեցման և վերացման նպատակով՝ առանձին սոցիալական խմբերին տրվող սոցիալական աջակցություն | G20: =G22+G30+G38 -> 3107000 | H20: =H22+H30+H38 -> 3107000
F21: այդ թվում՝
E22: 12002 | F22: Կորոնավիրուսի (COVID-19)հետևանքով ճգնաժամերի հակազդման և արտակարգ իրավիճակների հետևանքների նվազեցման և վերացման նպատակով՝ առանձին սոցիալական խմբերին տրվող սոցիալական աջակցություն | G22: =G24 -> 3598976 | H22: =H24 -> 3598976
F23: այդ թվում` ըստ կատարողների
F24: ՀՀ աշխատանքի և սոցիալական հարցերի նախարարության սոցիալական ապահովության ծառայություն | G24: =+G26 -> 3598976 | H24: =+H26 -> 3598976
F25: այդ թվում` բյուջետային ծախսերի տնտեսագիտական դասակարգման հոդվածներ
F26: ԸՆԴԱՄԵՆԸ ԾԱԽՍԵՐ | G26: =+G27 -> 3598976 | H26: =+H27 -> 3598976
F27: ԸՆԹԱՑԻԿ ԾԱԽՍԵՐ | G27: =G29 -> 3598976 | H27: =H29 -> 3598976
F28: ՍՈՑԻԱԼԱԿԱՆ ՆՊԱՍՏՆԵՐ ԵՎ ԿԵՆՍԱԹՈՇԱԿՆԵՐ | G28: =G29 -> 3598976 | H28: =H29 -> 3598976
F29: - Այլ նպաստներ բյուջեից | G29: ='4'!D21 -> 3598976 | H29: ='4'!E21 -> 3598976
E30: 12003 | F30: Կորոնավիրուսի (COVID-19) հետևանքով աշխատանքից ազատված անձանց միանվագ աջակցություն (Կորոնավիրուսի տնտեսական հետևանքների չեզոքացման վեցերորդ միջոցառում) | G30: =G32 -> 93024 | H30: =H32 -> 93024
F31: այդ թվում` ըստ կատարողների
F32: ՀՀ աշխատանքի և սոցիալական հարցերի նախարարության սոցիալական ապահովության ծառայություն | G32: =+G34 -> 93024 | H32: =+H34 -> 93024
F33: այդ թվում` բյուջետային ծախսերի տնտեսագիտական դասակարգման հոդվածներ
F34: ԸՆԴԱՄԵՆԸ ԾԱԽՍԵՐ | G34: =+G35 -> 93024 | H34: =+H35 -> 93024
F35: ԸՆԹԱՑԻԿ ԾԱԽՍԵՐ | G35: =G37 -> 93024 | H35: =H37 -> 93024
F36: ՍՈՑԻԱԼԱԿԱՆ ՆՊԱՍՏՆԵՐ ԵՎ ԿԵՆՍԱԹՈՇԱԿՆԵՐ | G36: =G37 -> 93024 | H36: =H37 -> 93024
F37: - Այլ նպաստներ բյուջեից | G37: ='4'!D27 -> 93024 | H37: ='4'!E27 -> 93024
E38: 12004 | F38: Աջակցություն կորոնավիրուսի (COVID-19) տարածման հետևանքով աշխատանքի շուկայում գոյացած դժվարությունների արդյունքում սոցիալական խնդիրների առջև կանգնած հղի կանանց (Կորոնավիրուսի տնտեսական հետևանքների չեզոքացման յոթերորդ միջոցառում) | G38: =G40 -> -585000 | H38: =H40 -> -585000
F39: այդ թվում` ըստ կատարողների
F40: ՀՀ աշխատանքի և սոցիալական հարցերի նախարարության սոցիալական ապահովության ծառայություն | G40: =+G42 -> -585000 | H40: =+H42 -> -585000
F41: այդ թվում` բյուջետային ծախսերի տնտեսագիտական դասակարգման հոդվածներ
F42: ԸՆԴԱՄԵՆԸ ԾԱԽՍԵՐ | G42: =+G43 -> -585000 | H42: =+H43 -> -585000
...

Sheet 6
A1: Հավելված N 6
A2: ՀՀ կառավարության 2020 թվականի
A3: ______________ ի ___Ն որոշման
A5: ՀԱՅԱՍՏԱՆԻ ՀԱՆՐԱՊԵՏՈՒԹՅԱՆ ԿԱՌԱՎԱՐՈՒԹՅԱՆ 2019 ԹՎԱԿԱՆԻ ԴԵԿՏԵՄԲԵՐԻ 26-Ի N 1919-Ն ՈՐՈՇՄԱՆ N 6 ՀԱՎԵԼՎԱԾՈՒՄ ԿԱՏԱՐՎՈՂ ՓՈՓՈԽՈՒԹՅՈՒՆՆԵՐԸ
D7: (հազար դրամներով)
A8: NN ը/կ | B8: Եկամտատեսակը | C8: Գանձման համար պատասխանատու պետական կառավարման մարմին (ներ) | D8: Ցուցանիշների փոփոխությունը (ավելացումները նշված են դրական նշանով)
D9: 2020 թվական
D10: 9 ամիս | E10: տարի
A11: Այլ եկամուտներ, ընդամենը | D11: =D13 -> 0 | E11: =E13 -> 3107000
B12: այդ թվում`
A13: 6 | B13: Օրենքով և այլ իրավական ակտերով սահմանված պետական բյուջե մուտքագրվող այլ եկամուտներ | D13: =D14 -> 0 | E13: =E14 -> 3107000
A14: 6.5 | B14: Այլ եկամուտներ | D14: =D15 -> 0 | E14: =E15 -> 3107000
A15: 6.5.2 | C15: ՀՀ պետական կառավարման մարմիններ | D15: 0 | E15: 3107000

Sheet 7
A1: Հավելված N 7
A2: ՀՀ կառավարության 2020 թվականի
A3: ______________ ի ___Ն որոշման
A6: ՀԱՅԱՍՏԱՆԻ ՀԱՆՐԱՊԵՏՈՒԹՅԱՆ ԿԱՌԱՎԱՐՈՒԹՅԱՆ 2019 ԹՎԱԿԱՆԻ ԴԵԿՏԵՄԲԵՐԻ 26-Ի N 1919-Ն ՈՐՈՇՄԱՆ N 9 ՀԱՎԵԼՎԱԾԻ 9․16 ԱՂՅՈՒՍԱԿՈՒՄ ԿԱՏԱՐՎՈՂ ՓՈՓՈԽՈՒԹՅՈՒՆՆԵՐԸ
A8: ՀՀ աշխատանքի և սոցիալական հարցերի նախարարություն
A10: ՄԱՍ 2. ՊԵՏԱԿԱՆ ՄԱՐՄՆԻ ԳԾՈՎ ԱՐԴՅՈՒՆՔԱՅԻՆ (ԿԱՏԱՐՈՂԱԿԱՆ) ՑՈՒՑԱՆԻՇՆԵՐԸ
A11: Ծրագրի դասիչը | B11: Ծրագրի անվանումը
A12: 1225 | B12: Ճգնաժամերի հակազդման և արտակարգ իրավիճակների հետևանքների նվազեցման և վերացման նպատակով՝ առանձին սոցիալական խմբերին տրվող սոցիալական աջակցություն
A14: Ծրագրի դասիչը` | B14: 1225 | C14: Ցուցանիշների փոփոխությունը (ավելացումները նշված են դրական նշանով)
A15: Միջոցառման դասիչը` | B15: 12002 | C15: Ինն ամիս | D15: Տարի
A16: Միջոցառման անվանումը` | B16: Կորոնավիրուսի (COVID-19)հետևանքով ճգնաժամերի հակազդման և արտակարգ իրավիճակների հետևանքների նվազեցման և վերացման նպատակով՝ առանձին սոցիալական խմբերին տրվող սոցիալական աջակցություն
A17: Նկարագրությունը` | B17: Կորոնավիրուսի (COVID-19) հետևանքով օժանդակել ճգնաժամերի հակազդման և արտակարգ իրավիճակների հետևանքներով ընտանիքների առջև ծառացած սոցիալական խնդիրների բացասական հետևանքների մեղմմանը
A18: Միջոցառման տեսակը` | B18: Տրասֆերտների տրամադրում
A19: Շահառուների ընտրության չափանիշները | B19: ՀՀ կառավարության որոշումներով հաստատված Կորոնավիրուսի (COVID-19) տնտեսական հետևանքների չեզոքացման միջոցառման պահանջներին համապատասխան
A20: Արդյունքի չափորոշիչներ
A21: Միջոցառման վրա կատարվող ծախսը (հազար դրամ) | C21: ='4'!D21 -> 3598976 | D21: ='4'!E21 -> 3598976
A23: Ծրագրի դասիչը` | B23: 1225 | C23: Ցուցանիշների փոփոխությունը (ավելացումները նշված են դրական նշանով)
A24: Միջոցառման դասիչը` | B24: 12003 | C24: Ինն ամիս | D24: Տարի
A25: Միջոցառման անվանումը` | B25: Կորոնավիրուսի (COVID-19) հետևանքով աշխատանքից ազատված անձանց միանվագ աջակցություն (Կորոնավիրուսի տնտեսական հետևանքների չեզոքացման վեցերորդ միջոցառում)
A26: Նկարագրությունը` | B26: Կորոնավիրուսի տարածման հետևանքով աշխատանքի շուկայում գոյացած դժվարությունների արդյունքում սոցիալական խնդիրների առջև կանգնած ՀՀ քաղաքացիներին օժանդակություն
A27: Միջոցառման տեսակը` | B27: Տրասֆերտների տրամադրում
A28: Շահառուների ընտրության չափանիշները | B28: ՀՀ կառավարության 30.03.2020թ-ի N410-Լ և 03.04.2020թ-ի N 460-Լ որոշումներին համապատասխան
A29: Արդյունքի չափորոշիչներ
A30: Դրամական աջակցություն ստացողների թիվը | C30: =C31/68 -> 1368 | D30: =D31/68 -> 1368
A31: Միջոցառման վրա կատարվող ծախսը (հազար դրամ) | C31: ='4'!D27 -> 93024 | D31: ='4'!E27 -> 93024
A33: Ծրագրի դասիչը` | B33: 1225 | C33: Ցուցանիշների փոփոխությունը (նվազեցումները նշված են փակագծերում)
A34: Միջոցառման դասիչը` | B34: 12004 | C34: Ինն ամիս | D34: Տարի
A35: Միջոցառման անվանումը` | B35: Աջակցություն կորոնավիրուսի (COVID-19) տարածման հետևանքով աշխատանքի շուկայում գոյացած դժվարությունների արդյունքում սոցիալական խնդիրների առջև կանգնած հղի կանանց (Կորոնավիրուսի տնտեսական հետևանքների չեզոքացման յոթերորդ միջոցառում)
A36: Նկարագրությունը` | B36: Կորոնավիրուսի տարածման հետևանքով աշխատանքի շուկայում գոյացած դժվարությունների արդյունքում սոցիալական խնդիրների առջև կանգնած հղի կանանց միանվագ դրամական օժանդակության տրամադրում
A37: Միջոցառման տեսակը` | B37: Տրասֆերտների տրամադրում
A38: Շահառուների ընտրության չափանիշները | B38: ՀՀ կառավարության 30.03.2020թ-ի N411-Լ և 06.04.2020թ-ի № 484–Ն որոշումների պահանջներին համապատասխան
A39: Արդյունքի չափորոշիչներ
A40: Դրամական աջակցություն ստացողների թիվը | C40: =C41/100 -> -5850 | D40: =D41/100 -> -5850
A41: Միջոցառման վրա կատարվող ծախսը (հազար դրամ) | C41: ='4'!D33 -> -585000 | D41: ='4'!E33 -> -585000

Sheet 8
A1: Հավելված N 8
A2: ՀՀ կառավարության 2020 թվականի
A3: ______________ ի ___Ն որոշման
A6: ՀԱՅԱՍՏԱՆԻ ՀԱՆՐԱՊԵՏՈՒԹՅԱՆ ԿԱՌԱՎԱՐՈՒԹՅԱՆ 2019 ԹՎԱԿԱՆԻ ԴԵԿՏԵՄԲԵՐԻ 26-Ի N 1919-Ն ՈՐՈՇՄԱՆ N 9.1 ՀԱՎԵԼՎԱԾԻ 9.1.20 ԱՂՅՈՒՍԱԿՈՒՄ ԿԱՏԱՐՎՈՂ ՓՈՓՈԽՈՒԹՅՈՒՆՆԵՐԸ
A8: ՀՀ աշխատանքի և սոցիալական հարցերի նախարարության սոցիալական ապահովության ծառայություն
A10: ՄԱՍ 1. ՊԵՏԱԿԱՆ ՄԱՐՄՆԻ ԳԾՈՎ ԱՐԴՅՈՒՆՔԱՅԻՆ (ԿԱՏԱՐՈՂԱԿԱՆ) ՑՈՒՑԱՆԻՇՆԵՐԸ
A11: Ծրագրի դասիչը | B11: Ծրագրի անվանումը
A12: 1225 | B12: Ճգնաժամերի հակազդման և արտակարգ իրավիճակների հետևանքների նվազեցման և վերացման նպատակով՝ առանձին սոցիալական խմբերին տրվող սոցիալական աջակցություն
A14: Ծրագրի դասիչը` | B14: 1225 | C14: Ցուցանիշների փոփոխությունը (ավելացումները նշված են դրական նշանով)
A15: Միջոցառման դասիչը` | B15: 12002 | C15: Ինն ամիս | D15: Տարի
A16: Միջոցառման անվանումը` | B16: Կորոնավիրուսի (COVID-19)հետևանքով ճգնաժամերի հակազդման և արտակարգ իրավիճակների հետևանքների նվազեցման և վերացման նպատակով՝ առանձին սոցիալական խմբերին տրվող սոցիալական աջակցություն
A17: Նկարագրությունը` | B17: Կորոնավիրուսի (COVID-19) հետևանքով օժանդակել ճգնաժամերի հակազդման և արտակարգ իրավիճակների հետևանքներով ընտանիքների առջև ծառացած սոցիալական խնդիրների բացասական հետևանքների մեղմմանը
A18: Միջոցառման տեսակը` | B18: Տրասֆերտների տրամադրում
A19: Շահառուների ընտրության չափանիշները | B19: ՀՀ կառավարության որոշումներով հաստատված Կորոնավիրուսի (COVID-19) տնտեսական հետևանքների չեզոքացման միջոցառման պահանջներին համապատասխան
A20: Արդյունքի չափորոշիչներ
A21: Միջոցառման վրա կատարվող ծախսը (հազար դրամ) | C21: ='7'!C21 -> 3598976 | D21: ='7'!D21 -> 3598976
A23: Ծրագրի դասիչը` | B23: 1225 | C23: Ցուցանիշների փոփոխությունը (ավելացումները նշված են դրական նշանով)
A24: Միջոցառման դասիչը` | B24: 12003 | C24: Ինն ամիս | D24: Տարի
A25: Միջոցառման անվանումը` | B25: Կորոնավիրուսի (COVID-19) հետևանքով աշխատանքից ազատված անձանց միանվագ աջակցություն (Կորոնավիրուսի տնտեսական հետևանքների չեզոքացման վեցերորդ միջոցառում)
A26: Նկարագրությունը` | B26: Կորոնավիրուսի տարածման հետևանքով աշխատանքի շուկայում գոյացած դժվարությունների արդյունքում սոցիալական խնդիրների առջև կանգնած ՀՀ քաղաքացիներին օժանդակություն
A27: Միջոցառման տեսակը` | B27: Տրասֆերտների տրամադրում
A28: Շահառուների ընտրության չափանիշները | B28: ՀՀ կառավարության 30.03.2020թ-ի N410-Լ և 03.04.2020թ-ի N 460-Լ որոշումներին համապատասխան
A29: Արդյունքի չափորոշիչներ
A30: Դրամական աջակցություն ստացողների թիվը | C30: ='7'!C30 -> 1368 | D30: ='7'!D30 -> 1368
A31: Միջոցառման վրա կատարվող ծախսը (հազար դրամ) | C31: ='7'!C31 -> 93024 | D31: ='7'!D31 -> 93024
A33: Ծրագրի դասիչը` | B33: 1225 | C33: Ցուցանիշների փոփոխությունը (նվազեցումները նշված են փակագծերում)
A34: Միջոցառման դասիչը` | B34: 12004 | C34: Ինն ամիս | D34: Տարի
A35: Միջոցառման անվանումը` | B35: Աջակցություն կորոնավիրուսի (COVID-19) տարածման հետևանքով աշխատանքի շուկայում գոյացած դժվարությունների արդյունքում սոցիալական խնդիրների առջև կանգնած հղի կանանց (Կորոնավիրուսի տնտեսական հետևանքների չեզոքացման յոթերորդ միջոցառում)
A36: Նկարագրությունը` | B36: Կորոնավիրուսի տարածման հետևանքով աշխատանքի շուկայում գոյացած դժվարությունների արդյունքում սոցիալական խնդիրների առջև կանգնած հղի կանանց միանվագ դրամական օժանդակության տրամադրում
A37: Միջոցառման տեսակը` | B37: Տրասֆերտների տրամադրում
A38: Շահառուների ընտրության չափանիշները | B38: ՀՀ կառավարության 30.03.2020թ-ի N411-Լ և 06.04.2020թ-ի № 484–Ն որոշումների պահանջներին համապատասխան
A39: Արդյունքի չափորոշիչներ
A40: Դրամական աջակցություն ստացողների թիվը | C40: =C41/100 -> -5850 | D40: =D41/100 -> -5850
A41: Միջոցառման վրա կատարվող ծախսը (հազար դրամ) | C41: ='4'!D33 -> -585000 | D41: ='4'!E33 -> -585000
