Workbook

Sheet 1
C1: Հավելված N 1
C2: ՀՀ կառավարության 2020 թվականի
C3: -ի N -Ն որոշման
B5: «ՀԱՅԱՍՏԱՆԻ ՀԱՆՐԱՊԵՏՈՒԹՅԱՆ 2020 ԹՎԱԿԱՆԻ ՊԵՏԱԿԱՆ ԲՅՈՒՋԵԻ ՄԱՍԻՆ» ՀԱՅԱՍՏԱՆԻ ՀԱՆՐԱՊԵՏՈՒԹՅԱՆ ՕՐԵՆՔԻ 2-ՐԴ ՀՈԴՎԱԾԻ ԱՂՅՈՒՍԱԿՈՒՄ ԿԱՏԱՐՎՈՂ ՓՈՓՈԽՈՒԹՅՈՒՆՆԵՐԸ
C7: (հազ. դրամ)
C8: Ցուցանիշների փոփոխություն (ավելացումը նշված են դրական նշանով)
B9: Եկամուտների գծով | C9: 145725.45
B10: Ծախսերի գծով | C10: =C9 -> 145725.45
B11: Դեֆիցիտը (պակասուրդը) | C11: 0

Sheet 2
C1: Հավելված N 2
C2: ՀՀ կառավարության 2020 թվականի
C3: -ի N -Ն որոշման
A5: «ՀԱՅԱՍՏԱՆԻ ՀԱՆՐԱՊԵՏՈՒԹՅԱՆ 2020 ԹՎԱԿԱՆԻ ՊԵՏԱԿԱՆ ԲՅՈՒՋԵԻ ՄԱՍԻՆ» ՀԱՅԱՍՏԱՆԻ ՀԱՆՐԱՊԵՏՈՒԹՅԱՆ ՕՐԵՆՔԻ 6-ՐԴ ՀՈԴՎԱԾԻ ԱՂՅՈՒՍԱԿՈՒՄ ԵՎ ՀԱՅԱՍՏԱՆԻ ՀԱՆՐԱՊԵՏՈՒԹՅԱՆ ԿԱՌԱՎԱՐՈՒԹՅԱՆ 2019 ԹՎԱԿԱՆԻ ԴԵԿՏԵՄԲԵՐԻ 26-Ի N 1919-Ն ՈՐՈՇՄԱՆ N 2 ՀԱՎԵԼՎԱԾՈՒՄ ԿԱՏԱՐՎՈՂ ՓՈՓՈԽՈՒԹՅՈՒՆՆԵՐԸ
C7: (հազ. դրամ)
A8: Եկամտատեսակ | B8: Ցուցանիշների փոփոխությունը (ավելացումները նշված են դրական նշանով)
B9: ինն ամիս | C9: Տարի
A10: Ընդամենը | B10: =+B12 -> 145725.45 | C10: =+C12 -> 145725.45
A11: այդ թվում
A12: Այլ եկամուտներ | B12: ='1'!C9 -> 145725.45 | C12: =B12 -> 145725.45

Sheet 3
C1: Հավելված N 3
A2: ՀՀ կառավարության 2020 թվականի
A3: -ի N -Ն որոշման
A4: «ՀԱՅԱՍՏԱՆԻ ՀԱՆՐԱՊԵՏՈՒԹՅԱՆ 2020 ԹՎԱԿԱՆԻ ՊԵՏԱԿԱՆ ԲՅՈՒՋԵԻ ՄԱՍԻՆ» ՀՀ ՕՐԵՆՔԻ N 1 ՀԱՎԵԼՎԱԾԻ N 2 ԱՂՅՈՒՍԱԿՈՒՄ ԵՎ ՀԱՅԱՍՏԱՆԻ ՀԱՆՐԱՊԵՏՈՒԹՅԱՆ ԿԱՌԱՎԱՐՈՒԹՅԱՆ 2019 ԹՎԱԿԱՆԻ ԴԵԿՏԵՄԲԵՐԻ 26-Ի N 1919-Ն ՈՐՈՇՄԱՆ N 5 ՀԱՎԵԼՎԱԾԻ N 1 ԱՂՅՈՒՍԱԿՈՒՄ ԿԱՏԱՐՎՈՂ ՓՈՓՈԽՈՒԹՅՈՒՆԸ ԵՎ ԼՐԱՑՈՒՄԸ
D6: (հազ. դրամ)
A7: Ծրագրային դասիչը | C7: Բյուջետային գլխավոր կարգադրիչների, ծրագրերի և միջոցառումների անվանումները | D7: Ցուցանիշների փոփոխությունը (ավելացումները նշված են դրական նշանով)
A8: Ծրագիր | B8: Միջոցառում | D8: Ինն ամիս | E8: Տարի
C9: ԸՆԴԱՄԵՆԸ | D9: =D10 -> 145725.45 | E9: =E10 -> 145725.45
C10: ՀՀ տարածքային կառավարման և ենթակառուցվածքների նախարարություն | D10: =SUM(D11) -> 145725.45 | E10: =SUM(E11) -> 145725.45
A11: 1072 | C11: Ծրագրի անվանումը` | D11: =D18 -> 145725.45 | E11: =E18 -> 145725.45
C12: Ջրամատակարարաման և ջրահեռացման բարելավում
C13: Ծրագրի նպատակը`
C14: Ջրամատակարարման ծառայությունների հասանելիության և մատչելիության ապահովում
C15: Վերջնական արդյունքի նկարագրությունը`
C16: Խմելու ջրի մատակարարման և ջրահեռացման համակարգի բարելավում՝ կորուստների կրճատում
A17: Ծրագրի միջոցառումներ
B18: 11006 | C18: Միջոցառման անվանումը` | D18: ='2'!B12 -> 145725.45 | E18: ='2'!C12 -> 145725.45
C19: Խմելու ջուր մատակարարող ընկերություններին առողջացման նպատակով ֆինանսական աջակցության տրամադրում
C20: Միջոցառման նկարագրությունը`
C21: «Հայջրմուղկոյուղի», «Լոռի-ջրմուղկոյուղի», Նոր Ակունք» ՓԲԸ-ների հարկային պարտավորությունների մարում և հարկադիր կատարման ծառայությունների վճարում
C22: Միջոցառման տեսակը
C23: Ծառայությունների մատուցում

Sheet 4
H1: Հավելված N 4
A2: ՀՀ կառավարության 2020 թվականի
A3: -ի N -Ն որոշման
A4: ՀԱՅԱՍՏԱՆԻ ՀԱՆՐԱՊԵՏՈՒԹՅԱՆ ԿԱՌԱՎԱՐՈՒԹՅԱՆ 2019 ԹՎԱԿԱՆԻ ԴԵԿՏԵՄԲԵՐԻ 26-Ի N 1919-Ն ՈՐՈՇՄԱՆ N 3 և N 4 ՀԱՎԵԼՎԱԾՆԵՐՈՒՄ ԿԱՏԱՐՎՈՂ ՓՈՓՈԽՈՒԹՅՈՒՆՆԵՐԸ ԵՎ ԼՐԱՑՈՒՄՆԵՐԸ
H5: (հազ. դրամ)
A6: Գործառական դասիչը | D6: Ծրագրային դասիչը | F6: Բյուջետային ծախսերի գործառական դասակարգման բաժինների, խմբերի և դասերի, բյուջետային ծրագրերի միջոցառումների, բյուջետային հատկացումների գլխավոր կարգադրիչների անվանումները | G6: Ցուցանիշների փոփոխությունը (ավելացումները նշված են դրական նշանով
G7: Ինն ամիս | H7: Տարի
A8: Բաժին | B8: Խումբ | C8: Դաս | D8: Ծրագիր | E8: Միջոցա ռում
F9: ԸՆԴԱՄԵՆԸ ԾԱԽՍԵՐ | G9: =G17 -> 145725.45 | H9: =H17 -> 145725.45
F10: այդ թվում`
A11: 06 | F11: ԲՆԱԿԱՐԱՆԱՅԻՆ ՇԻՆԱՐԱՐՈՒԹՅՈՒՆ ԵՎ ԿՈՄՈՒՆԱԼ ԾԱՌԱՅՈՒԹՅՈՒՆՆԵՐ | G11: =G13 -> 145725.45 | H11: =H13 -> 145725.45
F12: այդ թվում`
B13: 03 | F13: Ջրամատակարարում | G13: =G15 -> 145725.45 | H13: =H15 -> 145725.45
F14: այդ թվում`
C15: 01 | F15: Ջրամատակարարում | G15: =G19 -> 145725.45 | H15: =H19 -> 145725.45
F16: այդ թվում`
F17: ՀՀ տարածքային կառավարման և ենթակառուցվածքների նախարարություն | G17: =G19 -> 145725.45 | H17: =H19 -> 145725.45
F18: այդ թվում`
D19: 1072 | F19: Ջրամատակարարաման և ջրահեռացման բարելավում | G19: =G21 -> 145725.45 | H19: =H21 -> 145725.45
F20: այդ թվում`
E21: 11006 | F21: ='3'!C19 -> Խմելու ջուր մատակարարող ընկերություններին առողջացման նպատակով ֆինանսական աջակցության տրամադրում | G21: =G23 -> 145725.45 | H21: =H23 -> 145725.45
F22: այդ թվում` ըստ կատարողների
F23: ՀՀ տարածքային կառավարման և ենթակառուցվածքների նախարարության ջրային կոմիտե | G23: =G25 -> 145725.45 | H23: =H25 -> 145725.45
F24: այդ թվում` բյուջետային ծախսերի տնտեսագիտական դասակարգման հոդվածներ
F25: ԸՆԴԱՄԵՆԸ ԾԱԽՍԵՐ | G25: =G26 -> 145725.45 | H25: =H26 -> 145725.45
F26: ԸՆԹԱՑԻԿ ԾԱԽՍԵՐ | G26: =G27 -> 145725.45 | H26: =H27 -> 145725.45
F27: ԴՐԱՄԱՇՆՈՐՀՆԵՐ | G27: =G28 -> 145725.45 | H27: =H28 -> 145725.45
F28: - Ընթացիկ դրամաշնորհներ պետական և համայնքային առևտրային կազմակերպություններին | G28: ='3'!D18 -> 145725.45 | H28: =G28 -> 145725.45

Sheet 5
G1: Հավելված N 5
A2: ՀՀ կառավարության 2020 թվականի
D3: -ի N -Ն որոշման
A5: ՀԱՅԱՍՏԱՆԻ ՀԱՆՐԱՊԵՏՈՒԹՅԱՆ ԿԱՌԱՎԱՐՈՒԹՅԱՆ 2019 ԹՎԱԿԱՆԻ ԴԵԿՏԵՄԲԵՐԻ 26-Ի N 1919-Ն ՈՐՈՇՄԱՆ N 5 ՀԱՎԵԼՎԱԾԻ N 7 ԱՂՅՈՒՍԱԿՈՒՄ ԿԱՏԱՐՎՈՂ ԼՐԱՑՈՒՄՆԵՐԸ
G7: (հազ. դրամ)
A8: Ծրագրային դասիչ | C8: Բյուջետային հատկացումների գլխավոր կարգադրիչների, ծրագրերի, միջոցառումների, ծախսային ուղղությունների անվանումները | F8: Միջոցառումները կատարող պետական մարմինների և դրամաշնորհ ստացող տնտեսվարող սուբյեկտների անվանումները | G8: Ցուցանիշների փոփոխությունը (ավելացումները նշված են դրական նշանով
A9: Ծրագիր | B9: Միջոցառում | G9: Տարի
A10: 1 | B10: 2 | C10: 3 | F10: 4 | G10: 5
A11: ՀՀ տարածքային կառավարման և ենթակառուցվածքների նախարարություն | G11: =G12 -> 145725.4
A12: 1072 | B12: Ջրամատակարարաման և ջրահեռացման բարելավում | G12: =G13 -> 145725.4
B13: 11006 | C13: Խմելու ջուր մատակարարող ընկերություններին առողջացման նպատակով ֆինանսական աջակցության տրամադրում | F13: ՀՀ տարածքային կառավարման և ենթակառուցվածքների ջրային կոմիտե | G13: =G14+G15+G16 -> 145725.4
F14: «Հայջրմուղկոյուղի» ՓԲԸ | G14: 84025.2
F15: «Լոռի-ջրմուղկոյուղի» ՓԲԸ | G15: 59119.8
F16: «Նոր Ակունք» ՓԲԸ | G16: 2580.4

Sheet 6.1
D1: Հավելված N 6
D2: ՀՀ կառավարության 2020 թվականի
D3: -ի N -Ն որոշման
C5: Աղյուսակ 1
A6: ՅԱՍՏԱՆԻ ՀԱՆՐԱՊԵՏՈՒԹՅԱՆ ԿԱՌԱՎԱՐՈՒԹՅԱՆ 2019 ԹՎԱԿԱՆԻ ԴԵԿՏԵՄԲԵՐԻ 26-Ի N 1919-Ն ՈՐՈՇՄԱՆ N 9 ՀԱՎԵԼՎԱԾԻ N 9.8 ԱՂՅՈՒՍԱԿՈՒՄ ԿԱՏԱՐՎՈՂ ՓՈՓՈԽՈՒԹՅՈՒՆՆԵՐԸ ԵՎ ԼՐԱՑՈՒՄՆԵՐԸ
A8: ՀՀ տարածքային կառավարման և ենթակառուցվածքների նախարարություն
A9: ՄԱՍ 2. ՊԵՏԱԿԱՆ ՄԱՐՄՆԻ ԳԾՈՎ ԱՐԴՅՈՒՆՔԱՅԻՆ (ԿԱՏԱՐՈՂԱԿԱՆ) ՑՈՒՑԱՆԻՇՆԵՐԸ
A10: Ծրագրի դասիչը` | B10: 1072 | C10: Ցուցանիշների փոփոխությունը (ավելացումները նշված են դրական նշանով)
A11: Միջոցառման դասիչը` | B11: 11006 | C11: Ինն ամիս | D11: Տարի
A12: Միջոցառման անվանումը` | B12: ='3'!C19 -> Խմելու ջուր մատակարարող ընկերություններին առողջացման նպատակով ֆինանսական աջակցության տրամադրում
A13: Նկարագրությունը` | B13: ='3'!C21 -> «Հայջրմուղկոյուղի», «Լոռի-ջրմուղկոյուղի», Նոր Ակունք» ՓԲԸ-ների հարկային պարտավորությունների մարում և հարկադիր կատարման ծառայությունների վճարում
A14: Միջոցառման տեսակը` | B14: ='3'!C23 -> Ծառայությունների մատուցում
A15: Միջոցառումն իրականացնողի անվանումը | B15: ՀՀ ՏԿԵՆ ջրային կոմիտե
A16: Արդյունքի չափորոշիչներ
A17: Ֆինանսական աջակցություն ստացած ընկերություններ, հատ | C17: 3 | D17: 3
A18: Միջոցառման վրա կատարվող ծախսը (հազար դրամ) | C18: ='4'!G28 -> 145725.45 | D18: =C18 -> 145725.45

Sheet 6.2
C1: Աղյուսակ 2
A2: ՀԱՅԱՍՏԱՆԻ ՀԱՆՐԱՊԵՏՈՒԹՅԱՆ ԿԱՌԱՎԱՐՈՒԹՅԱՆ 2019 ԹՎԱԿԱՆԻ ԴԵԿՏԵՄԲԵՐԻ 29-Ի N 1919-Ն ՈՐՈՇՄԱՆ N 9.1 ՀԱՎԵԼՎԱԾԻ N 9.1.26 ԱՂՅՈՒՍԱԿՈՒՄ ԿԱՏԱՐՎՈՂ ՓՈՓՈԽՈՒԹՅՈՒՆՆԵՐԸ ԵՎ ԼՐԱՑՈՒՄՆԵՐԸ
A4: ՀՀ տարածքային կառավարման և ենթակառուցվածքների նախարարության ջրային կոմիտե
A5: ՄԱՍ 1. ՊԵՏԱԿԱՆ ՄԱՐՄՆԻ ԳԾՈՎ ԱՐԴՅՈՒՆՔԱՅԻՆ (ԿԱՏԱՐՈՂԱԿԱՆ) ՑՈՒՑԱՆԻՇՆԵՐԸ
A6: Ծրագրի դասիչը` | B6: 1072 | C6: Ցուցանիշների փոփոխությունը (ավելացումները նշված են դրական նշանով)
A7: Միջոցառման դասիչը` | B7: 11006 | C7: Ինն ամիս | D7: Տարի
A8: Միջոցառման անվանումը` | B8: ='6.1'!B12 -> Խմելու ջուր մատակարարող ընկերություններին առողջացման նպատակով ֆինանսական աջակցության տրամադրում
A9: Նկարագրությունը` | B9: ='6.1'!B13 -> «Հայջրմուղկոյուղի», «Լոռի-ջրմուղկոյուղի», Նոր Ակունք» ՓԲԸ-ների հարկային պարտավորությունների մարում և հարկադիր կատարման ծառայությունների վճարում
A10: Միջոցառման տեսակը` | B10: ='6.1'!B14 -> Ծառայությունների մատուցում
A11: Միջոցառումն իրականացնողի անվանումը | B11: ՀՀ ՏԿԵՆ ջային կոմիտե
A12: Արդյունքի չափորոշիչներ
A13: Ֆինանսական աջակցություն ստացած ընկերություններ, հատ | C13: 3 | D13: 3
A14: Միջոցառման վրա կատարվող ծախսը (հազար դրամ) | C14: ='6.1'!C18 -> 145725.45 | D14: =C14 -> 145725.45
