Workbook
Name AgencyCode: #REF!
Name AgencyCode: #REF!
Name AgencyCode: #REF!
Name AgencyName: #REF!
Name AgencyName: #REF!
Name AgencyName: #REF!
Name Functional1: #REF!
Name Functional1: #REF!
Name Functional1: #REF!
Name havelvac: #REF!
Name havelvac: #REF!
Name PANature: #REF!
Name PANature: #REF!
Name PANature: #REF!
Name PAType: #REF!
Name PAType: #REF!
Name PAType: #REF!
Name Performance2: #REF!
Name Performance2: #REF!
Name Performance2: #REF!
Name PerformanceType: #REF!
Name PerformanceType: #REF!
Name PerformanceType: #REF!
Name sheet1: #REF!
Name գնումներ: #REF!
Name հավ5: #REF!

Sheet 1
E1: Հավելված 1
E2: ՀՀ կառավարության 2020 թվականի
E3: ___________ ___-ի N _______ -Ն որոշման
A6: «ՀԱՅԱUՏԱՆԻ ՀԱՆՐԱՊԵՏՈՒԹՅԱՆ 2020 ԹՎԱԿԱՆԻ ՊԵՏԱԿԱՆ ԲՅՈՒՋԵԻ ՄԱUԻՆ» ՀԱՅԱUՏԱՆԻ ՀԱՆՐԱՊԵՏՈՒԹՅԱՆ OՐԵՆՔԻ N 1 ՀԱՎԵԼՎԱԾԻ N 2 ԱՂՅՈՒՍԱԿՈՒՄ ԿԱՏԱՐՎՈՂ ՎԵՐԱԲԱՇԽՈՒՄԸ ԵՎ ՀԱՅԱՍՏԱՆԻ ՀԱՆՐԱՊԵՏՈՒԹՅԱՆ ԿԱՌԱՎԱՐՈՒԹՅԱՆ 2019 ԹՎԱԿԱՆԻ ԴԵԿՏԵՄԲԵՐԻ 26-Ի N 1919-Ն ՈՐՈՇՄԱՆ N5 ՀԱՎԵԼՎԱԾԻ N1 ԱՂՅՈՒՍԱԿՈՒՄ ԿԱՏԱՐՎՈՂ ՓՈՓՈԽՈՒԹՅՈՒՆՆԵՐԸ ԵՎ ԼՐԱՑՈՒՄՆԵՐԸ
E8: հազ. դրամներով
A9: Ծրագրային դասիչը | C9: Բյուջետային հատկացումների գլխավոր կարգադրիչների, ծրագրերի և միջոցառումների անվանումները | D9: Ցուցանիշների փոփոխությունները (Ավելացումները նշված են դրական նշանով,իսկ նվազեցումները՝ փակագծերում)
A10: Ծրագիր | B10: Միջոցառում | D10: Ինն ամիս | E10: Տարի
C11: ԸՆԴԱՄԵՆԸ | D11: =+D12+D57 -> 0 | E11: =+E12+E57 -> 0
B12: ՀՀ արտակարգ իրավիճակների նախարարություն | D12: =+D13 -> 0 | E12: =+E13 -> 0
A13: 1090 | C13: Ծրագրի անվանումը` | D13: =+D20+D26 -> 0 | E13: =+E20+E26 -> 0
C14: Փրկարարական ծառայություններ
C15: Ծրագրի նպատակը`
C16: Արտակարգ իրավիճակների արդյունավետ արձագանք
C17: Վերջնական արդյունքի նկարագրությունը`
C18: Արտակարգ իրավիճակների հնարավոր դեպքերի կանխում՝ դրանց ժամանակին արձագանքում՝ հետևանքների նվազեցում և բնակչության պաշտպանություն
C19: Ծրագրի միջոցառումներ
B20: 11001 | C20: Միջոցառման անվանումը՝ | D20: =+'2'!G17 -> -17510 | E20: -29500
C21: Փրկարարական ծառայություններ
C22: Միջոցառման նկարագրությունը՝
C23: Հրդեհաշիջման, հակահրդեհային քարոզչության, բնական և տեխնածին աղետների ժամանակ բնակչության և կառույցների պաշտպանություն
C24: Միջոցառման տեսակը՝
C25: Ծառայությունների մատուցում
B26: 11001 | C26: Միջոցառման անվանումը՝ | D26: =+'2'!G33 -> 17510 | E26: 29500
C27: Փրկարարական ծառայություններ
C28: Միջոցառման նկարագրությունը՝
C29: Հրդեհաշիջման, հակահրդեհային քարոզչության, բնական և տեխնածին աղետների ժամանակ բնակչության և կառույցների պաշտպանություն
C30: Միջոցառման տեսակը՝
C31: Ծառայությունների մատուցում
A32: 1112 | C32: Ծրագրի անվանումը` | D32: =+D39+D46+D51 -> 0 | E32: =+E39+E46+E51 -> 0
C33: Արտակարգ իրավիճակների բնագավառի պետական քաղաքականության մշակում, ծրագրերի համակարգում և մոնիտորինգ
C34: Ծրագրի նպատակը`
C35: Արտակարգ իրավիճակների բնագավառում պետական արդյունավետ քաղաքականության մշակման և իրականացման ապահովում
C36: Վերջնական արդյունքի նկարագրությունը`
C37: Արտակարգ իրավիճակների քաղաքականության իրագործմանն ուղղված ծրագրերի ազդեցության և արդյունավետության բարելավում
A38: Ծրագրի միջոցառումներ
B39: 11001 | C39: Միջոցառման անվանումը` | D39: =+'2'!G46 -> -2549.5 | E39: =+'2'!H46 -> -5039.2
C40: Արտակարգ իրավիճակների բնագավառում քաղաքականության մշակում, խորհրդատվական ծառայությունների տրամադրում և մոնիտորինգի իրականացում
C41: Միջոցառման նկարագրությունը`
C42: Արտակարգ իրավիճակների բնագավառում քաղաքականության մշակում, խորհրդատվական ծառայությունների տրամադրում և մոնիտորինգի իրականացում
C43: Միջոցառման տեսակը
C44: Ծառայությունների մատուցում
B45: 31001 | C45: Միջոցառման անվանումը՝
C46: Արտակարգ իրավիճակների նախարարության տեխնիկական հագեցվածության բարելավում | D46: =+'2'!G60 -> -449.4 | E46: =+'2'!H60 -> -898.8
C47: Միջոցառման նկարագրությունը՝
C48: Արտակարգ իրավիճակների նախարարության աշխատակազմի աշխատանքային պայմանների բարելավման համար վարչական սարքավորումների ձեռքբերում
C49: Միջոցառման տեսակը՝
C50: Պետական մարմինների կողմից ոչ ֆինանասական ակտիվների հետ գործառնություններ
B51: 31001 | C51: Միջոցառման անվանումը՝ | D51: =+'2'!G69 -> 2998.9 | E51: =+'2'!H69 -> 5938
C52: Արտակարգ իրավիճակների նախարարության տեխնիկական հագեցվածության բարելավում
C53: Միջոցառման նկարագրությունը՝
C54: Արտակարգ իրավիճակների նախարարության աշխատակազմի աշխատանքային պայմանների բարելավման համար վարչական սարքավորումների ձեռքբերում
C55: Միջոցառման տեսակը՝
C56: Պետական մարմինների կողմից ոչ ֆինանասական ակտիվների հետ գործառնություններ
C57: ՀՀ կառավարություն | D57: 0 | E57: 0
A58: 1139 | C58: Ծրագրի անվանումը` | D58: =D65+D71 -> 0 | E58: =E65+E71 -> 0
C59: ՀՀ կառավարության պահուստային ֆոնդ
C60: Ծրագրի նպատակը`
C61: Պետական բյուջեում չկանխատեսված, ինչպես նաև բյուջետային երաշխիքների ապահովման ծախսերի ֆինանսավորման ապահովում
C62: Վերջնական արդյունքի նկարագրությունը`
C63: Պահուստային ֆոնդի կառավարման արդյունավետության և թափանցիկության ապահովում
A64: Ծրագրի միջոցառումներ
B65: 11001 | C65: Միջոցառման անվանումը` | D65: =+'2'!G88 -> 20508.9 | E65: =+'2'!H88 -> 35438
C66: ՀՀ կառավարության պահուստային ֆոնդ
C67: Միջոցառման նկարագրությունը`
C68: ՀՀ պետական բյուջեում նախատեսված ելքերի լրացուցիչ ֆինանսավորման՝ պետական բյուջեում չկանխատեսված ելքերի, ինչպես նաև բյուջետային երաշխիքների ապահովման ելքերի ֆինանսավորման ապահովում
C69: Միջոցառման տեսակը
C70: Ծառայությունների մատուցում
B71: 11001 | C71: Միջոցառման անվանումը` | D71: =+'2'!G96 -> -20508.9 | E71: =+'2'!H96 -> -35438
C72: ՀՀ կառավարության պահուստային ֆոնդ
C73: Միջոցառման նկարագրությունը`
C74: ՀՀ պետական բյուջեում նախատեսված ելքերի լրացուցիչ ֆինանսավորման՝ պետական բյուջեում չկանխատեսված ելքերի, ինչպես նաև բյուջետային երաշխիքների ապահովման ելքերի ֆինանսավորման ապահովում
C75: Միջոցառման տեսակը
C76: Ծառայությունների մատուցում
A79: ՀԱՅԱՍՏԱՆԻ ՀԱՆՐԱՊԵՏՈՒԹՅԱՆ ՎԱՐՉԱՊԵՏԻ ԱՇԽԱՏԱԿԱԶՄԻ
A80: ՂԵԿԱՎԱՐ Է. ԱՂԱՋԱՆՅԱՆ

Sheet 2
F1: Հավելված 2
D2: ՀՀ կառավարության 2020 թվականի
D3: ___________ ___-ի N _______ -Ն որոշման
A5: ՀԱՅԱՍՏԱՆԻ ՀԱՆՐԱՊԵՏՈՒԹՅԱՆ ԿԱՌԱՎԱՐՈՒԹՅԱՆ 2019 ԹՎԱԿԱՆԻ ԴԵԿՏԵՄԲԵՐԻ 26-Ի N 1919-Ն ՈՐՈՇՄԱՆ N 3 ԵՎ N 4 ՀԱՎԵԼՎԱԾՆԵՐՈՒՄ ԿԱՏԱՐՎՈՂ ՓՈՓՈԽՈՒԹՅՈՒՆՆԵՐԸ
A7: Գործառական դասիչը | D7: Ծրագրային դասիչը | F7: Բյուջետային ծախսերի գործառական դասակարգման բաժինների, խմբերի և դասերի, բյուջետային հատկացումների գլխավոր կարգադրիչների, ծրագրերի, միջոցառումների և միջոցառումները կատարող պետական մարմինների անվանումները | G7: Ցուցանիշների փոփոխությունները (Ավելացումները նշված են դրական նշանով,իսկ նվազեցումները՝ փակագծերում)
A8: Բաժին | B8: Խումբ | C8: Դաս | D8: Ծրագիր | E8: Միջոցառում | G8: Ինն ամիս | H8: Տարի
A9: 03 | F9: ՀԱՍԱՐԱԿԱԿԱՆ ԿԱՐԳ, ԱՆՎՏԱՆԳՈՒԹՅՈՒՆ ԵՎ ԴԱՏԱԿԱՆ ԳՈՐԾՈՒՆԵՈՒԹՅՈՒՆ | G9: =+G11 -> 0 | H9: =+H11 -> 0
F10: այդ թվում`
B11: 02 | F11: Փրկարար ծառայություն | G11: =+G13 -> 0 | H11: =+H13 -> 0
F12: այդ թվում`
C13: 01 | F13: Փրկարար ծառայություն | G13: =+G15 -> 0 | H13: =+H15 -> 0
F14: այդ թվում
D15: 1090 | F15: Փրկարարական ծառայություններ | G15: =+G33+G17 -> 0 | H15: =+H33+H17 -> 0
F16: այդ թվում`
E17: 11001 | F17: Փրկարարական ծառայություններ | G17: =+G19 -> -17510 | H17: =+H19 -> -29500
F18: այդ թվում` ըստ կատարողների
F19: ՀՀ արտակարգ իրավիճակների նախարարություն | G19: =+G21 -> -17510 | H19: =+H21 -> -29500
F20: այդ թվում` բյուջետային ծախսերի տնտեսագիտական դասակարգման հոդվածներ
F21: ԸՆԴԱՄԵՆԸ ԾԱԽՍԵՐ | G21: =+G22 -> -17510 | H21: =+H22 -> -29500
F22: ԸՆԹԱՑԻԿ ԾԱԽՍԵՐ | G22: =+G23 -> -17510 | H22: =+H23 -> -29500
F23: ԾԱՌԱՅՈՒԹՅՈՒՆՆԵՐԻ ԵՎ ԱՊՐԱՆՔՆԵՐԻ ՁԵՌՔԲԵՐՈՒՄ | G23: =+G24+G26+G28 -> -17510 | H23: =+H24+H26+H28 -> -29500
F24: Պայմանագրային այլ ծառայությունների ձեռքբերում | G24: =+G25 -> -137.5 | H24: =+H25 -> -275 | K24: =+H23+29500 -> 0
F25: -Տեղեկատվական ծառայություններ | G25: -137.5 | H25: -275
F26: Ընթացիկ նորոգում և պահպանում (ծառայություններ և նյութեր) | G26: =+G27 -> -75 | H26: =+H27 -> -151.7
F27: - Շենքերի և կառույցների ընթացիկ նորոգում և պահպանում | G27: -75 | H27: -151.7
F28: Նյութեր (Ապրանքներ) | G28: =+G29+G30+G31+G32 -> -17297.5 | H28: =+H29+H30+H31+H32 -> -29073.3
F29: -Գրասենյակային նյութեր և հագուստ | G29: -198 | H29: -399
F30: - Տրանսպորտային նյութեր | G30: -16349.5 | H30: -27173.8
F31: - Կենցաղային և հանրային սննդի նյութեր | G31: -122 | H31: -244
F32: -Հատուկ նպատակային այլ նյութեր | G32: -628 | H32: -1256.5
E33: 11001 | F33: Փրկարարական ծառայություններ | G33: =+G35 -> 17510 | H33: =+H35 -> 29500
F34: այդ թվում` ըստ կատարողների
F35: ՀՀ արտակարգ իրավիճակների նախարարություն | G35: =+G37 -> 17510 | H35: =+H37 -> 29500
F36: այդ թվում` բյուջետային ծախսերի տնտեսագիտական դասակարգման հոդվածներ
F37: ԸՆԴԱՄԵՆԸ ԾԱԽՍԵՐ | G37: =+G38 -> 17510 | H37: =+H38 -> 29500
F38: ԸՆԹԱՑԻԿ ԾԱԽՍԵՐ | G38: =+G39 -> 17510 | H38: =+H39 -> 29500
F39: ԾԱՌԱՅՈՒԹՅՈՒՆՆԵՐԻ ԵՎ ԱՊՐԱՆՔՆԵՐԻ ՁԵՌՔԲԵՐՈՒՄ | G39: =+G40 -> 17510 | H39: =+H40 -> 29500
F40: Նյութեր (Ապրանքներ) | G40: =+G41+G42+G43 -> 17510 | H40: =+H41+H42+H43 -> 29500
F41: -Գրասենյակային նյութեր և հագուստ | G41: 11990 | H41: 23980
F42: -Առողջապահական և լաբորատոր նյութեր | G42: 5000 | H42: 5000
F43: -Հատուկ նպատակային այլ նյութեր | G43: 520 | H43: 520
D44: 1112 | F44: Արտակարգ իրավիճակների բնագավառի պետական քաղաքականության մշակում, ծրագրերի համակարգում և մոնիտորինգ | G44: =+G46+G60+G69 -> 0 | H44: =+H46+H60+H69 -> 0
F45: այդ թվում`
E46: 11001 | F46: Արտակարգ իրավիճակների բնագավառում քաղաքականության մշակում, խորհրդատվական ծառայությունների տրամադրում և մոնիտորինգի իրականացում | G46: =+G48 -> -2549.5 | H46: =+H48 -> -5039.2
F47: այդ թվում` ըստ կատարողների
F48: ՀՀ արտակարգ իրավիճակների նախարարություն | G48: =+G50 -> -2549.5 | H48: =+H50 -> -5039.2
F49: այդ թվում` բյուջետային ծախսերի տնտեսագիտական դասակարգման հոդվածներ
F50: ԸՆԴԱՄԵՆԸ ԾԱԽՍԵՐ | G50: =+G51 -> -2549.5 | H50: =+H51 -> -5039.2
F51: ԸՆԹԱՑԻԿ ԾԱԽՍԵՐ | G51: =+G52 -> -2549.5 | H51: =+H52 -> -5039.2
F52: ԾԱՌԱՅՈՒԹՅՈՒՆՆԵՐԻ ԵՎ ԱՊՐԱՆՔՆԵՐԻ ՁԵՌՔԲԵՐՈՒՄ | G52: =+G53+G55+G57 -> -2549.5 | H52: =+H53+H55+H57 -> -5039.2
F53: Շարունակական ծախսեր | G53: =+G54 -> -1018.9 | H53: =+H54 -> -2037.8
F54: - Կապի ծառայություններ | G54: -1018.9 | H54: -2037.8
F55: Ընթացիկ նորոգում և պահպանում (ծառայություններ և նյութեր) | G55: =+G56 -> -75 | H55: =+H56 -> -150.2
F56: - Շենքերի և կառույցների ընթացիկ նորոգում և պահպանում | G56: -75 | H56: -150.2
F57: Նյութեր (Ապրանքներ) | G57: =+G58+G59 -> -1455.6 | H57: =+H58+H59 -> -2851.2
F58: -Գրասենյակային նյութեր և հագուստ | G58: -261 | H58: -462
F59: - Տրանսպորտային նյութեր | G59: -1194.6 | H59: -2389.2
E60: 31001 | F60: Արտակարգ իրավիճակների նախարարության տեխնիկական հագեցվածության բարելավում | G60: =+G62 -> -449.4 | H60: =+H62 -> -898.8
F61: այդ թվում` ըստ կատարողների
F62: ՀՀ արտակարգ իրավիճակների նախարարություն | G62: =+G64 -> -449.4 | H62: =+H64 -> -898.8
F63: այդ թվում` բյուջետային ծախսերի տնտեսագիտական դասակարգման հոդվածներ
F64: ԸՆԴԱՄԵՆԸ ԾԱԽՍԵՐ | G64: =+G65 -> -449.4 | H64: =+H65 -> -898.8
F65: ՈՉ ՖԻՆԱՆՍԱԿԱՆ ԱԿՏԻՎՆԵՐԻ ԳԾՈՎ ԾԱԽՍԵՐ | G65: =+G66 -> -449.4 | H65: =+H66 -> -898.8
F66: ՀԻՄՆԱԿԱՆ ՄԻՋՈՑՆԵՐ | G66: =+G67 -> -449.4 | H66: =+H67 -> -898.8
F67: ՄԵՔԵՆԱՆԵՐ ԵՎ ՍԱՐՔԱՎՈՐՈՒՄՆԵՐ | G67: =+G68 -> -449.4 | H67: =+H68 -> -898.8
F68: - Վարչական սարքավորումներ | G68: -449.4 | H68: -898.8
E69: 31001 | F69: Արտակարգ իրավիճակների նախարարության տեխնիկական հագեցվածության բարելավում | G69: =+G71 -> 2998.9 | H69: =+H71 -> 5938
F70: այդ թվում` ըստ կատարողների
F71: ՀՀ արտակարգ իրավիճակների նախարարություն | G71: =+G73 -> 2998.9 | H71: =+H73 -> 5938
F72: այդ թվում` բյուջետային ծախսերի տնտեսագիտական դասակարգման հոդվածներ
F73: ԸՆԴԱՄԵՆԸ ԾԱԽՍԵՐ | G73: =+G74 -> 2998.9 | H73: =+H74 -> 5938
F74: ՈՉ ՖԻՆԱՆՍԱԿԱՆ ԱԿՏԻՎՆԵՐԻ ԳԾՈՎ ԾԱԽՍԵՐ | G74: =+G75 -> 2998.9 | H74: =+H75 -> 5938
F75: ՀԻՄՆԱԿԱՆ ՄԻՋՈՑՆԵՐ | G75: =+G76 -> 2998.9 | H75: =+H76 -> 5938
F76: ՄԵՔԵՆԱՆԵՐ ԵՎ ՍԱՐՔԱՎՈՐՈՒՄՆԵՐ | G76: =+G77 -> 2998.9 | H76: =+H77 -> 5938
F77: - Վարչական սարքավորումներ | G77: 2998.9 | H77: 5938
A78: 11 | F78: ՀԻՄՆԱԿԱՆ ԲԱԺԻՆՆԵՐԻՆ ՉԴԱՍՎՈՂ ՊԱՀՈՒՍՏԱՅԻՆ ՖՈՆԴԵՐ | G78: =G80 -> 0 | H78: =H80 -> 0
F79: այդ թվում`
B80: 01 | F80: ՀՀ կառավարության և համայնքների պահուստային ֆոնդ | G80: =G82 -> 0 | H80: =H82 -> 0
F81: այդ թվում`
C82: 01 | F82: ՀՀ կառավարության պահուստային ֆոնդ | G82: =G84 -> 0 | H82: =H84 -> 0
F83: այդ թվում`
F84: ՀՀ կառավարություն | G84: =G86 -> 0 | H84: =H86 -> 0
F85: այդ թվում`
D86: 1139 | F86: ՀՀ կառավարության պահուստային ֆոնդ | G86: =G96+G88 -> 0 | H86: =H96+H88 -> 0
F87: այդ թվում`
E88: 11001 | F88: ՀՀ կառավարության պահուստային ֆոնդ | G88: =G90 -> 20508.9 | H88: =H90 -> 35438
F89: այդ թվում` ըստ կատարողների
F90: ՀՀ կառավարություն | G90: =G92 -> 20508.9 | H90: =H92 -> 35438
F91: այդ թվում` բյուջետային ծախսերի տնտեսագիտական դասակարգման հոդվածներ
F92: ԸՆԴԱՄԵՆԸ ԾԱԽՍԵՐ | G92: =G93 -> 20508.9 | H92: =H93 -> 35438
F93: ԸՆԹԱՑԻԿ ԾԱԽՍԵՐ | G93: =G94 -> 20508.9 | H93: =H94 -> 35438
F94: ԱՅԼ ԾԱԽՍԵՐ | G94: =G95 -> 20508.9 | H94: =H95 -> 35438
F95: Պահուստային միջոցներ | G95: =+-(G17+G46+G60) -> 20508.9 | H95: =+-(H17+H46+H60) -> 35438
E96: 11001 | F96: ՀՀ կառավարության պահուստային ֆոնդ | G96: =G98 -> -20508.9 | H96: =H98 -> -35438
F97: այդ թվում` ըստ կատարողների
F98: ՀՀ կառավարություն | G98: =G100 -> -20508.9 | H98: =H100 -> -35438
F99: այդ թվում` բյուջետային ծախսերի տնտեսագիտական դասակարգման հոդվածներ
F100: ԸՆԴԱՄԵՆԸ ԾԱԽՍԵՐ | G100: =G101 -> -20508.9 | H100: =H101 -> -35438
F101: ԸՆԹԱՑԻԿ ԾԱԽՍԵՐ | G101: =G102 -> -20508.9 | H101: =H102 -> -35438
F102: ԱՅԼ ԾԱԽՍԵՐ | G102: =G103 -> -20508.9 | H102: =H103 -> -35438
...

Sheet 3
C1: Հավելված N3
D2: ՀՀ կառավարության 2020 թվականի
C3: ___________ ___-ի N _______ -Ն որոշման
A5: ՀԱՅԱՍՏԱՆԻ ՀԱՆՐԱՊԵՏՈՒԹՅԱՆ ԿԱՌԱՎԱՐՈՒԹՅԱՆ 2019ԹՎԱԿԱՆԻ ԴԵԿՏԵՄԲԵՐԻ 26-Ի ԹԻՎ 1919-Ն ՈՐՈՇՄԱՆ N9 ՀԱՎԵԼՎԱԾԻ 9.19 ԵՎ 9.47 ԱՂՅՈՒՍԱԿՆԵՐՈՒՄ ԿԱՏԱՐՎՈՂ ՓՈՓՈԽՈՒԹՅՈՒՆՆԵՐԸ ԵՎ ԼՐԱՑՈՒՄՆԵՐԸ
A7: ՀՀ արտակարգ իրավիճակների նախարարություն
A9: ՄԱՍ 2. ՊԵՏԱԿԱՆ ՄԱՐՄՆԻ ԳԾՈՎ ԱՐԴՅՈՒՆՔԱՅԻՆ (ԿԱՏԱՐՈՂԱԿԱՆ) ՑՈՒՑԱՆԻՇՆԵՐԸ
A10: Ծրագրի դասիչը | B10: Ծրագրի անվանումը
A11: 1090 | B11: Փրկարարական ծառայություններ
A12: Ծրագրի միջոցառումները
A13: Ծրագրի դասիչը՝ | B13: 1090 | C13: Ցուցանիշների փոփոխությունը (նվազեցումները նշված են փակագծերում)
A14: Միջոցառման դասիչը՝ | B14: 11001 | C14: Ինն ամիս | D14: Տարի
A15: Միջոցառման անվանումը՝ | B15: Փրկարարական ծառայություններ
A16: Նկարագրությունը՝ | B16: Հրդեհաշիջման, հակահրդեհային քարոզչության, բնական և տեխնածին աղետների ժամանակ բնակչության և կառույցների պաշտպանություն
A17: Միջոցառման տեսակը՝ | B17: Ծառայությունների մատուցում
A18: Միջոցառումն իրականացնողի անվանումը` | B18: ՀՀ արտակարգ իրավիճակների նախարարություն
A19: Արդյունքի չափորոշիչներ
A20: Øß³ÏíáÕ ÝáñÙ³ïÇí Çñ³í³Ï³Ý ³Ïï»ñÇ Ý³Ë³·Í»ñÇ ù³Ý³Ï, Ñ³ï
A21: Ð³Ù³Ï³ñ·íáÕ, Çñ³Ï³Ý³óíáÕ ¨ í»ñ³ÑëÏÙ³Ý »ÝÃ³ñÏíáÕ ÙÇçáó³éáõÙÝ»ñÇ ù³Ý³Ï, Ñ³ï
A22: Միջոցառման վրա կատարվող ծախսը (հազար դրամ) | C22: =+'2'!G17 -> -17510 | D22: =+'2'!H17 -> -29500
A23: Ծրագրի դասիչը՝ | B23: 1090 | C23: Ցուցանիշների փոփոխությունը (ավելացումները նշված են դրական նշանով)
A24: Միջոցառման դասիչը՝ | B24: 11001 | C24: Ինն ամիս | D24: Տարի
A25: Միջոցառման անվանումը՝ | B25: Փրկարարական ծառայություններ
A26: Նկարագրությունը՝ | B26: Հրդեհաշիջման, հակահրդեհային քարոզչության, բնական և տեխնածին աղետների ժամանակ բնակչության և կառույցների պաշտպանություն
A27: Միջոցառման տեսակը՝ | B27: Ծառայությունների մատուցում
A28: Միջոցառումն իրականացնողի անվանումը` | B28: ՀՀ արտակարգ իրավիճակների նախարարություն
A29: Արդյունքի չափորոշիչներ
A30: Øß³ÏíáÕ ÝáñÙ³ïÇí Çñ³í³Ï³Ý ³Ïï»ñÇ Ý³Ë³·Í»ñÇ ù³Ý³Ï, Ñ³ï
A31: Ð³Ù³Ï³ñ·íáÕ, Çñ³Ï³Ý³óíáÕ ¨ í»ñ³ÑëÏÙ³Ý »ÝÃ³ñÏíáÕ ÙÇçáó³éáõÙÝ»ñÇ ù³Ý³Ï, Ñ³ï
A32: Միջոցառման վրա կատարվող ծախսը (հազար դրամ) | C32: =+'2'!G33 -> 17510 | D32: =+'2'!H33 -> 29500
A33: Ծրագրի դասիչը | B33: Ծրագրի անվանումը
A34: 1112 | B34: Արտակարգ իրավիճակների բնագավառի պետական քաղաքականության մշակում՝ ծրագրերի համակարգում և մոնիտորինգ
A35: Ծրագրի միջոցառումները
A36: Ծրագրի դասիչը՝ | B36: 1112 | C36: Ցուցանիշների փոփոխությունը (նվազեցումները նշված են փակագծերում)
A37: Միջոցառման դասիչը՝ | B37: 11001 | C37: Ինն ամիս | D37: Տարի
A38: Միջոցառման անվանումը՝ | B38: Արտակարգ իրավիճակների բնագավառում քաղաքականության մշակում՝ խորհրդատվական ծառայությունների տրամադրում և մոնիտորինգի իրականացում
A39: Նկարագրությունը՝ | B39: Արտակարգ իրավիճակների բնագավառում քաղաքականության մշակում՝ խորհրդատվական ծառայությունների տրամադրում և մոնիտորինգի իրականացում
A40: Միջոցառման տեսակը՝ | B40: Ծառայությունների մատուցում
A41: Միջոցառումն իրականացնողի անվանումը | B41: ՀՀ արտակարգ իրավիճակների նախարարություն
B42: Արդյունքի չափորոշիչներ
A43: Միջոցառման վրա կատարվող ծախսը (հազար դրամ) | C43: =+'2'!G46 -> -2549.5 | D43: =+'2'!H46 -> -5039.2
A44: Ծրագրի դասիչը՝ | B44: 1112 | C44: Ցուցանիշների փոփոխությունը (նվազեցումները նշված են փակագծերում)
A45: Միջոցառման դասիչը՝ | B45: 31001
A46: Միջոցառման անվանումը՝ | B46: Արտակարգ իրավիճակների նախարարության տեխնիկական հագեցվածության բարելավում
A47: Նկարագրությունը՝ | B47: Արտակարգ իրավիճակների նախարարության աշխատակազմի աշխատանքային պայմանների բարելավման համար վարչական սարքավորումների ձեռքբերում
A48: Միջոցառման տեսակը՝ | B48: Պետական մարմինների կողմից ոչ ֆինանասական ակտիվների հետ գործառնություններ
A49: Ակտիվն օգտագործող կազմակերպության անվանումը` | B49: ՀՀ արտակարգ իրավիճակների նախարարություն
A50: Արդյունքի չափորոշիչներ
A51: Øß³ÏíáÕ ÝáñÙ³ïÇí Çñ³í³Ï³Ý ³Ïï»ñÇ Ý³Ë³·Í»ñÇ ù³Ý³Ï, Ñ³ï
A52: Ð³Ù³Ï³ñ·íáÕ, Çñ³Ï³Ý³óíáÕ ¨ í»ñ³ÑëÏÙ³Ý »ÝÃ³ñÏíáÕ ÙÇçáó³éáõÙÝ»ñÇ ù³Ý³Ï, Ñ³ï
A53: Միջոցառման վրա կատարվող ծախսը (հազար դրամ) | C53: =+'2'!G60 -> -449.4 | D53: =+'2'!H60 -> -898.8
A54: Ծրագրի դասիչը՝ | B54: 1112 | C54: Ցուցանիշների փոփոխությունը (ավելացումները նշված են դրական նշանով)
A55: Միջոցառման դասիչը՝ | B55: 31001 | C55: Ինն ամիս | D55: Տարի
A56: Միջոցառման անվանումը՝ | B56: Արտակարգ իրավիճակների նախարարության տեխնիկական հագեցվածության բարելավում
A57: Նկարագրությունը՝ | B57: Արտակարգ իրավիճակների նախարարության աշխատակազմի աշխատանքային պայմանների բարելավման համար վարչական սարքավորումների ձեռքբերում
A58: Միջոցառման տեսակը՝ | B58: Պետական մարմինների կողմից ոչ ֆինանասական ակտիվների հետ գործառնություններ
A59: Ակտիվն օգտագործող կազմակերպության անվանումը` | B59: ՀՀ արտակարգ իրավիճակների նախարարություն
A60: Արդյունքի չափորոշիչներ
A61: Øß³ÏíáÕ ÝáñÙ³ïÇí Çñ³í³Ï³Ý ³Ïï»ñÇ Ý³Ë³·Í»ñÇ ù³Ý³Ï, Ñ³ï
A62: Ð³Ù³Ï³ñ·íáÕ, Çñ³Ï³Ý³óíáÕ ¨ í»ñ³ÑëÏÙ³Ý »ÝÃ³ñÏíáÕ ÙÇçáó³éáõÙÝ»ñÇ ù³Ý³Ï, Ñ³ï
A63: Քանակական | B63: Համակարգչային սարքավորումների քանակ, հատ | C63: 18 | D63: 18
B64: գրասենյակային գույքի քանակ, հատ | C64: 8 | D64: 51
A65: Ժամկետային | B65: Սարքավորումների ծառայության կանխատեսվող միջին ժամկետ, տարի | C65: 5 | D65: 5
A66: Միջոցառման վրա կատարվող ծախսը (հազար դրամ) | C66: =+'2'!G69 -> 2998.9 | D66: =+'2'!H69 -> 5938
A69: ՀՀ կառավարություն
A70: ՄԱՍ 2. ՊԵՏԱԿԱՆ ՄԱՐՄՆԻ ԳԾՈՎ ԱՐԴՅՈՒՆՔԱՅԻՆ (ԿԱՏԱՐՈՂԱԿԱՆ) ՑՈՒՑԱՆԻՇՆԵՐԸ
A72: Ծրագրի դասիչը | B72: Ծրագրի անվանումը
A73: 1139 | B73: ՀՀ կառավարության պահուստային ֆոնդ
A75: Ծրագրի միջոցառումները
A76: Ծրագրի դասիչը` | B76: 1139 | C76: Ցուցանիշների փոփոխությունը (ավելացումները նշված են դրական նշանով)
A77: Միջոցառման դասիչը` | B77: 11001 | C77: Ինն ամիս | D77: Տարի
A78: Միջոցառման անվանումը` | B78: ՀՀ կառավարության պահուստային ֆոնդ
A79: Նկարագրությունը` | B79: ՀՀ պետական բյուջեում նախատեսված ելքերի լրացուցիչ ֆինանսավորման՝ պետական բյուջեում չկանխատեսված ելքերի՝ ինչպես նաև բյուջետային երաշխիքների ապահովման ելքերի ֆինանսավորման ապահովում
A80: Միջոցառման տեսակը` | B80: Ծառայությունների մատուցում
A81: Միջոցառումն իրականացնողի անվանումը | B81: ՀՀ կառավարություն
A82: Արդյունքի չափորոշիչներ
A83: Միջոցառման վրա կատարվող ծախսը (հազար դրամ) | C83: =+'2'!G88 -> 20508.9 | D83: =+'2'!H88 -> 35438
A84: Ծրագրի դասիչը` | B84: 1139 | C84: Ցուցանիշների փոփոխությունը (նվազեցումները նշված են փակագծերում)
A85: Միջոցառման դասիչը` | B85: 11001 | C85: Ինն ամիս | D85: Տարի
A86: Միջոցառման անվանումը` | B86: ՀՀ կառավարության պահուստային ֆոնդ
A87: Նկարագրությունը` | B87: ՀՀ պետական բյուջեում նախատեսված ելքերի լրացուցիչ ֆինանսավորման՝ պետական բյուջեում չկանխատեսված ելքերի՝ ինչպես նաև բյուջետային երաշխիքների ապահովման ելքերի ֆինանսավորման ապահովում
A88: Միջոցառման տեսակը` | B88: Ծառայությունների մատուցում
A89: Միջոցառումն իրականացնողի անվանումը | B89: ՀՀ կառավարություն
A90: Արդյունքի չափորոշիչներ
A91: Միջոցառման վրա կատարվող ծախսը (հազար դրամ) | C91: =+'2'!G96 -> -20508.9 | D91: =+'2'!H96 -> -35438
A93: ՀԱՅԱՍՏԱՆԻ ՀԱՆՐԱՊԵՏՈՒԹՅԱՆ ՎԱՐՉԱՊԵՏԻ ԱՇԽԱՏԱԿԱԶՄԻ
A94: ՂԵԿԱՎԱՐ Է. ԱՂԱՋԱՆՅԱՆ

Sheet 4
B1: Հավելված N 4 ՀՀ կառավարության 2020 թվականի __________-ի ____-ի N _____-Ն որոշման
A2: ՀԱՅԱՍՏԱՆԻ ՀԱՆՐԱՊԵՏՈՒԹՅԱՆ ԿԱՌԱՎԱՐՈՒԹՅԱՆ 2019ԹՎԱԿԱՆԻ ԴԵԿՏԵՄԲԵՐԻ 26-Ի ԹԻՎ 1919-Ն ՈՐՈՇՄԱՆ N9.1 ՀԱՎԵԼՎԱԾԻ 9.1.19 ԵՎ 9.1.58 ԱՂՅՈՒՍԱԿՆԵՐՈՒՄ ԿԱՏԱՐՎՈՂ ՓՈՓՈԽՈՒԹՅՈՒՆՆԵՐԸ
A3: ՀՀ արտակարգ իրավիճակների նախարարություն
A5: ՄԱՍ 1 ՊԵՏԱԿԱՆ ՄԱՐՄՆԻ ԳԾՈՎ ԱՐԴՅՈՒՆՔԱՅԻՆ (ԿԱՏԱՐՈՂԱԿԱՆ) ՑՈՒՑԱՆԻՇՆԵՐԸ
A6: Ծրագրի դասիչը | B6: Ծրագրի անվանումը
A7: 1090 | B7: Փրկարարական ծառայություններ
A8: Ծրագրի միջոցառումները
A9: Ծրագրի դասիչը՝ | B9: 1090 | C9: Ցուցանիշների փոփոխությունը (նվազեցումները նշված են փակագծերում)
A10: Միջոցառման դասիչը՝ | B10: 11001 | C10: Ինն ամիս | D10: Տարի
A11: Միջոցառման անվանումը՝ | B11: Փրկարարական ծառայություններ
A12: Նկարագրությունը՝ | B12: Հրդեհաշիջման, հակահրդեհային քարոզչության, բնական և տեխնածին աղետների ժամանակ բնակչության և կառույցների պաշտպանություն
A13: Միջոցառման տեսակը՝ | B13: Ծառայությունների մատուցում
A14: Միջոցառումն իրականացնողի անվանումը` | B14: ՀՀ արտակարգ իրավիճակների նախարարություն
A15: Արդյունքի չափորոշիչներ
A16: Øß³ÏíáÕ ÝáñÙ³ïÇí Çñ³í³Ï³Ý ³Ïï»ñÇ Ý³Ë³·Í»ñÇ ù³Ý³Ï, Ñ³ï
A17: Ð³Ù³Ï³ñ·íáÕ, Çñ³Ï³Ý³óíáÕ ¨ í»ñ³ÑëÏÙ³Ý »ÝÃ³ñÏíáÕ ÙÇçáó³éáõÙÝ»ñÇ ù³Ý³Ï, Ñ³ï
A18: Միջոցառման վրա կատարվող ծախսը (հազար դրամ) | C18: =+'3'!C22 -> -17510 | D18: =+'3'!D22 -> -29500
A19: Ծրագրի դասիչը՝ | B19: 1090 | C19: Ցուցանիշների փոփոխությունը (ավելացումները նշված են դրական նշանով)
A20: Միջոցառման դասիչը՝ | B20: 11001 | C20: Ինն ամիս | D20: Տարի
A21: Միջոցառման անվանումը՝ | B21: Փրկարարական ծառայություններ
A22: Նկարագրությունը՝ | B22: Հրդեհաշիջման, հակահրդեհային քարոզչության, բնական և տեխնածին աղետների ժամանակ բնակչության և կառույցների պաշտպանություն
A23: Միջոցառման տեսակը՝ | B23: Ծառայությունների մատուցում
A24: Միջոցառումն իրականացնողի անվանումը` | B24: ՀՀ արտակարգ իրավիճակների նախարարություն
A25: Արդյունքի չափորոշիչներ
A26: Øß³ÏíáÕ ÝáñÙ³ïÇí Çñ³í³Ï³Ý ³Ïï»ñÇ Ý³Ë³·Í»ñÇ ù³Ý³Ï, Ñ³ï
A27: Ð³Ù³Ï³ñ·íáÕ, Çñ³Ï³Ý³óíáÕ ¨ í»ñ³ÑëÏÙ³Ý »ÝÃ³ñÏíáÕ ÙÇçáó³éáõÙÝ»ñÇ ù³Ý³Ï, Ñ³ï
A28: Միջոցառման վրա կատարվող ծախսը (հազար դրամ) | C28: =+'3'!C32 -> 17510 | D28: =+'3'!D32 -> 29500
A29: Ծրագրի դասիչը | B29: Ծրագրի անվանումը
A30: 1112 | B30: Արտակարգ իրավիճակների բնագավառի պետական քաղաքականության մշակում՝ ծրագրերի համակարգում և մոնիտորինգ
A31: Ծրագրի միջոցառումները
A32: Ծրագրի դասիչը՝ | B32: 1112 | C32: Ցուցանիշների փոփոխությունը (նվազեցումները նշված են փակագծերում)
A33: Միջոցառման դասիչը՝ | B33: 11001 | C33: Ինն ամիս | D33: Տարի
A34: Միջոցառման անվանումը՝ | B34: Արտակարգ իրավիճակների բնագավառում քաղաքականության մշակում՝ խորհրդատվական ծառայությունների տրամադրում և մոնիտորինգի իրականացում
A35: Նկարագրությունը՝ | B35: Արտակարգ իրավիճակների բնագավառում քաղաքականության մշակում՝ խորհրդատվական ծառայությունների տրամադրում և մոնիտորինգի իրականացում
A36: Միջոցառման տեսակը՝ | B36: Ծառայությունների մատուցում
A37: Միջոցառումն իրականացնողի անվանումը | B37: ՀՀ արտակարգ իրավիճակների նախարարություն
B38: Արդյունքի չափորոշիչներ
A39: Միջոցառման վրա կատարվող ծախսը (հազար դրամ) | C39: =+'3'!C43 -> -2549.5 | D39: =+'3'!D43 -> -5039.2
A40: Ծրագրի դասիչը՝ | B40: 1112 | C40: Ցուցանիշների փոփոխությունը (նվազեցումները նշված են փակագծերում)
A41: Միջոցառման դասիչը՝ | B41: 31001
A42: Միջոցառման անվանումը՝ | B42: Արտակարգ իրավիճակների նախարարության տեխնիկական հագեցվածության բարելավում
A43: Նկարագրությունը՝ | B43: Արտակարգ իրավիճակների նախարարության աշխատակազմի աշխատանքային պայմանների բարելավման համար վարչական սարքավորումների ձեռքբերում
A44: Միջոցառման տեսակը՝ | B44: Պետական մարմինների կողմից ոչ ֆինանասական ակտիվների հետ գործառնություններ
A45: Ակտիվն օգտագործող կազմակերպության անվանումը` | B45: ՀՀ արտակարգ իրավիճակների նախարարություն
A46: Արդյունքի չափորոշիչներ
A47: Øß³ÏíáÕ ÝáñÙ³ïÇí Çñ³í³Ï³Ý ³Ïï»ñÇ Ý³Ë³·Í»ñÇ ù³Ý³Ï, Ñ³ï
A48: Ð³Ù³Ï³ñ·íáÕ, Çñ³Ï³Ý³óíáÕ ¨ í»ñ³ÑëÏÙ³Ý »ÝÃ³ñÏíáÕ ÙÇçáó³éáõÙÝ»ñÇ ù³Ý³Ï, Ñ³ï
A49: Միջոցառման վրա կատարվող ծախսը (հազար դրամ) | C49: =+'3'!C53 -> -449.4 | D49: =+'3'!D53 -> -898.8
A50: Ծրագրի դասիչը՝ | B50: 1112 | C50: Ցուցանիշների փոփոխությունը (ավելացումները նշված են դրական նշանով)
A51: Միջոցառման դասիչը՝ | B51: 31001 | C51: Ինն ամիս | D51: Տարի
A52: Միջոցառման անվանումը՝ | B52: Արտակարգ իրավիճակների նախարարության տեխնիկական հագեցվածության բարելավում
A53: Նկարագրությունը՝ | B53: Արտակարգ իրավիճակների նախարարության աշխատակազմի աշխատանքային պայմանների բարելավման համար վարչական սարքավորումների ձեռքբերում
A54: Միջոցառման տեսակը՝ | B54: Պետական մարմինների կողմից ոչ ֆինանասական ակտիվների հետ գործառնություններ
A55: Ակտիվն օգտագործող կազմակերպության անվանումը` | B55: ՀՀ արտակարգ իրավիճակների նախարարություն
A56: Արդյունքի չափորոշիչներ
A57: Øß³ÏíáÕ ÝáñÙ³ïÇí Çñ³í³Ï³Ý ³Ïï»ñÇ Ý³Ë³·Í»ñÇ ù³Ý³Ï, Ñ³ï
A58: Ð³Ù³Ï³ñ·íáÕ, Çñ³Ï³Ý³óíáÕ ¨ í»ñ³ÑëÏÙ³Ý »ÝÃ³ñÏíáÕ ÙÇçáó³éáõÙÝ»ñÇ ù³Ý³Ï, Ñ³ï
A59: Քանակական | B59: Համակարգչային սարքավորումների քանակ, հատ | C59: 18 | D59: 18
B60: գրասենյակային գույքի քանակ, հատ | C60: 8 | D60: 51
A61: Ժամկետային | B61: Սարքավորումների ծառայության կանխատեսվող միջին ժամկետ, տարի | C61: 5 | D61: 5
A62: Միջոցառման վրա կատարվող ծախսը (հազար դրամ) | C62: =+'3'!C66 -> 2998.9 | D62: =+'3'!D66 -> 5938
A64: ՀՀ կառավարություն
A65: ՄԱՍ 1. ՊԵՏԱԿԱՆ ՄԱՐՄՆԻ ԳԾՈՎ ԱՐԴՅՈՒՆՔԱՅԻՆ (ԿԱՏԱՐՈՂԱԿԱՆ) ՑՈՒՑԱՆԻՇՆԵՐԸ
A66: Ծրագրի դասիչը | B66: Ծրագրի անվանումը
A67: 1139 | B67: ՀՀ կառավարության պահուստային ֆոնդ
A69: Ծրագրի միջոցառումները
A70: Ծրագրի դասիչը` | B70: 1139 | C70: Ցուցանիշների փոփոխությունը (ավելացումները նշված են դրական նշանով)
A71: Միջոցառման դասիչը` | B71: 11001 | C71: Ինն ամիս | D71: Տարի
A72: Միջոցառման անվանումը` | B72: ՀՀ կառավարության պահուստային ֆոնդ
A73: Նկարագրությունը` | B73: ՀՀ պետական բյուջեում նախատեսված ելքերի լրացուցիչ ֆինանսավորման՝ պետական բյուջեում չկանխատեսված ելքերի՝ ինչպես նաև բյուջետային երաշխիքների ապահովման ելքերի ֆինանսավորման ապահովում
A74: Միջոցառման տեսակը` | B74: Ծառայությունների մատուցում
A75: Միջոցառումն իրականացնողի անվանումը | B75: ՀՀ կառավարություն
A76: Արդյունքի չափորոշիչներ
A77: Միջոցառման վրա կատարվող ծախսը (հազար դրամ) | C77: =+'3'!C83 -> 20508.9 | D77: =+'3'!D83 -> 35438
A78: Ծրագրի դասիչը` | B78: 1139 | C78: Ցուցանիշների փոփոխությունը (նվազեցումները նշված են փակագծերում)
A79: Միջոցառման դասիչը` | B79: 11001 | C79: Ինն ամիս | D79: Տարի
A80: Միջոցառման անվանումը` | B80: ՀՀ կառավարության պահուստային ֆոնդ
A81: Նկարագրությունը` | B81: ՀՀ պետական բյուջեում նախատեսված ելքերի լրացուցիչ ֆինանսավորման՝ պետական բյուջեում չկանխատեսված ելքերի՝ ինչպես նաև բյուջետային երաշխիքների ապահովման ելքերի ֆինանսավորման ապահովում
A82: Միջոցառման տեսակը` | B82: Ծառայությունների մատուցում
A83: Միջոցառումն իրականացնողի անվանումը | B83: ՀՀ կառավարություն
A84: Արդյունքի չափորոշիչներ
A85: Միջոցառման վրա կատարվող ծախսը (հազար դրամ) | C85: =+'3'!C91 -> -20508.9 | D85: =+'3'!D91 -> -35438
A87: ՀԱՅԱՍՏԱՆԻ ՀԱՆՐԱՊԵՏՈՒԹՅԱՆ ՎԱՐՉԱՊԵՏԻ ԱՇԽԱՏԱԿԱԶՄԻ
A88: ՂԵԿԱՎԱՐ Է. ԱՂԱՋԱՆՅԱՆ

Sheet 5
F1: Հավելված N 5
E2: ՀՀ կառավարության 2020 թվականի
E3: ______________ ի ___Ն որոշման
A4: ՀԱՅԱՍՏԱՆԻ ՀԱՆՐԱՊԵՏՈՒԹՅԱՆ ԿԱՌԱՎԱՐՈՒԹՅԱՆ 2019 ԹՎԱԿԱՆԻ ԴԵԿՏԵՄԲԵՐԻ 26-Ի N 1919-Ն ՈՐՈՇՄԱՆ N 10 ՀԱՎԵԼՎԱԾՈՒՄ ԿԱՏԱՐՎՈՂ ՓՈՓՈԽՈՒԹՅՈՒՆՆԵՐԸ
A5: Գնման առարկայի | G5: Գումարը (հազար դրամով) Ցուցանիշների փոփոխությունը (ավելացումները նշված են դրական նշանով, իսկ վազեցումները նշված են փակագծերում)
A6: Կոդը | B6: Անվանումը | C6: Գնման ձև | D6: Չափման միավորը | E6: Միավորի գինը | F6: Քանակը
A8: ՀՀ արտակարգ իրավիճակների նախարարություն | G8: =+G9 -> 0
A9: Բաժին N 03 | B9: Խումբ N 02 | C9: Դաս N 01 | D9: Փրկարար ծառայություն
A10: 1090 11001 | B10: Փրկարարական ծառայություններ | G10: =+G11+G62 -> -2.8990144e-12
A11: ՄԱՍI. ԱՊՐԱՆՔՆԵՐ | G11: =SUM(G12:G61) -> 426.7
A12: 30197112/504 | B12: կարիչի մետաղալարե կապեր, միջին | C12: ԳՀ | D12: տուփ | G12: -13
A13: 30192100/505 | B13: ռետին հասարակ | C13: ԳՀ | D13: հատ | G13: -31.4
A14: 30199430/505 | B14: թուղթ նշումների, տրցակներով | C14: ԳՀ | D14: հատ | G14: -19.5
A15: 30193200/504 | B15: փաստաթղթերի համար նախատեսված, սեղանի վրա դրվող դարակաշարեր | C15: ԳՀ | D15: հատ | G15: -27.3
A16: 30237411/504 | B16: մկնիկ, համակարգչային, լարով | C16: ԳՀ | D16: հատ | G16: -46.8
A17: 30192780/503 | B17: էջաբաժանիչ | C17: ԳՀ | D17: հատ | G17: -11
A18: 18221300/501 | B18: գլխարկով բաճկոններ | C18: ԳՀ | D18: հատ | G18: -32.5
A19: 30234400/503 | B19: դատարկ սկավառակ, առանց տուփի, DVD | C19: ԳՀ | D19: հատ | G19: -16.2
A20: 39263530/505 | B20: սեղմակ, մեծ | C20: ԳՀ | D20: հատ | G20: -39
A21: 39292150/501 | B21: գծագրական գործիքներ | C21: ԳՀ | D21: հատ | G21: -13.2
A22: 39263520/505 | B22: սեղմակ, միջին | C22: ԳՀ | D22: հատ | G22: -29.9
A23: 30234640/504 | B23: ֆլեշ հիշողություն, 16GB | C23: ԳՀ | D23: հատ | G23: -14.2
... A56: 18511180/3 | B56: մեդալներ, կրծքանշաններ | C56: ԳՀ | D56: հատ | G56: -525
A57: 18231600/9 | B57: սվիտերներ | C57: ԳՀ | D57: հատ | E57: 10000 | F57: 500 | G57: =+E57*F57/1000 -> 5000
A58: 18811210/3 | B58: ճտքավոր կոշիկներ | C58: ԳՀ | D58: հատ | E58: 13000 | F58: 1460 | G58: =+E58*F58/1000 -> 18980
A59: 30192910/1 | B59: ուիղղիչ երիզներ կամ ժապավեններ | C59: ԳՀ | D59: հատ | E59: 4000 | F59: 105 | G59: =+E59*F59/1000 -> 420
A60: 44521160/1 | B60: շղթաներ | C60: ՄԱ | D60: մետր | E60: 1000 | F60: 100 | G60: =+E60*F60/1000 -> 100
A61: 33141500/1 | B61: բժշկական նյութեր (COVID19) | C61: ԳՀ | D61: դրամ | E61: 5000000 | F61: 1 | G61: =+E61*F61/1000 -> 5000
A62: ՄԱՍIII. ԾԱՌԱՅՈՒԹՅՈՒՆՆԵՐ | G62: =SUM(G63:G70) -> -426.7
A63: 79821200/30 | B63: այլ պոլիգրաֆիական արտադրանքի տպագրման ծառայություն | C63: ԳՀ | D63: դրամ | G63: -35
A64: 79821200/565 | B64: այլ պոլիգրաֆիական արտադրանքի տպագրման ծառայություն | C64: ԳՀ | D64: դրամ | G64: -14
A65: 79821200/567 | B65: այլ պոլիգրաֆիական արտադրանքի տպագրման ծառայություն | C65: ԳՀ | D65: դրամ | G65: -48
A66: 79821200/580 | B66: այլ պոլիգրաֆիական արտադրանքի տպագրման ծառայություն | C66: ԳՀ | D66: դրամ | G66: -80
A67: 79821200/590 | B67: այլ պոլիգրաֆիական արտադրանքի տպագրման ծառայություն | C67: ԳՀ | D67: դրամ | G67: -54
A68: 79821200/579 | B68: այլ պոլիգրաֆիական արտադրանքի տպագրման ծառայություն | C68: ԳՀ | D68: դրամ | G68: -15
A69: 79821200/570 | B69: այլ պոլիգրաֆիական արտադրանքի տպագրման ծառայություն | C69: ԳՀ | D69: դրամ | G69: -29
A70: 45461100/2 | B70: շենքերի, շինությունների ընթացիկ նորոգման աշխատանքներ | C70: ԳՀ | D70: դրամ | G70: -151.7
A71: Բաժին N 03 | B71: Խումբ N 02 | C71: Դաս N 01 | D71: Արտակարգ իրավիճակների բնագավառի պետական քաղաքականության մշակում՝ ծրագրերի համակագում և մոնիտորինգ | G71: =+G72+G85 -> 0
A72: 1112 11001 | B72: Արտակարգ իրավիճակների բնագավառում քաղաքականության մշակում՝ խորհրդատվական ծառայությունների տրամադրում և մոնիտորինգի իրականացում | G72: =+G73+G81 -> -5039.2
A73: ՄԱՍI. ԱՊՐԱՆՔՆԵՐ | G73: =SUM(G74:G80) -> -2851.2
A74: 30197231/1 | B74: թղթապանակ, պոլիմերային թաղանթ, ֆայլ | C74: ԳՀ | D74: հատ | G74: -160
A75: 30197622/1 | B75: թուղթ, A4 ֆորմատի | C75: ԳՀ | D75: կիլոգրամ | G75: -160
A76: 30141200/1 | B76: հաշվասարք, գրասենյակային | C76: ԳՀ | D76: հատ | G76: -142
A77: 09132100/3 | B77: բենզին, պրեմիում | C77: ԳՀ | D77: լիտր | G77: -191.4
A78: 09132200/6 | B78: բենզին, ռեգուլյար | C78: ԳՀ | D78: լիտր | G78: -1481.4
A79: 09132200/507 | B79: բենզին, ռեգուլյար | C79: ԳՀ | D79: լիտր | G79: -200
A80: 09132200/5 | B80: բենզին, ռեգուլյար | C80: ԳՀ | D80: լիտր | G80: -516.4
A81: ՄԱՍIII. ԾԱՌԱՅՈՒԹՅՈՒՆՆԵՐ | G81: =+G82+G83+G84 -> -2188
A82: 64211100/501 | B82: հանրային հեռախոսային ծառայություններ | C82: ԳՀ | D82: դրամ | G82: -445.2
A83: 64211340/501 | B83: էլեկտրոնային տեղեկատվական ծառայություններ | C83: ԳՀ | D83: դրամ | G83: -1592.6
A84: 45461100/1 | B84: շենքերի, շինությունների ընթացիկ նորոգման աշխատանքներ | C84: ԳՀ | D84: դրամ | G84: -150.2
A85: 1112 31001 | B85: Արտակարգ իրավիճակների նախարարության տեխնիկական հագեցվածության բարելավում | G85: =+G86 -> 5039.2
A86: ՄԱՍI. ԱՊՐԱՆՔՆԵՐ | G86: =+SUM(G87:G100) -> 5039.2
A87: 39138310/501 | B87: բազկաթոռ, շարժական | C87: ԳՀ | D87: հատ | G87: -136
A88: 30211220/504 | B88: սեղանի համակարգիչներ | C88: ԳՀ | D88: հատ | G88: -300.6
A89: 39111220/501 | B89: բազկաթոռ` ղեկավարի | C89: ԳՀ | D89: հատ | G89: -160
A90: 30237490/501 | B90: համակարգչային մոնիտոր | C90: ԳՀ | D90: հատ | G90: -162
A91: 39714200/503 | B91: օդորակիչ | C91: ԳՀ | D91: հատ | G91: -46.2
A92: 30239110/502 | B92: տպիչ սարք, բազմաֆունկցիոնալ, A4, 18 էջ/րոպե արագության | C92: ԳՀ | D92: հատ | G92: -94
A93: 39714200/2 | B93: օդորակիչ | C93: ԳՀ | D93: հատ | E93: 127000 | F93: 5 | G93: =+E93*F93/1000 -> 635
A94: 30237490/2 | B94: համակարգչային մոնիտոր | C94: ԳՀ | D94: հատ | E94: 200000 | F94: 5 | G94: =+E94*F94/1000 -> 1000
A95: 30239110/2 | B95: տպիչ սարք, բազմաֆունկցիոնալ, A4, 18 էջ/րոպե արագության | C95: ԳՀ | D95: հատ | E95: 105000 | F95: 5 | G95: =+E95*F95/1000 -> 525
A96: 30232130/1 | B96: գունավոր տպիչներ | C96: ԳՀ | D96: հատ | E96: 80000 | F96: 3 | G96: =+E96*F96/1000 -> 240
A97: 39138310/2 | B97: բազկաթոռ, շարժական | C97: ԳՀ | D97: հատ | E97: 27000 | F97: 34 | G97: =+E97*F97/1000 -> 918
A98: 39141260/1 | B98: զգեստապահարաններ | C98: ԳՀ | D98: հատ | E98: 60000 | F98: 5 | G98: =+E98*F98/1000 -> 300
A99: 39121100/1 | B99: գրասեղաններ | C99: ԳՀ | D99: հատ | E99: 250000 | F99: 8 | G99: =+E99*F99/1000 -> 2000
A100: 44421300/1 | B100: չհրկիզվող պահարաններ | C100: ԳՀ | D100: հատ | E100: 80000 | F100: 4 | G100: =+E100*F100/1000 -> 320
A103: ՀԱՅԱՍՏԱՆԻ ՀԱՆՐԱՊԵՏՈՒԹՅԱՆ ՎԱՐՉԱՊԵՏԻ ԱՇԽԱՏԱԿԱԶՄԻ
A104: ՂԵԿԱՎԱՐ Է. ԱՂԱՋԱՆՅԱՆ
