Workbook
Name AgencyCode: #REF!
Name AgencyCode: #REF!
Name AgencyCode: #REF!
Name AgencyName: #REF!
Name AgencyName: #REF!
Name AgencyName: #REF!
Name Functional1: #REF!
Name Functional1: #REF!
Name Functional1: #REF!
Name havelvac: #REF!
Name havelvac: #REF!
Name PANature: #REF!
Name PANature: #REF!
Name PANature: #REF!
Name PAType: #REF!
Name PAType: #REF!
Name PAType: #REF!
Name Performance2: #REF!
Name Performance2: #REF!
Name Performance2: #REF!
Name PerformanceType: #REF!
Name PerformanceType: #REF!
Name PerformanceType: #REF!
Name sheet1: #REF!
Name գնումներ: #REF!
Name հավ5: #REF!

Sheet 1
E1: Հավելված 1
E2: ՀՀ կառավարության 2020 թվականի
E3: ___________ ___-ի N _______ -Ն որոշման
A6: «ՀԱՅԱUՏԱՆԻ ՀԱՆՐԱՊԵՏՈՒԹՅԱՆ 2020 ԹՎԱԿԱՆԻ ՊԵՏԱԿԱՆ ԲՅՈՒՋԵԻ ՄԱUԻՆ» ՀԱՅԱUՏԱՆԻ ՀԱՆՐԱՊԵՏՈՒԹՅԱՆ OՐԵՆՔԻ N 1 ՀԱՎԵԼՎԱԾԻ N 2 ԱՂՅՈՒՍԱԿՈՒՄ ԿԱՏԱՐՎՈՂ ՎԵՐԱԲԱՇԽՈՒՄԸ ԵՎ ՀԱՅԱՍՏԱՆԻ ՀԱՆՐԱՊԵՏՈՒԹՅԱՆ ԿԱՌԱՎԱՐՈՒԹՅԱՆ 2019 ԹՎԱԿԱՆԻ ԴԵԿՏԵՄԲԵՐԻ 26-Ի N 1919-Ն ՈՐՈՇՄԱՆ N5 ՀԱՎԵԼՎԱԾԻ N1 ԱՂՅՈՒՍԱԿՈՒՄ ԿԱՏԱՐՎՈՂ ՓՈՓՈԽՈՒԹՅՈՒՆՆԵՐԸ ԵՎ ԼՐԱՑՈՒՄՆԵՐԸ
E8: հազ. դրամներով
A9: Ծրագրային դասիչը | C9: Բյուջետային հատկացումների գլխավոր կարգադրիչների, ծրագրերի և միջոցառումների անվանումները | D9: Ցուցանիշների փոփոխությունները (Ավելացումները նշված են դրական նշանով,իսկ նվազեցումները՝ փակագծերում)
A10: Ծրագիր | B10: Միջոցառում | D10: Ինն ամիս | E10: Տարի
C11: ԸՆԴԱՄԵՆԸ | D11: =+D12+D57 -> 0 | E11: =+E12+E57 -> 0
B12: ՀՀ արտակարգ իրավիճակների նախարարություն | D12: =+D13 -> 0 | E12: =+E13 -> 0
A13: 1090 | C13: Ծրագրի անվանումը` | D13: =+D20+D26 -> 0 | E13: =+E20+E26 -> 0
C14: Փրկարարական ծառայություններ
C15: Ծրագրի նպատակը`
C16: Արտակարգ իրավիճակների արդյունավետ արձագանք
C17: Վերջնական արդյունքի նկարագրությունը`
C18: Արտակարգ իրավիճակների հնարավոր դեպքերի կանխում՝ դրանց ժամանակին արձագանքում՝ հետևանքների նվազեցում և բնակչության պաշտպանություն
C19: Ծրագրի միջոցառումներ
B20: 11001 | C20: Միջոցառման անվանումը՝ | D20: =+'2'!G17 -> -17510 | E20: -29500
C21: Փրկարարական ծառայություններ
C22: Միջոցառման նկարագրությունը՝
C23: Հրդեհաշիջման, հակահրդեհային քարոզչության, բնական և տեխնածին աղետների ժամանակ բնակչության և կառույցների պաշտպանություն
C24: Միջոցառման տեսակը՝
C25: Ծառայությունների մատուցում
B26: 11001 | C26: Միջոցառման անվանումը՝ | D26: =+'2'!G33 -> 17510 | E26: 29500
C27: Փրկարարական ծառայություններ
C28: Միջոցառման նկարագրությունը՝
C29: Հրդեհաշիջման, հակահրդեհային քարոզչության, բնական և տեխնածին աղետների ժամանակ բնակչության և կառույցների պաշտպանություն
C30: Միջոցառման տեսակը՝
C31: Ծառայությունների մատուցում
A32: 1112 | C32: Ծրագրի անվանումը` | D32: =+D39+D46+D51 -> 0 | E32: =+E39+E46+E51 -> 0
C33: Արտակարգ իրավիճակների բնագավառի պետական քաղաքականության մշակում, ծրագրերի համակարգում և մոնիտորինգ
C34: Ծրագրի նպատակը`
C35: Արտակարգ իրավիճակների բնագավառում պետական արդյունավետ քաղաքականության մշակման և իրականացման ապահովում
C36: Վերջնական արդյունքի նկարագրությունը`
C37: Արտակարգ իրավիճակների քաղաքականության իրագործմանն ուղղված ծրագրերի ազդեցության և արդյունավետության բարելավում
A38: Ծրագրի միջոցառումներ
B39: 11001 | C39: Միջոցառման անվանումը` | D39: =+'2'!G46 -> -2549.5 | E39: =+'2'!H46 -> -5039.2
C40: Արտակարգ իրավիճակների բնագավառում քաղաքականության մշակում, խորհրդատվական ծառայությունների տրամադրում և մոնիտորինգի իրականացում
C41: Միջոցառման նկարագրությունը`
C42: Արտակարգ իրավիճակների բնագավառում քաղաքականության մշակում, խորհրդատվական ծառայությունների տրամադրում և մոնիտորինգի իրականացում
C43: Միջոցառման տեսակը
...

Sheet 2
F1: Հավելված 2
D2: ՀՀ կառավարության 2020 թվականի
D3: ___________ ___-ի N _______ -Ն որոշման
A5: ՀԱՅԱՍՏԱՆԻ ՀԱՆՐԱՊԵՏՈՒԹՅԱՆ ԿԱՌԱՎԱՐՈՒԹՅԱՆ 2019 ԹՎԱԿԱՆԻ ԴԵԿՏԵՄԲԵՐԻ 26-Ի N 1919-Ն ՈՐՈՇՄԱՆ N 3 ԵՎ N 4 ՀԱՎԵԼՎԱԾՆԵՐՈՒՄ ԿԱՏԱՐՎՈՂ ՓՈՓՈԽՈՒԹՅՈՒՆՆԵՐԸ
A7: Գործառական դասիչը | D7: Ծրագրային դասիչը | F7: Բյուջետային ծախսերի գործառական դասակարգման բաժինների, խմբերի և դասերի, բյուջետային հատկացումների գլխավոր կարգադրիչների, ծրագրերի, միջոցառումների և միջոցառումները կատարող պետական մարմինների անվանումները | G7: Ցուցանիշների փոփոխությունները (Ավելացումները նշված են դրական նշանով,իսկ նվազեցումները՝ փակագծերում)
A8: Բաժին | B8: Խումբ | C8: Դաս | D8: Ծրագիր | E8: Միջոցառում | G8: Ինն ամիս | H8: Տարի
A9: 03 | F9: ՀԱՍԱՐԱԿԱԿԱՆ ԿԱՐԳ, ԱՆՎՏԱՆԳՈՒԹՅՈՒՆ ԵՎ ԴԱՏԱԿԱՆ ԳՈՐԾՈՒՆԵՈՒԹՅՈՒՆ | G9: =+G11 -> 0 | H9: =+H11 -> 0
F10: այդ թվում`
B11: 02 | F11: Փրկարար ծառայություն | G11: =+G13 -> 0 | H11: =+H13 -> 0
F12: այդ թվում`
C13: 01 | F13: Փրկարար ծառայություն | G13: =+G15 -> 0 | H13: =+H15 -> 0
F14: այդ թվում
D15: 1090 | F15: Փրկարարական ծառայություններ | G15: =+G33+G17 -> 0 | H15: =+H33+H17 -> 0
F16: այդ թվում`
E17: 11001 | F17: Փրկարարական ծառայություններ | G17: =+G19 -> -17510 | H17: =+H19 -> -29500
F18: այդ թվում` ըստ կատարողների
F19: ՀՀ արտակարգ իրավիճակների նախարարություն | G19: =+G21 -> -17510 | H19: =+H21 -> -29500
F20: այդ թվում` բյուջետային ծախսերի տնտեսագիտական դասակարգման հոդվածներ
F21: ԸՆԴԱՄԵՆԸ ԾԱԽՍԵՐ | G21: =+G22 -> -17510 | H21: =+H22 -> -29500
F22: ԸՆԹԱՑԻԿ ԾԱԽՍԵՐ | G22: =+G23 -> -17510 | H22: =+H23 -> -29500
F23: ԾԱՌԱՅՈՒԹՅՈՒՆՆԵՐԻ ԵՎ ԱՊՐԱՆՔՆԵՐԻ ՁԵՌՔԲԵՐՈՒՄ | G23: =+G24+G26+G28 -> -17510 | H23: =+H24+H26+H28 -> -29500
F24: Պայմանագրային այլ ծառայությունների ձեռքբերում | G24: =+G25 -> -137.5 | H24: =+H25 -> -275 | K24: =+H23+29500 -> 0
F25: -Տեղեկատվական ծառայություններ | G25: -137.5 | H25: -275
F26: Ընթացիկ նորոգում և պահպանում (ծառայություններ և նյութեր) | G26: =+G27 -> -75 | H26: =+H27 -> -151.7
F27: - Շենքերի և կառույցների ընթացիկ նորոգում և պահպանում | G27: -75 | H27: -151.7
F28: Նյութեր (Ապրանքներ) | G28: =+G29+G30+G31+G32 -> -17297.5 | H28: =+H29+H30+H31+H32 -> -29073.3
F29: -Գրասենյակային նյութեր և հագուստ | G29: -198 | H29: -399
F30: - Տրանսպորտային նյութեր | G30: -16349.5 | H30: -27173.8
F31: - Կենցաղային և հանրային սննդի նյութեր | G31: -122 | H31: -244
F32: -Հատուկ նպատակային այլ նյութեր | G32: -628 | H32: -1256.5
E33: 11001 | F33: Փրկարարական ծառայություններ | G33: =+G35 -> 17510 | H33: =+H35 -> 29500
F34: այդ թվում` ըստ կատարողների
F35: ՀՀ արտակարգ իրավիճակների նախարարություն | G35: =+G37 -> 17510 | H35: =+H37 -> 29500
F36: այդ թվում` բյուջետային ծախսերի տնտեսագիտական դասակարգման հոդվածներ
F37: ԸՆԴԱՄԵՆԸ ԾԱԽՍԵՐ | G37: =+G38 -> 17510 | H37: =+H38 -> 29500
F38: ԸՆԹԱՑԻԿ ԾԱԽՍԵՐ | G38: =+G39 -> 17510 | H38: =+H39 -> 29500
F39: ԾԱՌԱՅՈՒԹՅՈՒՆՆԵՐԻ ԵՎ ԱՊՐԱՆՔՆԵՐԻ ՁԵՌՔԲԵՐՈՒՄ | G39: =+G40 -> 17510 | H39: =+H40 -> 29500
F40: Նյութեր (Ապրանքներ) | G40: =+G41+G42+G43 -> 17510 | H40: =+H41+H42+H43 -> 29500
F41: -Գրասենյակային նյութեր և հագուստ | G41: 11990 | H41: 23980
F42: -Առողջապահական և լաբորատոր նյութեր | G42: 5000 | H42: 5000
...

Sheet 3
C1: Հավելված N3
D2: ՀՀ կառավարության 2020 թվականի
C3: ___________ ___-ի N _______ -Ն որոշման
A5: ՀԱՅԱՍՏԱՆԻ ՀԱՆՐԱՊԵՏՈՒԹՅԱՆ ԿԱՌԱՎԱՐՈՒԹՅԱՆ 2019ԹՎԱԿԱՆԻ ԴԵԿՏԵՄԲԵՐԻ 26-Ի ԹԻՎ 1919-Ն ՈՐՈՇՄԱՆ N9 ՀԱՎԵԼՎԱԾԻ 9.19 ԵՎ 9.47 ԱՂՅՈՒՍԱԿՆԵՐՈՒՄ ԿԱՏԱՐՎՈՂ ՓՈՓՈԽՈՒԹՅՈՒՆՆԵՐԸ ԵՎ ԼՐԱՑՈՒՄՆԵՐԸ
A7: ՀՀ արտակարգ իրավիճակների նախարարություն
A9: ՄԱՍ 2. ՊԵՏԱԿԱՆ ՄԱՐՄՆԻ ԳԾՈՎ ԱՐԴՅՈՒՆՔԱՅԻՆ (ԿԱՏԱՐՈՂԱԿԱՆ) ՑՈՒՑԱՆԻՇՆԵՐԸ
A10: Ծրագրի դասիչը | B10: Ծրագրի անվանումը
A11: 1090 | B11: Փրկարարական ծառայություններ
A12: Ծրագրի միջոցառումները
A13: Ծրագրի դասիչը՝ | B13: 1090 | C13: Ցուցանիշների փոփոխությունը (նվազեցումները նշված են փակագծերում)
A14: Միջոցառման դասիչը՝ | B14: 11001 | C14: Ինն ամիս | D14: Տարի
A15: Միջոցառման անվանումը՝ | B15: Փրկարարական ծառայություններ
A16: Նկարագրությունը՝ | B16: Հրդեհաշիջման, հակահրդեհային քարոզչության, բնական և տեխնածին աղետների ժամանակ բնակչության և կառույցների պաշտպանություն
A17: Միջոցառման տեսակը՝ | B17: Ծառայությունների մատուցում
A18: Միջոցառումն իրականացնողի անվանումը` | B18: ՀՀ արտակարգ իրավիճակների նախարարություն
A19: Արդյունքի չափորոշիչներ
A20: Øß³ÏíáÕ ÝáñÙ³ïÇí Çñ³í³Ï³Ý ³Ïï»ñÇ Ý³Ë³·Í»ñÇ ù³Ý³Ï, Ñ³ï
A21: Ð³Ù³Ï³ñ·íáÕ, Çñ³Ï³Ý³óíáÕ ¨ í»ñ³ÑëÏÙ³Ý »ÝÃ³ñÏíáÕ ÙÇçáó³éáõÙÝ»ñÇ ù³Ý³Ï, Ñ³ï
A22: Միջոցառման վրա կատարվող ծախսը (հազար դրամ) | C22: =+'2'!G17 -> -17510 | D22: =+'2'!H17 -> -29500
A23: Ծրագրի դասիչը՝ | B23: 1090 | C23: Ցուցանիշների փոփոխությունը (ավելացումները նշված են դրական նշանով)
A24: Միջոցառման դասիչը՝ | B24: 11001 | C24: Ինն ամիս | D24: Տարի
A25: Միջոցառման անվանումը՝ | B25: Փրկարարական ծառայություններ
A26: Նկարագրությունը՝ | B26: Հրդեհաշիջման, հակահրդեհային քարոզչության, բնական և տեխնածին աղետների ժամանակ բնակչության և կառույցների պաշտպանություն
A27: Միջոցառման տեսակը՝ | B27: Ծառայությունների մատուցում
A28: Միջոցառումն իրականացնողի անվանումը` | B28: ՀՀ արտակարգ իրավիճակների նախարարություն
A29: Արդյունքի չափորոշիչներ
A30: Øß³ÏíáÕ ÝáñÙ³ïÇí Çñ³í³Ï³Ý ³Ïï»ñÇ Ý³Ë³·Í»ñÇ ù³Ý³Ï, Ñ³ï
A31: Ð³Ù³Ï³ñ·íáÕ, Çñ³Ï³Ý³óíáÕ ¨ í»ñ³ÑëÏÙ³Ý »ÝÃ³ñÏíáÕ ÙÇçáó³éáõÙÝ»ñÇ ù³Ý³Ï, Ñ³ï
A32: Միջոցառման վրա կատարվող ծախսը (հազար դրամ) | C32: =+'2'!G33 -> 17510 | D32: =+'2'!H33 -> 29500
A33: Ծրագրի դասիչը | B33: Ծրագրի անվանումը
A34: 1112 | B34: Արտակարգ իրավիճակների բնագավառի պետական քաղաքականության մշակում՝ ծրագրերի համակարգում և մոնիտորինգ
A35: Ծրագրի միջոցառումները
A36: Ծրագրի դասիչը՝ | B36: 1112 | C36: Ցուցանիշների փոփոխությունը (նվազեցումները նշված են փակագծերում)
A37: Միջոցառման դասիչը՝ | B37: 11001 | C37: Ինն ամիս | D37: Տարի
A38: Միջոցառման անվանումը՝ | B38: Արտակարգ իրավիճակների բնագավառում քաղաքականության մշակում՝ խորհրդատվական ծառայությունների տրամադրում և մոնիտորինգի իրականացում
A39: Նկարագրությունը՝ | B39: Արտակարգ իրավիճակների բնագավառում քաղաքականության մշակում՝ խորհրդատվական ծառայությունների տրամադրում և մոնիտորինգի իրականացում
A40: Միջոցառման տեսակը՝ | B40: Ծառայությունների մատուցում
A41: Միջոցառումն իրականացնողի անվանումը | B41: ՀՀ արտակարգ իրավիճակների նախարարություն
B42: Արդյունքի չափորոշիչներ
A43: Միջոցառման վրա կատարվող ծախսը (հազար դրամ) | C43: =+'2'!G46 -> -2549.5 | D43: =+'2'!H46 -> -5039.2
...

Sheet 4
B1: Հավելված N 4 ՀՀ կառավարության 2020 թվականի __________-ի ____-ի N _____-Ն որոշման
A2: ՀԱՅԱՍՏԱՆԻ ՀԱՆՐԱՊԵՏՈՒԹՅԱՆ ԿԱՌԱՎԱՐՈՒԹՅԱՆ 2019ԹՎԱԿԱՆԻ ԴԵԿՏԵՄԲԵՐԻ 26-Ի ԹԻՎ 1919-Ն ՈՐՈՇՄԱՆ N9.1 ՀԱՎԵԼՎԱԾԻ 9.1.19 ԵՎ 9.1.58 ԱՂՅՈՒՍԱԿՆԵՐՈՒՄ ԿԱՏԱՐՎՈՂ ՓՈՓՈԽՈՒԹՅՈՒՆՆԵՐԸ
A3: ՀՀ արտակարգ իրավիճակների նախարարություն
A5: ՄԱՍ 1 ՊԵՏԱԿԱՆ ՄԱՐՄՆԻ ԳԾՈՎ ԱՐԴՅՈՒՆՔԱՅԻՆ (ԿԱՏԱՐՈՂԱԿԱՆ) ՑՈՒՑԱՆԻՇՆԵՐԸ
A6: Ծրագրի դասիչը | B6: Ծրագրի անվանումը
A7: 1090 | B7: Փրկարարական ծառայություններ
A8: Ծրագրի միջոցառումները
A9: Ծրագրի դասիչը՝ | B9: 1090 | C9: Ցուցանիշների փոփոխությունը (նվազեցումները նշված են փակագծերում)
A10: Միջոցառման դասիչը՝ | B10: 11001 | C10: Ինն ամիս | D10: Տարի
A11: Միջոցառման անվանումը՝ | B11: Փրկարարական ծառայություններ
A12: Նկարագրությունը՝ | B12: Հրդեհաշիջման, հակահրդեհային քարոզչության, բնական և տեխնածին աղետների ժամանակ բնակչության և կառույցների պաշտպանություն
A13: Միջոցառման տեսակը՝ | B13: Ծառայությունների մատուցում
A14: Միջոցառումն իրականացնողի անվանումը` | B14: ՀՀ արտակարգ իրավիճակների նախարարություն
A15: Արդյունքի չափորոշիչներ
A16: Øß³ÏíáÕ ÝáñÙ³ïÇí Çñ³í³Ï³Ý ³Ïï»ñÇ Ý³Ë³·Í»ñÇ ù³Ý³Ï, Ñ³ï
A17: Ð³Ù³Ï³ñ·íáÕ, Çñ³Ï³Ý³óíáÕ ¨ í»ñ³ÑëÏÙ³Ý »ÝÃ³ñÏíáÕ ÙÇçáó³éáõÙÝ»ñÇ ù³Ý³Ï, Ñ³ï
A18: Միջոցառման վրա կատարվող ծախսը (հազար դրամ) | C18: =+'3'!C22 -> -17510 | D18: =+'3'!D22 -> -29500
A19: Ծրագրի դասիչը՝ | B19: 1090 | C19: Ցուցանիշների փոփոխությունը (ավելացումները նշված են դրական նշանով)
A20: Միջոցառման դասիչը՝ | B20: 11001 | C20: Ինն ամիս | D20: Տարի
A21: Միջոցառման անվանումը՝ | B21: Փրկարարական ծառայություններ
A22: Նկարագրությունը՝ | B22: Հրդեհաշիջման, հակահրդեհային քարոզչության, բնական և տեխնածին աղետների ժամանակ բնակչության և կառույցների պաշտպանություն
A23: Միջոցառման տեսակը՝ | B23: Ծառայությունների մատուցում
A24: Միջոցառումն իրականացնողի անվանումը` | B24: ՀՀ արտակարգ իրավիճակների նախարարություն
A25: Արդյունքի չափորոշիչներ
A26: Øß³ÏíáÕ ÝáñÙ³ïÇí Çñ³í³Ï³Ý ³Ïï»ñÇ Ý³Ë³·Í»ñÇ ù³Ý³Ï, Ñ³ï
A27: Ð³Ù³Ï³ñ·íáÕ, Çñ³Ï³Ý³óíáÕ ¨ í»ñ³ÑëÏÙ³Ý »ÝÃ³ñÏíáÕ ÙÇçáó³éáõÙÝ»ñÇ ù³Ý³Ï, Ñ³ï
A28: Միջոցառման վրա կատարվող ծախսը (հազար դրամ) | C28: =+'3'!C32 -> 17510 | D28: =+'3'!D32 -> 29500
A29: Ծրագրի դասիչը | B29: Ծրագրի անվանումը
A30: 1112 | B30: Արտակարգ իրավիճակների բնագավառի պետական քաղաքականության մշակում՝ ծրագրերի համակարգում և մոնիտորինգ
A31: Ծրագրի միջոցառումները
A32: Ծրագրի դասիչը՝ | B32: 1112 | C32: Ցուցանիշների փոփոխությունը (նվազեցումները նշված են փակագծերում)
A33: Միջոցառման դասիչը՝ | B33: 11001 | C33: Ինն ամիս | D33: Տարի
A34: Միջոցառման անվանումը՝ | B34: Արտակարգ իրավիճակների բնագավառում քաղաքականության մշակում՝ խորհրդատվական ծառայությունների տրամադրում և մոնիտորինգի իրականացում
A35: Նկարագրությունը՝ | B35: Արտակարգ իրավիճակների բնագավառում քաղաքականության մշակում՝ խորհրդատվական ծառայությունների տրամադրում և մոնիտորինգի իրականացում
A36: Միջոցառման տեսակը՝ | B36: Ծառայությունների մատուցում
A37: Միջոցառումն իրականացնողի անվանումը | B37: ՀՀ արտակարգ իրավիճակների նախարարություն
B38: Արդյունքի չափորոշիչներ
A39: Միջոցառման վրա կատարվող ծախսը (հազար դրամ) | C39: =+'3'!C43 -> -2549.5 | D39: =+'3'!D43 -> -5039.2
A40: Ծրագրի դասիչը՝ | B40: 1112 | C40: Ցուցանիշների փոփոխությունը (նվազեցումները նշված են փակագծերում)
A41: Միջոցառման դասիչը՝ | B41: 31001
...

Sheet 5
F1: Հավելված N 5
E2: ՀՀ կառավարության 2020 թվականի
E3: ______________ ի ___Ն որոշման
A4: ՀԱՅԱՍՏԱՆԻ ՀԱՆՐԱՊԵՏՈՒԹՅԱՆ ԿԱՌԱՎԱՐՈՒԹՅԱՆ 2019 ԹՎԱԿԱՆԻ ԴԵԿՏԵՄԲԵՐԻ 26-Ի N 1919-Ն ՈՐՈՇՄԱՆ N 10 ՀԱՎԵԼՎԱԾՈՒՄ ԿԱՏԱՐՎՈՂ ՓՈՓՈԽՈՒԹՅՈՒՆՆԵՐԸ
A5: Գնման առարկայի | G5: Գումարը (հազար դրամով) Ցուցանիշների փոփոխությունը (ավելացումները նշված են դրական նշանով, իսկ վազեցումները նշված են փակագծերում)
A6: Կոդը | B6: Անվանումը | C6: Գնման ձև | D6: Չափման միավորը | E6: Միավորի գինը | F6: Քանակը
A8: ՀՀ արտակարգ իրավիճակների նախարարություն | G8: =+G9 -> 0
A9: Բաժին N 03 | B9: Խումբ N 02 | C9: Դաս N 01 | D9: Փրկարար ծառայություն
A10: 1090 11001 | B10: Փրկարարական ծառայություններ | G10: =+G11+G62 -> -2.8990144e-12
A11: ՄԱՍI. ԱՊՐԱՆՔՆԵՐ | G11: =SUM(G12:G61) -> 426.7
A12: 30197112/504 | B12: կարիչի մետաղալարե կապեր, միջին | C12: ԳՀ | D12: տուփ | G12: -13
A13: 30192100/505 | B13: ռետին հասարակ | C13: ԳՀ | D13: հատ | G13: -31.4
A14: 30199430/505 | B14: թուղթ նշումների, տրցակներով | C14: ԳՀ | D14: հատ | G14: -19.5
A15: 30193200/504 | B15: փաստաթղթերի համար նախատեսված, սեղանի վրա դրվող դարակաշարեր | C15: ԳՀ | D15: հատ | G15: -27.3
A16: 30237411/504 | B16: մկնիկ, համակարգչային, լարով | C16: ԳՀ | D16: հատ | G16: -46.8
A17: 30192780/503 | B17: էջաբաժանիչ | C17: ԳՀ | D17: հատ | G17: -11
A18: 18221300/501 | B18: գլխարկով բաճկոններ | C18: ԳՀ | D18: հատ | G18: -32.5
A19: 30234400/503 | B19: դատարկ սկավառակ, առանց տուփի, DVD | C19: ԳՀ | D19: հատ | G19: -16.2
A20: 39263530/505 | B20: սեղմակ, մեծ | C20: ԳՀ | D20: հատ | G20: -39
A21: 39292150/501 | B21: գծագրական գործիքներ | C21: ԳՀ | D21: հատ | G21: -13.2
A22: 39263520/505 | B22: սեղմակ, միջին | C22: ԳՀ | D22: հատ | G22: -29.9
A23: 30234640/504 | B23: ֆլեշ հիշողություն, 16GB | C23: ԳՀ | D23: հատ | G23: -14.2
... A56: 18511180/3 | B56: մեդալներ, կրծքանշաններ | C56: ԳՀ | D56: հատ | G56: -525
A57: 18231600/9 | B57: սվիտերներ | C57: ԳՀ | D57: հատ | E57: 10000 | F57: 500 | G57: =+E57*F57/1000 -> 5000
A58: 18811210/3 | B58: ճտքավոր կոշիկներ | C58: ԳՀ | D58: հատ | E58: 13000 | F58: 1460 | G58: =+E58*F58/1000 -> 18980
A59: 30192910/1 | B59: ուիղղիչ երիզներ կամ ժապավեններ | C59: ԳՀ | D59: հատ | E59: 4000 | F59: 105 | G59: =+E59*F59/1000 -> 420
A60: 44521160/1 | B60: շղթաներ | C60: ՄԱ | D60: մետր | E60: 1000 | F60: 100 | G60: =+E60*F60/1000 -> 100
A61: 33141500/1 | B61: բժշկական նյութեր (COVID19) | C61: ԳՀ | D61: դրամ | E61: 5000000 | F61: 1 | G61: =+E61*F61/1000 -> 5000
A62: ՄԱՍIII. ԾԱՌԱՅՈՒԹՅՈՒՆՆԵՐ | G62: =SUM(G63:G70) -> -426.7
A63: 79821200/30 | B63: այլ պոլիգրաֆիական արտադրանքի տպագրման ծառայություն | C63: ԳՀ | D63: դրամ | G63: -35
A64: 79821200/565 | B64: այլ պոլիգրաֆիական արտադրանքի տպագրման ծառայություն | C64: ԳՀ | D64: դրամ | G64: -14
A65: 79821200/567 | B65: այլ պոլիգրաֆիական արտադրանքի տպագրման ծառայություն | C65: ԳՀ | D65: դրամ | G65: -48
A66: 79821200/580 | B66: այլ պոլիգրաֆիական արտադրանքի տպագրման ծառայություն | C66: ԳՀ | D66: դրամ | G66: -80
A67: 79821200/590 | B67: այլ պոլիգրաֆիական արտադրանքի տպագրման ծառայություն | C67: ԳՀ | D67: դրամ | G67: -54
A68: 79821200/579 | B68: այլ պոլիգրաֆիական արտադրանքի տպագրման ծառայություն | C68: ԳՀ | D68: դրամ | G68: -15
A69: 79821200/570 | B69: այլ պոլիգրաֆիական արտադրանքի տպագրման ծառայություն | C69: ԳՀ | D69: դրամ | G69: -29
A70: 45461100/2 | B70: շենքերի, շինությունների ընթացիկ նորոգման աշխատանքներ | C70: ԳՀ | D70: դրամ | G70: -151.7
A71: Բաժին N 03 | B71: Խումբ N 02 | C71: Դաս N 01 | D71: Արտակարգ իրավիճակների բնագավառի պետական քաղաքականության մշակում՝ ծրագրերի համակագում և մոնիտորինգ | G71: =+G72+G85 -> 0
A72: 1112 11001 | B72: Արտակարգ իրավիճակների բնագավառում քաղաքականության մշակում՝ խորհրդատվական ծառայությունների տրամադրում և մոնիտորինգի իրականացում | G72: =+G73+G81 -> -5039.2
A73: ՄԱՍI. ԱՊՐԱՆՔՆԵՐ | G73: =SUM(G74:G80) -> -2851.2
...
