Workbook
Name AgencyCode: #REF!
Name AgencyCode: #REF!
Name AgencyName: #REF!
Name AgencyName: #REF!
Name Functional1: #REF!
Name Functional1: #REF!
Name havelvac: #REF!
Name PANature: #REF!
Name PANature: #REF!
Name PAType: #REF!
Name PAType: #REF!
Name Performance2: #REF!
Name Performance2: #REF!
Name PerformanceType: #REF!
Name PerformanceType: #REF!

Sheet 1
E1: Հավելված N 1
E2: ՀՀ կառավարության 2020 թվականի
E3: ___________ ___-ի N _______ -Ն որոշման
A6: «ՀԱՅԱUՏԱՆԻ ՀԱՆՐԱՊԵՏՈՒԹՅԱՆ 2020 ԹՎԱԿԱՆԻ ՊԵՏԱԿԱՆ ԲՅՈՒՋԵԻ ՄԱUԻՆ» ՀԱՅԱUՏԱՆԻ ՀԱՆՐԱՊԵՏՈՒԹՅԱՆ OՐԵՆՔԻ N 1 ՀԱՎԵԼՎԱԾԻ N 2 ԱՂՅՈՒՍԱԿՈՒՄ ԿԱՏԱՐՎՈՂ ՎԵՐԱԲԱՇԽՈՒՄԸ ԵՎ ՀԱՅԱՍՏԱՆԻ ՀԱՆՐԱՊԵՏՈՒԹՅԱՆ ԿԱՌԱՎԱՐՈՒԹՅԱՆ 2019 ԹՎԱԿԱՆԻ ԴԵԿՏԵՄԲԵՐԻ 26-Ի N 1919-Ն ՈՐՈՇՄԱՆ N5 ՀԱՎԵԼՎԱԾԻ N1 ԱՂՅՈՒՍԱԿՈՒՄ ԿԱՏԱՐՎՈՂ ՓՈՓՈԽՈՒԹՅՈՒՆՆԵՐԸ
E8: հազար դրամներով
A9: Ծրագրային դասիչը | C9: Բյուջետային հատկացումների գլխավոր կարգադրիչների, ծրագրերի և միջոցառումների անվանումները | D9: Ցուցանիշների փոփոխությունները (Ավելացումները նշված են դրական նշանով, իսկ նվազեցումները՝ փակագծերում)
A10: Ծրագիր | B10: Միջոցառում | D10: Ինն ամիս | E10: Տարի
C11: ԸՆԴԱՄԵՆԸ | D11: =+D12+D26+D40 -> 0 | E11: =+E12+E26+E40 -> 0
B12: ՀՀ վարչապետի աշխատակազմ | D12: =+D13 -> -2393.5 | E12: =+E13 -> -4790.2
A13: 1213 | C13: Ծրագրի անվանումը` | D13: =+D20 -> -2393.5 | E13: =+E20 -> -4790.2
C14: Տեսչական վերահսկողության ծրագիր
C15: Ծրագրի նպատակը`
C16: Տեսչական վերահսկողության ապահովում
C17: Վերջնական արդյունքի նկարագրությունը`
C18: Տեխնիկական կանոնակարգերին համապատասխանության գնահատում և պահանջների պահպանում
A19: Ծրագրի միջոցառումներ
B20: 11006 | C20: Միջոցառման անվանումը` | D20: -2393.5 | E20: -4790.2
C21: Քաղաքաշինության և ճարտարապետության բնագավառում վերահսկողության ծառայություններ
C22: Միջոցառման նկարագրությունը`
C23: Քաղաքաշինության՝ տեխնիկական և հրդեհային անվտանգության՝ տրանսպորտի՝ էներգետիկայի՝ պետական և տեղական նշանակության գեոդեզիական և քարտեզագրական աշխատանքների և հողօգտագործման բնագավառներում վերահսկողության իրականացում
C24: Միջոցառման տեսակը
C25: Ծառայությունների մատուցում
B26: ՀՀ Շրջակա միջավայրի նախարարություն | D26: =+D27 -> -8885.8 | E26: =+E27 -> -17771.6
A27: 1016 | C27: Ծրագրի անվանումը` | D27: =+D35 -> -8885.8 | E27: =+E35 -> -17771.6
C28: Շրջակա միջավայրի վրա ազդեցության գնահատում և մոնիթորինգ
C29: Ծրագրի նպատակը`
C30: Նպաստել շրջակա միջավայրի և բնական ռեսուրսների (բացառությամբ օգտակար հանածոների) պահպանությանը
C31: Վերջնական արդյունքի նկարագրությունը`
C32: Շրջակա միջավայրի վերաբերյալ ամբողջական տեղեկատվության հրապարակում
A33: Ծրագրի միջոցառումներ
B34: 11004 | C34: Միջոցառման անվանումը`
C35: Հիդրոօդերևութաբանություն, շրջակա միջավայրի մոնիթորիգ և տեղեկատվության ապահովում | D35: -8885.8 | E35: -17771.6
C36: Միջոցառման նկարագրությունը`
C37: Հիդրոօդերևութաբանություն, շրջակա միջավայրի մոնիթորիգի տեղեկատվության տրամադրման աշխատանքներ
C38: Միջոցառման տեսակը
C39: Ծառայությունների մատուցում
B40: ՀՀ արտակարգ իրավիճակների նախարարություն | D40: =+D41+D54 -> 11279.3 | E40: =+E41+E54 -> 22561.8
A41: 1090 | C41: Ծրագրի անվանումը` | D41: =+D48 -> 7600 | E41: =+E48 -> 15200
C42: Փրկարարական ծառայություններ
C43: Ծրագրի նպատակը`
...

Sheet 2
G1: Հավելված N2
F2: ՀՀ կառավարության 2020 թվականի
F3: ___________ ___-ի N _______ -Ն որոշման
A5: ՀԱՅԱՍՏԱՆԻ ՀԱՆՐԱՊԵՏՈՒԹՅԱՆ ԿԱՌԱՎԱՐՈՒԹՅԱՆ 2019 ԹՎԱԿԱՆԻ ԴԵԿՏԵՄԲԵՐԻ 26-Ի N 1919-Ն ՈՐՈՇՄԱՆ N 3 ԵՎ N 4 ՀԱՎԵԼՎԱԾՆԵՐՈՒՄ ԿԱՏԱՐՎՈՂ ՓՈՓՈԽՈՒԹՅՈՒՆՆԵՐԸ
G6: հազար դրամներով
A7: Գործառական դասիչը | D7: Ծրագրային դասիչը | F7: Բյուջետային ծախսերի գործառական դասակարգման բաժինների, խմբերի և դասերի, բյուջետային հատկացումների գլխավոր կարգադրիչների, ծրագրերի, միջոցառումների և միջոցառումները կատարող պետական մարմինների անվանումները | G7: Ցուցանիշների փոփոխությունները (ավելացումները նշված են դրական նշանով,իսկ նվազեցումները՝ փակագծերում)
A8: Բաժին | B8: Խումբ | C8: Դաս | D8: Ծրագիր | E8: Միջոցառում | G8: Ինն ամիս | H8: Տարի
F9: ԸՆԴԱՄԵՆԸ | G9: =+G10+G28+G57 -> 0 | H9: =+H10+H28+H57 -> 0
A10: 01 | F10: ԸՆԴՀԱՆՈՒՐ ԲՆՈՒՅԹԻ ՀԱՆՐԱՅԻՆ ԾԱՌԱՅՈՒԹՅՈՒՆՆԵՐ | G10: =+G12 -> -2393.5 | H10: =+H12 -> -4790.2
F11: այդ թվում`
B12: 01 | F12: Օրենսդիր և գործադիր մարմիններ, պետական կառավարում, ֆինանսական և հարկաբյուջետային հարաբերություններ, արտաքին հարաբերություններ | G12: =+G14 -> -2393.5 | H12: =+H14 -> -4790.2
F13: այդ թվում`
C14: 01 | F14: Օրենսդիր և գործադիր մարմիններ, պետական կառավարում | G14: =+G16 -> -2393.5 | H14: =+H16 -> -4790.2
F15: այդ թվում`
D16: 1213 | F16: Տեսչական վերահսկողության ծրագիր | G16: =+G20 -> -2393.5 | H16: =+H20 -> -4790.2
F17: այդ թվում`
E18: 11006 | F18: Քաղաքաշինության և ճարտարապետության բնագավառում վերահսկողության ծառայություններ | G18: =+G22 -> -2393.5 | H18: =+H22 -> -4790.2
F19: այդ թվում` ըստ կատարողների
F20: ՀՀ վարչապետի աշխատակազմ | G20: =+G22 -> -2393.5 | H20: =+H22 -> -4790.2
F21: այդ թվում` բյուջետային ծախսերի տնտեսագիտական դասակարգման հոդվածներ
F22: ԸՆԴԱՄԵՆԸ ԾԱԽՍԵՐ | G22: =+G23 -> -2393.5 | H22: =+H23 -> -4790.2
F23: ԸՆԹԱՑԻԿ ԾԱԽՍԵՐ | G23: =+G24 -> -2393.5 | H23: =+H24 -> -4790.2
F24: ԾԱՌԱՅՈՒԹՅՈՒՆՆԵՐԻ ԵՎ ԱՊՐԱՆՔՆԵՐԻ ՁԵՌՔԲԵՐՈՒՄ | G24: =+G25 -> -2393.5 | H24: =+H25 -> -4790.2
F25: Շարունակական ծախսեր | G25: =+G26+G27 -> -2393.5 | H25: =+H26+H27 -> -4790.2
F26: - Էներգետիկ ծառայություններ | G26: -2363.4 | H26: -4726.7
F27: - Կոմունալ ծառայություններ | G27: -30.1 | H27: -63.5
A28: 03 | F28: ՀԱՍԱՐԱԿԱԿԱՆ ԿԱՐԳ, ԱՆՎՏԱՆԳՈՒԹՅՈՒՆ ԵՎ ԴԱՏԱԿԱՆ ԳՈՐԾՈՒՆԵՈՒԹՅՈՒՆ | G28: =+G30 -> 11279.3 | H28: =+H30 -> 22561.8
F29: այդ թվում`
B30: 02 | F30: Փրկարար ծառայություն | G30: =+G32 -> 11279.3 | H30: =+H32 -> 22561.8
F31: այդ թվում`
C32: 01 | F32: Փրկարար ծառայություն | G32: =+G34+G46 -> 11279.3 | H32: =+H34+H46 -> 22561.8
F33: այդ թվում
D34: 1090 | F34: Փրկարարական ծառայություններ | G34: =+G36 -> 7600 | H34: =+H36 -> 15200
F35: այդ թվում`
E36: 11001 | F36: Փրկարարական ծառայություններ | G36: =+G38 -> 7600 | H36: =+H38 -> 15200
F37: այդ թվում` ըստ կատարողների
F38: ՀՀ արտակարգ իրավիճակների նախարարություն | G38: =+G40 -> 7600 | H38: =+H40 -> 15200
F39: այդ թվում` բյուջետային ծախսերի տնտեսագիտական դասակարգման հոդվածներ
F40: ԸՆԴԱՄԵՆԸ ԾԱԽՍԵՐ | G40: =+G41 -> 7600 | H40: =+H41 -> 15200
F41: ԸՆԹԱՑԻԿ ԾԱԽՍԵՐ | G41: =+G42 -> 7600 | H41: =+H42 -> 15200
...

Sheet 3
G1: Հավելված N3
H2: ՀՀ կառավարության 2020 թվականի
G3: ___________ ___-ի N _______ -Ն որոշման
A5: ՀԱՅԱՍՏԱՆԻ ՀԱՆՐԱՊԵՏՈՒԹՅԱՆ ԿԱՌԱՎԱՐՈՒԹՅԱՆ 2019 ԹՎԱԿԱՆԻ ԴԵԿՏԵՄԲԵՐԻ 26-Ի ԹԻՎ 1919-Ն ՈՐՈՇՄԱՆ N9 ՀԱՎԵԼՎԱԾԻ 9.3 ԱՂՅՈՒՍԱԿՈՒՄ ԿԱՏԱՐՎՈՂ ՓՈՓՈԽՈՒԹՅՈՒՆՆԵՐԸ
A7: ՀՀ վարչապետի աշխատակազմ
A8: ՄԱՍ 2. ՊԵՏԱԿԱՆ ՄԱՐՄՆԻ ԳԾՈՎ ԱՐԴՅՈՒՆՔԱՅԻՆ (ԿԱՏԱՐՈՂԱԿԱՆ) ՑՈՒՑԱՆԻՇՆԵՐԸ
A9: Ծրագրի դասիչը | B9: Ծրագրի անվանումը
A10: 1213 | B10: Տեսչական վերահսկողության ծրագիր
A12: Ծրագրի միջոցառումները
A13: Ծրագրի դասիչը՝ | B13: 1213 | C13: Ցուցանիշների փոփոխությունը (նվազեցումները նշված են փակագծերում)
A14: Միջոցառման դասիչը՝ | B14: 11006 | C14: Ինն ամիս | D14: Տարի
A15: Միջոցառման անվանումը՝ | B15: Քաղաքաշինության և ճարտարապետության բնագավառում վերահսկողության ծառայություններ
A16: Նկարագրությունը՝ | B16: Քաղաքաշինության՝ տեխնիկական և հրդեհային անվտանգության՝ տրանսպորտի՝ էներգետիկայի՝ պետական և տեղական նշանակության գեոդեզիական և քարտեզագրական աշխատանքների և հողօգտագործման բնագավառներում վերահսկողության իրականացում
A17: Միջոցառման տեսակը՝ | B17: Ծառայության մատուցում
A18: Միջոցառումն իրականացնողի անվանումը | B18: ՀՀ քաղաքաշինության, տեխնիկական և հրդեհային անվտանգության տեսչական մարմին
B19: Արդյունքի չափորոշիչներ
A20: Միջոցառման վրա կատարվող ծախսը (հազար դրամ) | C20: =+'2'!G16 -> -2393.5 | D20: =+'2'!H16 -> -4790.2
A21: ՀԱՅԱՍՏԱՆԻ ՀԱՆՐԱՊԵՏՈՒԹՅԱՆ ԿԱՌԱՎԱՐՈՒԹՅԱՆ 2019 ԹՎԱԿԱՆԻ ԴԵԿՏԵՄԲԵՐԻ 26-Ի N 1919-Ն ՈՐՈՇՄԱՆ N 9 ՀԱՎԵԼՎԱԾԻ N 9.13 ԱՂՅՈՒՍԱԿՈՒՄ ԿԱՏԱՐՎՈՂ ՓՈՓՈԽՈՒԹՅՈՒՆՆԵՐԸ ԵՎ ԼՐԱՑՈՒՄՆԵՐԸ
A23: ՀՀ շրջակա միջավայրի նախարարություն
A24: ՄԱՍ 2. ՊԵՏԱԿԱՆ ՄԱՐՄՆԻ ԳԾՈՎ ԱՐԴՅՈՒՆՔԱՅԻՆ (ԿԱՏԱՐՈՂԱԿԱՆ) ՑՈՒՑԱՆԻՇՆԵՐԸ
A26: Ծրագրի դասիչը | B26: Ծրագրի անվանումը
A27: 1016 | B27: Շրջակա միջավայրի վրա ազդեցության գնահատում և մոնիթորինգ
A28: Ծրագրի միջոցառումները
A30: Ծրագրի դասիչը՝ | B30: 1016 | C30: Ցուցանիշների փոփոխությունը (նվազեցումները նշված են փակագծերում)
A31: Միջոցառման դասիչը՝ | B31: 11004 | C31: Ինն ամիս | D31: Տարի
A32: Միջոցառման անվանումը՝ | B32: Հիդրոօդերևութաբանություն, շրջակա միջավայրի մոնիթորիգ և տեղեկատվության ապահովում
A33: Նկարագրությունը՝ | B33: Հիդրոօդերևութաբանություն, շրջակա միջավայրի մոնիթորիգի տեղեկատվության տրամադրման աշխատանքներ
A34: Միջոցառման տեսակը՝ | B34: Ծառայությունների մատուցում
A35: Միջոցառումն իրականացնողի անվանումը՝ | B35: Մասնագիտացված կազմակերպություններ
B36: Արդյունքի չափորոշիչներ
A37: Միջոցառման վրա կատարվող ծախսը (հազար դրամ) | C37: =+'2'!G64 -> -8885.8 | D37: =+'2'!H64 -> -17771.6
A38: ՀԱՅԱՍՏԱՆԻ ՀԱՆՐԱՊԵՏՈՒԹՅԱՆ ԿԱՌԱՎԱՐՈՒԹՅԱՆ 2019 ԹՎԱԿԱՆԻ ԴԵԿՏԵՄԲԵՐԻ 26-Ի ԹԻՎ 1919-Ն ՈՐՈՇՄԱՆ N 9 ՀԱՎԵԼՎԱԾԻ 9.19 ԱՂՅՈՒՍԱԿՈՒՄ ԿԱՏԱՐՎՈՂ ՓՈՓՈԽՈՒԹՅՈՒՆՆԵՐԸ
A39: ՀՀ արտակարգ իրավիճակների նախարարություն
A40: ՄԱՍ 2. ՊԵՏԱԿԱՆ ՄԱՐՄՆԻ ԳԾՈՎ ԱՐԴՅՈՒՆՔԱՅԻՆ (ԿԱՏԱՐՈՂԱԿԱՆ) ՑՈՒՑԱՆԻՇՆԵՐԸ
A41: Ծրագրի դասիչը | B41: Ծրագրի անվանումը
A42: 1090 | B42: Փրկարարական ծառայություններ
A43: Ծրագրի միջոցառումները
A44: Ծրագրի դասիչը՝ | B44: 1090 | C44: Ցուցանիշների փոփոխությունը (ավելացումները նշված են դրական նշանով)
A45: Միջոցառման դասիչը՝ | B45: 11001 | C45: Ինն ամիս | D45: Տարի
A46: Միջոցառման անվանումը՝ | B46: Փրկարարական ծառայություններ
...

Sheet 4
C1: Հավելված N 4 ՀՀ կառավարության 2020 թվականի __________-ի ____-ի N _____-Ն որոշման
A2: ՀԱՅԱՍՏԱՆԻ ՀԱՆՐԱՊԵՏՈՒԹՅԱՆ ԿԱՌԱՎԱՐՈՒԹՅԱՆ 2019 ԹՎԱԿԱՆԻ ԴԵԿՏԵՄԲԵՐԻ 26-Ի ԹԻՎ 1919-Ն ՈՐՈՇՄԱՆ N9.1 ՀԱՎԵԼՎԱԾԻ 9.1.3 ԱՂՅՈՒՍԱԿՈՒՄ ԿԱՏԱՐՎՈՂ ՓՈՓՈԽՈՒԹՅՈՒՆՆԵՐԸ
A3: ՀՀ վարչապետի աշխատակազմ
A4: ՄԱՍ 1. ՊԵՏԱԿԱՆ ՄԱՐՄՆԻ ԳԾՈՎ ԱՐԴՅՈՒՆՔԱՅԻՆ (ԿԱՏԱՐՈՂԱԿԱՆ) ՑՈՒՑԱՆԻՇՆԵՐԸ
A5: Ծրագրի դասիչը | B5: Ծրագրի անվանումը
A6: 1213 | B6: Տեսչական վերահսկողության ծրագիր
A7: Ծրագրի միջոցառումները
A8: Ծրագրի դասիչը՝ | B8: 1213 | C8: Ցուցանիշների փոփոխությունը (նվազեցումները նշված են փակագծերում)
A9: Միջոցառման դասիչը՝ | B9: 11006 | C9: Ինն ամիս | D9: Տարի
A10: Միջոցառման անվանումը՝ | B10: Քաղաքաշինության և ճարտարապետության բնագավառում վերահսկողության ծառայություններ
A11: Նկարագրությունը՝ | B11: Քաղաքաշինության՝ տեխնիկական և հրդեհային անվտանգության՝ տրանսպորտի՝ էներգետիկայի՝ պետական և տեղական նշանակության գեոդեզիական և քարտեզագրական աշխատանքների և հողօգտագործման բնագավառներում վերահսկողության իրականացում
A12: Միջոցառման տեսակը՝ | B12: Ծառայության մատուցում
A13: Միջոցառումն իրականացնողի անվանումը | B13: ՀՀ քաղաքաշինության, տեխնիկական և հրդեհային անվտանգության տեսչական մարմին
B14: Արդյունքի չափորոշիչներ
A15: Միջոցառման վրա կատարվող ծախսը (հազար դրամ) | C15: =+'3'!C20 -> -2393.5 | D15: =+'3'!D20 -> -4790.2
A16: ՀԱՅԱՍՏԱՆԻ ՀԱՆՐԱՊԵՏՈՒԹՅԱՆ ԿԱՌԱՎԱՐՈՒԹՅԱՆ 2019 ԹՎԱԿԱՆԻ ԴԵԿՏԵՄԲԵՐԻ 26-Ի N 1919-Ն ՈՐՈՇՄԱՆ N 9.1 ՀԱՎԵԼՎԱԾԻ N 9.1.13 ԱՂՅՈՒՍԱԿՈՒՄ ԿԱՏԱՐՎՈՂ ՓՈՓՈԽՈՒԹՅՈՒՆՆԵՐԸ ԵՎ ԼՐԱՑՈՒՄՆԵՐԸ
A18: ՀՀ շրջակա միջավայրի նախարարություն
A19: ՄԱՍ 1. ՊԵՏԱԿԱՆ ՄԱՐՄՆԻ ԳԾՈՎ ԱՐԴՅՈՒՆՔԱՅԻՆ (ԿԱՏԱՐՈՂԱԿԱՆ) ՑՈՒՑԱՆԻՇՆԵՐԸ
A21: Ծրագրի դասիչը | B21: Ծրագրի անվանումը
A22: 1016 | B22: Շրջակա միջավայրի վրա ազդեցության գնահատում և մոնիթորինգ
A23: Ծրագրի միջոցառումները
A25: Ծրագրի դասիչը՝ | B25: 1016 | C25: Ցուցանիշների փոփոխությունը (նվազեցումները նշված են փակագծերում)
A26: Միջոցառման դասիչը՝ | B26: 11004 | C26: Ինն ամիս | D26: Տարի
A27: Միջոցառման անվանումը՝ | B27: Հիդրոօդերևութաբանություն, շրջակա միջավայրի մոնիթորիգ և տեղեկատվության ապահովում
A28: Նկարագրությունը՝ | B28: Հիդրոօդերևութաբանություն, շրջակա միջավայրի մոնիթորիգի տեղեկատվության տրամադրման աշխատանքներ
A29: Միջոցառման տեսակը՝ | B29: Ծառայությունների մատուցում
A30: Միջոցառումն իրականացնողի անվանումը՝ | B30: Մասնագիտացված կազմակերպություններ
B31: Արդյունքի չափորոշիչներ
A32: Միջոցառման վրա կատարվող ծախսը (հազար դրամ) | C32: =+'3'!C37 -> -8885.8 | D32: =+'3'!D37 -> -17771.6
A33: ՀԱՅԱՍՏԱՆԻ ՀԱՆՐԱՊԵՏՈՒԹՅԱՆ ԿԱՌԱՎԱՐՈՒԹՅԱՆ 2019 ԹՎԱԿԱՆԻ ԴԵԿՏԵՄԲԵՐԻ 26-Ի ԹԻՎ 1919-Ն ՈՐՈՇՄԱՆ N9.1 ՀԱՎԵԼՎԱԾԻ 9.1.19 ԱՂՅՈՒՍԱԿՈՒՄ ԿԱՏԱՐՎՈՂ ՓՈՓՈԽՈՒԹՅՈՒՆՆԵՐԸ
A34: ՀՀ արտակարգ իրավիճակների նախարարություն
A35: ՄԱՍ 1. ՊԵՏԱԿԱՆ ՄԱՐՄՆԻ ԳԾՈՎ ԱՐԴՅՈՒՆՔԱՅԻՆ (ԿԱՏԱՐՈՂԱԿԱՆ) ՑՈՒՑԱՆԻՇՆԵՐԸ
A37: Ծրագրի դասիչը | B37: Ծրագրի անվանումը
A38: 1090 | B38: Փրկարարական ծառայություններ
A39: Ծրագրի միջոցառումները
A40: Ծրագրի դասիչը՝ | B40: 1090 | C40: Ցուցանիշների փոփոխությունը (ավելացումները նշված են դրական նշանով)
A41: Միջոցառման դասիչը՝ | B41: 11001 | C41: Ինն ամիս | D41: Տարի
A42: Միջոցառման անվանումը՝ | B42: Փրկարարական ծառայություններ
A43: Նկարագրությունը՝ | B43: Հրդեհաշիջման, հակահրդեհային քարոզչության, բնական և տեխնածին աղետների ժամանակ բնակչության և կառույցների պաշտպանություն
A44: Միջոցառման տեսակը՝ | B44: Ծառայության մատուցում
...

Sheet 5
H1: Հավելված N5
F2: ՀՀ կառավարության 2020 թվականի
F3: ______________ ի ___Ն որոշման
A5: ՀԱՅԱՍՏԱՆԻ ՀԱՆՐԱՊԵՏՈՒԹՅԱՆ ԿԱՌԱՎԱՐՈՒԹՅԱՆ 2019 ԹՎԱԿԱՆԻ ԴԵԿՏԵՄԲԵՐԻ 26-Ի N 1919-Ն ՈՐՈՇՄԱՆ N 5 ՀԱՎԵԼՎԱԾԻ 7-ՐԴ ԱՂՅՈՒՍԱԿՈՒՄ ԿԱՏԱՐՎՈՂ ՓՈՓՈԽՈՒԹՅՈՒՆՆԵՐԸ N 3 ԵՎ N 4 ՀԱՎԵԼՎԱԾՆԵՐՈՒՄ ԿԱՏԱՐՎՈՂ ՓՈՓՈԽՈՒԹՅՈՒՆՆԵՐԸ ԵՎ ԼՐԱՑՈՒՄՆԵՐԸ
G7: հազար դրամներով
A8: Ծրագրային դասիչ | C8: Բյուջետային հատկացումների գլխավոր կարգադրիչների, ծրագրերի, միջոցառումների, ծախսային ուղղությունների անվանումները | F8: Միջոցառումները կատարող պետական մարմինների և դրամաշնորհ ստացող տնտեսվարող սուբյեկտների անվանումները | G8: Ցուցանիշների փոփոխությունը (նվազեցումները նշված են փակագծերում)
A9: Ծրագիր | B9: Միջոցառում | G9: Տարի
A10: 1 | B10: 2 | C10: 3 | F10: 4 | G10: 5
A11: 1016 | B11: Հիդրոօդերևութաբանական ծառայություններ | G11: =+G12 -> -17771.6
B12: 11004 | C12: Հիդրոօդերևութաբանական ծառայություններ | F12: ՀՀ շրջակա միջավայրի նախարարություն | G12: =+G13 -> -17771.6
F13: «Հիդրոօդերևութաբանության և մոնիթորինգի կենտրոն» ՊՈԱԿ | G13: =+'2'!H64 -> -17771.6

Sheet 6
F1: Հավելված N 6
E2: ՀՀ կառավարության 2020 թվականի
E3: ______________ ի ___Ն որոշման
A6: ՀԱՅԱՍՏԱՆԻ ՀԱՆՐԱՊԵՏՈՒԹՅԱՆ ԿԱՌԱՎԱՐՈՒԹՅԱՆ 2019ԹՎԱԿԱՆԻ ԴԵԿՏԵՄԲԵՐԻ 26-Ի N 1919-Ն ՈՐՈՇՄԱՆ N10 ՀԱՎԵԼՎԱԾՈՒՄ ԿԱՏԱՐՎՈՂ ՓՈՓՈԽՈՒԹՅՈՒՆՆԵՐԸ ԵՎ ԼՐԱՑՈՒՄՆԵՐԸ
A8: Գնման առարկայի | G8: Գումարը (հազար դրամով) Ցուցանիշների փոփոխությունները (Ավելացումները նշված են դրական նշանով, իսկ նվազեցումները՝ փակագծերում)
A9: Կոդը | B9: Անվանումը | C9: Գնման ձև | D9: Չափման միավորը | E9: Միավորի գինը | F9: Քանակը
A11: ՀՀ վարչապետի աշխատակազմ | G11: =+G12 -> -4790.2
A12: Բաժին N 01 | B12: Խումբ N 01 | C12: Դաս N 01 | D12: Օրենսդիր և գործադիր մարմիններ, պետական կառավարում, ֆինանսական և հարկաբյուջետային հարաբերություններ, արտաքին հարաբերություններ | G12: =+G13 -> -4790.2
A13: 1213 11006 | B13: Քաղաքաշինության և ճարտարապետության բնագավառում վերահսկողության ծառայություններ | G13: =+G14 -> -4790.2
A14: ՄԱՍ III. ԾԱՌԱՅՈՒԹՅՈՒՆՆԵՐ | G14: =SUM(G15:G18) -> -4790.2
A15: 65111100-1 | B15: Խմելու ջրի բաշխում | C15: ՄԱ | D15: դրամ | G15: -53.6
A16: 65211100-1 | B16: Գազի բաշխում | C16: ՄԱ | D16: դրամ | G16: -1937.8
A17: 65311100-1 | B17: Էլեկտրականության բաշխում | C17: ՄԱ | D17: դրամ | G17: -2788.9
A18: 90671100-1 | B18: Ախտահանման և մակաբույծների ոչնչացման ծառայություններ քաղաքային կամ գյուղական վայրերում | C18: ՄԱ | D18: դրամ | G18: -9.9
A19: ՀՀ արտակարգ իրավիճակների նախարարություն | G19: =+G20+G25 -> 22561.8
A20: Բաժին N 03 | B20: Խումբ N 02 | C20: Դաս N 01 | D20: Փրկարար ծառայություն | G20: =+G21 -> 15200
A21: 1090 11001 | B21: Փրկարարական ծառայություններ | G21: =+G22 -> 15200
A22: ՄԱՍ III. ԾԱՌԱՅՈՒԹՅՈՒՆՆԵՐ | G22: =SUM(G23:G24) -> 15200
A23: 65211100-1 | B23: Գազի բաշխում | C23: ՄԱ | D23: դրամ | E23: 11000000 | F23: 1 | G23: =+E23*F23/1000 -> 11000
A24: 70311200-1 | B24: Տարածքների վարձակալության ծառայություններ | C24: ՄԱ | D24: դրամ | E24: 4200000 | F24: 1 | G24: =+E24*F24/1000 -> 4200
A25: 1112 11001 | B25: Արտակարգ իրավիճակների բնագավառում քաղաքականության մշակում՝ խորհրդատվական ծառայությունների տրամադրում և մոնիտորինգի իրականացում | G25: =+G26 -> 7361.8
A26: ՄԱՍ III. ԾԱՌԱՅՈՒԹՅՈՒՆՆԵՐ | G26: =SUM(G27:G28) -> 7361.8
A27: 65111100-1 | B27: Խմելու ջրի բաշխում | C27: ՄԱ | D27: դրամ | E27: 2936000 | F27: 1 | G27: =+E27*F27/1000 -> 2936
A28: 65211100-1 | B28: Գազի բաշխում | C28: ՄԱ | D28: դրամ | E28: 4425800 | F28: 1 | G28: =+E28*F28/1000 -> 4425.8
A30: ՀԱՅԱՍՏԱՆԻ ՀԱՆՐԱՊԵՏՈՒԹՅԱՆ ՎԱՐՉԱՊԵՏԻ ԱՇԽԱՏԱԿԱԶՄԻ
A31: ՂԵԿԱՎԱՐ Է. ԱՂԱՋԱՆՅԱՆ
