Workbook
Name AgencyCode: #REF!
Name AgencyCode: #REF!
Name AgencyName: #REF!
Name AgencyName: #REF!
Name Functional1: #REF!
Name Functional1: #REF!
Name PANature: #REF!
Name PANature: #REF!
Name PAType: #REF!
Name PAType: #REF!
Name Performance2: #REF!
Name Performance2: #REF!
Name PerformanceType: #REF!
Name PerformanceType: #REF!

Sheet 1
D1: Հավելված 1
C2: ՀՀ կառավարության 2020 թվականի
D3: ______________ ի ___Ն որոշման
A5: ՀԱՅԱՍՏԱՆԻ ՀԱՆՐԱՊԵՏՈՒԹՅԱՆ 2020 ԹՎԱԿԱՆԻ ՊԵՏԱԿԱՆ ԲՅՈՒՋԵԻ ՄԱՍԻՆ» ՀԱՅԱՍՏԱՆԻ ՀԱՆՐԱՊԵՏՈՒԹՅԱՆ ՕՐԵՆՔԻ N 1 ՀԱՎԵԼՎԱԾԻ N 2 ԱՂՅՈՒՍԱԿՈՒՄ ԿԱՏԱՐՎՈՂ ՎԵՐԱԲԱՇԽՈՒՄԸ ԵՎ ՀԱՅԱՍՏԱՆԻ ՀԱՆՐԱՊԵՏՈՒԹՅԱՆ ԿԱՌԱՎԱՐՈՒԹՅԱՆ 2019 ԹՎԱԿԱՆԻ ԴԵԿՏԵՄԲԵՐԻ 26-Ի N 1919-Ն ՈՐՈՇՄԱՆ N 5 ՀԱՎԵԼՎԱԾԻ N 1 ԱՂՅՈՒՍԱԿՈՒՄ ԿԱՏԱՐՎՈՂ ՓՈՓՈԽՈՒԹՅՈՒՆՆԵՐԸ ԵՎ ԼՐԱՑՈՒՄՆԵՐԸ
D7: հազար դրամներով
A8: Ծրագրային դասիչը | C8: Բյուջետային հատկացումների գլխավոր կարգադրիչների, ծրագրերի և միջոցառումների անվանումները | D8: Ցուցանիշների փոփոխությունը (ավելացումները նշված են դրական նշանով, իսկ նվազեցումները` փակագծերում)
A9: Ծրագիր | B9: Միջոցառում | D9: Ինն ամիս | E9: Տարի
C10: ԸՆԴԱՄԵՆԸ | D10: =D11 -> 0 | E10: =E11 -> 0
C11: ՀՀ տարածքային կառավարման և ենթակառուցվածքների նախարարություն | D11: =D12 -> 0 | E11: =E12 -> 0
A12: 1189 | C12: Ծրագրի անվանումը` | D12: =D19+D25 -> 0 | E12: =E19+E25 -> 0
C13: Դպրոցների սեյսմիկ անվտանգության մակարդակի բարձրացման ծրագիր
C14: Ծրագրի նպատակը`
C15: Նպաստել երկրի սեյսմակայունության ապահովմանը՝ անհատական և հասարակական անվտանգության մակարդակի բարձրացմանը
C16: Վերջնական արդյունքի նկարագրությունը`
C17: Դպրոցական շենքերի սեյսմակայունության մակարդակի բարձրացում
A18: Ծրագրի միջոցառումներ
B19: 12001 | C19: Միջոցառման անվանումը` | D19: =E19 -> -136406 | E19: =-E25 -> -136406
C20: Ասիական զարգացման բանկի աջակցությամբ իրականացվող դպրոցների սեյսմիկ պաշտպանության ծրագրի շրջանակներում ՀՀ դպրոցների սեյսմիկ անվտանգության բարելավմանն ուղղված միջոցառումներ
C21: Միջոցառման նկարագրությունը`
C22: Դպրոցների շենքերի ամրացման շինարարական աշխատանքներ, շինարարական ստանդարտների արդիականացում, արտակարգ իրավիճակներին արձագանքման ծրագրի մշակում, սեյսմիկ մոնիտորինգի դիտակետերի սարքավորումների արդիականացում:
C23: Միջոցառման տեսակը՝
C24: Տրանսֆերտների տրամադրում
B25: 12002 | C25: Միջոցառման անվանումը` | D25: =E25 -> 136406 | E25: ='5'!F25 -> 136406
C26: «Սեյսմիկ անվտանգության բարելավման» ծրագրի շրջանակներում` Հայաստանի տարածքային զարգացման հիմնադրամի կողմից կառուցված դպրոցների գույքով ապահովում
C27: Միջոցառման նկարագրությունը`
C28: Ապահովել սեյսմակայուն և արդիական բոլոր չափանիշներին համապատասխան կառուցված դպրոցների կրթական ծառայությունների մատուցման համար անհրաժեշտ պայմանները։
C29: Միջոցառման տեսակը
C30: Տրանսֆերտների տրամադրում
C31: ՀՀ կառավարություն | D31: =D32 -> 0 | E31: =E32 -> 0
A32: 1139 | C32: Ծրագրի անվանումը` | D32: =D39+D45 -> 0 | E32: =E39+E45 -> 0
C33: ՀՀ կառավարության պահուստային ֆոնդ
C34: Ծրագրի նպատակը`
C35: Պետական բյուջեում չկանխատեսված՝ ինչպես նաև բյուջետային երաշխիքների ապահովման ծախսերի ֆինանսավորման ապահովում
C36: Վերջնական արդյունքի նկարագրությունը`
C37: Պահուստային ֆոնդի կառավարման արդյունավետության և թափանցիկության
A38: Ծրագրի միջոցառումներ
B39: 11001 | C39: Միջոցառման անվանումը` | D39: =D25 -> 136406 | E39: =E25 -> 136406
C40: ՀՀ կառավարության պահուստային ֆոնդ
C41: Միջոցառման նկարագրությունը`
C42: ՀՀ պետական բյուջեում նախատեսված ելքերի լրացուցիչ ֆինանսավորման՝ պետական բյուջեում չկանխատեսված ելքերի՝ ինչպես նաև բյուջետային երաշխիքների ապահովման ելքերի ֆինանսավորման ապահովում
C43: Միջոցառման տեսակը
C44: Ծառայությունների մատուցում
B45: 11001 | C45: Միջոցառման անվանումը` | D45: =-D39 -> -136406 | E45: =-E39 -> -136406
C46: ՀՀ կառավարության պահուստային ֆոնդ
C47: Միջոցառման նկարագրությունը`
C48: ՀՀ պետական բյուջեում նախատեսված ելքերի լրացուցիչ ֆինանսավորման՝ պետական բյուջեում չկանխատեսված ելքերի՝ ինչպես նաև բյուջետային երաշխիքների ապահովման ելքերի ֆինանսավորման ապահովում
C49: Միջոցառման տեսակը
C50: Ծառայությունների մատուցում

Sheet 2
H1: Հավելված 2
H2: ՀՀ կառավարության 2020 թվականի
H3: ______________ ի ___Ն որոշման
A5: ՀԱՅԱՍՏԱՆԻ ՀԱՆՐԱՊԵՏՈՒԹՅԱՆ ԿԱՌԱՎԱՐՈՒԹՅԱՆ 2019 ԹՎԱԿԱՆԻ ԴԵԿՏԵՄԲԵՐԻ 26-Ի N 1919-Ն ՈՐՈՇՄԱՆ N 3 ԵՎ N 4 ՀԱՎԵԼՎԱԾՆԵՐՈՒՄ ԿԱՏԱՐՎՈՂ ՓՈՓՈԽՈՒԹՅՈՒՆՆԵՐԸ ԵՎ ԼՐԱՑՈՒՄՆԵՐԸ
A8: Գործառական դասիչը | D8: Ծրագրային դասիչը | F8: Բյուջետային ծախսերի գործառական դասակարգման բաժինների, խմբերի և դասերի, բյուջետային հատկացումների գլխավոր կարգադրիչների, ծրագրերի, միջոցառումների և միջոցառումները կատարող պետական մարմինների անվանումները | G8: Ցուցանիշների փոփոխությունը (ավելացումները նշված են դրական նշանով, իսկ նվազեցումները` փակագծերում)
A9: Բաժին | B9: Խումբ | C9: Դաս | D9: Ծրագիր | E9: Միջոցա ռում | G9: Ինն ամիս | H9: Տարի
F10: ԸՆԴԱՄԵՆԸ ԾԱԽՍԵՐ | G10: =G12 -> 0 | H10: =H12 -> 0
F11: այդ թվում`
A12: 09 | F12: ԿՐԹՈՒԹՅՈՒՆ | G12: =G14 -> 0 | H12: =H14 -> 0
F13: այդ թվում`
B14: 06 | F14: Կրթությանը տրամադրվող օժանդակ ծառայություններ | G14: =G16 -> 0 | H14: =H16 -> 0
F15: այդ թվում`
C16: 01 | F16: Կրթությանը տրամադրվող օժանդակ ծառայություններ | G16: =+G20 -> 0 | H16: =+H20 -> 0
F17: այդ թվում`
F18: ՀՀ տարածքային կառավարման և ենթակառուցվածքների նախարարություն | G18: =G20 -> 0 | H18: =H20 -> 0
F19: այդ թվում`
D20: 1189 | F20: Դպրոցների սեյսմիկ անվտանգության մակարդակի բարձրացման ծրագիր | G20: =G28+G22 -> 0 | H20: =H28+H22 -> 0
F21: այդ թվում`
E22: 12001 | F22: Ասիական զարգացման բանկի աջակցությամμ իրականացվող դպրոցների սեյսմիկ_x000D_ պաշտպանության ծրագրի շրջանակներում ՀՀ դպրոցների սեյսմիկ անվտանգության բարելավմանն_x000D_ ուղղված միջոցառումներ | G22: =G24 -> -136406 | H22: =H24 -> -136406
F23: այդ թվում` ըստ կատարողների
F24: ՀՀ տարածքային կառավարման և ենթակառուցվածքների նախարարություն | G24: =G26 -> -136406 | H24: =H26 -> -136406
F25: այդ թվում` բյուջետային ծախսերի տնտեսագիտական դասակարգման հոդվածների
F26: ՈՉ ՖԻՆԱՆՍԱԿԱՆ ԱԿՏԻՎՆԵՐԻ ԳԾՈՎ ԾԱԽՍԵՐ | G26: =G27 -> -136406 | H26: =H27 -> -136406
F27: - Շենքերի և շինությունների շինարարություն | G27: =-G36 -> -136406 | H27: =-H36 -> -136406
E28: 12002 | F28: «Սեյսմիկ անվտանգության բարելավման» ծրագրի շրջանակներում` Հայաստանի տարածքային զարգացման հիմնադրամի կողմից կառուցված դպրոցների գույքով ապահովում | G28: =G30 -> 136406 | H28: =H30 -> 136406
F29: այդ թվում` ըստ կատարողների
F30: ՀՀ տարածքային կառավարման և ենթակառուցվածքների նախարարություն | G30: =G36 -> 136406 | H30: =H36 -> 136406
F31: այդ թվում` բյուջետային ծախսերի տնտեսագիտական դասակարգման հոդվածների
F32: ԸՆԴԱՄԵՆԸ ԾԱԽՍԵՐ | G32: =+G33 -> 136406 | H32: =+H33 -> 136406
F33: ԸՆԹԱՑԻԿ ԾԱԽՍԵՐ | G33: =+G34 -> 136406 | H33: =+H34 -> 136406
F34: ԴՐԱՄԱՇՆՈՐՀՆԵՐ | G34: =+G35 -> 136406 | H34: =+H35 -> 136406
F35: Կապիտալ դրամաշնորհներ պետական հատվածի այլ մակարդակներին | G35: =+G36 -> 136406 | H35: =+H36 -> 136406
F36: - Այլ կապիտալ դրամաշնորհներ | G36: ='1'!D25 -> 136406 | H36: ='1'!E25 -> 136406
A37: 11 | F37: ՀԻՄՆԱԿԱՆ ԲԱԺԻՆՆԵՐԻՆ ՉԴԱՍՎՈՂ ՊԱՀՈՒՍՏԱՅԻՆ ՖՈՆԴԵՐ | G37: =G39 -> 0 | H37: =H39 -> 0
F38: այդ թվում`
B39: 01 | F39: ՀՀ կառավարության և համայնքների պահուստային ֆոնդ | G39: =G41 -> 0 | H39: =H41 -> 0
F40: այդ թվում`
C41: 01 | F41: ՀՀ կառավարության պահուստային ֆոնդ | G41: =G43 -> 0 | H41: =H43 -> 0
F42: այդ թվում`
F43: ՀՀ կառավարություն | G43: =G45 -> 0 | H43: =H45 -> 0
F44: այդ թվում`
D45: 1139 | F45: ՀՀ կառավարության պահուստային ֆոնդ | G45: =G47+G55 -> 0 | H45: =H47+H55 -> 0
F46: այդ թվում`
E47: 11001 | F47: ՀՀ կառավարության պահուստային ֆոնդ | G47: =G49 -> 136406 | H47: =H49 -> 136406
F48: այդ թվում` ըստ կատարողների
F49: ՀՀ կառավարություն | G49: =G54 -> 136406 | H49: =H54 -> 136406
F50: այդ թվում` բյուջետային ծախսերի տնտեսագիտական դասակարգման հոդվածների
F51: ԸՆԴԱՄԵՆԸ ԾԱԽՍԵՐ | G51: =G52 -> 136406 | H51: =H52 -> 136406
F52: ԸՆԹԱՑԻԿ ԾԱԽՍԵՐ | G52: =G53 -> 136406 | H52: =H53 -> 136406
F53: ԱՅԼ ԾԱԽՍԵՐ | G53: =G54 -> 136406 | H53: =H54 -> 136406
F54: - Պահուստային միջոցներ | G54: =G36 -> 136406 | H54: =H36 -> 136406
E55: 11001 | F55: ՀՀ կառավարության պահուստային ֆոնդ | G55: =G57 -> -136406 | H55: =H57 -> -136406
F56: այդ թվում` ըստ կատարողների
F57: ՀՀ կառավարություն | G57: =G62 -> -136406 | H57: =H62 -> -136406
F58: այդ թվում` բյուջետային ծախսերի տնտեսագիտական դասակարգման հոդվածների
F59: ԸՆԴԱՄԵՆԸ ԾԱԽՍԵՐ | G59: =+G60 -> -136406 | H59: =+H60 -> -136406
F60: ԸՆԹԱՑԻԿ ԾԱԽՍԵՐ | G60: =+G61 -> -136406 | H60: =+H61 -> -136406
F61: ԱՅԼ ԾԱԽՍԵՐ | G61: =+G62 -> -136406 | H61: =+H62 -> -136406
F62: - Պահուստային միջոցներ | G62: =-G54 -> -136406 | H62: =-H54 -> -136406

Sheet 3
I1: Հավելված 3
I2: ՀՀ կառավարության 2020 թվականի
I3: ______________ ի ___Ն որոշման
A5: «ՀԱՅԱUՏԱՆԻ ՀԱՆՐԱՊԵՏՈՒԹՅԱՆ 2020 ԹՎԱԿԱՆԻ ՊԵՏԱԿԱՆ ԲՅՈՒՋԵԻ ՄԱUԻՆ» ՀԱՅԱUՏԱՆԻ ՀԱՆՐԱՊԵՏՈՒԹՅԱՆ OՐԵՆՔԻ N 1 ՀԱՎԵԼՎԱԾԻ N 4 ԱՂՅՈՒՍԱԿՈՒՄ ԵՎ ՀՀ ԿԱՌԱՎԱՐՈՒԹՅԱՆ 2019 ԹՎԱԿԱՆԻ ԴԵԿՏԵՄԲԵՐԻ 26-Ի N 1919-Ն ՈՐՈՇՄԱՆ N5 ՀԱՎԵԼՎԱԾԻ N 3 ԱՂՅՈՒՍԱԿԻ ՑՈՒՑԱՆԻՇՆԵՐՈՒՄ ԿԱՏԱՐՎՈՂ ՓՈՓՈԽՈՒԹՅՈՒՆՆԵՐԸ
I6: հազար դրամներով
A8: Ծրագրային դասիչը | C8: Բյուջետային հատկացումների գլխավոր կարգադրիչների, ծրագրերի, միջոցառումների և միջոցառումները կատարող պետական մարմինների անվանումները | D8: Ցուցանիշների փոփոխությունը (նվազեցումները նշված են փակագծերում)
D9: Ինն ամիս | G9: Տարի
A10: Ծրագիր | B10: Միջոցառում | D10: Ընդամենը | E10: այդ թվում | G10: Ընդամենը | H10: այդ թվում
E11: Վարկային միջոցներ | F11: Համաֆինան_x000D_ սավորում | H11: Վարկային միջոցներ | I11: Համաֆինան_x000D_ սավորում
C12: ՀՀ ՏԱՐԱԾՔԱՅԻՆ ԿԱՌԱՎԱՐՄԱՆ ԵՎ ԵՆԹԱԿԱՌՈՒՑՎԱԾՔՆԵՐԻ ՆԱԽԱՐԱՐՈՒԹՅՈՒՆ_x000D_ այդ թվում` | D12: =D13 -> -136406 | E12: =E13 -> 0 | F12: =F13 -> -136406 | G12: =G13 -> -136406 | H12: =H13 -> 0 | I12: =I13 -> -136406
A13: 1189 | C13: Դպրոցների սեյսմիկ անվտանգության մակարդակի բարձրացման ծրագիր | D13: =D15 -> -136406 | E13: =E15 -> 0 | F13: =F15 -> -136406 | G13: =G15 -> -136406 | H13: =H15 -> 0 | I13: =I15 -> -136406
C14: այդ թվում`
B15: 12001 | C15: Ասիական զարգացման բանկի աջակցությամբ իրականացվող դպրոցների սեյսմիկ պաշտպանության ծրագրի շրջանակներում ՀՀ դպրոցների սեյսմիկ անվտանգության բարելավմանն ուղղված միջոցառումներ | D15: =D19 -> -136406 | E15: =E19 -> 0 | F15: =F19 -> -136406 | G15: =G19 -> -136406 | H15: =H19 -> 0 | I15: =I19 -> -136406
C16: այդ թվում` ըստ կատարողների
C17: ՀՀ տարածքային կառավարման և ենթակառուցվածքների նախարարություն | D17: =D15 -> -136406 | E17: =E15 -> 0 | F17: =F15 -> -136406 | G17: =G15 -> -136406 | H17: =H15 -> 0 | I17: =I15 -> -136406
C18: այդ թվում` բյուջետային ծախսերի տնտեսագիտական դասակարգման հոդվածներ
C19: ՈՉ ՖԻՆԱՆՍԱԿԱՆ ԱԿՏԻՎՆԵՐԻ ԳԾՈՎ ԾԱԽՍԵՐ | D19: =D20 -> -136406 | E19: =E20 -> 0 | F19: =F20 -> -136406 | G19: =G20 -> -136406 | H19: =H20 -> 0 | I19: =I20 -> -136406
C20: - Շենքերի և շինությունների շինարարություն | D20: =E20+F20 -> -136406 | E20: 0 | F20: ='2'!G27 -> -136406 | G20: =H20+I20 -> -136406 | H20: 0 | I20: ='2'!H27 -> -136406

Sheet 4-1
D1: Հավելված 4
D2: ՀՀ կառավարության 2020 թվականի
D3: ______________ ի ___Ն որոշման
D5: Աղյուսակ N1
A7: ՀԱՅԱՍՏԱՆԻ ՀԱՆՐԱՊԵՏՈՒԹՅԱՆ ԿԱՌԱՎԱՐՈՒԹՅԱՆ 2019 ԹՎԱԿԱՆԻ ԴԵԿՏԵՄԲԵՐԻ 26-Ի N 1919-Ն ՈՐՈՇՄԱՆ N 9 ՀԱՎԵԼՎԱԾԻ N 9.8 N9․47 ԱՂՅՈՒՍԱԿՆԵՐՈՒՄ ԿԱՏԱՐՎՈՂ ՓՈՓՈԽՈՒԹՅՈՒՆՆԵՐԸ ԵՎ ԼՐԱՑՈՒՄՆԵՐԸ
A9: ՀՀ տարածքային կառավարման և ենթակառուցվածքների նախարարություն
A10: ՄԱՍ 2. ՊԵՏԱԿԱՆ ՄԱՐՄՆԻ ԳԾՈՎ ԱՐԴՅՈՒՆՔԱՅԻՆ (ԿԱՏԱՐՈՂԱԿԱՆ) ՑՈՒՑԱՆԻՇՆԵՐԸ
A12: Ծրագրի դասիչը | B12: Ծրագրի անվանումը
A13: 1189 | B13: Դպրոցների սեյսմիկ անվտանգության մակարդակի բարձրացման ծրագիր
A15: Ծրագրի միջոցառումները
A16: Ծրագրի դասիչը` | B16: 1189 | C16: Ցուցանիշների փոփոխությունը (նվազեցումները նշված են փակագծերում)
A18: Միջոցառման դասիչը` | B18: 12001 | C18: Ինն ամիս | D18: Տարի
A19: Միջոցառման անվանումը` | B19: Ասիական զարգացման բանկի աջակցությամբ իրականացվող դպրոցների սեյսմիկ պաշտպանության ծրագրի շրջանակներում ՀՀ դպրոցների սեյսմիկ անվտանգության բարելավմանն ուղղված միջոցառումներ
A20: Նկարագրությունը` | B20: Դպրոցների շենքերի ամրացման շինարարական աշխատանքներ, շինարարական_x000D_ ստանդարտների արդիականացում, արտակարգ իրավիճակներին արձագանքման_x000D_ ծրագրի մշակում, սեյսմիկ մոնիտորինգի դիտակետերի սարքավորումների_x000D_ արդիականացում:
A21: Միջոցառման տեսակը` | B21: Տրանսֆերտների տրամադրում
A22: Ակտիվն օգտագործող կազմակերպության(ների) անվանում(ները)՛ | B22: Մասնագիտացված միավոր
A23: Արդյունքի չափորոշիչներ
A24: Միջոցառման վրա կատարվող ծախսը (հազար դրամ) | C24: =-C38 -> -136406 | D24: =-D38 -> -136406
A26: Ծրագրի դասիչը` | B26: 1189 | C26: Ցուցանիշների փոփոխությունը (ավելացումները նշված են դրական նշանով)
A28: Միջոցառման դասիչը` | B28: 12002 | C28: Ինն ամիս | D28: Տարի
A29: Միջոցառման անվանումը` | B29: «Սեյսմիկ անվտանգության բարելավման» ծրագրի շրջանակներում` Հայաստանի տարածքային զարգացման հիմնադրամի կողմից կառուցված դպրոցների գույքով ապահովում
A30: Նկարագրությունը` | B30: Սեյսմակայուն և արդիական բոլոր չափանիշներին համապատասխան կառուցված դպրոցների կրթական ծառայությունների մատուցման համար անհրաժեշտ պայմանների ապահովում։
A31: Միջոցառման տեսակը` | B31: Տրանսֆերտների տրամադրում
A32: Միջոցառումն իրկանացնող | B32: Հայաստանի տարածքային զարգացման հիմնադրամ
A33: Արդյունքի չափորոշիչներ
A34: Ք. Երևանի թիվ 135 հիմնական դպրոց | C34: 1 | D34: 1
A35: ՀՀ Սյունիքի մարզի Կապանի թիվ 7 հիմնական դպրոց | C35: 1 | D35: 1
A36: ՀՀ Գեղարքունիքի մարզի Գավառի թիվ 2 միջնակարգ դպրոց | C36: 1 | D36: 1
A37: ՀՀ Արարատի մարզի Նոր Խարբերդի թիվ 2 միջնակարգ դպրոց | C37: 1 | D37: 1
A38: Միջոցառման վրա կատարվող ծախսը (հազար դրամ) | C38: =D38 -> 136406 | D38: ='5'!F25 -> 136406
A41: ՀՀ կառավարություն
A42: ՄԱՍ 2. ՊԵՏԱԿԱՆ ՄԱՐՄՆԻ ԳԾՈՎ ԱՐԴՅՈՒՆՔԱՅԻՆ (ԿԱՏԱՐՈՂԱԿԱՆ) ՑՈՒՑԱՆԻՇՆԵՐԸ
A44: Ծրագրի դասիչը | B44: Ծրագրի անվանումը
A45: 1139 | B45: ՀՀ կառավարության պահուստային ֆոնդ
A47: Ծրագրի միջոցառումները
A49: Ծրագրի դասիչը` | B49: 1139 | C49: Ցուցանիշների փոփոխությունը (ավելացումները նշված են դրական նշանով)
A50: Միջոցառման դասիչը` | B50: 11001 | C50: Ինն ամիս | D50: Տարի
A51: Միջոցառման անվանումը` | B51: ՀՀ կառավարության պահուստային ֆոնդ
A52: Նկարագրությունը` | B52: ՀՀ պետական բյուջեում նախատեսված ելքերի լրացուցիչ ֆինանսավորման՝ պետական բյուջեում չկանխատեսված ելքերի՝ ինչպես նաև բյուջետային երաշխիքների ապահովման ելքերի ֆինանսավորման ապահովում
A53: Միջոցառման տեսակը` | B53: Ծառայությունների մատուցում
A54: Միջոցառումն իրականացնողի անվանումը | B54: ՀՀ կառավարություն
A55: Արդյունքի չափորոշիչներ
A56: Միջոցառման վրա կատարվող ծախսը (հազար դրամ) | C56: =D56 -> 136406 | D56: =D38 -> 136406
A58: Ծրագրի դասիչը | B58: Ծրագրի անվանումը
A59: 1139 | B59: ՀՀ կառավարության պահուստային ֆոնդ
A61: Ծրագրի միջոցառումները
A63: Ծրագրի դասիչը` | B63: 1139 | C63: Ցուցանիշների փոփոխությունը (նվազեցումները նշված են փակագծերում)
A64: Միջոցառման դասիչը` | B64: 11001 | C64: Ինն ամիս | D64: Տարի
A65: Միջոցառման անվանումը` | B65: ՀՀ կառավարության պահուստային ֆոնդ
A66: Նկարագրությունը` | B66: ՀՀ պետական բյուջեում նախատեսված ելքերի լրացուցիչ ֆինանսավորման՝ պետական բյուջեում չկանխատեսված ելքերի՝ ինչպես նաև բյուջետային երաշխիքների ապահովման ելքերի ֆինանսավորման ապահովում
A67: Միջոցառման տեսակը` | B67: Ծառայությունների մատուցում
A68: Միջոցառումն իրականացնողի անվանումը | B68: ՀՀ կառավարություն
A69: Արդյունքի չափորոշիչներ
A70: Միջոցառման վրա կատարվող ծախսը (հազար դրամ) | C70: =-C56 -> -136406 | D70: =-D56 -> -136406

Sheet 4-2
D1: Հավելված 4
D2: ՀՀ կառավարության 2020 թվականի
D3: ______________ ի ___Ն որոշման
D5: Աղյուսակ N2
A7: ՀԱՅԱՍՏԱՆԻ ՀԱՆՐԱՊԵՏՈՒԹՅԱՆ ԿԱՌԱՎԱՐՈՒԹՅԱՆ 2019 ԹՎԱԿԱՆԻ ԴԵԿՏԵՄԲԵՐԻ 26-Ի N 1919-Ն ՈՐՈՇՄԱՆ N 9.1 ՀԱՎԵԼՎԱԾԻ N 9.1.8 ԵՎ 9․1․58 ԱՂՅՈՒՍԱԿՆԵՐՈՒՄ ԿԱՏԱՐՎՈՂ ՓՈՓՈԽՈՒԹՅՈՒՆՆԵՐԸ ԵՎ ԼՐԱՑՈՒՄՆԵՐԸ
A9: ՀՀ տարածքային կառավարման և ենթակառուցվածքների նախարարություն
A10: ՄԱՍ 1. ՊԵՏԱԿԱՆ ՄԱՐՄՆԻ ԳԾՈՎ ԱՐԴՅՈՒՆՔԱՅԻՆ (ԿԱՏԱՐՈՂԱԿԱՆ) ՑՈՒՑԱՆԻՇՆԵՐԸ
A12: Ծրագրի դասիչը | B12: Ծրագրի անվանումը
A13: 1189 | B13: Դպրոցների սեյսմիկ անվտանգության մակարդակի բարձրացման ծրագիր
A15: Ծրագրի միջոցառումները
A16: Ծրագրի դասիչը` | B16: 1189 | C16: Ցուցանիշների փոփոխությունը (նվազեցումները նշված են փակագծերում)
A17: Միջոցառման դասիչը` | B17: 12001
C18: Ինն ամիս | D18: Տարի
A19: Միջոցառման անվանումը` | B19: Ասիական զարգացման բանկի աջակցությամբ իրականացվող դպրոցների սեյսմիկ պաշտպանության ծրագրի շրջանակներում ՀՀ դպրոցների սեյսմիկ անվտանգության բարելավմանն ուղղված միջոցառումներ
A20: Նկարագրությունը` | B20: Դպրոցների շենքերի ամրացման շինարարական աշխատանքներ, շինարարական_x000D_ ստանդարտների արդիականացում, արտակարգ իրավիճակներին արձագանքման_x000D_ ծրագրի մշակում, սեյսմիկ մոնիտորինգի դիտակետերի սարքավորումների_x000D_ արդիականացում:
A21: Միջոցառման տեսակը` | B21: Տրանսֆերտների տրամադրում
A22: Ակտիվն օգտագործող կազմակերպության(ների) անվանում(ները)՛ | B22: Մասնագիտացված միավոր
A23: Միջոցառման վրա կատարվող ծախսը (հազար դրամ) | C23: =-C36 -> -136406 | D23: =-D36 -> -136406
A25: Ծրագրի դասիչը` | B25: 1189 | C25: Ցուցանիշների փոփոխությունը (ավելացումները նշված են դրական նշանով)
A26: Միջոցառման դասիչը` | B26: 12002
C27: Ինն ամիս | D27: Տարի
A28: Միջոցառման անվանումը` | B28: «Սեյսմիկ անվտանգության բարելավման» ծրագրի շրջանակներում` Հայաստանի տարածքային զարգացման հիմնադրամի կողմից կառուցված դպրոցների գույքով ապահովում
A29: Նկարագրությունը` | B29: Սեյսմակայուն և արդիական բոլոր չափանիշներին համապատասխան կառուցված դպրոցների կրթական ծառայությունների մատուցման համար անհրաժեշտ պայմանների ապահովում։
A30: Միջոցառման տեսակը` | B30: Տրանսֆերտների տրամադրում
A31: Արդյունքի չափորոշիչներ
A32: Ք. Երևանի թիվ 135 հիմնական դպրոց | C32: 1 | D32: 1
A33: ՀՀ Սյունիքի մարզի Կապանի թիվ 7 հիմնական դպրոց | C33: 1 | D33: 1
A34: ՀՀ Գեղարքունիքի մարզի Գավառի թիվ 2 միջնակարգ դպրոց | C34: 1 | D34: 1
A35: ՀՀ Արարատի մարզի Նոր Խարբերդի թիվ 2 միջնակարգ դպրոց | C35: 1 | D35: 1
A36: Միջոցառման վրա կատարվող ծախսը (հազար դրամ) | C36: =D36 -> 136406 | D36: ='5'!F25 -> 136406
A39: ՀՀ կառավարություն
A40: ՄԱՍ 1. ՊԵՏԱԿԱՆ ՄԱՐՄՆԻ ԳԾՈՎ ԱՐԴՅՈՒՆՔԱՅԻՆ (ԿԱՏԱՐՈՂԱԿԱՆ) ՑՈՒՑԱՆԻՇՆԵՐԸ
A43: Ծրագրի դասիչը | B43: Ծրագրի անվանումը
A44: 1139 | B44: ՀՀ կառավարության պահուստային ֆոնդ
A46: Ծրագրի միջոցառումները
A48: Ծրագրի դասիչը` | B48: 1139 | C48: Ցուցանիշների փոփոխությունը (ավելացումները նշված են դրական նշանով)
A49: Միջոցառման դասիչը` | B49: 11001 | C49: Ինն ամիս | D49: Տարի
A50: Միջոցառման անվանումը` | B50: ՀՀ կառավարության պահուստային ֆոնդ
A51: Նկարագրությունը` | B51: ՀՀ պետական բյուջեում նախատեսված ելքերի լրացուցիչ ֆինանսավորման՝ պետական բյուջեում չկանխատեսված ելքերի՝ ինչպես նաև բյուջետային երաշխիքների ապահովման ելքերի ֆինանսավորման ապահովում
A52: Միջոցառման տեսակը` | B52: Ծառայությունների մատուցում
A53: Միջոցառումն իրականացնողի անվանումը | B53: ՀՀ կառավարություն
A54: Արդյունքի չափորոշիչներ
A55: Միջոցառման վրա կատարվող ծախսը (հազար դրամ) | C55: =C36 -> 136406 | D55: =D36 -> 136406
A57: Ծրագրի դասիչը | B57: Ծրագրի անվանումը
A58: 1139 | B58: ՀՀ կառավարության պահուստային ֆոնդ
A60: Ծրագրի միջոցառումները
A62: Ծրագրի դասիչը` | B62: 1139 | C62: Ցուցանիշների փոփոխությունը (նվազեցումները նշված են փակագծերում)
A63: Միջոցառման դասիչը` | B63: 11001 | C63: Ինն ամիս | D63: Տարի
A64: Միջոցառման անվանումը` | B64: ՀՀ կառավարության պահուստային ֆոնդ
A65: Նկարագրությունը` | B65: ՀՀ պետական բյուջեում նախատեսված ելքերի լրացուցիչ ֆինանսավորման՝ պետական բյուջեում չկանխատեսված ելքերի՝ ինչպես նաև բյուջետային երաշխիքների ապահովման ելքերի ֆինանսավորման ապահովում
A66: Միջոցառման տեսակը` | B66: Ծառայությունների մատուցում
A67: Միջոցառումն իրականացնողի անվանումը | B67: ՀՀ կառավարություն
A68: Արդյունքի չափորոշիչներ
A69: Միջոցառման վրա կատարվող ծախսը (հազար դրամ) | C69: =-C55 -> -136406 | D69: =-D55 -> -136406

Sheet 5
F1: Հավելված5
D2: ՀՀ կառավարության 2020 թվականի
D3: ______________ի___Նորոշման
A5: Գնային առաջարկ | E5: Անհրաժեշտ գույքը
A7: N | B7: Անվանում | C7: Քանակ | D7: Միավորի գին (հազար դրամ) | E7: Քանակ | F7: Արժեք (հազար դրամ)
A8: 1 | B8: Տարրական դասարանների սեղան | C8: 1 | D8: 17 | E8: 1512 | F8: =D8*E8 -> 25704
A9: 2 | B9: Տարրական դասարանների աթոռ | C9: 1 | D9: 10 | E9: 1512 | F9: =D9*E9 -> 15120
A10: 3 | B10: Հիմնական դասարանների սեղան | C10: 1 | D10: 17 | E10: 1168 | F10: =D10*E10 -> 19856
A11: 4 | B11: Հիմնական դասարանների աթոռ | C11: 1 | D11: 10 | E11: 2336 | F11: =D11*E11 -> 23360
A12: 5 | B12: Ուսուցչի սեղան | C12: 1 | D12: 20 | E12: 290 | F12: =D12*E12 -> 5800
A13: 6 | B13: Ուսուցչի աթոռ | C13: 1 | D13: 13 | E13: 290 | F13: =D13*E13 -> 3770
A14: 7 | B14: Գրապահարան | C14: 1 | D14: 35.5 | E14: 392 | F14: =D14*E14 -> 13916
A15: 8 | B15: Գրատախտակ ծալվող (3000x1000մմ) | C15: 1 | D15: 95 | E15: 98 | F15: =D15*E15 -> 9310
A16: 9 | B16: Հանդիսությունների դահլիճի աթոռ | C16: 1 | D16: 10 | E16: 938 | F16: =D16*E16 -> 9380
A17: 10 | B17: Ճաշարանի սեղան | C17: 1 | D17: 54 | E17: 96 | F17: =D17*E17 -> 5184
A18: 11 | B18: Ճաշարանի աթոռ | C18: 1 | E18: 192
A19: 12 | B19: Ֆիզիկայի դասարանների սեղան | C19: 1 | D19: 42 | E19: 50 | F19: =D19*E19 -> 2100
A20: 13 | B20: Ֆիզիկայի դասարանների աթոռ | C20: 1 | E20: 100
A21: 14 | B21: Ֆիզիկայի ցուցադրական սեղան | C21: 1 | D21: 17 | E21: 5 | F21: =D21*E21 -> 85
A22: 15 | B22: Քիմիայի դասարանների սեղան | C22: 1 | D22: 57 | E22: 48 | F22: =E22*D22 -> 2736
A23: 16 | B23: Քիմիայի դասարանների աթոռ | C23: 1 | E23: 96
A24: 17 | B24: Քիմիայի ցուցադրական սեղան | C24: 1 | D24: 17 | E24: 5 | F24: =D24*E24 -> 85
A25: Ընդամենը | F25: =SUM(F8:F24) -> 136406
