Workbook
Name åû: #REF!
Name åû: #REF!
Name åû: #REF!
Name mas: #REF!
Name mas: #REF!
Name mas: #REF!
Name mass: #REF!
Name mass: #REF!
Name x: #REF!
Name x: #REF!
Name x: #REF!
Name ղ: #REF!
Name ղ: #REF!
Name ղ: #REF!

Sheet Հավելված 1
E2: Հավելված N 1
C3: ՀՀ կառավարության 2020 թվականի
C4: ________ N ____ որոշման
A5: «ՀԱՅԱՍՏԱՆԻ ՀԱՆՐԱՊԵՏՈՒԹՅԱՆ 2020 ԹՎԱԿԱՆԻ ՊԵՏԱԿԱՆ ԲՅՈՒՋԵԻ ՄԱՍԻՆ» ՀԱՅԱՍՏԱՆԻ ՀԱՆՐԱՊԵՏՈՒԹՅԱՆ ՕՐԵՆՔԻ N 1 ՀԱՎԵԼՎԱԾԻ N 2 ԱՂՅՈՒՍԱԿՈՒՄ ՎԵՐԱԲԱՇԽՈՒՄ ԵՎ ՀԱՅԱՍՏԱՆԻ ՀԱՆՐԱՊԵՏՈՒԹՅԱՆ ԿԱՌԱՎԱՐՈՒԹՅԱՆ 2019 ԹՎԱԿԱՆԻ ԴԵԿՏԵՄԲԵՐԻ 26-Ի N 1919-Ն ՈՐՈՇՄԱՆ N 5 ՀԱՎԵԼՎԱԾԻ N 1 ԱՂՅՈՒՍԱԿՈՒՄ ԿԱՏԱՐՎՈՂ ՓՈՓՈԽՈՒԹՅՈՒՆՆԵՐԸ
G6: (հազար դրամ)
A7: Ծրագրային դասիչը | C7: Բյուջետային հատկացումների գլխավոր կարգադրիչների, ծրագրերի և միջոցառումների անվանումները | D7: Ցուցանիշների փոփոխություն (ավելացումները նշված են դրական նշանով, իսկ նվազեցումները՝ փակագծերում)
D8: Առաջին. եռամսյակ | E8: Առաջին. կիսամյակ | F8: Ինն ամիս | G8: Տարի
A9: Ծրագիր | B9: /Միջոցառում
C10: Ընդամենը | D10: =D11 -> #REF! | E10: =E11 -> 0 | F10: =F11 -> 0 | G10: =G11 -> 0
C11: ՀՀ պաշտպանության նախարարություն | D11: =+D12 -> #REF! | E11: =+E12 -> 0 | F11: =+F12 -> 0 | G11: =+G12 -> 0
A12: 1169 | C12: Ծրագրի անվանումը՝ | D12: =+D19+D25 -> #REF! | E12: =+E19+E25 -> 0 | F12: =+F19+F25 -> 0 | G12: =+G19+G25 -> 0
C13: ՀՀ պաշտպանության ապահովում
C14: Ծրագրի նպատակը՝
C15: ՀՀ ԶՈւ ռազմավարական ծավալումն ապահովող մարտական պատրաստականության պահպանում՝ արտաքին թշնամուց ՀՀ պետական սահմանների պաշտպանության ապահովում
C16: Վերջնական արդյունքի նկարագրությունը՝
C17: ՀՀ ԶՈւ ռազմավարական ծավալումն ապահովող մարտական պատրաստականության պահպանում
A18: Ծրագրի միջոցառումներ
B19: 11001 | C19: Միջոցառման անվանումը՝ | D19: =+'Հավելված 3'!G15 -> #REF! | E19: =+'Հավելված 3'!H15 -> 0 | F19: =+'Հավելված 3'!I15 -> -58674.64 | G19: =+'Հավելված 3'!J15 -> -58674.64
C20: Ռազմական կարիքների բավարարում
C21: Միջոցառման նկարագրությունը՝
C22: Ընթացիկ գործունեության ապահովման գործողություններ
C23: Միջոցառման տեսակը
C24: Ծառայությունների մատուցում
B25: 31001 | C25: Միջոցառման անվանումը՝ | D25: =+'Հավելված 3'!G27 -> 58674.64 | E25: =+'Հավելված 3'!H27 -> 0 | F25: =+'Հավելված 3'!I27 -> 58674.64 | G25: =+'Հավելված 3'!J27 -> 58674.64
C26: ՀՀ պաշտպանության նախարարության շենքային պայմանների բարելավում
C27: Միջոցառման նկարագրությունը՝
C28: Պաշտպանության կարիքների համար բնակելի, գրասենյակային և այլ նշանակության շենքերի և շինությունների կառուցում
C29: Միջոցառման տեսակը
C30: Պետական մարմինների կողմից օգտագործվող ոչ ֆինանսական ակտիվների հետ գործառնություններ

Sheet Հավելված 2
A1: Հավելված N 2
A2: ՀՀ կառավարության 2020 թվականի
A3: ______________ ի ___Ն որոշման
A5: «ՀԱՅԱՍՏԱՆԻ ՀԱՆՐԱՊԵՏՈՒԹՅԱՆ 2020 ԹՎԱԿԱՆԻ ՊԵՏԱԿԱՆ ԲՅՈՒՋԵԻ ՄԱՍԻՆ» ՀԱՅԱՍՏԱՆԻ ՀԱՆՐԱՊԵՏՈՒԹՅԱՆ ՕՐԵՆՔԻ N 1 ՀԱՎԵԼՎԱԾԻ N 3 ԱՂՅՈՒՍԱԿՈՒՄ ԿԱՏԱՐՎՈՂ ՓՈՓՈԽՈՒԹՅՈՒՆԸ
G6: հազար դրամներով
A7: Ծրագրային դասիչ | D7: Ցուցանիշների փոփոխություն (ավելացումները նշված են դրական նշանով)
C8: Բյուջետային գլխավոր կարգադրիչների, ծրագրերի, միջոցառումների և ուղղությունների անվանումները | D8: Ընդամենը, | E8: այդ թվում՝
A9: Ծրագիր | B9: Միջոցառում | E9: Կառուցման աշխատանքներ | F9: Վերակառուցման, վերանորոգման և վերականգնման աշխատանքներ | G9: Նախագծահե- տազոտական, գեոդեզիա- քարտեզագրա- կան աշխա- տանքներ | H9: Ոչ ֆինանսական այլ ակտիվների ձեռքբերում
C10: ԸՆԴԱՄԵՆԸ | D10: =+D12 -> 58674.64 | E10: =+E12 -> 58674.64
C11: այդ թվում՝
C12: ՀՀ ՊԱՇՏՊԱՆՈՒԹՅԱՆ ՆԱԽԱՐԱՐՈՒԹՅՈՒՆ | D12: =+D14 -> 58674.64 | E12: =+E14 -> 58674.64
C13: այդ թվում`
A14: 1169 | B14: 31001 | C14: ՀՀ պաշտպանության նախարարության շենքային պայմաններ բարելավում | D14: =SUM(E14:H14) -> 58674.64 | E14: 58674.64

Sheet Հավելված 3
H1: Հավելված N 3
H2: ՀՀ կառավարության 2019 թվականի
H3: ________ N ____ որոշման
A5: ՀԱՅԱՍՏԱՆԻ ՀԱՆՐԱՊԵՏՈՒԹՅԱՆ ԿԱՌԱՎԱՐՈՒԹՅԱՆ 2019 ԹՎԱԿԱՆԻ ԴԵԿՏԵՄԲԵՐԻ 26-Ի N 1919-Ն ՈՐՈՇՄԱՆ N 3 և 4 ՀԱՎԵԼՎԱԾՆԵՐՈՒՄ ԿԱՏԱՐՎՈՂ ՓՈՓՈԽՈՒԹՅՈՒՆՆԵՐԸ
J6: հազար դրամ
A7: Գործառական դասիչը | D7: Ծրագրային դասիչը | F7: Բյուջետային գլխավոր կարգադրիչների, ծրագրերի, միջոցառումների և միջոցառումները կատարող պետական կառավարման մարմինների և բյուջետային ծախսերի տնտեսագիտական դասակարգման հոդվածների անվանումները | G7: Ցուցանիշների փոփոխությունը (ավելացումները նշված են դրական նշանով, իսկ նվազեցումները՝ փակագծերում)
A8: Բաժին | B8: Խումբ | C8: Դաս | D8: Ծրագիր | E8: Միջոցառում | G8: Առաջին եռամսյակ | H8: Առաջին կիսամյակ | I8: Ինն ամիս | J8: Տարի
F9: ԸՆԴԱՄԵՆԸ ԾԱԽՍԵՐ | G9: =+G19+G31 -> #REF! | I9: =+I19+I31 -> 0 | J9: =+J19+J31 -> 0
A10: 02 | F10: այդ թվում`
B11: 01 | F11: ՊԱՇՏՊԱՆՈՒԹՅՈՒՆ | G11: =+G13 -> #REF! | I11: =+I13 -> 0 | J11: =+J13 -> 0
F12: այդ թվում`
C13: 01 | F13: Ռազմական պաշտպանություն | G13: =+G15+G27 -> #REF! | I13: =+I15+I27 -> 0 | J13: =+J15+J27 -> 0
F14: այդ թվում`
E15: 11001 | F15: Ռազմական կարիքների բավարարում | G15: =+G17 -> #REF! | I15: =+I17 -> -58674.64 | J15: =+J17 -> -58674.64
F16: այդ թվում` ըստ կատարողների
F17: ՀՀ պաշտպանության նախարարություն | G17: =+G19 -> #REF! | I17: =+I19 -> -58674.64 | J17: =+J19 -> -58674.64
F18: այդ թվում` բյուջետային ծախսերի տնտեսագիտական դասակարգման հոդվածներ
F19: ԸՆԴԱՄԵՆԸ ԾԱԽՍԵՐ | G19: =+G20 -> #REF! | I19: =+I20 -> -58674.64 | J19: =+J20 -> -58674.64
F20: ԸՆԹԱՑԻԿ ԾԱԽՍԵՐ | G20: =+G21 -> #REF! | I20: =+I21 -> -58674.64 | J20: =+J21 -> -58674.64
F21: ԾԱՌԱՅՈՒԹՅՈՒՆՆԵՐԻ ԵՎ ԱՊՐԱՆՔՆԵՐԻ ՁԵՌՔԲԵՐՈՒՄ | G21: =+G22+G24 -> #REF! | I21: =+I22+I24 -> -58674.64 | J21: =+J22+J24 -> -58674.64
F22: Պայմանագրային այլ ծառայությունների ձեռքբերում | G22: =+G23 -> -108629.39 | I22: =+I23 -> -56983.584 | J22: =+J23 -> -56983.584
F23: - Ընդհանուր բնույթի այլ ծառայություններ | G23: -108629.39 | I23: =+'havelva 6'!H12 -> -56983.584 | J23: =+'havelva 6'!H12 -> -56983.584
F24: Նյութեր (Ապրանքներ) | G24: =+G25+G26 -> #REF! | I24: =+I25+I26 -> -1691.0564 | J24: =+J25+J26 -> -1691.0564
F25: - Կենցաղային և հանրային սննդի նյութեր | G25: =+'havelva 6'!#REF! -> #REF! | I25: ='havelva 6'!H13 -> 2308.95 | J25: ='havelva 6'!H13 -> 2308.95
F26: - Հատուկ նպատակային այլ նյութեր | G26: -4000 | I26: =+'havelva 6'!H11 -> -4000.0064 | J26: =+'havelva 6'!H11 -> -4000.0064
E27: 31001 | F27: ՀՀ պաշտպանության նախարարության շենքային պայմանների բարելավում | G27: =+G29 -> 58674.64 | I27: =+I29 -> 58674.64 | J27: =+J29 -> 58674.64
F28: այդ թվում` ըստ կատարողների
F29: ՀՀ պաշտպանության նախարարություն | G29: =+G31 -> 58674.64 | I29: =+I31 -> 58674.64 | J29: =+J31 -> 58674.64
F30: այդ թվում` բյուջետային ծախսերի տնտեսագիտական դասակարգման հոդվածներ
F31: ԸՆԴԱՄԵՆԸ ԾԱԽՍԵՐ | G31: =+G32 -> 58674.64 | I31: =+I32 -> 58674.64 | J31: =+J32 -> 58674.64
F32: ՈՉ ՖԻՆԱՆՍԱԿԱՆ ԱԿՏԻՎՆԵՐԻ ԳԾՈՎ ԾԱԽՍԵՐ | G32: =+G33 -> 58674.64 | I32: =+I33 -> 58674.64 | J32: =+J33 -> 58674.64
F33: ՀԻՄՆԱԿԱՆ ՄԻՋՈՑՆԵՐ | G33: =+G34+G36 -> 58674.64 | I33: =+I34+I36 -> 58674.64 | J33: =+J34+J36 -> 58674.64
F34: ՇԵՆՔԵՐ ԵՎ ՇԻՆՈՒԹՅՈՒՆՆԵՐ | G34: =+G35 -> 54674.64 | I34: =+I35 -> 54674.64 | J34: =+J35 -> 54674.64
F35: - Շենքերի և շինությունների շինարարություն | G35: 54674.64 | I35: 54674.64 | J35: 54674.64
F36: ՄԵՔԵՆԱՆԵՐ ԵՎ ՍԱՐՔԱՎՈՐՈՒՄՆԵՐ | G36: =+G37 -> 4000 | I36: =+I37 -> 4000 | J36: =+J37 -> 4000
F37: - Այլ մեքենաներ սարքավորումներ | G37: 4000 | I37: 4000 | J37: 4000

Sheet հավելված 4
A1: Հավելված N 4
A2: ՀՀ կառավարության 2020 թվականի
A3: ______________ ի ___Ն որոշման
A5: Հայաստանի Հանրապետության կառավարության 2019 թվականի դեկտեմբերի 26-ի N 1919-Ն որոշման N 5 հավելվածի N 2 աղյուսակում կատարվող փոփոխությունները
F6: հազար դրամներով
A7: Ծրագրային դասիչ | C7: Բյուջետային գլխավոր կարգադրիչների, ծրագրերի, միջոցառումների, միջոցառումները կատարող պետական մարմինների և ուղղությունների անվանումները | E7: Ցուցանիշների փոփոխություն (ավելացումները նշված են դրական նշանով)
D8: Առաջին եռամսյակ | E8: Առաջին կիսամյակ | F8: Ինն ամիս | G8: Տարի
A9: Ծրագիր | B9: Միջոցառում
C10: ԸՆԴԱՄԵՆԸ | D10: =+D12 -> 0 | E10: =+E12 -> 58674.64 | F10: =+F12 -> 58674.64 | G10: =+G12 -> 58674.64
C11: այդ թվում՝
C12: ՀՀ ՊԱՇՏՊԱՆՈՒԹՅԱՆ ՆԱԽԱՐԱՐՈՒԹՅՈՒՆ | D12: =+D14 -> 0 | E12: =+E14 -> 58674.64 | F12: =+F14 -> 58674.64 | G12: =+G14 -> 58674.64
C13: այդ թվում`
A14: 1169 | B14: 31001 | C14: ՀՀ պաշտպանության նախարարության շենքային պայմաններ բարելավում | D14: =D16 -> 0 | E14: =E16 -> 58674.64 | F14: =F16 -> 58674.64 | G14: =G16 -> 58674.64
C15: այդ թվում` ըստ կատարողների
C16: ՀՀ պաշտպանության նախարարություն | D16: 0 | E16: 58674.64 | F16: 58674.64 | G16: 58674.64

Sheet Հավելված 5
E2: Հավելված N 5
B3: ՀՀ կառավարության 2020 թվականի
B4: ________ N ____ որոշման
A7: ՀԱՅԱՍՏԱՆԻ ՀԱՆՐԱՊԵՏՈՒԹՅԱՆ ԿԱՌԱՎԱՐՈՒԹՅԱՆ 2019 ԹՎԱԿԱՆԻ ԴԵԿՏԵՄԲԵՐԻ 26-Ի ԹԻՎ 1919-Ն ՈՐՈՇՄԱՆ N 9 ՀԱՎԵԼՎԱԾԻ N 9.15 ԵՎ N 9.1 ՀԱՎԵԼՎԱԾԻ N 9.1.15 ԱՂՅՈՒՍԱԿՆԵՐՈՒՄ ԿԱՏԱՐՎՈՂ ՓՈՓՈԽՈՒԹՅՈՒՆՆԵՐ
A9: ՀՀ պաշտպանության նախարարություն
A11: ՄԱՍ 2. ՊԵՏԱԿԱՆ ՄԱՐՄՆԻ ԳԾՈՎ ԱՐԴՅՈՒՆՔԱՅԻՆ (ԿԱՏԱՐՈՂԱԿԱՆ) ՑՈՒՑԱՆԻՇՆԵՐԸ
A12: Ծրագրի դասիչը | B12: Ծրագրի անվանումը
A13: 1169 | B13: ՀՀ պաշտպանության ապահովում
A15: Ծրագրի միջոցառումները
A16: Ծրագրի դասիչը` | B16: 1169 | C16: Ցուցանիշների փոփոխություն (ավելացումները նշված են դրական նշանով, իսկ նվազեցումները՝ փակագծերում)
A17: Միջոցառման դասիչը` | B17: 11001 | C17: առաջին եռամսյակ | D17: Առաջին կիսամյակ | E17: Ինն ամիս | F17: Տարի
A18: Միջոցառման անվանումը` | B18: Ռազմական կարիքների բավարարում
A19: Նկարագրությունը` | B19: Ընթացիկ գործունեության ապահովման գործողություններ
A20: Միջոցառման տեսակը` | B20: Ծառայությունների մատուցում
A21: Միջոցառումն իրականացնողի անվանումը` | B21: ՀՀ պաշտպանության նախարարություն
A22: Արդյունքի չափորոշիչներ
A23: չի սահմանվում
A24: Միջոցառման վրա կատարվող ծախսը (հազար դրամ) | C24: =+'havelva 6'!H9 -> -58674.64 | E24: -58674.413 | F24: -58674.413
A26: Միջոցառման դասիչը` | B26: 31001 | C26: առաջին եռամսյակ | D26: Առաջին կիսամյակ | E26: Ինն ամիս | F26: Տարի
A27: Նկարագրությունը` | B27: Պաշտպանության կարիքների համար բնակելի, գրասենյակային և այլ նշանակության շենքերի և շինությունների կառուցում
A28: Միջոցառման տեսակը` | B28: Պետական մարմինների կողմից օգտագործվող ոչ ֆինանսական ակտիվների հետ գործառնություններ
A29: Միջոցառումն իրականացնողի անվանումը` | B29: ՀՀ պաշտպանության նախարարություն
A30: Արդյունքի չափորոշիչներ
A31: չի սահմանվում
A32: Միջոցառման վրա կատարվող ծախսը (հազար դրամ) | C32: 58674.64 | E32: 58674.64 | F32: 58674.64

Sheet havelva 6
H1: Հավելված N 6
G2: ՀՀ կառավարության 2020 թվականի
G3: _ N ____ որոշման
A4: ՀԱՅԱՍՏԱՆԻ ՀԱՆՐԱՊԵՏՈՒԹՅԱՆ ԿԱՌԱՎԱՐՈՒԹՅԱՆ 2019 ԹՎԱԿԱՆԻ ԴԵԿՏԵՄԲԵՐԻ 26-Ի N 1919-Ն ՈՐՈՇՄԱՆ N 10 ՀԱՎԵԼՎԱԾՈՒՄ ԿԱՏԱՐՎՈՂ ՓՈՓՈԽՈՒԹՅՈՒՆՆԵՐԸ ԵՎ ԼՐԱՑՈՒՄՆԵՐԸ
A6: Կոդը | B6: Անվանումը | D6: Գնման ձևը | E6: Չափման միավորը | F6: Միավորի գինը | G6: Ցուցանիշների փոփոխությունը (ավելացումները նշված են դրական նշանով, իսկ նվազեցումները` փակագծերում)
G7: Քանակը | H7: Գումարը (հազար դրամով)
A8: Բաժին N 02 | B8: Խումբ N 01 | C8: Դաս N 01 | H8: =H9+H14 -> -54674.64
A9: 1169 11001 | B9: Ռազմական կարիքների բավարարում | H9: =H10 -> -58674.64
B10: ՄԱՍ I. Ա Պ Ր Ա Ն Ք Ն Ե Ր | H10: =SUM(H11:H13) -> -58674.64
A11: 39561110/1 | B11: երիզներ | D11: ԳՀ | E11: մետր | G11: -30534.4 | H11: -4000.0064 | I11: 4269
A12: 55321100/1 | B12: սննդի պատրաստման ծառայություններ | D12: ԲՄ | E12: դրամ | H12: =-110938.3377+53954.7541 -> -56983.584 | I12: 4239
A13: 99600000 | B13: գնում չհանդիսացող այլ ծախսեր | D13: գչծ | E13: դրամ | F13: 2308950 | G13: 1 | H13: =+F13*G13/1000 -> 2308.95 | I13: 4267
A14: 1169 31001 | B14: ՀՀ պաշտպանության նախարարության շենքային պայմանների բարելավում | H14: =+H15 -> 4000
B15: ՄԱՍ I. Ա Պ Ր Ա Ն Ք Ն Ե Ր | H15: =+H16 -> 4000
A16: 42414800 | B16: լոգանք ընդունելուն օժանդակող շարժական սարքեր | D16: ԳՀ | E16: հատ | F16: 2000000 | G16: 2 | H16: =+F16*G16/1000 -> 4000 | I16: 5129
