Workbook

Sheet հավելված 1
H1: Հավելված N 1
H2: ՀՀ կառավարության 2020 թվականի
H3: -----------------ի N -----------Ն որոշման
A4: ՀԱՅԱՍՏԱՆԻ ՀԱՆՐԱՊԵՏՈՒԹՅԱՆ ԿԱՌԱՎԱՐՈՒԹՅԱՆ 2019 ԹՎԱԿԱՆԻ ԴԵԿՏԵՄԲԵՐԻ 26-Ի N 1919-Ն ՈՐՈՇՄԱՆ N 3 և N 4 ՀԱՎԵԼՎԱԾՆԵՐՈՒՄ ԿԱՏԱՐՎՈՂ ՓՈՓՈԽՈՒԹՅՈՒՆՆԵՐԻ ԵՎ ԼՐԱՑՈՒՄՆԵՐԻ ՄԱՍԻՆ
A6: Գործառական դասիչը | D6: Ծրագրային դասիչը | F6: Բյուջետային ծախսերի գործառական դասակարգման բաժինների, խմբերի և դասերի, բյուջետային ծրագրերի միջոցառումների, բյուջետային հատկացումների գլխավոր կարգադրիչների անվանումները | G6: Ցուցանիշների փոփոխությունները ավելացումները նշված են դրական նշանով, իսկ նվազեցումները՝ փակագծերում
A7: Բաժինը | B7: Խումբը | C7: Դասը | D7: Ծրագիր | E7: Միջոցառում | G7: Ինն ամիս | H7: Տարի
F8: ԸՆԴԱՄԵՆԸ՝ ԾԱԽՍԵՐ | G8: =G10 -> 0 | H8: =H10 -> 0
F9: այդ թվում՝
A10: 10 | F10: ՍՈՑԻԱԼԱԿԱՆ ՊԱՇՏՊԱՆՈՒԹՅՈՒՆ | G10: =G12+G28+G39+G67 -> 0 | H10: =H12+H28+H39+H67 -> 0
F11: այդ թվում՝
B12: 02 | F12: Ծերություն | G12: =SUM(G14) -> -389113 | H12: =SUM(H14) -> 380000
F13: այդ թվում՝
C14: 01 | F14: Ծերություն | G14: =G15 -> -389113 | H14: =H15 -> 380000
F15: այդ թվում՝ ՀՀ աշխատանքի և սոցիալական հարցերի նախարարություն | G15: =SUM(G16) -> -389113 | H15: =SUM(H16) -> 380000
D16: 1102 | F16: Կենսաթոշակային ապահովություն | G16: =SUM(G18,G23) -> -389113 | H16: =SUM(H18,H23) -> 380000
F17: այդ թվում՝
E18: 12001 | F18: Սպայական անձնակազմի և նրանց ընտանիքների անդամների կենսաթոշակներ | G18: =G20 -> 210887 | H18: =H20 -> 980000
F19: այդ թվում՝ ըստ կատարողների
F20: ՀՀ աշխատանքի և սոցիալական հարցերի նախարարության սոցիալական ապահովության ծառայություն | G20: =G22 -> 210887 | H20: =H22 -> 980000
F21: այդ թվում՝ բյուջետային ծախսերի տնտեսագիտական դասակարգման հոդվածներ
F22: -Կենսաթոշակներ | G22: 210887 | H22: 980000
E23: 12003 | F23: Աշխատանքային կենսաթոշակներ | G23: =G25 -> -600000 | H23: =H25 -> -600000
F24: այդ թվում՝ ըստ կատարողների
F25: ՀՀ աշխատանքի և սոցիալական հարցերի նախարարության սոցիալական ապահովության ծառայություն | G25: =G27 -> -600000 | H25: =H27 -> -600000
F26: այդ թվում՝ բյուջետային ծախսերի տնտեսագիտական դասակարգման հոդվածներ
F27: -Կենսաթոշակներ | G27: -600000 | H27: -600000
B28: 03 | F28: Հարազատին կորցրած անձինք | G28: =SUM(G30) -> 350000 | H28: =SUM(H30) -> 560000
F29: այդ թվում՝
C30: 01 | F30: Հարազատին կորցրած անձինք | G30: =G31 -> 350000 | H30: =H31 -> 560000
F31: այդ թվում՝ ՀՀ աշխատանքի և սոցիալական հարցերի նախարարություն | G31: =G32 -> 350000 | H31: =H32 -> 560000
D32: 1205 | F32: Սոցիալական ապահովություն | G32: =G34 -> 350000 | H32: =H34 -> 560000
F33: այդ թվում՝
E34: 12002 | F34: Կենսաթոշակառուի, ծերության, հաշմանդամության, կերակրողին կորցնելու դեպքում նպաստառուի մահվան դեպքում տրվող թաղման նպաստ | G34: =G36 -> 350000 | H34: =H36 -> 560000
F35: այդ թվում՝ ըստ կատարողների
F36: ՀՀ աշխատանքի և սոցիալական հարցերի նախարարության սոցիալական ապահովության ծառայություն | G36: =G38 -> 350000 | H36: =H38 -> 560000
F37: այդ թվում՝ բյուջետային ծախսերի տնտեսագիտական դասակարգման հոդվածներ
F38: - Հուղարկավորության նպաստներ բյուջեից | G38: 350000 | H38: 560000
B39: 04 | F39: Ընտանիքի անդամներ և զավակներ | G39: =SUM(G41) -> -940301.8 | H39: =SUM(H41) -> -2453392.2
F40: այդ թվում՝
C41: 01 | F41: Ընտանիքի անդամներ և զավակներ | G41: =G42 -> -940301.8 | H41: =H42 -> -2453392.2
F42: այդ թվում՝ ՀՀ աշխատանքի և սոցիալական հարցերի նախարարություն | G42: =G43+G50+G62 -> -940301.8 | H42: =H43+H50+H62 -> -2453392.2
D43: 1011 | F43: Անապահով սոցիալական խմբերին աջակցություն | G43: =G45 -> -3204966 | H43: =H45 -> -6202762.2
F44: այդ թվում՝
E45: 12001 | F45: Ընտանիքի կենսամակարդակի բարձրացմանն ուղղված նպաստներ | G45: =G47 -> -3204966 | H45: =H47 -> -6202762.2
F46: այդ թվում՝ ըստ կատարողների
F47: ՀՀ աշխատանքի և սոցիալական հարցերի նախարարության սոցիալական ապահովության ծառայություն | G47: =G49 -> -3204966 | H47: =H49 -> -6202762.2
F48: այդ թվում՝ բյուջետային ծախսերի տնտեսագիտական դասակարգման հոդվածներ
F49: - Երեխաների կամ ընտանեկան նպաստներ բյուջեից | G49: -3204966 | H49: -6202762.2
D50: 1068 | F50: Ժողովրդագրական վիճակի բարելավում | G50: =SUM(G52,G57) -> 1240750 | H50: =SUM(H52,H57) -> 1242370
F51: այդ թվում՝
E52: 12002 | F52: Երեխայի ծննդյան միանվագ նպաստ | G52: =G54 -> 1237900 | H52: =H54 -> 1237900
F53: այդ թվում՝ ըստ կատարողների
F54: ՀՀ աշխատանքի և սոցիալական հարցերի նախարարության սոցիալական ապահովության ծառայություն | G54: =G56 -> 1237900 | H54: =H56 -> 1237900
F55: այդ թվում՝ բյուջետային ծախսերի տնտեսագիտական դասակարգման հոդվածներ
F56: - Երեխաների կամ ընտանեկան նպաստներ բյուջեից | G56: 1237900 | H56: 1237900
E57: 11001 | F57: Մինչև 2 տարեկան երեխայի խնամքի նպաստի տրամադրման ապահովում | G57: =SUM(G59) -> 2850 | H57: =SUM(H59) -> 4470
F58: այդ թվում՝ ըստ կատարողների
F59: ՀՀ աշխատանքի և սոցիալական հարցերի նախարարության սոցիալական ապահովության ծառայություն | G59: =G61 -> 2850 | H59: =H61 -> 4470
F60: այդ թվում՝ բյուջետային ծախսերի տնտեսագիտական դասակարգման հոդվածներ
F61: Կապի ծառայություններ | G61: 2850 | H61: 4470
D62: 1082 | E62: 12002 | F62: Մայրության նպաստ | G62: =G64 -> 1023914.2 | H62: =H64 -> 2507000
F63: այդ թվում՝ ըստ կատարողների
F64: ՀՀ աշխատանքի և սոցիալական հարցերի նախարարության սոցիալական ապահովության ծառայություն | G64: =G66 -> 1023914.2 | H64: =H66 -> 2507000
F65: այդ թվում՝ բյուջետային ծախսերի տնտեսագիտական դասակարգման հոդվածներ
F66: - Մայրության նպաստներ բյուջեից | G66: 1023914.2 | H66: 2507000
B67: 09 | F67: Սոցիալական պաշտպանություն (այլ դասերին չպատկանող) | G67: =SUM(G69) -> 979414.8 | H67: =SUM(H69) -> 1513392.2
F68: այդ թվում՝
C69: 02 | F69: Սոցիալական պաշտպանությանը տրամադրվող օժանդակ ծառայություններ (այլ դասերին չպատկանող) | G69: =G71+G78 -> 979414.8 | H69: =H71+H78 -> 1513392.2
F70: այդ թվում՝ ՀՀ աշխատանքի և սոցիալական հարցերի նախարարություն | G70: =G71+G78 -> 979414.8 | H70: =H78 -> 1575419.7
D71: 1011 | F71: Անապահով սոցիալական խմբերին աջակցություն | G71: =G73 -> -32049.5 | H71: =H73 -> -62027.5
F72: այդ թվում՝
E73: 11001 | F73: Ընտանիքի կենսամակարդակի բարձրացմանն ուղղված նպաստների իրականացման ապահովում | G73: =G75 -> -32049.5 | H73: =H75 -> -62027.5
F74: այդ թվում՝ ըստ կատարողների
F75: ՀՀ աշխատանքի և սոցիալական հարցերի նախարարության սոցիալական ապահովության ծառայություն | G75: =G77 -> -32049.5 | H75: =H77 -> -62027.5
F76: այդ թվում՝ բյուջետային ծախսերի տնտեսագիտական դասակարգման հոդվածներ
F77: -Կապի ծառայություններ | G77: -32049.5 | H77: -62027.5
D78: 1082 | F78: Սոցիալական աջակցություն անաշխատունակության դեպքում | G78: =SUM(G80) -> 1011464.3 | H78: =SUM(H80) -> 1575419.7
F79: այդ թվում՝
E80: 12001 | F80: Ժամանակավոր անաշխատունակության դեպքում նպաստ | G80: =G82 -> 1011464.3 | H80: =H82 -> 1575419.7
F81: այդ թվում՝ ըստ կատարողների
F82: ՀՀ աշխատանքի և սոցիալական հարցերի նախարարության սոցիալական ապահովության ծառայություն | G82: =G84 -> 1011464.3 | H82: =H84 -> 1575419.7
F83: այդ թվում՝ բյուջետային ծախսերի տնտեսագիտական դասակարգման հոդվածներ
F84: - Հիվանդության և հաշմանդամության նպաստներ բյուջեից | G84: 1011464.3 | H84: =2375419.7-800000 -> 1575419.7

Sheet հավելված 2
F1: Հավելված N 2
F2: ՀՀ կառավարության 2020 թվականի
F3: -----------------ի N -----------Ն որոշման
B5: ՀԱՅԱՍՏԱՆԻ ՀԱՆՐԱՊԵՏՈՒԹՅԱՆ ԿԱՌԱՎԱՐՈՒԹՅԱՆ 2019 ԹՎԱԿԱՆԻ ԴԵԿՏԵՄԲԵՐԻ 26-Ի N 1919-Ն ՈՐՈՇՄԱՆ N 5 ՀԱՎԵԼՎԱԾԻ N 1 ԱՂՅՈՒՍԱԿՈՒՄ ԿԱՏԱՐՎՈՂ ՓՈՓՈԽՈՒԹՅՈՒՆՆԵՐԻ ԵՎ ԼՐԱՑՈՒՄՆԵՐԻ ՄԱՍԻՆ
E6: հազար դրամներով
B7: Ծրագրային դասիչը | D7: Բյուջետային հատկացումների գլխավոր կարգադրիչների, ծրագրերի և միջոցառումների անվանումները | E7: Ցուցանիշների փոփոխությունները ավելացումները նշված են դրական նշանով, իսկ նվազեցումները՝ փակագծերում
B8: Ծրագիր | C8: Միջոցառում | E8: Ինն ամիս | F8: Ինն ամիս
D9: Ընդամենը | E9: =E10 -> 0 | F9: =F10 -> 0
B10: ՀՀ աշխատանքի և սոցիալական հարցերի նախարարություն | E10: =E11+E30+E49+E69+E88 -> 0 | F10: =F11+F30+F49+F69+F88 -> 0
B11: 1011 | D11: Ծրագրի անվանումը՝ | E11: =E18+E24 -> -3237015.5 | F11: =F18+F24 -> -6264789.7
D12: Անապահով սոցիալական խմբերին աջակցություն
D13: Ծրագրի նպատակը՝
D14: Օժանդակել անապահով ընտանիքների կենսամակարդակի բարձրացմանը
D15: Վերջնական արդյունքի նկարագրությունը
D16: Աղքատության մեղմում և ծայրահեղ աղքատության կրճատում
B17: Ծրագրի միջոցառումներ
C18: 11001 | D18: Միջոցառման անվանումը` | E18: ='հավելված 1'!G71 -> -32049.5 | F18: ='հավելված 1'!H71 -> -62027.5
D19: Ընտանիքի կենսամակարդակի բարձրացմանն ուղղված նպաստների իրականացման ապահովում
D20: Միջոցառման նկարագրությունը`
D21: Ընտանիքների անապահովության գնահատման համակարգում հաշվառված, անապահով ճանաչված ընտանիքներին նպաստի, սոցիալական նպաստի և հրատապ օգնության վճարման ծառայությունների ձեռքբերում
D22: Միջոցառման տեսակը`
D23: Ծառայությունների մատուցում
C24: 12001 | D24: Միջոցառման անվանումը` | E24: ='հավելված 1'!G49 -> -3204966 | F24: ='հավելված 1'!H49 -> -6202762.2
D25: Ընտանիքի կենսամակարդակի բարձրացմանն ուղղված նպաստներ
D26: Միջոցառման նկարագրությունը`
D27: Ընտանիքների անապահովության գնահատման համակարգում հաշվառված, անապահով ճանաչված ընտանիքներին նպաստի, սոցիալական նպաստի և հրատապ օգնության տրամադրում
D28: Միջոցառման տեսակը`
D29: Տրանսֆերտների տրամադրում
B30: 1068 | D30: Ծրագրի անվանումը՝ | E30: =SUM(E43,E37) -> 1240750 | F30: =SUM(F43,F37) -> 1242370
D31: Ժողովրդագրական վիճակի բարելավում
D32: Ծրագրի նպատակը՝
D33: Խթանել ժողովրդագրական վիճակի բարելավումը
D34: Վերջնական արդյունքի նկարագրությունը
D35: Ժողովրդագրական վիճակի բարելավում և բազմազավակության աճ
B36: Ծրագրի միջոցառումներ
C37: 11001 | D37: Միջոցառման անվանումը` | E37: =SUM('հավելված 1'!G61) -> 2850 | F37: =SUM('հավելված 1'!H61) -> 4470
D38: Մինչև 2 տարեկան երեխայի խնամքի նպաստի տրամադրման ապահովում
D39: Միջոցառման նկարագրությունը`
D40: Մինչև 2 տարեկան երեխայի խնամքի նպաստի վճարման ծառայությունների ձեռք բերում
D41: Միջոցառման տեսակը`
D42: Տրանսֆերտների տրամադրում
C43: 12002 | D43: Միջոցառման անվանումը` | E43: ='հավելված 1'!G56 -> 1237900 | F43: ='հավելված 1'!H56 -> 1237900
D44: Երեխայի ծննդյան միանվագ նպաստ
D45: Միջոցառման նկարագրությունը`
D46: Երեխայի ծննդյան կապակցությամբ միանվագ նպաստի տրամադրում
D47: Միջոցառման տեսակը`
D48: Տրանսֆերտների տրամադրում
B49: 1082 | D49: Ծրագրի անվանումը՝ | E49: =E56+E62 -> 2035378.5 | F49: =F56+F62 -> 4082419.7
D50: Սոցիալական աջակցություն անաշխատունակության դեպքում
D51: Ծրագրի նպատակը՝
D52: Կորցրած եկամուտների մասնակի փոխհատուցում
D53: Վերջնական արդյունքի նկարագրությունը
D54: Անաշխատունակության հետևանքով եկամտի կորստի մասնակի փոխհատուցման ապահովում
B55: Ծրագրի միջոցառումներ
C56: 12001 | D56: Միջոցառման անվանումը` | E56: ='հավելված 1'!G84 -> 1011464.3 | F56: ='հավելված 1'!H84 -> 1575419.7
D57: Ժամանակավոր անաշխատունակության դեպքում նպաստ
D58: Միջոցառման նկարագրությունը`
D59: ժամանակավոր անաշխատունակության դեպքում (հիվանդության, ընտանիքի հիվանդ անդամի խնամքի և օրենքով սահմանված այլ պատճ. առաջացած) վարձու աշխատողներին, նոտարներին և անհատ ձեռնարկատերերին ժամանակավոր անաշխատունակության նպաստի վճարում
D60: Միջոցառման տեսակը`
D61: Տրանսֆերտների տրամադրում
C62: 12002 | D62: Միջոցառման անվանումը` | E62: ='հավելված 1'!G66 -> 1023914.2 | F62: ='հավելված 1'!H66 -> 2507000
D63: Մայրության նպաստ
D64: Միջոցառման նկարագրությունը`
D65: Մայրության նպաստի տրամադրում աշխատող և չաշխատող անձանց
D66: Միջոցառման տեսակը`
D67: Տրանսֆերտների տրամադրում
B69: 1102 | D69: Ծրագրի անվանումը՝ | E69: =SUM(E76,E82) -> -389113 | F69: =SUM(F76,F82) -> 380000
D70: Կենսաթոշակային ապահովություն
D71: Ծրագրի նպատակը՝
D72: Կենսաթոշակի իրավունքի իրացում
D73: Վերջնական արդյունքի նկարագրությունը
D74: Կենսաթոշակների նշանակման և վճարման գործընթացի ապահովում
B75: Ծրագրի միջոցառումներ
C76: 12001 | D76: Միջոցառման անվանումը` | E76: ='հավելված 1'!G22 -> 210887 | F76: ='հավելված 1'!H22 -> 980000
D77: Սպայական անձնակազմի և նրանց ընտանիքների անդամների կենսաթոշակներ
D78: Միջոցառման նկարագրությունը`
D79: Սպայական անձնակազմի զինծառայողներին երկարամյա ծառայության, հաշմանդամության և զինծառայողի մահվան դեպքում նրա ընտանիքի անդամներին կերակրողին կորցնելու դեպքում զինվորական կենսաթոշակների տրամադրում
D80: Միջոցառման տեսակը`
D81: Տրանսֆերտների տրամադրում
C82: 12003 | D82: Միջոցառման անվանումը` | E82: ='հավելված 1'!G27 -> -600000 | F82: ='հավելված 1'!H27 -> -600000
D83: Աշխատանքային կենսաթոշակներ
D84: Միջոցառման նկարագրությունը`
D85: Սպայական անձնակազմի զինծառայողներին երկարամյա ծառայության, հաշմանդամության և զինծառայողի մահվան դեպքում նրա ընտանիքի անդամներին կերակրողին կորցնելու դեպքում զինվորական կենսաթոշակների տրամադրում
D86: Միջոցառման տեսակը`
D87: Տրանսֆերտների տրամադրում
B88: 1205 | D88: Ծրագրի անվանումը՝ | E88: =SUM(E95) -> 350000 | F88: =SUM(F95) -> 560000
D89: Սոցիալական ապահովություն
D90: Ծրագրի նպատակը՝
D91: Սոցիալական ապահովության իրավունքի իրականացման ապահովում
D92: Վերջնական արդյունքի նկարագրությունը
D93: Սոցիալական ապահովության իրավունքի իրականացում
B94: Ծրագրի միջոցառումներ
C95: 12002 | D95: Միջոցառման անվանումը` | E95: ='հավելված 1'!G38 -> 350000 | F95: ='հավելված 1'!H38 -> 560000
D96: Կենսաթոշակառուի, ծերության, հաշմանդամության, կերակրողին կորցնելու դեպքում նպաստառուի մահվան դեպքում տրվող թաղման նպաստ
D97: Միջոցառման նկարագրությունը`
D98: Կենսաթոշակառուի, ծերության, հաշմանդամության, կերակրողին կորցնելու դեպքում նպաստառուի մահվան դեպքում տրվող թաղման նպաստի տրամադրում
D99: Միջոցառման տեսակը`
D100: Տրանսֆերտների տրամադրում

Sheet հավելված 3
E1: Հավելված N 3
E2: ՀՀ կառավարության 2020 թվականի
E3: -----------------ի N -----------Ն որոշման
B4: ՀԱՅԱՍՏԱՆԻ ՀԱՆՐԱՊԵՏՈՒԹՅԱՆ ԿԱՌԱՎԱՐՈՒԹՅԱՆ 2019 ԹՎԱԿԱՆԻ ԴԵԿՏԵՄԲԵՐԻ 26-Ի N 1919-Ն ՈՐՈՇՄԱՆ N 9 ՀԱՎԵԼՎԱԾԻ N 9.16 ԱՂՅՈՒՍԱԿՈՒՄ ԿԱՏԱՐՎՈՂ ՓՈՓՈԽՈՒԹՅՈՒՆՆԵՐԸ
B6: Հայաստանի Հանրապետության աշխատանքի և սոցիալական հարցերի նախարարություն
B7: ՄԱՍ 1. ՊԵՏԱԿԱՆ ՄԱՐՄՆԻ ԳԾՈՎ ԱՐԴՅՈՒՆՔԱՅԻՆ (ԿԱՏԱՐՈՂԱԿԱՆ) ՑՈՒՑԱՆԻՇՆԵՐԸ
B9: Ծրագրի դասիչը | C9: Ծրագրի անվանումը
B10: 1011 | C10: Անապահով սոցիալական խմբերին աջակցություն
B12: Ծրագրի միջոցառումները
B14: Ծրագրի դասիչը | C14: 1011 | D14: Ցուցանիշների փոփոխությունները ավելացումները նշված են դրական նշանով, իսկ նվազեցումները՝ փակագծերում
B15: Միջոցառման դասիչը | C15: 11001 | D15: Ինն ամիս | E15: Տարի
B16: Միջոցառման անվանումը | C16: Ընտանիքի կենսամակարդակի բարձրացմանն ուղղված նպաստների իրականացման ապաhովում
B17: Նկարագրությունը | C17: Ընտանիքների անապահովության գնահատման համակարգում հաշվառված ընդգրկված անապահով ճանաչված ընտանիքներին նպաստի, սոցիալական նպաստի և հրատապ օգնության վճարման ծառայությունների ձեռքբերում
B18: Միջոցառման տեսակը` | C18: Ծառայությունների մատուցում
B19: Միջոցառումն իրականացնողի անվանումը | C19: «Գնումների մասին» ՀՀ օրենքի համաձայն ընտրված կազմակերպություն
B20: Արդյունքային չափորոշիչներ
B21: Ընտանիքի կենսամակարդակի բարձրացմանն ուղղված նպաստներ ստացող ընտանիքների թիվ, հատ,
B22: Միջոցառման վրա կատարվող ծախսը հազ.դրամ | D22: ='հավելված 2'!E18 -> -32049.5 | E22: ='հավելված 2'!F18 -> -62027.5
B24: Ծրագրի դասիչը | C24: 1011 | D24: Ցուցանիշների փոփոխությունները ավելացումները նշված են դրական նշանով, իսկ նվազեցումները՝ փակագծերում
B25: Միջոցառման դասիչը | C25: 12001 | D25: Ինն ամիս | E25: Տարի
B26: Միջոցառման անվանումը | C26: Ընտանիքի կենսամակարդակի բարձրացմանն ուղղված նպաստներ
B27: Նկարագրությունը | C27: Ընտանիքների անապահովության գնահատման համակարգում հաշվառված, անապահով ճանաչված ընտանիքներին նպաստի, սոցիալական նպաստի և հրատապ օգնության տրամադրում
B28: Միջոցառման տեսակը | C28: Տրանսֆերտի տրամադրում
B29: Շահառուների ընտրության չափանիշները | C29: Ընտանիքների անապահովության գնահատման համակարգում հաշվառված ընտանիք, ընտանիքի անապահովության միավորի հիման վրա
B30: Արդյունքային չափորոշիչներ
B31: Ընտանիքի կենսամակարդակի բարձրացմանն ուղղված նպաստներ ստացող ընտանիքների թիվ, հատ,
B32: Միջոցառման վրա կատարվող ծախսը հազ.դրամ | D32: ='հավելված 2'!E24 -> -3204966 | E32: ='հավելված 2'!F24 -> -6202762.2
B34: Ծրագրի դասիչը | C34: Ծրագրի անվանումը
B35: 1068 | C35: Ժողովրդագրական վիճակի բարելավում
B37: Ծրագրի միջոցառումները
B39: Ծրագրի դասիչը | C39: 1068 | D39: Ցուցանիշների փոփոխությունները ավելացումները նշված են դրական նշանով, իսկ նվազեցումները՝ փակագծերում
B40: Միջոցառման դասիչը | C40: 11001 | D40: Ինն ամիս | E40: Տարի
B41: Միջոցառման անվանումը | C41: Մինչև 2 տարեկան երեխայի խնամքի նպաստի տրամադրման ապահովում
B42: Նկարագրությունը | C42: Մինչև 2 տարեկան երեխայի խնամքի նպաստի ծառայությունների ձեռք բերում
B43: Միջոցառման տեսակը | C43: Ծառայությունների մատուցում
B44: Շահառուների ընտրության չափանիշները | C44: «Գնումների մասին» ՀՀ օրենքի համաձայն ընտրված կազմակերպություն
B45: Մինչև 2 տարեկան երեխայի խնամքի նպաստ ստացող քաղաքացիների թիվ, մարդ
B46: Արդյունքային չափորոշիչներ
B47: Միջոցառման վրա կատարվող ծախսը հազար դրամ | D47: =SUM('հավելված 1'!G61) -> 2850 | E47: =SUM('հավելված 1'!H61) -> 4470
B52: Ծրագրի դասիչը | C52: 1068 | D52: Ցուցանիշների փոփոխությունները ավելացումները նշված են դրական նշանով, իսկ նվազեցումները՝ փակագծերում
B53: Միջոցառման դասիչը | C53: 12002 | D53: Ինն ամիս | E53: Տարի
B54: Միջոցառման անվանումը | C54: Երեխայի ծննդյան միանվագ նպաստ
B55: Նկարագրությունը | C55: Երեխայի ծննդյան կապակցությամբ միանվագ նպաստի տրամադրում
B56: Միջոցառման տեսակը | C56: Տրանսֆերտների տրամադրում
B57: Շահառուների ընտրության չափանիշները | C57: ՀՀ-ում հաշվառված նոր ծնված երեխայի ծնող օրինական ներկայացուցիչ
B58: Արդյունքային չափորոշիչներ
B59: շահառու նորածինների թիվ, այդ թվում՝ | D59: =SUM(D60:D62) -> 3672 | E59: =SUM(E60:E62) -> 3672
B60: ընտանիքում առաջին և երկրորդ երեխաների թիվ | D60: 3483 | E60: 3483
B61: ընտանիքում երրորդ և չորրորդ երեխաների թիվ | D61: 181 | E61: 181
B62: ընտանիքում հինգ և հաջորդ երեխաների թիվ | D62: 8 | E62: 8
B63: Միջոցառման վրա կատարվող ծախսը հազար դրամ | D63: ='հավելված 1'!G52 -> 1237900 | E63: ='հավելված 1'!H52 -> 1237900
B65: Ծրագրի դասիչը | C65: Ծրագրի անվանումը
B66: 1082 | C66: Սոցիալական աջակցություն անաշխատունակության դեպքում
B68: Ծրագրի միջոցառումները
B70: Ծրագրի դասիչը` | C70: 1082 | D70: Ցուցանիշների փոփոխությունները ավելացումները նշված են դրական նշանով, իսկ նվազեցումները՝ փակագծերում
B71: Միջոցառման դասիչը` | C71: 12001 | D71: Ինն ամիս | E71: Տարի
B72: Միջոցառման անվանումը` | C72: Ժամանակավոր անաշխատունակության դեպքում նպաստ
B73: Նկարագրությունը | C73: ժամանակավոր անաշխատունակության դեպքում (հիվանդության, ընտանիքի հիվանդ անդամի խնամքի և օրենքով սահմանված այլ պատճ. առաջացած) վարձու աշխատողներին, նոտարներին և անհատ ձեռնարկատերերին ժամանակավոր անաշխատունակության նպաստի վճարում
B74: Միջոցառման տեսակը | C74: Տրանսֆերտների տրամադրում
B75: Շահառուների ընտրության չափանիշները | C75: Օրենքով սահմանված կարգով ու չափով եկամտային հարկ (շահութահարկ) վճարած վարձու աշխատողներ, նոտարներ և անհատ ձեռնարկատերեր
B76: Արդյունքային չափորոշիչներ
B77: Ժամանակավոր անաշխատունակության օրերի թիվ, օր
B78: Միջոցառման վրա կատարվող ծախսը հազար դրամ | D78: ='հավելված 1'!G84 -> 1011464.3 | E78: ='հավելված 1'!H84 -> 1575419.7
B80: Ծրագրի դասիչը` | C80: 1082 | D80: Ցուցանիշների փոփոխությունները ավելացումները նշված են դրական նշանով, իսկ նվազեցումները՝ փակագծերում
B81: Միջոցառման դասիչը` | C81: 12002 | D81: Ինն ամիս | E81: Տարի
B82: Միջոցառման անվանումը` | C82: Մայրության նպաստ
B83: Նկարագրությունը | C83: Մայրության նպաստի տրամադրում աշխատող և չաշխատող անձանց
B84: Միջոցառման տեսակը | C84: Տրանսֆերտների տրամադրում
B85: Շահառուների ընտրության չափանիշները | C85: Հղիության և ծննդաբերության արձակուրդի իրավունք ունեցող անձիք անկախ աշխատանքային կարգավիճակից
B86: Արդյունքային չափորոշիչներ
B87: Հղիության և ծննդաբերության արձակուրդի օրերի թիվ, օր
B88: Մարության նպաստ ստացող աշխատող անձանց թիվ, մարդ
B89: Մարության նպաստ ստացող չաշխատող անձանց թիվ, մարդ
B90: Միջոցառման վրա կատարվող ծախսը հազար դրամ | D90: ='հավելված 1'!G66 -> 1023914.2 | E90: ='հավելված 1'!H66 -> 2507000
B93: Ծրագրի դասիչը | C93: Ծրագրի անվանումը
B94: 1102 | C94: Կենսաթոշակային ապահովություն
B96: Ծրագրի միջոցառումները
B98: Ծրագրի դասիչը՝ | C98: 1102 | D98: Ցուցանիշների փոփոխությունները ավելացումները նշված են դրական նշանով, իսկ նվազեցումները՝ փակագծերում
B99: Միջոցառման դասիչը՝ | C99: 12001 | D99: Ինն ամիս | E99: Տարի
B100: Միջոցառման անվանումը՝ | C100: Սպայական անձնակազմի և նրանց ընտանիքների անդամների կենսաթոշակներ
B101: Նկարագրությունը՝ | C101: Սպայական անձնակազմի զինծառայողներին երկարամյա ծառայության, հաշմանդամության և զինծառայողի մահվան դեպքում նրա ընտանիքի անդամներին կերակրողին կորցնելու դեպքում զինվորական կենսաթոշակների տրամադրում
B102: Միջոցառման տեսակը՝ | C102: Տրանսֆերտների տրամադրում
B103: Շահառուների ընտրության չափանիշները | C103: Սպայական անձնակազմին և նրանց ընտանիքների անդամներին երկարամյա ծառայության, հաշմանդամության և կերակրողին կորցնելու դեպքում կենսաթոշակների տրամադրում 22.12.2010թ. ՀՕ-243-Ն օրենքի 18-րդ, 20-րդ, 22-րդ հոդվածներով
B104: Արդյունքային չափորոշիչներ
B105: Կենսաթոշակառուների թիվ, մարդ
B106: Միջոցառման վրա կատարվող ծախսը հազար դրամ | D106: ='հավելված 1'!G22 -> 210887 | E106: ='հավելված 1'!H22 -> 980000
B107: Ծրագրի դասիչը՝ | C107: 1102 | D107: Ցուցանիշների փոփոխությունները ավելացումները նշված են դրական նշանով, իսկ նվազեցումները՝ փակագծերում
B108: Միջոցառման դասիչը՝ | C108: 12003
B109: Միջոցառման անվանումը՝ | C109: Աշխատանքային կենսաթոշակներ
B110: Նկարագրությունը՝ | C110: Աշխատանքային կենսաթոշակների (տարիքային, հաշմանդամության, արտոնյալ պայմաններով, երկարամյա ծառայության, մասնակի, կերարողին կորցնելու դեպքում կենսաթոշակների) տրամադրում
B111: Միջոցառման տեսակը՝ | C111: Տրանսֆերտների տրամադրում
B112: Շահառուների ընտրության չափանիշները | C112: Տարիքային աշխատանքային՝ առնվազն 10 տարվա աշխատանքային ստաժ, հաշմանդամության աշխատանքային՝ ըստ սանդղակի աշխատանքային ստաժ, արտոնյալ պայմաններով, երկարամյա ծառայության, մասնակի՝ պահանջվող մասնագիտությամբ աշխատանքային ստաժ
B113: Արդյունքային չափորոշիչներ
B114: Կենսաթոշակառուների թիվ, մարդ | D114: -1520 | E114: -1520
B115: Միջոցառման վրա կատարվող ծախսը հազար դրամ | D115: ='հավելված 1'!G27 -> -600000 | E115: ='հավելված 1'!H27 -> -600000
B118: Ծրագրի դասիչը | C118: Ծրագրի անվանումը
B119: 1205 | C119: Սոցիալական ապահովություն
B121: Ծրագրի միջոցառումները
B122: Ծրագրի դասիչը | C122: 1205 | D122: Ցուցանիշների փոփոխությունները ավելացումները նշված են դրական նշանով, իսկ նվազեցումները՝ փակագծերում
B123: Միջոցառման դասիչը | C123: 12002 | D123: Ինն ամիս | E123: Տարի
...

Sheet հավելված 4
E1: Հավելված N 4
E2: ՀՀ կառավարության 2020 թվականի
E3: -----------------ի N -----------Ն որոշման
B4: ՀԱՅԱՍՏԱՆԻ ՀԱՆՐԱՊԵՏՈՒԹՅԱՆ ԿԱՌԱՎԱՐՈՒԹՅԱՆ 2019 ԹՎԱԿԱՆԻ ԴԵԿՏԵՄԲԵՐԻ 26-Ի N 1919-Ն ՈՐՈՇՄԱՆ N 9.1 ՀԱՎԵԼՎԱԾԻ N 9.1.20 ԱՂՅՈՒՍԱԿՈՒՄ ԿԱՏԱՐՎՈՂ ՓՈՓՈԽՈՒԹՅՈՒՆՆԵՐԸ
B6: Հայաստանի Հանրապետության աշխատանքի և սոցիալական հարցերի նախարարության սոցիալական ապահովության ծառայություն
B7: ՄԱՍ 1. ՊԵՏԱԿԱՆ ՄԱՐՄՆԻ ԳԾՈՎ ԱՐԴՅՈՒՆՔԱՅԻՆ (ԿԱՏԱՐՈՂԱԿԱՆ) ՑՈՒՑԱՆԻՇՆԵՐԸ
B9: Ծրագրի դասիչը | C9: Ծրագրի անվանումը
B10: 1011 | C10: Անապահով սոցիալական խմբերին աջակցություն
B12: Ծրագրի միջոցառումները
B14: Ծրագրի դասիչը | C14: 1011 | D14: Ցուցանիշների փոփոխությունները ավելացումները նշված են դրական նշանով, իսկ նվազեցումները՝ փակագծերում
B15: Միջոցառման դասիչը | C15: 11001 | D15: Ինն ամիս | E15: Տարի
B16: Միջոցառման անվանումը | C16: Ընտանիքի կենսամակարդակի բարձրացմանն ուղղված նպաստների իրականացման ապաhովում
B17: Նկարագրությունը | C17: Ընտանիքների անապահովության գնահատման համակարգում հաշվառված ընդգրկված անապահով ճանաչված ընտանիքներին նպաստի, սոցիալական նպաստի և հրատապ օգնության վճարման ծառայությունների ձեռքբերում
B18: Միջոցառման տեսակը` | C18: Ծառայությունների մատուցում
B19: Միջոցառումն իրականացնողի անվանումը | C19: «Գնումների մասին» ՀՀ օրենքի համաձայն ընտրված կազմակերպություն
B20: Արդյունքային չափորոշիչներ
B21: Ընտանիքի կենսամակարդակի բարձրացմանն ուղղված նպաստներ ստացող ընտանիքների թիվ, հատ,
B22: Միջոցառման վրա կատարվող ծախսը հազ.դրամ | D22: ='հավելված 2'!E18 -> -32049.5 | E22: ='հավելված 2'!F18 -> -62027.5
B24: Ծրագրի դասիչը | C24: 1011 | D24: Ցուցանիշների փոփոխությունները ավելացումները նշված են դրական նշանով, իսկ նվազեցումները՝ փակագծերում
B25: Միջոցառման դասիչը | C25: 12001 | D25: Ինն ամիս | E25: Տարի
B26: Միջոցառման անվանումը | C26: Ընտանիքի կենսամակարդակի բարձրացմանն ուղղված նպաստներ
B27: Նկարագրությունը | C27: Ընտանիքների անապահովության գնահատման համակարգում հաշվառված, անապահով ճանաչված ընտանիքներին նպաստի, սոցիալական նպաստի և հրատապ օգնության տրամադրում
B28: Միջոցառման տեսակը | C28: Տրանսֆերտի տրամադրում
B29: Շահառուների ընտրության չափանիշները | C29: Ընտանիքների անապահովության գնահատման համակարգում հաշվառված ընտանիք, ընտանիքի անապահովության միավորի հիման վրա
B30: Արդյունքային չափորոշիչներ
B31: Ընտանիքի կենսամակարդակի բարձրացմանն ուղղված նպաստներ ստացող ընտանիքների թիվ, հատ,
B32: Միջոցառման վրա կատարվող ծախսը հազ.դրամ | D32: ='հավելված 2'!E24 -> -3204966 | E32: ='հավելված 2'!F24 -> -6202762.2
B34: Ծրագրի դասիչը | C34: Ծրագրի անվանումը
B35: 1068 | C35: Ժողովրդագրական վիճակի բարելավում
B37: Ծրագրի միջոցառումները
B39: Ծրագրի դասիչը | C39: 1068 | D39: Ցուցանիշների փոփոխությունները ավելացումները նշված են դրական նշանով, իսկ նվազեցումները՝ փակագծերում
B40: Միջոցառման դասիչը | C40: 11001 | D40: Ինն ամիս | E40: Տարի
B41: Միջոցառման անվանումը | C41: Մինչև 2 տարեկան երեխայի խնամքի նպաստի տրամադրման ապահովում
B42: Նկարագրությունը | C42: Մինչև 2 տարեկան երեխայի խնամքի նպաստի ծառայությունների ձեռք բերում
B43: Միջոցառման տեսակը | C43: Ծառայությունների մատուցում
B44: Շահառուների ընտրության չափանիշները | C44: «Գնումների մասին» ՀՀ օրենքի համաձայն ընտրված կազմակերպություն
B45: Մինչև 2 տարեկան երեխայի խնամքի նպաստ ստացող քաղաքացիների թիվ, մարդ
B46: Արդյունքային չափորոշիչներ
B47: Միջոցառման վրա կատարվող ծախսը հազար դրամ | D47: =SUM('հավելված 1'!G61) -> 2850 | E47: =SUM('հավելված 1'!H61) -> 4470
B52: Ծրագրի դասիչը | C52: 1068 | D52: Ցուցանիշների փոփոխությունները ավելացումները նշված են դրական նշանով, իսկ նվազեցումները՝ փակագծերում
B53: Միջոցառման դասիչը | C53: 12002 | D53: Ինն ամիս | E53: Տարի
B54: Միջոցառման անվանումը | C54: Երեխայի ծննդյան միանվագ նպաստ
B55: Նկարագրությունը | C55: Երեխայի ծննդյան կապակցությամբ միանվագ նպաստի տրամադրում
B56: Միջոցառման տեսակը | C56: Տրանսֆերտների տրամադրում
B57: Շահառուների ընտրության չափանիշները | C57: ՀՀ-ում հաշվառված նոր ծնված երեխայի ծնող օրինական ներկայացուցիչ
B58: Արդյունքային չափորոշիչներ
B59: շահառու նորածինների թիվ, այդ թվում՝ | D59: =SUM(D60:D62) -> 3672 | E59: =SUM(E60:E62) -> 3672
B60: ընտանիքում առաջին և երկրորդ երեխաների թիվ | D60: 3483 | E60: 3483
B61: ընտանիքում երրորդ և չորրորդ երեխաների թիվ | D61: 181 | E61: 181
B62: ընտանիքում հինգ և հաջորդ երեխաների թիվ | D62: 8 | E62: 8
B63: Միջոցառման վրա կատարվող ծախսը հազար դրամ | D63: ='հավելված 1'!G52 -> 1237900 | E63: ='հավելված 1'!H52 -> 1237900
B65: Ծրագրի դասիչը | C65: Ծրագրի անվանումը
B66: 1082 | C66: Սոցիալական աջակցություն անաշխատունակության դեպքում
B68: Ծրագրի միջոցառումները
B70: Ծրագրի դասիչը` | C70: 1082 | D70: Ցուցանիշների փոփոխությունները ավելացումները նշված են դրական նշանով, իսկ նվազեցումները՝ փակագծերում
B71: Միջոցառման դասիչը` | C71: 12001 | D71: Ինն ամիս | E71: Տարի
B72: Միջոցառման անվանումը` | C72: Ժամանակավոր անաշխատունակության դեպքում նպաստ
B73: Նկարագրությունը | C73: ժամանակավոր անաշխատունակության դեպքում (հիվանդության, ընտանիքի հիվանդ անդամի խնամքի և օրենքով սահմանված այլ պատճ. առաջացած) վարձու աշխատողներին, նոտարներին և անհատ ձեռնարկատերերին ժամանակավոր անաշխատունակության նպաստի վճարում
B74: Միջոցառման տեսակը | C74: Տրանսֆերտների տրամադրում
B75: Շահառուների ընտրության չափանիշները | C75: Օրենքով սահմանված կարգով ու չափով եկամտային հարկ (շահութահարկ) վճարած վարձու աշխատողներ, նոտարներ և անհատ ձեռնարկատերեր
B76: Արդյունքային չափորոշիչներ
B77: Ժամանակավոր անաշխատունակության օրերի թիվ, օր
B78: Միջոցառման վրա կատարվող ծախսը հազար դրամ | D78: ='հավելված 1'!G84 -> 1011464.3 | E78: ='հավելված 1'!H84 -> 1575419.7
B80: Ծրագրի դասիչը` | C80: 1082 | D80: Ցուցանիշների փոփոխությունները ավելացումները նշված են դրական նշանով, իսկ նվազեցումները՝ փակագծերում
B81: Միջոցառման դասիչը` | C81: 12002 | D81: Ինն ամիս | E81: Տարի
B82: Միջոցառման անվանումը` | C82: Մայրության նպաստ
B83: Նկարագրությունը | C83: Մայրության նպաստի տրամադրում աշխատող և չաշխատող անձանց
B84: Միջոցառման տեսակը | C84: Տրանսֆերտների տրամադրում
B85: Շահառուների ընտրության չափանիշները | C85: Հղիության և ծննդաբերության արձակուրդի իրավունք ունեցող անձիք անկախ աշխատանքային կարգավիճակից
B86: Արդյունքային չափորոշիչներ
B87: Հղիության և ծննդաբերության արձակուրդի օրերի թիվ, օր
B88: Մարության նպաստ ստացող աշխատող անձանց թիվ, մարդ
B89: Մարության նպաստ ստացող չաշխատող անձանց թիվ, մարդ
B90: Միջոցառման վրա կատարվող ծախսը հազար դրամ | D90: ='հավելված 1'!G66 -> 1023914.2 | E90: ='հավելված 1'!H66 -> 2507000
B93: Ծրագրի դասիչը | C93: Ծրագրի անվանումը
B94: 1102 | C94: Կենսաթոշակային ապահովություն
B96: Ծրագրի միջոցառումները
B98: Ծրագրի դասիչը՝ | C98: 1102 | D98: Ցուցանիշների փոփոխությունները ավելացումները նշված են դրական նշանով, իսկ նվազեցումները՝ փակագծերում
B99: Միջոցառման դասիչը՝ | C99: 12001 | D99: Ինն ամիս | E99: Տարի
B100: Միջոցառման անվանումը՝ | C100: Սպայական անձնակազմի և նրանց ընտանիքների անդամների կենսաթոշակներ
B101: Նկարագրությունը՝ | C101: Սպայական անձնակազմի զինծառայողներին երկարամյա ծառայության, հաշմանդամության և զինծառայողի մահվան դեպքում նրա ընտանիքի անդամներին կերակրողին կորցնելու դեպքում զինվորական կենսաթոշակների տրամադրում
B102: Միջոցառման տեսակը՝ | C102: Տրանսֆերտների տրամադրում
B103: Շահառուների ընտրության չափանիշները | C103: Սպայական անձնակազմին և նրանց ընտանիքների անդամներին երկարամյա ծառայության, հաշմանդամության և կերակրողին կորցնելու դեպքում կենսաթոշակների տրամադրում 22.12.2010թ. ՀՕ-243-Ն օրենքի 18-րդ, 20-րդ, 22-րդ հոդվածներով
B104: Արդյունքային չափորոշիչներ
B105: Կենսաթոշակառուների թիվ, մարդ
B106: Միջոցառման վրա կատարվող ծախսը հազար դրամ | D106: ='հավելված 1'!G22 -> 210887 | E106: ='հավելված 1'!H22 -> 980000
B107: Ծրագրի դասիչը՝ | C107: 1102 | D107: Ցուցանիշների փոփոխությունները ավելացումները նշված են դրական նշանով, իսկ նվազեցումները՝ փակագծերում
B108: Միջոցառման դասիչը՝ | C108: 12003
B109: Միջոցառման անվանումը՝ | C109: Աշխատանքային կենսաթոշակներ
B110: Նկարագրությունը՝ | C110: Աշխատանքային կենսաթոշակների (տարիքային, հաշմանդամության, արտոնյալ պայմաններով, երկարամյա ծառայության, մասնակի, կերարողին կորցնելու դեպքում կենսաթոշակների) տրամադրում
B111: Միջոցառման տեսակը՝ | C111: Տրանսֆերտների տրամադրում
B112: Շահառուների ընտրության չափանիշները | C112: Տարիքային աշխատանքային՝ առնվազն 10 տարվա աշխատանքային ստաժ, հաշմանդամության աշխատանքային՝ ըստ սանդղակի աշխատանքային ստաժ, արտոնյալ պայմաններով, երկարամյա ծառայության, մասնակի՝ պահանջվող մասնագիտությամբ աշխատանքային ստաժ
B113: Արդյունքային չափորոշիչներ
B114: Կենսաթոշակառուների թիվ, մարդ | D114: =+'հավելված 3'!D114 -> -1520 | E114: =+'հավելված 3'!E114 -> -1520
B115: Միջոցառման վրա կատարվող ծախսը հազար դրամ | D115: ='հավելված 1'!G27 -> -600000 | E115: ='հավելված 1'!H27 -> -600000
B118: Ծրագրի դասիչը | C118: Ծրագրի անվանումը
B119: 1205 | C119: Սոցիալական ապահովություն
B121: Ծրագրի միջոցառումները
B122: Ծրագրի դասիչը | C122: 1205 | D122: Ցուցանիշների փոփոխությունները ավելացումները նշված են դրական նշանով, իսկ նվազեցումները՝ փակագծերում
B123: Միջոցառման դասիչը | C123: 12002 | D123: Ինն ամիս | E123: Տարի
...

Sheet հավելված5
H1: Հավելված N 5
H2: ՀՀ կառավարության 2020 թվականի
H3: -----------------ի N -----------Ն որոշման
A4: ՀԱՅԱՍՏԱՆԻ ՀԱՆՐԱՊԵՏՈՒԹՅԱՆ ԿԱՌԱՎԱՐՈՒԹՅԱՆ 2019 ԹՎԱԿԱՆԻ ԴԵԿՏԵՄԲԵՐԻ 26-Ի N 1919-Ն ՈՐՈՇՄԱՆ N 10 ՀԱՎԵԼՎԱԾՈՒՄ ԿԱՏԱՐՎՈՂ ՓՈՓՈԽՈՒԹՅՈՒՆՆԵՐԸ ԵՎ ԼՐԱՑՈՒՄՆԵՐ ԿԱՏԱՐԵԼՈՒ ՄԱՍԻՆ
A6: Հայաստանի Հանրապետության աշխատանքի և սոցիալական հարցերի նախարարության սոցիալական ապահովության ծառայություն
A10: Կոդը | B10: Անվանումը | E10: Գնման ձևը | F10: Չափի միավորը | G10: Միավորի գինը | H10: Քանակը | I10: Գում,արը հազար դրամով
A11: Բաժին N 10 | B11: Խումբ N 09 | C11: Դաս N 02 | D11: Սոցիալական պաշտպանությանը տրամադրվող օժանդակ ծառայություններ (այլ դասերին չպատկանող)
A12: 1011 11001 | B12: Ընտանիքի կենսամակարդակի բարձրացմանն ուղղված նպաստների իրականացման ապահովում | I12: =SUM('հավելված 1'!H77) -> -62027.5
A13: 79571100-1 | B13: փոստային առաքման ծառայություններ | E13: ՄԱ | F13: դրամ | G13: =+I13*1000 -> -62027500 | H13: 1 | I13: =SUM(I12) -> -62027.5
A14: Կոդը | B14: Անվանումը | E14: Գնման ձևը | F14: Չափի միավորը | G14: Միավորի գինը | H14: Քանակը | I14: Գում,արը հազար դրամով
A15: Բաժին N 10 | B15: Խումբ N 09 | C15: Դաս N 02 | D15: Սոցիալական պաշտպանությանը տրամադրվող օժանդակ ծառայություններ (այլ դասերին չպատկանող)
A16: 1068 11001 | B16: Մինչև 2 տարեկան երեխայի խնամքի նպաստի տրամադրման ապահովում | I16: =SUM('հավելված 1'!H81) -> 0
A17: 79571100-1 | B17: փոստային առաքման ծառայություններ | E17: ՄԱ | F17: դրամ | G17: =I17*1000 -> 4470000 | H17: 1 | I17: =SUM('հավելված 1'!H61) -> 4470
