Workbook

Sheet հավելված 1
H1: Հավելված N 1
H2: ՀՀ կառավարության 2020 թվականի
H3: -----------------ի N -----------Ն որոշման
A4: ՀԱՅԱՍՏԱՆԻ ՀԱՆՐԱՊԵՏՈՒԹՅԱՆ ԿԱՌԱՎԱՐՈՒԹՅԱՆ 2019 ԹՎԱԿԱՆԻ ԴԵԿՏԵՄԲԵՐԻ 26-Ի N 1919-Ն ՈՐՈՇՄԱՆ N 3 և N 4 ՀԱՎԵԼՎԱԾՆԵՐՈՒՄ ԿԱՏԱՐՎՈՂ ՓՈՓՈԽՈՒԹՅՈՒՆՆԵՐԻ ԵՎ ԼՐԱՑՈՒՄՆԵՐԻ ՄԱՍԻՆ
A6: Գործառական դասիչը | D6: Ծրագրային դասիչը | F6: Բյուջետային ծախսերի գործառական դասակարգման բաժինների, խմբերի և դասերի, բյուջետային ծրագրերի միջոցառումների, բյուջետային հատկացումների գլխավոր կարգադրիչների անվանումները | G6: Ցուցանիշների փոփոխությունները ավելացումները նշված են դրական նշանով, իսկ նվազեցումները՝ փակագծերում
A7: Բաժինը | B7: Խումբը | C7: Դասը | D7: Ծրագիր | E7: Միջոցառում | G7: Ինն ամիս | H7: Տարի
F8: ԸՆԴԱՄԵՆԸ՝ ԾԱԽՍԵՐ | G8: =G10 -> 0 | H8: =H10 -> 0
F9: այդ թվում՝
A10: 10 | F10: ՍՈՑԻԱԼԱԿԱՆ ՊԱՇՏՊԱՆՈՒԹՅՈՒՆ | G10: =G12+G28+G39+G67 -> 0 | H10: =H12+H28+H39+H67 -> 0
F11: այդ թվում՝
B12: 02 | F12: Ծերություն | G12: =SUM(G14) -> -389113 | H12: =SUM(H14) -> 380000
F13: այդ թվում՝
C14: 01 | F14: Ծերություն | G14: =G15 -> -389113 | H14: =H15 -> 380000
F15: այդ թվում՝ ՀՀ աշխատանքի և սոցիալական հարցերի նախարարություն | G15: =SUM(G16) -> -389113 | H15: =SUM(H16) -> 380000
D16: 1102 | F16: Կենսաթոշակային ապահովություն | G16: =SUM(G18,G23) -> -389113 | H16: =SUM(H18,H23) -> 380000
F17: այդ թվում՝
E18: 12001 | F18: Սպայական անձնակազմի և նրանց ընտանիքների անդամների կենսաթոշակներ | G18: =G20 -> 210887 | H18: =H20 -> 980000
F19: այդ թվում՝ ըստ կատարողների
F20: ՀՀ աշխատանքի և սոցիալական հարցերի նախարարության սոցիալական ապահովության ծառայություն | G20: =G22 -> 210887 | H20: =H22 -> 980000
F21: այդ թվում՝ բյուջետային ծախսերի տնտեսագիտական դասակարգման հոդվածներ
F22: -Կենսաթոշակներ | G22: 210887 | H22: 980000
E23: 12003 | F23: Աշխատանքային կենսաթոշակներ | G23: =G25 -> -600000 | H23: =H25 -> -600000
F24: այդ թվում՝ ըստ կատարողների
F25: ՀՀ աշխատանքի և սոցիալական հարցերի նախարարության սոցիալական ապահովության ծառայություն | G25: =G27 -> -600000 | H25: =H27 -> -600000
F26: այդ թվում՝ բյուջետային ծախսերի տնտեսագիտական դասակարգման հոդվածներ
F27: -Կենսաթոշակներ | G27: -600000 | H27: -600000
B28: 03 | F28: Հարազատին կորցրած անձինք | G28: =SUM(G30) -> 350000 | H28: =SUM(H30) -> 560000
F29: այդ թվում՝
C30: 01 | F30: Հարազատին կորցրած անձինք | G30: =G31 -> 350000 | H30: =H31 -> 560000
F31: այդ թվում՝ ՀՀ աշխատանքի և սոցիալական հարցերի նախարարություն | G31: =G32 -> 350000 | H31: =H32 -> 560000
D32: 1205 | F32: Սոցիալական ապահովություն | G32: =G34 -> 350000 | H32: =H34 -> 560000
F33: այդ թվում՝
E34: 12002 | F34: Կենսաթոշակառուի, ծերության, հաշմանդամության, կերակրողին կորցնելու դեպքում նպաստառուի մահվան դեպքում տրվող թաղման նպաստ | G34: =G36 -> 350000 | H34: =H36 -> 560000
F35: այդ թվում՝ ըստ կատարողների
F36: ՀՀ աշխատանքի և սոցիալական հարցերի նախարարության սոցիալական ապահովության ծառայություն | G36: =G38 -> 350000 | H36: =H38 -> 560000
F37: այդ թվում՝ բյուջետային ծախսերի տնտեսագիտական դասակարգման հոդվածներ
F38: - Հուղարկավորության նպաստներ բյուջեից | G38: 350000 | H38: 560000
B39: 04 | F39: Ընտանիքի անդամներ և զավակներ | G39: =SUM(G41) -> -940301.8 | H39: =SUM(H41) -> -2453392.2
F40: այդ թվում՝
C41: 01 | F41: Ընտանիքի անդամներ և զավակներ | G41: =G42 -> -940301.8 | H41: =H42 -> -2453392.2
...

Sheet հավելված 2
F1: Հավելված N 2
F2: ՀՀ կառավարության 2020 թվականի
F3: -----------------ի N -----------Ն որոշման
B5: ՀԱՅԱՍՏԱՆԻ ՀԱՆՐԱՊԵՏՈՒԹՅԱՆ ԿԱՌԱՎԱՐՈՒԹՅԱՆ 2019 ԹՎԱԿԱՆԻ ԴԵԿՏԵՄԲԵՐԻ 26-Ի N 1919-Ն ՈՐՈՇՄԱՆ N 5 ՀԱՎԵԼՎԱԾԻ N 1 ԱՂՅՈՒՍԱԿՈՒՄ ԿԱՏԱՐՎՈՂ ՓՈՓՈԽՈՒԹՅՈՒՆՆԵՐԻ ԵՎ ԼՐԱՑՈՒՄՆԵՐԻ ՄԱՍԻՆ
E6: հազար դրամներով
B7: Ծրագրային դասիչը | D7: Բյուջետային հատկացումների գլխավոր կարգադրիչների, ծրագրերի և միջոցառումների անվանումները | E7: Ցուցանիշների փոփոխությունները ավելացումները նշված են դրական նշանով, իսկ նվազեցումները՝ փակագծերում
B8: Ծրագիր | C8: Միջոցառում | E8: Ինն ամիս | F8: Ինն ամիս
D9: Ընդամենը | E9: =E10 -> 0 | F9: =F10 -> 0
B10: ՀՀ աշխատանքի և սոցիալական հարցերի նախարարություն | E10: =E11+E30+E49+E69+E88 -> 0 | F10: =F11+F30+F49+F69+F88 -> 0
B11: 1011 | D11: Ծրագրի անվանումը՝ | E11: =E18+E24 -> -3237015.5 | F11: =F18+F24 -> -6264789.7
D12: Անապահով սոցիալական խմբերին աջակցություն
D13: Ծրագրի նպատակը՝
D14: Օժանդակել անապահով ընտանիքների կենսամակարդակի բարձրացմանը
D15: Վերջնական արդյունքի նկարագրությունը
D16: Աղքատության մեղմում և ծայրահեղ աղքատության կրճատում
B17: Ծրագրի միջոցառումներ
C18: 11001 | D18: Միջոցառման անվանումը` | E18: ='հավելված 1'!G71 -> -32049.5 | F18: ='հավելված 1'!H71 -> -62027.5
D19: Ընտանիքի կենսամակարդակի բարձրացմանն ուղղված նպաստների իրականացման ապահովում
D20: Միջոցառման նկարագրությունը`
D21: Ընտանիքների անապահովության գնահատման համակարգում հաշվառված, անապահով ճանաչված ընտանիքներին նպաստի, սոցիալական նպաստի և հրատապ օգնության վճարման ծառայությունների ձեռքբերում
D22: Միջոցառման տեսակը`
D23: Ծառայությունների մատուցում
C24: 12001 | D24: Միջոցառման անվանումը` | E24: ='հավելված 1'!G49 -> -3204966 | F24: ='հավելված 1'!H49 -> -6202762.2
D25: Ընտանիքի կենսամակարդակի բարձրացմանն ուղղված նպաստներ
D26: Միջոցառման նկարագրությունը`
D27: Ընտանիքների անապահովության գնահատման համակարգում հաշվառված, անապահով ճանաչված ընտանիքներին նպաստի, սոցիալական նպաստի և հրատապ օգնության տրամադրում
D28: Միջոցառման տեսակը`
D29: Տրանսֆերտների տրամադրում
B30: 1068 | D30: Ծրագրի անվանումը՝ | E30: =SUM(E43,E37) -> 1240750 | F30: =SUM(F43,F37) -> 1242370
D31: Ժողովրդագրական վիճակի բարելավում
D32: Ծրագրի նպատակը՝
D33: Խթանել ժողովրդագրական վիճակի բարելավումը
D34: Վերջնական արդյունքի նկարագրությունը
D35: Ժողովրդագրական վիճակի բարելավում և բազմազավակության աճ
B36: Ծրագրի միջոցառումներ
C37: 11001 | D37: Միջոցառման անվանումը` | E37: =SUM('հավելված 1'!G61) -> 2850 | F37: =SUM('հավելված 1'!H61) -> 4470
D38: Մինչև 2 տարեկան երեխայի խնամքի նպաստի տրամադրման ապահովում
D39: Միջոցառման նկարագրությունը`
D40: Մինչև 2 տարեկան երեխայի խնամքի նպաստի վճարման ծառայությունների ձեռք բերում
D41: Միջոցառման տեսակը`
...

Sheet հավելված 3
E1: Հավելված N 3
E2: ՀՀ կառավարության 2020 թվականի
E3: -----------------ի N -----------Ն որոշման
B4: ՀԱՅԱՍՏԱՆԻ ՀԱՆՐԱՊԵՏՈՒԹՅԱՆ ԿԱՌԱՎԱՐՈՒԹՅԱՆ 2019 ԹՎԱԿԱՆԻ ԴԵԿՏԵՄԲԵՐԻ 26-Ի N 1919-Ն ՈՐՈՇՄԱՆ N 9 ՀԱՎԵԼՎԱԾԻ N 9.16 ԱՂՅՈՒՍԱԿՈՒՄ ԿԱՏԱՐՎՈՂ ՓՈՓՈԽՈՒԹՅՈՒՆՆԵՐԸ
B6: Հայաստանի Հանրապետության աշխատանքի և սոցիալական հարցերի նախարարություն
B7: ՄԱՍ 1. ՊԵՏԱԿԱՆ ՄԱՐՄՆԻ ԳԾՈՎ ԱՐԴՅՈՒՆՔԱՅԻՆ (ԿԱՏԱՐՈՂԱԿԱՆ) ՑՈՒՑԱՆԻՇՆԵՐԸ
B9: Ծրագրի դասիչը | C9: Ծրագրի անվանումը
B10: 1011 | C10: Անապահով սոցիալական խմբերին աջակցություն
B12: Ծրագրի միջոցառումները
B14: Ծրագրի դասիչը | C14: 1011 | D14: Ցուցանիշների փոփոխությունները ավելացումները նշված են դրական նշանով, իսկ նվազեցումները՝ փակագծերում
B15: Միջոցառման դասիչը | C15: 11001 | D15: Ինն ամիս | E15: Տարի
B16: Միջոցառման անվանումը | C16: Ընտանիքի կենսամակարդակի բարձրացմանն ուղղված նպաստների իրականացման ապաhովում
B17: Նկարագրությունը | C17: Ընտանիքների անապահովության գնահատման համակարգում հաշվառված ընդգրկված անապահով ճանաչված ընտանիքներին նպաստի, սոցիալական նպաստի և հրատապ օգնության վճարման ծառայությունների ձեռքբերում
B18: Միջոցառման տեսակը` | C18: Ծառայությունների մատուցում
B19: Միջոցառումն իրականացնողի անվանումը | C19: «Գնումների մասին» ՀՀ օրենքի համաձայն ընտրված կազմակերպություն
B20: Արդյունքային չափորոշիչներ
B21: Ընտանիքի կենսամակարդակի բարձրացմանն ուղղված նպաստներ ստացող ընտանիքների թիվ, հատ,
B22: Միջոցառման վրա կատարվող ծախսը հազ.դրամ | D22: ='հավելված 2'!E18 -> -32049.5 | E22: ='հավելված 2'!F18 -> -62027.5
B24: Ծրագրի դասիչը | C24: 1011 | D24: Ցուցանիշների փոփոխությունները ավելացումները նշված են դրական նշանով, իսկ նվազեցումները՝ փակագծերում
B25: Միջոցառման դասիչը | C25: 12001 | D25: Ինն ամիս | E25: Տարի
B26: Միջոցառման անվանումը | C26: Ընտանիքի կենսամակարդակի բարձրացմանն ուղղված նպաստներ
B27: Նկարագրությունը | C27: Ընտանիքների անապահովության գնահատման համակարգում հաշվառված, անապահով ճանաչված ընտանիքներին նպաստի, սոցիալական նպաստի և հրատապ օգնության տրամադրում
B28: Միջոցառման տեսակը | C28: Տրանսֆերտի տրամադրում
B29: Շահառուների ընտրության չափանիշները | C29: Ընտանիքների անապահովության գնահատման համակարգում հաշվառված ընտանիք, ընտանիքի անապահովության միավորի հիման վրա
B30: Արդյունքային չափորոշիչներ
B31: Ընտանիքի կենսամակարդակի բարձրացմանն ուղղված նպաստներ ստացող ընտանիքների թիվ, հատ,
B32: Միջոցառման վրա կատարվող ծախսը հազ.դրամ | D32: ='հավելված 2'!E24 -> -3204966 | E32: ='հավելված 2'!F24 -> -6202762.2
B34: Ծրագրի դասիչը | C34: Ծրագրի անվանումը
B35: 1068 | C35: Ժողովրդագրական վիճակի բարելավում
B37: Ծրագրի միջոցառումները
B39: Ծրագրի դասիչը | C39: 1068 | D39: Ցուցանիշների փոփոխությունները ավելացումները նշված են դրական նշանով, իսկ նվազեցումները՝ փակագծերում
B40: Միջոցառման դասիչը | C40: 11001 | D40: Ինն ամիս | E40: Տարի
B41: Միջոցառման անվանումը | C41: Մինչև 2 տարեկան երեխայի խնամքի նպաստի տրամադրման ապահովում
B42: Նկարագրությունը | C42: Մինչև 2 տարեկան երեխայի խնամքի նպաստի ծառայությունների ձեռք բերում
B43: Միջոցառման տեսակը | C43: Ծառայությունների մատուցում
B44: Շահառուների ընտրության չափանիշները | C44: «Գնումների մասին» ՀՀ օրենքի համաձայն ընտրված կազմակերպություն
B45: Մինչև 2 տարեկան երեխայի խնամքի նպաստ ստացող քաղաքացիների թիվ, մարդ
B46: Արդյունքային չափորոշիչներ
B47: Միջոցառման վրա կատարվող ծախսը հազար դրամ | D47: =SUM('հավելված 1'!G61) -> 2850 | E47: =SUM('հավելված 1'!H61) -> 4470
B52: Ծրագրի դասիչը | C52: 1068 | D52: Ցուցանիշների փոփոխությունները ավելացումները նշված են դրական նշանով, իսկ նվազեցումները՝ փակագծերում
...

Sheet հավելված 4
E1: Հավելված N 4
E2: ՀՀ կառավարության 2020 թվականի
E3: -----------------ի N -----------Ն որոշման
B4: ՀԱՅԱՍՏԱՆԻ ՀԱՆՐԱՊԵՏՈՒԹՅԱՆ ԿԱՌԱՎԱՐՈՒԹՅԱՆ 2019 ԹՎԱԿԱՆԻ ԴԵԿՏԵՄԲԵՐԻ 26-Ի N 1919-Ն ՈՐՈՇՄԱՆ N 9.1 ՀԱՎԵԼՎԱԾԻ N 9.1.20 ԱՂՅՈՒՍԱԿՈՒՄ ԿԱՏԱՐՎՈՂ ՓՈՓՈԽՈՒԹՅՈՒՆՆԵՐԸ
B6: Հայաստանի Հանրապետության աշխատանքի և սոցիալական հարցերի նախարարության սոցիալական ապահովության ծառայություն
B7: ՄԱՍ 1. ՊԵՏԱԿԱՆ ՄԱՐՄՆԻ ԳԾՈՎ ԱՐԴՅՈՒՆՔԱՅԻՆ (ԿԱՏԱՐՈՂԱԿԱՆ) ՑՈՒՑԱՆԻՇՆԵՐԸ
B9: Ծրագրի դասիչը | C9: Ծրագրի անվանումը
B10: 1011 | C10: Անապահով սոցիալական խմբերին աջակցություն
B12: Ծրագրի միջոցառումները
B14: Ծրագրի դասիչը | C14: 1011 | D14: Ցուցանիշների փոփոխությունները ավելացումները նշված են դրական նշանով, իսկ նվազեցումները՝ փակագծերում
B15: Միջոցառման դասիչը | C15: 11001 | D15: Ինն ամիս | E15: Տարի
B16: Միջոցառման անվանումը | C16: Ընտանիքի կենսամակարդակի բարձրացմանն ուղղված նպաստների իրականացման ապաhովում
B17: Նկարագրությունը | C17: Ընտանիքների անապահովության գնահատման համակարգում հաշվառված ընդգրկված անապահով ճանաչված ընտանիքներին նպաստի, սոցիալական նպաստի և հրատապ օգնության վճարման ծառայությունների ձեռքբերում
B18: Միջոցառման տեսակը` | C18: Ծառայությունների մատուցում
B19: Միջոցառումն իրականացնողի անվանումը | C19: «Գնումների մասին» ՀՀ օրենքի համաձայն ընտրված կազմակերպություն
B20: Արդյունքային չափորոշիչներ
B21: Ընտանիքի կենսամակարդակի բարձրացմանն ուղղված նպաստներ ստացող ընտանիքների թիվ, հատ,
B22: Միջոցառման վրա կատարվող ծախսը հազ.դրամ | D22: ='հավելված 2'!E18 -> -32049.5 | E22: ='հավելված 2'!F18 -> -62027.5
B24: Ծրագրի դասիչը | C24: 1011 | D24: Ցուցանիշների փոփոխությունները ավելացումները նշված են դրական նշանով, իսկ նվազեցումները՝ փակագծերում
B25: Միջոցառման դասիչը | C25: 12001 | D25: Ինն ամիս | E25: Տարի
B26: Միջոցառման անվանումը | C26: Ընտանիքի կենսամակարդակի բարձրացմանն ուղղված նպաստներ
B27: Նկարագրությունը | C27: Ընտանիքների անապահովության գնահատման համակարգում հաշվառված, անապահով ճանաչված ընտանիքներին նպաստի, սոցիալական նպաստի և հրատապ օգնության տրամադրում
B28: Միջոցառման տեսակը | C28: Տրանսֆերտի տրամադրում
B29: Շահառուների ընտրության չափանիշները | C29: Ընտանիքների անապահովության գնահատման համակարգում հաշվառված ընտանիք, ընտանիքի անապահովության միավորի հիման վրա
B30: Արդյունքային չափորոշիչներ
B31: Ընտանիքի կենսամակարդակի բարձրացմանն ուղղված նպաստներ ստացող ընտանիքների թիվ, հատ,
B32: Միջոցառման վրա կատարվող ծախսը հազ.դրամ | D32: ='հավելված 2'!E24 -> -3204966 | E32: ='հավելված 2'!F24 -> -6202762.2
B34: Ծրագրի դասիչը | C34: Ծրագրի անվանումը
B35: 1068 | C35: Ժողովրդագրական վիճակի բարելավում
B37: Ծրագրի միջոցառումները
B39: Ծրագրի դասիչը | C39: 1068 | D39: Ցուցանիշների փոփոխությունները ավելացումները նշված են դրական նշանով, իսկ նվազեցումները՝ փակագծերում
B40: Միջոցառման դասիչը | C40: 11001 | D40: Ինն ամիս | E40: Տարի
B41: Միջոցառման անվանումը | C41: Մինչև 2 տարեկան երեխայի խնամքի նպաստի տրամադրման ապահովում
B42: Նկարագրությունը | C42: Մինչև 2 տարեկան երեխայի խնամքի նպաստի ծառայությունների ձեռք բերում
B43: Միջոցառման տեսակը | C43: Ծառայությունների մատուցում
B44: Շահառուների ընտրության չափանիշները | C44: «Գնումների մասին» ՀՀ օրենքի համաձայն ընտրված կազմակերպություն
B45: Մինչև 2 տարեկան երեխայի խնամքի նպաստ ստացող քաղաքացիների թիվ, մարդ
B46: Արդյունքային չափորոշիչներ
B47: Միջոցառման վրա կատարվող ծախսը հազար դրամ | D47: =SUM('հավելված 1'!G61) -> 2850 | E47: =SUM('հավելված 1'!H61) -> 4470
B52: Ծրագրի դասիչը | C52: 1068 | D52: Ցուցանիշների փոփոխությունները ավելացումները նշված են դրական նշանով, իսկ նվազեցումները՝ փակագծերում
...

Sheet հավելված5
H1: Հավելված N 5
H2: ՀՀ կառավարության 2020 թվականի
H3: -----------------ի N -----------Ն որոշման
A4: ՀԱՅԱՍՏԱՆԻ ՀԱՆՐԱՊԵՏՈՒԹՅԱՆ ԿԱՌԱՎԱՐՈՒԹՅԱՆ 2019 ԹՎԱԿԱՆԻ ԴԵԿՏԵՄԲԵՐԻ 26-Ի N 1919-Ն ՈՐՈՇՄԱՆ N 10 ՀԱՎԵԼՎԱԾՈՒՄ ԿԱՏԱՐՎՈՂ ՓՈՓՈԽՈՒԹՅՈՒՆՆԵՐԸ ԵՎ ԼՐԱՑՈՒՄՆԵՐ ԿԱՏԱՐԵԼՈՒ ՄԱՍԻՆ
A6: Հայաստանի Հանրապետության աշխատանքի և սոցիալական հարցերի նախարարության սոցիալական ապահովության ծառայություն
A10: Կոդը | B10: Անվանումը | E10: Գնման ձևը | F10: Չափի միավորը | G10: Միավորի գինը | H10: Քանակը | I10: Գում,արը հազար դրամով
A11: Բաժին N 10 | B11: Խումբ N 09 | C11: Դաս N 02 | D11: Սոցիալական պաշտպանությանը տրամադրվող օժանդակ ծառայություններ (այլ դասերին չպատկանող)
A12: 1011 11001 | B12: Ընտանիքի կենսամակարդակի բարձրացմանն ուղղված նպաստների իրականացման ապահովում | I12: =SUM('հավելված 1'!H77) -> -62027.5
A13: 79571100-1 | B13: փոստային առաքման ծառայություններ | E13: ՄԱ | F13: դրամ | G13: =+I13*1000 -> -62027500 | H13: 1 | I13: =SUM(I12) -> -62027.5
A14: Կոդը | B14: Անվանումը | E14: Գնման ձևը | F14: Չափի միավորը | G14: Միավորի գինը | H14: Քանակը | I14: Գում,արը հազար դրամով
A15: Բաժին N 10 | B15: Խումբ N 09 | C15: Դաս N 02 | D15: Սոցիալական պաշտպանությանը տրամադրվող օժանդակ ծառայություններ (այլ դասերին չպատկանող)
A16: 1068 11001 | B16: Մինչև 2 տարեկան երեխայի խնամքի նպաստի տրամադրման ապահովում | I16: =SUM('հավելված 1'!H81) -> 0
A17: 79571100-1 | B17: փոստային առաքման ծառայություններ | E17: ՄԱ | F17: դրամ | G17: =I17*1000 -> 4470000 | H17: 1 | I17: =SUM('հավելված 1'!H61) -> 4470
